{"text_format":"1","workbook":"xlsx","n_sheets":89,"sheets":["Титул","АлфКнига","СпискиКлассы","ШкалаТрудн","Нагрузка","2 А","2 А(2)","2 Б","2 Б(2)","2 В","2 В(2)","3 А","3 А(2)","4 А","4 А(2)","4 Б","4 Б(2)","4 В","4 В(2)","5 А","5 А(2)","5 Б","5 Б(2)","6 А","6 А(2)","6 Б","6 Б(2)","7 А","7 А(2)","7 Б","7 Б(2)","8 А","8 А(2)","8 Б","8 Б(2)","8 В","8 В(2)","9 А","9 А(2)","9 Б","9 Б(2)","9 В","9 В(2)","11 А","11 А(2)","мониторинг","СводнаяКлассы","в сравнении с итогом","ДО","ДиаграммыКлассы","Успеваемость","КачествоЗнаний","СреднийБалл","\"Отличники\"","\"Хорошисты\"","\"Неуспевающие\"","\"Неаттестованые\"","\"Освобожденные\"","Резерв\"Отл\"","Резерв\"Хор\"","Рейтинг","Лист1","выполнение программного материа","ЧИСЛИННОСТЬ (АХМЕД НАГОЕВ)","1А","1Б","1В","1Ка","1КБ","2 Ка","2 КБ","2 КВ","2 Е","2 Ф","3А ","3 Б","3 В","3 К","4А","4Б","4В","на начало 2019-2020","по классам отдельно ","матем 20 ","рус 20","литер 20","род 20","окр 20","Лист7"],"not_rendered":{"charts":71,"images":3,"macros":1,"external_links":2,"defined_names":7,"comments":21,"pivot_tables":0},"unopened":[],"bounds":{"document_bytes":16777216,"sheet_cells":100000,"rows_first":2000,"rows_last":500,"rows_between":2000,"halvings":0,"cell_chars":16384,"cell_head_chars":4096},"cells_cut":0,"cells_raw":0,"read":"whole","date_system":"1900"}

{"sheet":"Титул","index":0,"n_rows":31,"n_cols":7,"rows_kept":31,"cut":false,"hidden":true,"merged":[[27,3,27,5],[23,3,23,5],[24,3,24,5],[25,3,25,5],[26,3,26,5],[0,0,0,10],[1,0,1,10],[2,1,2,9],[14,3,14,5],[15,3,15,5],[8,3,8,5],[9,3,9,5],[10,3,10,5],[11,3,11,5],[13,3,13,5],[12,3,12,5],[30,1,30,2],[30,3,30,5],[30,6,30,8],[29,1,29,8],[3,1,3,9],[4,1,4,9],[5,1,5,9],[7,3,7,5],[7,6,7,8],[16,3,16,5],[17,3,17,5],[18,3,18,5],[19,3,19,5],[20,3,20,5],[21,3,21,5],[22,3,22,5]]}
["Приложение к табличному редактору MS Excel для статистической обработки  результатов учебной деятельности \nPSORUD - Klass"]
[]
[null,"Муниципальное общеобразовательное учреждение:                                                                                                                                                                средняя общеобразовательная школа  № 15                                                           Городского округа \" Города Комсомольск-на-Амуре \"              "]
[null,"МОУ СОШ  № 15"]
[null,"2014/15 учебный год"]
[null,"4 четверть"]
[]
[null,"Класс","Уч-ся в классе","Фамилия и инициалы классного руководителя",null,null,"Наименование реализуемой в классе образовательной программы"]
[null,"2 А",{"$f":"COUNTIF(АлфКнига!B$6:B$1883,Титул!B9)","v":25},"Ловейко Е.С.",null,null,"УМК \"Школа России\""]
[null,"2 Б",{"$f":"COUNTIF(АлфКнига!B$6:B$1883,Титул!B10)","v":25},"Калиниченко Т.А.",null,null,"УМК \"Школа 2100\""]
[null,"2 В",{"$f":"COUNTIF(АлфКнига!B$6:B$1883,Титул!B11)","v":13},"Цилина О.В.",null,null,"УМК \"Школа России\" (ЗПР)"]
[null,"3 А",{"$f":"COUNTIF(АлфКнига!B$6:B$1883,Титул!B12)","v":26},"Литвиненко И.В.",null,null,"УМК \"Школа 2100\""]
[null,"4 А",{"$f":"COUNTIF(АлфКнига!B$6:B$1882,Титул!B13)","v":21},"Сологуб Н.А.",null,null,"УМК \"Школа России\""]
[null,"4 Б",{"$f":"COUNTIF(АлфКнига!B$6:B$1882,Титул!B14)","v":22},"Варюшина И.В.",null,null,"УМК \"Школа 2100\""]
[null,"4 В",{"$f":"COUNTIF(АлфКнига!B$6:B$1882,Титул!B15)","v":24},"Ржанова О.В.",null,null,"УМК \"Школа 2100\""]
[null,"5 А",{"$f":"COUNTIF(АлфКнига!B$6:B$1882,Титул!B16)","v":27},"Астраханцева И.А.",null,null,"общеобразовательный"]
[null,"5 Б",{"$f":"COUNTIF(АлфКнига!B$6:B$1882,Титул!B17)","v":29},"Желтова С.И.",null,null,"общеобразовательный"]
[null,"6 А",{"$f":"COUNTIF(АлфКнига!B$6:B$1882,Титул!B18)","v":30},"Горнышкова Г.В.",null,null,"общеобразовательный"]
[null,"6 Б",{"$f":"COUNTIF(АлфКнига!B$6:B$1882,Титул!B19)","v":25},"Заплава А.В.",null,null,"общеобразовательный"]
[null,"7 А",{"$f":"COUNTIF(АлфКнига!B$6:B$1882,Титул!B20)","v":26},"Каплан О.Э.",null,null,"общеобразовательный"]
[null,"7 Б",{"$f":"COUNTIF(АлфКнига!B$6:B$1882,Титул!B21)","v":30},"Дышлевич С.В.",null,null,"общеобразовательный"]
[null,"8 А",{"$f":"COUNTIF(АлфКнига!B$6:B$1882,Титул!B22)","v":30},"Пудренко И.М.",null,null,"общеобразовательный"]
[null,"8 Б",{"$f":"COUNTIF(АлфКнига!B$6:B$1882,Титул!B23)","v":6},"Гулевич С.Ю.",null,null,"общеобразовательный"]
[null,"8 В",{"$f":"COUNTIF(АлфКнига!B$6:B$1882,Титул!B24)","v":10},"Деревягина Т.П.",null,null,"общеобразовательный"]
[null,"9 А",{"$f":"COUNTIF(АлфКнига!B$6:B$1882,Титул!B25)","v":27},"Терюшкова И.Н.",null,null,"общеобразовательный"]
[null,"9 Б",{"$f":"COUNTIF(АлфКнига!B$6:B$1882,Титул!B26)","v":10},"Шипилова О.В.",null,null,"общеобразовательный"]
[null,"9 В",{"$f":"COUNTIF(АлфКнига!B$6:B$1882,Титул!B27)","v":23},"Годова Г.П.",null,null,"общеобразовательный"]
[null,"11 А",{"$f":"COUNTIF(АлфКнига!B$6:B$1882,Титул!B28)","v":25},"Сидоренко Т.А.",null,null,"общеобразовательный (с профильным изучением английского языка)"]
[]
[null,"Сайт в интернете: http://www.schoolsoft.ru                                                                                                                                                         E-mail:    schoolsoft@mail.ru                       Тел. 8 988 549 24 12                                                                                                                                                                                                                                                                                                                                                                                                                                                                                "]
["©","В.Компаниец, 2010 ",null,"вбкЛист",null,null,"PSORUD-Klass.v.04.11.demo"]

{"sheet":"АлфКнига","index":1,"n_rows":1385,"n_cols":4,"rows_kept":1385,"cut":false,"hidden":true,"merged":[[0,1,0,2],[1,1,1,2],[2,1,2,2],[3,1,3,2]]}
[null,"Ячейки, строки, столбцы НЕ УДАЛЯТЬ и НЕ ВЫРЕЗАТЬ!\nСписки учащихся школы копированием вставить из программы \"AlpBook\" или набрать ВРУЧНУЮ!.\nДля удаления из ячеек выбывших и вторично внесенных в список учащихся использовать команду Delete и выполнить сортировку списка по классам или ФИО."]
[null,{"$f":"[1]Титул!B4","v":"МОУ СОШ  № 15"}]
[null,{"$f":"[1]Титул!B5","v":"2014/15 учебный год"}]
[]
[null,"Класс","Фамилия, имя и отчество учащихся","Фамилия и имя учащихся"]
[null,"2 А","Богданова Алина Андреевна",{"$f":"GetFI(C6)","v":"Богданова Алина"}]
[null,"2 А","Ботников Артем Семенович","Ботников Артем"]
[null,"2 А","Ващук Михаил Борисович","Ващук Михаил"]
[null,"2 А","Голостенова Елизавета Васильевна","Голостенова Елизавета"]
[null,"2 А","Давыдова Вероника Юрьевна","Давыдова Вероника"]
[null,"2 А","Евсеева Арина Дмитриевна","Евсеева Арина"]
[null,"2 А","Зайцева Наталья Александровна","Зайцева Наталья"]
[null,"2 А","Котелевкий Илья Павлович","Котелевкий Илья"]
[null,"2 А","Лаврентьев Руслан Алексеевич","Лаврентьев Руслан"]
[null,"2 А","Лепехина Полина Денисовна","Лепехина Полина"]
[null,"2 А","Логашева Кристина Владимировна","Логашева Кристина"]
[null,"2 А","Лойко Роман Алексеевич","Лойко Роман"]
[null,"2 А","Маматкулов Санжабек Бахтиерович","Маматкулов Санжабек"]
[null,"2 А","Панфилова Надежда Сергеевна","Панфилова Надежда"]
[null,"2 А","Плесовских Жанна Викторовна","Плесовских Жанна"]
[null,"2 А","Плохих Данил Сергеевич","Плохих Данил"]
[null,"2 А","Син Дмитрий Евгеньевич","Син Дмитрий"]
[null,"2 А","Соколова Юлия Александровна","Соколова Юлия"]
[null,"2 А","Чубенко Кристина Андреевна","Чубенко Кристина"]
[null,"2 А","Яковленко Анастасия Валерьевна","Яковленко Анастасия"]
[null,"2 Б","Белокопытов Егор Константинович","Белокопытов Егор"]
[null,"2 Б","Будько Роман Алексеевич","Будько Роман"]
[null,"2 Б","Быкова Ксения Алексеевна","Быкова Ксения"]
[null,"2 Б","Галайда Степан Сергеевич","Галайда Степан"]
[null,"2 Б","Грехова Ярослава Владиславовна","Грехова Ярослава"]
[null,"2 Б","Зырянова Ирина Юрьевна","Зырянова Ирина"]
[null,"2 Б","Капустина Полина Алексеевна","Капустина Полина"]
[null,"2 Б","Карпов Максим Алексеевич","Карпов Максим"]
[null,"2 Б","Карташова Анастасия Руслановна","Карташова Анастасия"]
[null,"2 Б","Коростелева Ева Максимовна","Коростелева Ева"]
[null,"2 Б","Кристалинская Олеся Леонидовна","Кристалинская Олеся"]
[null,"2 Б","Крисюк Ксения Александровна","Крисюк Ксения"]
[null,"2 Б","Кужель Юлия Романовна","Кужель Юлия"]
[null,"2 Б","Лазаренкова Ангелина Сергеевна","Лазаренкова Ангелина"]
[null,"2 Б","Ловейко Виктория Ивановна","Ловейко Виктория"]
[null,"2 Б","Марценюк Ангелина Даниловна","Марценюк Ангелина"]
[null,"2 Б","Мордвинский Георгий Денисович","Мордвинский Георгий"]
[null,"2 Б","Мордвинский Роман Денисович","Мордвинский Роман"]
[null,"2 Б","Ожигов Даниил Дмитриевич","Ожигов Даниил"]
[null,"2 Б","Русакова Кристина Кирилловна","Русакова Кристина"]
[null,"2 Б","Саулина Ольга Алексеевна","Саулина Ольга"]
[null,"2 Б","Смолянская Валерия Сергеевна","Смолянская Валерия"]
[null,"2 Б","Спицын Илья Борисович","Спицын Илья"]
[null,"2 Б","Цилина Диана Александровна","Цилина Диана"]
[null,"2 Б","Чиркина Милена Максимовна","Чиркина Милена"]
[null,"2 В","Баженов Егор Олегович","Баженов Егор"]
[null,"2 В","Вдовченок Мария Владимировна","Вдовченок Мария"]
[null,"2 В","Воробьев Владислав Олегович","Воробьев Владислав"]
[null,"2 В","Грибов Алексей Романович","Грибов Алексей"]
[null,"2 В","Запорожан Олег Геннадьевич","Запорожан Олег"]
[null,"2 В","Илларионов Дмитрий Николаевич   ","Илларионов Дмитрий"]
[null,"2 В","Карпов Роман Георгиевич ","Карпов Роман"]
[null,"2 В","Ковалев Владислав Александрович","Ковалев Владислав"]
[null,"2 В","Конакова Вероника Владимировна","Конакова Вероника"]
[null,"2 В","Кузьменко Александр Геннадьевич  ","Кузьменко Александр"]
[null,"2 В","Москвичев Сергей Викторович  ","Москвичев Сергей"]
[null,"2 В","Пыленок Максимильян Сергеевич","Пыленок Максимильян"]
[null,"2 В","Черных Игнат Александрович",{"$f":"GetFI(C63)","v":"Черных Игнат"}]
[null,"3 А","Бабаев Вячеслав Станиславович","Бабаев Вячеслав"]
[null,"3 А","Бочкарева Дарья Романовна","Бочкарева Дарья"]
[null,"3 А","Васильеву Алису Юрьевну","Васильеву Алису"]
[null,"3 А","Власенко Данил Михайлович","Власенко Данил"]
[null,"3 А","Воронков Игорь Олегович","Воронков Игорь"]
[null,"3 А","Зудин Владислав Сергеевич","Зудин Владислав"]
[null,"3 А","Капустин Никита Алексеевич","Капустин Никита"]
[null,"3 А","Морозков Иван Владимирович","Морозков Иван"]
[null,"3 А","Наумова Софья Александровна","Наумова Софья"]
[null,"3 А","Плесовских Наталья Викторовна","Плесовских Наталья"]
[null,"3 А","Посталова Любовь Александровна","Посталова Любовь"]
[null,"3 А","Ромашина Стелла Дмитриевна","Ромашина Стелла"]
[null,"3 А","Салимгореева Кристина Руслановна","Салимгореева Кристина"]
[null,"3 А","Сатановский Максим Романович","Сатановский Максим"]
[null,"3 А","Сергеева Ксения Дмитриевна","Сергеева Ксения"]
[null,"3 А","Сердюк Алена Евгеньевна","Сердюк Алена"]
[null,"3 А","Сердюк Алиса Витальевна","Сердюк Алиса"]
[null,"3 А","Солодкову Дарью Константиновну","Солодкову Дарью"]
[null,"3 А","Сударева Анжелика Владимировна","Сударева Анжелика"]
[null,"3 А","Таскина Валерия Ростиславовна","Таскина Валерия"]
[null,"3 А","Тимофи Карина Робертовна","Тимофи Карина"]
[null,"3 А","Хайрулин Артур Маратович","Хайрулин Артур"]
[null,"3 А","Харченко Валерия Дмитриевна","Харченко Валерия"]
[null,"3 А","Шишкин Никита Станиславович","Шишкин Никита"]
[null,"3 А","Яремей Виктория Сергеевна","Яремей Виктория"]
[null,"4 А","Алябьев Владислав Васильевич","Алябьев Владислав"]
[null,"4 А","Афанасьев Кирилл Алексеевич","Афанасьев Кирилл"]
[null,"4 А","Бестужева Екатерина Владимировна","Бестужева Екатерина"]
[null,"4 А","Буданцев Виталий Александрович","Буданцев Виталий"]
[null,"4 А","Быков Иван Дмитриевич","Быков Иван"]
[null,"4 А","Вахрушев Никита Андреевич","Вахрушев Никита"]
[null,"4 А","Гладкова Ульяна Дмитриевна","Гладкова Ульяна"]
[null,"4 А","Губенко София Александровна","Губенко София"]
[null,"4 А","Егоров Максим Алексеевич","Егоров Максим"]
[null,"4 А","Жуков Денис Сергеевич","Жуков Денис"]
[null,"4 А","Кравченко Ксения Алексеевна","Кравченко Ксения"]
[null,"4 А","Кузина Алена Сергеевна","Кузина Алена"]
[null,"4 А","Кулиев Артур Аланович","Кулиев Артур"]
[null,"4 А","Макаров Георгий Александрович","Макаров Георгий"]
[null,"4 А","Набиулина Лолита Максимовна","Набиулина Лолита"]
[null,"4 А","Позняк Анастасия Сергеевна","Позняк Анастасия"]
[null,"4 А","Силиванов Илья Владимирович","Силиванов Илья"]
[null,"4 А","Стаскевич Анастасия Николаевна","Стаскевич Анастасия"]
[null,"4 А","Сушков Евгений Александрович","Сушков Евгений"]
[null,"4 А","Юрченко Дарина Юрьевна","Юрченко Дарина"]
[null,"4 Б","Барабаш Дана Александровна","Барабаш Дана"]
[null,"4 Б","Барановская Диана Сергеевна","Барановская Диана"]
[null,"4 Б","Белан Татьяна Викторовна","Белан Татьяна"]
[null,"4 Б","Белова Елизавета Романовна","Белова Елизавета"]
[null,"4 Б","Бобылева Алена Александровна","Бобылева Алена"]
[null,"4 Б","Гречановский Дмитрий Иванович","Гречановский Дмитрий"]
[null,"4 Б","Денежкина Эмилия Игоревна","Денежкина Эмилия"]
[null,"4 Б","Дупик Артур Олегович","Дупик Артур"]
[null,"4 Б","Калекин Никита Максимович","Калекин Никита"]
[null,"4 Б","Козлова Софья Эдуардовна","Козлова Софья"]
[null,"4 Б","Липский Иван Витальевич","Липский Иван"]
[null,"4 Б","Логачева Анастасия Валентиновна",{"$f":"GetFI(C120)","v":"Логачева Анастасия"}]
[null,"4 Б","Нечай Дмитрий Александрович","Нечай Дмитрий"]
[null,"4 Б","Першин Никита Владимирович","Першин Никита"]
[null,"4 Б","Полозов Матвей Сергеевич","Полозов Матвей"]
[null,"4 Б","Репина Полина Вячеславовна","Репина Полина"]
[null,"4 Б","Сейдахмедова Зарина Магировна","Сейдахмедова Зарина"]
[null,"4 Б","Сероватова Елизавета Тимофеевна","Сероватова Елизавета"]
[null,"4 Б","Храпкова Анастасия Дмитриевна","Храпкова Анастасия"]
[null,"4 Б","Циаменко Анастасия Алексеевна","Циаменко Анастасия"]
[null,"4 Б","Шевцова Виктория Сергеевна","Шевцова Виктория"]
[null,"4 Б","Шинкоренко Анастасия Юрьевна","Шинкоренко Анастасия"]
[null,"4 В","Адинкова Александра Максимовна","Адинкова Александра"]
[null,"4 В","Бельфер Дарина Михайловна","Бельфер Дарина"]
[null,"4 В","Берчанская Анна Вадимовна","Берчанская Анна"]
[null,"4 В","Велиев Анар Яшарович","Велиев Анар"]
[null,"4 В","Жмурко Лев Андреевич","Жмурко Лев"]
[null,"4 В","Зотов Александр Андреевич","Зотов Александр"]
[null,"4 В","Ивченко Михаил Сергеевич","Ивченко Михаил"]
[null,"4 В","Казаков Константин Юрьевич","Казаков Константин"]
[null,"4 В","Ким Эмилия Федоровна","Ким Эмилия"]
[null,"4 В","Коновчук Анна Сергеевна","Коновчук Анна"]
[null,"4 В","Крюкова Дарья Александровна","Крюкова Дарья"]
[null,"4 А","Кухоренко Алина Избулаевна","Кухоренко Алина"]
[null,"4 В","Маслова Виктория Аркадьевна","Маслова Виктория"]
[null,"4 В","Михеев Павел Станиславович","Михеев Павел"]
[null,"4 В","Мухина Елизавета Юрьевна","Мухина Елизавета"]
[null,"4 В","Пельменев Сергей Витальевич","Пельменев Сергей"]
[null,"4 В","Платонов Дмитрий Николаевич","Платонов Дмитрий"]
[null,"4 В","Потьканова Екатерина Сергеевна","Потьканова Екатерина"]
[null,"4 В","Птухина Евгения Сергеевна","Птухина Евгения"]
[null,"4 В","Семенкова Диана Владимировна","Семенкова Диана"]
[null,"4 В","Тищенко Диана Александровна","Тищенко Диана"]
[null,"4 В","Федоров Артем Сергеевич","Федоров Артем"]
[null,"4 В","Широкова Карина Вадимовна","Широкова Карина"]
[null,"5 А","Александрова Полина Евгеньевна","Александрова Полина"]
[null,"5 А","Голостенова Екатерина Васильевна","Голостенова Екатерина"]
[null,"5 А","Девицына Алиса Юрьевна","Девицына Алиса"]
[null,"5 А","Дерюжков Сергей Станиславович","Дерюжков Сергей"]
[null,"5 А","Долгачева Полина Асламбековна","Долгачева Полина"]
[null,"5 А","Елизаров Александр Игоревич","Елизаров Александр"]
[null,"5 А","Еськова Ксения Алексеевна","Еськова Ксения"]
[null,"5 А","Котельников Владислав Валерьевич","Котельников Владислав"]
[null,"5 А","Куличенко Мария Андреевна","Куличенко Мария"]
[null,"5 А","Левина Алена Антоновна","Левина Алена"]
[null,"5 А","Лунева Полина Ивановна","Лунева Полина"]
[null,"5 А","Лупарев Алексей Сергеевич","Лупарев Алексей"]
[null,"5 А","Масличенко Владислав Дмитриевич","Масличенко Владислав"]
[null,"5 А","Монастыршина Вероника Максимовна","Монастыршина Вероника"]
[null,"5 А","Набок Данила Витальевич","Набок Данила"]
[null,"5 А","Новикова Софья Дмитриевна","Новикова Софья"]
[null,"5 А","Полякова Полина Александровна","Полякова Полина"]
[null,"5 А","Пономарев Артем Дмитриевич","Пономарев Артем"]
[null,"5 А","Пяточков Михаил Александрович","Пяточков Михаил"]
[null,"5 А","Сизова Ксения Романовна","Сизова Ксения"]
[null,"5 А","Терещенко Николай Алексеевич","Терещенко Николай"]
[null,"5 А","Толкачева Виктория Андреевна","Толкачева Виктория"]
[null,"5 А","Тропина Виталия Витальевна","Тропина Виталия"]
[null,"5 А","Турченко Ирина Юрьевна","Турченко Ирина"]
[null,"5 А","Черниченко Ангелина Анатольевна",{"$f":"GetFI(C178)","v":"Черниченко Ангелина"}]
[null,"5 Б","Ахмадеев Руслан Романович","Ахмадеев Руслан"]
[null,"5 Б","Беляева Дарья Алексеевна","Беляева Дарья"]
[null,"5 Б","Вахмистрова Алина Евгеньевна","Вахмистрова Алина"]
[null,"5 Б","Гуляева Кристина Романовна","Гуляева Кристина"]
[null,"5 Б","Квецинская Евгения Алексеевна","Квецинская Евгения"]
[null,"5 Б","Кристалинская Виктория Леонидовна","Кристалинская Виктория"]
[null,"5 Б","Мирошниченко Иван Алексеевич","Мирошниченко Иван"]
[null,"5 Б","Мишко Леонид Евгеньевич","Мишко Леонид"]
[null,"5 Б","Плаунова Юлия Эдуардовна","Плаунова Юлия"]
[null,"5 Б","Полякова Наталья Николаевна","Полякова Наталья"]
[null,"5 Б","Ракута Марина Алексеевна","Ракута Марина"]
[null,"5 Б","Рекин Даниил Сергеевич","Рекин Даниил"]
[null,"5 Б","Смольников Максим Сергеевич","Смольников Максим"]
[null,"5 Б","Ступко Тимофей Иванович","Ступко Тимофей"]
[null,"5 Б","Фоминых Арина Константиновна","Фоминых Арина"]
[null,"5 Б","Яримей Анастасия Сергеевна","Яримей Анастасия"]
[null,"5 Б","Бабаев Владислав Станиславович","Бабаев Владислав"]
[null,"5 Б","Балашова Анастасия Андреевна","Балашова Анастасия"]
[null,"5 Б","Докукина Виктория Сергеевна","Докукина Виктория"]
[null,"5 Б","Киселев Евгений Валерьевич","Киселев Евгений"]
[null,"5 Б","Косогор Всеволод Денисович","Косогор Всеволод"]
[null,"5 Б","Крючков Александр Павлович","Крючков Александр"]
[null,"5 Б","Михеев Иван Владимирович","Михеев Иван"]
[null,"5 Б","Осипов Арсений Дмитриевич","Осипов Арсений"]
[null,"5 Б","Очкин Кирилл Андреевич","Очкин Кирилл"]
[null,"5 Б","Прушинский Сергей Владимирович","Прушинский Сергей"]
[null,"5 Б","Суржиков Михаил Борисович","Суржиков Михаил"]
[null,"5 Б","Чернышова Валентина Александровна","Чернышова Валентина"]
[null,"5 Б","Энсс Александр Петрович","Энсс Александр"]
[null,"6 А","Бобырева Татьяна Константиновна","Бобырева Татьяна"]
[null,"6 А","Бычкова Ирина Дмитриевна","Бычкова Ирина"]
[null,"6 А","Волошинович Виктор Викторович","Волошинович Виктор"]
[null,"6 А","Гурская Анна Евгеньевна","Гурская Анна"]
[null,"6 А","Дерюгин Даниэль Дмитриевич","Дерюгин Даниэль"]
[null,"6 А","Зайко Роман  Андреевич","Зайко Роман"]
[null,"6 А","Коновалова Ксения Сергеевна","Коновалова Ксения"]
[null,"6 А","Короткин Семен Андреевич","Короткин Семен"]
[null,"6 А","Латышев Артем Сергеевич","Латышев Артем"]
[null,"6 А","Левина Татьяна Сергеевна","Левина Татьяна"]
[null,"6 А","Ливанова Анастасия Дмитриевна","Ливанова Анастасия"]
[null,"6 А","Мирошникова Полина Максимовна","Мирошникова Полина"]
[null,"6 А","Мухина Елена Юрьевна","Мухина Елена"]
[null,"6 А","Недренко Олег Романович","Недренко Олег"]
[null,"6 А","Новоклинова Полина Дмитриевна","Новоклинова Полина"]
[null,"6 А","Павлова Ксения Михайловна","Павлова Ксения"]
[null,"6 А","Потьканова Вероника Сергеевна","Потьканова Вероника"]
[null,"6 А","Пугачев Данил Борисович","Пугачев Данил"]
[null,"6 А","Рысина Дарья Андреевна","Рысина Дарья"]
[null,"6 А","Сафронова Анастасия Александровна","Сафронова Анастасия"]
[null,"6 А","Семенов Сергей Александрович","Семенов Сергей"]
[null,"6 А","Сергеев Владислав Дмитриевич","Сергеев Владислав"]
[null,"6 А","Сулягина Екатерина Семеновна","Сулягина Екатерина"]
[null,"6 А","Тараканов Евгений Николаевич","Тараканов Евгений"]
[null,"6 А","Трошина Ангелина Сергеевна","Трошина Ангелина"]
[null,"6 А","Чечина Ксения Олеговна",{"$f":"GetFI(C233)","v":"Чечина Ксения"}]
[null,"6 А","Чигрина Валерия Станиславовна","Чигрина Валерия"]
[null,"6 А","Шкварова Виолета Андреевна","Шкварова Виолета"]
[null,"6 Б","Бирко Александра Николаевна","Бирко Александра"]
[null,"6 Б","Варданян Сурик Ашотович","Варданян Сурик"]
[null,"6 Б","Ворошилов Степан Андреевич","Ворошилов Степан"]
[null,"6 Б","Герасимова Елена Михайловна","Герасимова Елена"]
[null,"6 Б","Дышлевич Екатерина Алексеевна","Дышлевич Екатерина"]
[null,"6 Б","Зубков Евгений Сергеевич","Зубков Евгений"]
[null,"6 Б","Каплун Анастасия Алексеевна","Каплун Анастасия"]
[null,"6 Б","Киян Максим Николаевич","Киян Максим"]
[null,"6 Б","Колмогорцев Виктор Владимирович","Колмогорцев Виктор"]
[null,"6 Б","Кузнецов Егор Витальевич","Кузнецов Егор"]
[null,"6 Б","Кузнецова Елизавета Юрьевна","Кузнецова Елизавета"]
[null,"6 Б","Леонов Анатолий Сергеевич","Леонов Анатолий"]
[null,"6 Б","Малкина Алена Витальевна","Малкина Алена"]
[null,"6 Б","Меркулов Дмитрий Юрьевич","Меркулов Дмитрий"]
[null,"6 Б","Олифер Владислав Александрович","Олифер Владислав"]
[null,"6 Б","Харьков Влад Вячеславович","Харьков Влад"]
[null,"6 Б","Холов Владислав","Холов Владислав"]
[null,"6 Б","Хорикова Анастасия Сергеевна","Хорикова Анастасия"]
[null,"6 Б","Шапкова Диана Андреевна","Шапкова Диана"]
[null,"6 Б","Шмелькова Екатерина Сергеевна","Шмелькова Екатерина"]
[null,"6 Б","Шокин Андрей  Антонович","Шокин Андрей"]
[null,"7 А","Аверкиева Екатерина Юрьевна","Аверкиева Екатерина"]
[null,"7 А","Баслов Федор Константинович","Баслов Федор"]
[null,"7 А","Белозерова Елизавета Павловна","Белозерова Елизавета"]
[null,"7 А","Белявская Виктория Александровна","Белявская Виктория"]
[null,"7 А","Бодрова Ирина Андреевна","Бодрова Ирина"]
[null,"7 А","Бойко Кристина Андреевна","Бойко Кристина"]
[null,"7 А","Волков Сергей Михайлович","Волков Сергей"]
[null,"7 А","Волобуева Юлия Константиновна","Волобуева Юлия"]
[null,"7 А","Ворошилов Семен Юрьевич ","Ворошилов Семен"]
[null,"7 А","Гарин Кирилл Константинович","Гарин Кирилл"]
[null,"7 А","Демирова Сабина Андреевна","Демирова Сабина"]
[null,"7 А","Дубинина Виктория  Павловна ","Дубинина Виктория"]
[null,"7 А","Евдокимова Алена Геннадьевна","Евдокимова Алена"]
[null,"7 А","Емельянов Алексей Петрович ","Емельянов Алексей"]
[null,"7 А","Иванова Анастасия Дмитриевна","Иванова Анастасия"]
[null,"7 А","Казакова Екатерина Сергеевна","Казакова Екатерина"]
[null,"7 А","Кизима Ялан Германович","Кизима Ялан"]
[null,"7 А","Лопатюк Екатерина Константиновна ","Лопатюк Екатерина"]
[null,"7 А","Набиулина Полина Сергеевна","Набиулина Полина"]
[null,"7 А","Носачёв Владимир Дмитриевич","Носачёв Владимир"]
[null,"7 А","Овчарова Антонина Александровна","Овчарова Антонина"]
[null,"7 А","Прушинская Виктория Сергеевна ",{"$f":"GetFI(C278)","v":"Прушинская Виктория"}]
[null,"7 А","Татьмянина Екатерина Алексеевна","Татьмянина Екатерина"]
[null,"7 А","Ялова Виктория Юрьевна","Ялова Виктория"]
[null,"7 Б","Агеева Юлия Александровна","Агеева Юлия"]
[null,"7 Б","Адиканкова Наталья Максимовна","Адиканкова Наталья"]
[null,"7 Б","Варданян Герман Артурович","Варданян Герман"]
[null,"7 Б","Воронкова Мария Эдуардовна","Воронкова Мария"]
[null,"7 Б","Гирко Александра Сергеевна","Гирко Александра"]
[null,"7 Б","Горбунова Анна Андреевна","Горбунова Анна"]
[null,"7 Б","Гранина Анастасия Михайловна ","Гранина Анастасия"]
[null,"7 Б","Жмурко Вячеслав Алексеевич","Жмурко Вячеслав"]
[null,"7 Б","Забиров Константин","Забиров Константин"]
[null,"7 Б","Зимин Егор Андреевич","Зимин Егор"]
[null,"7 Б","Ипатова Виктория Олеговна  ","Ипатова Виктория"]
[null,"7 Б","Капсамун Милана Трифоновна",{"$f":"GetFI(C292)","v":"Капсамун Милана"}]
[null,"7 Б","Кириков Дмитрий Владимирович","Кириков Дмитрий"]
[null,"7 Б","Лаптев Денис Евгеньевич","Лаптев Денис"]
[null,"7 Б","Лаптев Дмитрий Евгеньевич","Лаптев Дмитрий"]
[null,"7 Б","Лебедева Дарья Евгеньевна","Лебедева Дарья"]
[null,"7 Б","Линник Екатерина Дмитриевна","Линник Екатерина"]
[null,"7 Б","Лялько Вера Антоновна ","Лялько Вера"]
[null,"7 Б","Матвеенко Ульяна Сергеевна","Матвеенко Ульяна"]
[null,"7 Б","Наумов Андрей Александрович","Наумов Андрей"]
[null,"7 Б","Новикова Виктория Александровна","Новикова Виктория"]
[null,"7 Б","Петина Кристина Сергеевна","Петина Кристина"]
[null,"7 Б","Петрова Полина Эдуардовна","Петрова Полина"]
[null,"7 Б","Сердюк Полина Витальевна","Сердюк Полина"]
[null,"7 Б","Серкин Егор Александрович","Серкин Егор"]
[null,"7 Б","Сухарев  Владимир Петрович","Сухарев Владимир"]
[null,"7 Б","Усик Никита Алексеевич","Усик Никита"]
[null,"7 Б","Федоров Максим  Олегович","Федоров Максим"]
[null,"7 Б","Хорошенькая Наталья Алексеевна ","Хорошенькая Наталья"]
[null,"7 Б","Четвертных  Наталья  Владимировна ","Четвертных Наталья"]
[null,"8 А","Аверкиев Максим Юрьевич","Аверкиев Максим"]
[null,"8 А","Андронов Дмитрий Андреевич","Андронов Дмитрий"]
[null,"8 А","Апальков Александр Анатольевич","Апальков Александр"]
[null,"8 А","Аргуткин Роман Евгеньевич","Аргуткин Роман"]
[null,"8 А","Барабаш Максим Александрович","Барабаш Максим"]
[null,"8 А","Варфоломеев Роман Денисович","Варфоломеев Роман"]
[null,"8 А","Голумбиевский Илья  Игоревич","Голумбиевский Илья"]
[null,"8 А","Диодоров Данил Алексеевич","Диодоров Данил"]
[null,"8 А","Ковалева Ксения Андреевна","Ковалева Ксения"]
[null,"8 А","Коноплев Виталий Андреевич","Коноплев Виталий"]
[null,"8 А","Костина Наталья  Дмитриевна","Костина Наталья"]
[null,"8 А","Косякова Анастасия Дмитриевна","Косякова Анастасия"]
[null,"8 А","Красненков Сергей Владиславович","Красненков Сергей"]
[null,"8 А","Кузнецов Данил Павлович","Кузнецов Данил"]
[null,"8 А","Матвеева Елизавета  Александровна","Матвеева Елизавета"]
[null,"8 А","Михеева Евгения Владимировна","Михеева Евгения"]
[null,"8 А","Никифоров Кирилл Анатольевич","Никифоров Кирилл"]
[null,"8 А","Павлушев Герман Дмитриевич","Павлушев Герман"]
[null,"8 А","Пироган Никита Дмитриевич","Пироган Никита"]
[null,"8 А","Пяткова Екатерина Константиновна","Пяткова Екатерина"]
[null,"8 А","Сидоренко Владислав Александрович","Сидоренко Владислав"]
[null,"8 А","Слугина Валерия Евгеньевна","Слугина Валерия"]
[null,"8 А","Тянутова Анна Викторовна","Тянутова Анна"]
[null,"8 А","Футчик Дмитрий Сергеевич","Футчик Дмитрий"]
[null,"8 А","Храпова Алена Владимировна","Храпова Алена"]
[null,"8 А","Чернышев Максим Юрьевич","Чернышев Максим"]
[null,"8 А","Чесноков Павел Алексеевич","Чесноков Павел"]
[null,"8 А","Шеховец Настя Павловна","Шеховец Настя"]
[null,"8 А","Шипицин Максим Денисович","Шипицин Максим"]
[null,"8 А","Юрьев Сергей Эдуардович","Юрьев Сергей"]
[null,"8 Б","Ибрагимов Владислав Сергеевич","Ибрагимов Владислав"]
[null,"8 Б","Курдуманов Максим Андреевич","Курдуманов Максим"]
[null,"8 Б","Леухин Данил Алексеевич","Леухин Данил"]
[null,"8 Б","Самсонов Сергей Игоревич","Самсонов Сергей"]
[null,"8 Б","Стрельников Никита Владимирович","Стрельников Никита"]
[null,"8 Б","Шустов Вадим Витальевич","Шустов Вадим"]
[null,"8 В","Бусыгин Михаил Геннадьевич","Бусыгин Михаил"]
[null,"8 В","Воробьев Алексей Станиславович","Воробьев Алексей"]
[null,"8 В","Громик Дмитрий Олегович","Громик Дмитрий"]
[null,"8 В","Иваненко Илья Андреевич","Иваненко Илья"]
[null,"8 В","Корнилов Кирилл Олегович","Корнилов Кирилл"]
[null,"8 В","Люцков Руслан Тарвердиевич","Люцков Руслан"]
[null,"8 В","Махницкий Константин Алексеевич",{"$f":"GetFI(C353)","v":"Махницкий Константин"}]
[null,"8 В","Ференчук Виктория Викторовна","Ференчук Виктория"]
[null,"8 В","Щетинина Татьяна Игоревна","Щетинина Татьяна"]
[null,"8 В","Юдина Карина Александровна","Юдина Карина"]
[null,"9 А","Артемьева Ольга Романовна","Артемьева Ольга"]
[null,"9 А","Бахман Григорий Юрьевич","Бахман Григорий"]
[null,"9 А","Виндец Максим Константинович","Виндец Максим"]
[null,"9 А","Виндец Никита Константинович","Виндец Никита"]
[null,"9 А","Волков Владислав Юрьевич","Волков Владислав"]
[null,"9 А","Елизарова Дарья Игоревна","Елизарова Дарья"]
[null,"9 А","Зарудная Екатерина Дмитриевна","Зарудная Екатерина"]
[null,"9 А","Иванова Екатерина Вячеславовна","Иванова Екатерина"]
[null,"9 А","Ильин  Сергей Александрович","Ильин Сергей"]
[null,"9 А","Калиниченко Валерия Дмитриевна","Калиниченко Валерия"]
[null,"9 А","Каргова Мария Дмитриевна","Каргова Мария"]
[null,"9 А","Копылова Алина Григорьевна","Копылова Алина"]
[null,"9 А","Коробкин Дмитрий Алексеевич","Коробкин Дмитрий"]
[null,"9 А","Костина Виктория Валерьевна","Костина Виктория"]
[null,"9 А","Лемешев Николай Сергеевич","Лемешев Николай"]
[null,"9 А","Ложников Кирилл Александрович","Ложников Кирилл"]
[null,"9 А","Майнетти Анастасия Сергеевна","Майнетти Анастасия"]
[null,"9 А","Мостовая Вероника Викторовна","Мостовая Вероника"]
[null,"9 А","Петрова Анастасия Эдуардовна","Петрова Анастасия"]
[null,"9 А","Полстьянов Эдуард Евгеньевич","Полстьянов Эдуард"]
[null,"9 А","Полякова Таисия Дмитриевна","Полякова Таисия"]
[null,"9 А","Проскурина Алёна Сергеевна","Проскурина Алёна"]
[null,"9 А","Ризаева Валентина Андреевна","Ризаева Валентина"]
[null,"9 А","Соболевская Анна Игоревна","Соболевская Анна"]
[null,"9 А","Сотников Илья Андреевич","Сотников Илья"]
[null,"9 А","Федорин Константин Владимирович","Федорин Константин"]
[null,"9 А","Хлопова Светлана Артемовна","Хлопова Светлана"]
[null,"9 Б","Борисенко Юрий Андреевич","Борисенко Юрий"]
[null,"9 Б","Вильский Павел Павлович","Вильский Павел"]
[null,"9 Б","Жуков Дмитрий Сергеевич","Жуков Дмитрий"]
[null,"9 Б","Жуков Никита Васильевич","Жуков Никита"]
[null,"9 Б","Махницкий Владислав Алексеевич","Махницкий Владислав"]
[null,"9 Б","Наймушина Анастасия Владимировна","Наймушина Анастасия"]
[null,"9 Б","Петраков Иван Юрьевич","Петраков Иван"]
[null,"9 Б","Федосеев Вячеслав Алексеевич","Федосеев Вячеслав"]
[null,"9 Б","Чувашова Руфина Александровна","Чувашова Руфина"]
[null,"9 Б","Шустова Мария Сергеевна","Шустова Мария"]
[null,"9 В","Бузунова Елена Валерьевна","Бузунова Елена"]
[null,"9 В","Вокарин Денис Эдуардович","Вокарин Денис"]
[null,"9 В","Гнатик Данил Елисеевич","Гнатик Данил"]
[null,"9 В","Грабский Евгений Владимирович","Грабский Евгений"]
[null,"9 В","Гурский Павел Евгеньевич","Гурский Павел"]
[null,"9 В","Зимин Роман Владимирович","Зимин Роман"]
[null,"9 В","Иванченко Роман Викторович","Иванченко Роман"]
[null,"9 В","Калинин Денис Сергеевич","Калинин Денис"]
[null,"9 В","Капсамун Диана Трифоновна","Капсамун Диана"]
[null,"9 В","Курнакова Анастасия Вячеславовна","Курнакова Анастасия"]
[null,"9 В","Лиснюк Дмитрий  Вячеславович","Лиснюк Дмитрий"]
[null,"9 В","Морозова Гюнель Фармановна","Морозова Гюнель"]
[null,"9 В","Нечаева Валерия Александровна","Нечаева Валерия"]
[null,"9 В","Папирная Анастасия Константиновна","Папирная Анастасия"]
[null,"9 В","Просекова Алина Павловна","Просекова Алина"]
[null,"9 В","Сапалова Кристина Андреевна","Сапалова Кристина"]
[null,"9 В","Серазетдинова Ольга Александровна","Серазетдинова Ольга"]
[null,"9 В","Скидин Владимир Витальевич","Скидин Владимир"]
[null,"9 В","Толмачев Юрий  Игоревич","Толмачев Юрий"]
[null,"9 В","Худиева Авсана Расим кызы",{"$f":"GetFI(C413)","v":"Худиева Авсана"}]
[null,"9 В","Чапурин Виталий Вадимович","Чапурин Виталий"]
[null,"9 В","Энсс Анастасия Петровна","Энсс Анастасия"]
[null,"11 А","Афанасьев Антон Федорович","Афанасьев Антон"]
[null,"11 А","Белобородов Сергей Юрьевич","Белобородов Сергей"]
[null,"11 А","Балябин Александр Николаевич","Балябин Александр"]
[null,"11 А","Быстров Александр Юрьевич","Быстров Александр"]
[null,"11 А","Вдовина Дарья Николаевна","Вдовина Дарья"]
[null,"11 А","Зубов Матвей Александрович","Зубов Матвей"]
[null,"11 А","Дрозд Владимир Сергеевич","Дрозд Владимир"]
[null,"11 А","Иванова Кристина Александровна","Иванова Кристина"]
[null,"11 А","Кожанова Евгения Павловна",{"$f":"GetFI(C424)","v":"Кожанова Евгения"}]
[null,"11 А","Коретникова Юлия Алексеевна","Коретникова Юлия"]
[null,"11 А","Лесик Екатерина Александровна","Лесик Екатерина"]
[null,"11 А","Ляпин Иван Михайлович","Ляпин Иван"]
[null,"11 А","Матвеева Елена Александровна","Матвеева Елена"]
[null,"11 А","Мелихов Дмитрий Александрович","Мелихов Дмитрий"]
[null,"11 А","Москаленко Вероника Олеговна","Москаленко Вероника"]
[null,"11 А","Овчарова Кристина Андреевна","Овчарова Кристина"]
[null,"11 А","Попкова Татьяна Викторовна","Попкова Татьяна"]
[null,"11 А","Рябов Максим Владимирович","Рябов Максим"]
[null,"11 А","Сидорова Наталья Александровна","Сидорова Наталья"]
[null,"11 А","Сластина Алена Вячеславовна","Сластина Алена"]
[null,"11 А","Солодилов Александр Александрович","Солодилов Александр"]
[null,"11 А","Белоусов Олег","Белоусов Олег"]
[null,"4 А ","Лунев Владислав Сергеевич","Лунев Владислав"]
[null,"4 В","Игнатенко Всеволод","Игнатенко Всеволод"]
[null,"3 А","Заикин Андрей","Заикин Андрей"]
[null,"6 Б","Цветкова Светлана Алексеевна","Цветкова Светлана"]
[null,"5 А","Гиллазиев Владислав","Гиллазиев Владислав"]
[null,"2 А","Ягайлова Варвара","Ягайлова Варвара"]
[null,"2 А","Сахно Илья","Сахно Илья"]
[null,"2 А","Власов Александр","Власов Александр"]
[null,"2 А","Селина Евгения","Селина Евгения"]
[null,"2 А","Лунева Ксения","Лунева Ксения"]
[null,"7 А","Кропачева Алина","Кропачева Алина"]
[null,"9 В","Шорохова Полина","Шорохова Полина"]
[null,"6 А","Винокурова Юлия","Винокурова Юлия"]
[null,"6 А","Самар Кирилл","Самар Кирилл"]
[null,"11 А","Вершинина Алина",{"$f":"GetFI(C452)","v":"Вершинина Алина"}]
[null,"11 А","Тарасикова Алина","Тарасикова Алина"]
[null,"11 А","Самсонова Кристина","Самсонова Кристина"]
[null,"6 Б","Васильева Регина","Васильева Регина"]
[null,"6 Б","Евлоева Анастасия","Евлоева Анастасия"]
[null,"5 А","Ищенко Вячеслав","Ищенко Вячеслав"]
[null,"4 В","Мазуренко Ярослав","Мазуренко Ярослав"]
[null,"9 В ","Мясникова ","Мясникова "]
[null,"7 А","Малов Максим",{"$f":"GetFI(C460)","v":"Малов Максим"}]
[null,"6 Б","Шеповалова Маргарита","Шеповалова Маргарита"]
[null,null,null,{"$error":"#VALUE!"}]
[null,null,null,{"$error":"#VALUE!"}]
[null,null,null,{"$error":"#VALUE!"}]
[null,null,null,{"$error":"#VALUE!"}]
[null,null,null,{"$error":"#VALUE!"}]
[null,null,null,{"$error":"#VALUE!"}]
[null,null,null,{"$error":"#VALUE!"}]
[null,null,null,{"$error":"#VALUE!"}]
[null,null,null,{"$error":"#VALUE!"}]
[null,null,null,{"$error":"#VALUE!"}]
[null,null,null,{"$error":"#VALUE!"}]
[null,null,null,{"$error":"#VALUE!"}]
[null,null,null,{"$error":"#VALUE!"}]
[null,null,null,{"$error":"#VALUE!"}]
[null,null,null,{"$error":"#VALUE!"}]
[null,null,null,{"$error":"#VALUE!"}]
[null,null,null,{"$error":"#VALUE!"}]
[null,null,null,{"$error":"#VALUE!"}]
[null,null,null,{"$error":"#VALUE!"}]
[null,null,null,{"$error":"#VALUE!"}]
[null,null,null,{"$error":"#VALUE!"}]
[null,null,null,{"$error":"#VALUE!"}]
[null,null,null,{"$error":"#VALUE!"}]
[null,null,null,{"$error":"#VALUE!"}]
[null,null,null,{"$error":"#VALUE!"}]
[null,null,null,{"$error":"#VALUE!"}]
[null,null,null,{"$error":"#VALUE!"}]
[null,null,null,{"$error":"#VALUE!"}]
[null,null,null,{"$error":"#VALUE!"}]
[null,null,null,{"$error":"#VALUE!"}]
[null,null,null,{"$error":"#VALUE!"}]
[null,null,null,{"$error":"#VALUE!"}]
[null,null,null,{"$error":"#VALUE!"}]
[null,null,null,{"$error":"#VALUE!"}]
[null,null,null,{"$error":"#VALUE!"}]
[null,null,null,{"$error":"#VALUE!"}]
[null,null,null,{"$error":"#VALUE!"}]
[null,null,null,{"$error":"#VALUE!"}]
[null,null,null,{"$error":"#VALUE!"}]
[null,null,null,{"$error":"#VALUE!"}]
[null,null,null,{"$error":"#VALUE!"}]
[null,null,null,{"$error":"#VALUE!"}]
[null,null,null,{"$error":"#VALUE!"}]
[null,null,null,{"$error":"#VALUE!"}]
[null,null,null,{"$error":"#VALUE!"}]
[null,null,null,{"$error":"#VALUE!"}]
[null,null,null,{"$error":"#VALUE!"}]
[null,null,null,{"$error":"#VALUE!"}]
[null,null,null,{"$error":"#VALUE!"}]
[null,null,null,{"$error":"#VALUE!"}]
[null,null,null,{"$error":"#VALUE!"}]
[null,null,null,{"$error":"#VALUE!"}]
[null,null,null,{"$error":"#VALUE!"}]
[null,null,null,{"$error":"#VALUE!"}]
[null,null,null,{"$error":"#VALUE!"}]
[null,null,null,{"$error":"#VALUE!"}]
[null,null,null,{"$error":"#VALUE!"}]
[null,null,null,{"$error":"#VALUE!"}]
[null,null,null,{"$error":"#VALUE!"}]
[null,null,null,{"$error":"#VALUE!"}]
[null,null,null,{"$error":"#VALUE!"}]
[null,null,null,{"$error":"#VALUE!"}]
[null,null,null,{"$f":"GetFI(C524)","v":{"$error":"#VALUE!"}}]
[null,null,null,{"$error":"#VALUE!"}]
[null,null,null,{"$error":"#VALUE!"}]
[null,null,null,{"$error":"#VALUE!"}]
[null,null,null,{"$error":"#VALUE!"}]
[null,null,null,{"$error":"#VALUE!"}]
[null,null,null,{"$error":"#VALUE!"}]
[null,null,null,{"$error":"#VALUE!"}]
[null,null,null,{"$error":"#VALUE!"}]
[null,null,null,{"$error":"#VALUE!"}]
[null,null,null,{"$error":"#VALUE!"}]
[null,null,null,{"$error":"#VALUE!"}]
[null,null,null,{"$error":"#VALUE!"}]
[null,null,null,{"$error":"#VALUE!"}]
[null,null,null,{"$error":"#VALUE!"}]
[null,null,null,{"$error":"#VALUE!"}]
[null,null,null,{"$error":"#VALUE!"}]
[null,null,null,{"$error":"#VALUE!"}]
[null,null,null,{"$error":"#VALUE!"}]
[null,null,null,{"$error":"#VALUE!"}]
[null,null,null,{"$error":"#VALUE!"}]
[null,null,null,{"$error":"#VALUE!"}]
[null,null,null,{"$error":"#VALUE!"}]
[null,null,null,{"$error":"#VALUE!"}]
[null,null,null,{"$error":"#VALUE!"}]
[null,null,null,{"$error":"#VALUE!"}]
[null,null,null,{"$error":"#VALUE!"}]
[null,null,null,{"$error":"#VALUE!"}]
[null,null,null,{"$error":"#VALUE!"}]
[null,null,null,{"$error":"#VALUE!"}]
[null,null,null,{"$error":"#VALUE!"}]
[null,null,null,{"$error":"#VALUE!"}]
[null,null,null,{"$error":"#VALUE!"}]
[null,null,null,{"$error":"#VALUE!"}]
[null,null,null,{"$error":"#VALUE!"}]
[null,null,null,{"$error":"#VALUE!"}]
[null,null,null,{"$error":"#VALUE!"}]
[null,null,null,{"$error":"#VALUE!"}]
[null,null,null,{"$error":"#VALUE!"}]
[null,null,null,{"$error":"#VALUE!"}]
[null,null,null,{"$error":"#VALUE!"}]
[null,null,null,{"$error":"#VALUE!"}]
[null,null,null,{"$error":"#VALUE!"}]
[null,null,null,{"$error":"#VALUE!"}]
[null,null,null,{"$error":"#VALUE!"}]
[null,null,null,{"$error":"#VALUE!"}]
[null,null,null,{"$error":"#VALUE!"}]
[null,null,null,{"$error":"#VALUE!"}]
[null,null,null,{"$error":"#VALUE!"}]
[null,null,null,{"$error":"#VALUE!"}]
[null,null,null,{"$error":"#VALUE!"}]
[null,null,null,{"$error":"#VALUE!"}]
[null,null,null,{"$error":"#VALUE!"}]
[null,null,null,{"$error":"#VALUE!"}]
[null,null,null,{"$error":"#VALUE!"}]
[null,null,null,{"$error":"#VALUE!"}]
[null,null,null,{"$error":"#VALUE!"}]
[null,null,null,{"$error":"#VALUE!"}]
[null,null,null,{"$error":"#VALUE!"}]
[null,null,null,{"$error":"#VALUE!"}]
[null,null,null,{"$error":"#VALUE!"}]
[null,null,null,{"$error":"#VALUE!"}]
[null,null,null,{"$error":"#VALUE!"}]
[null,null,null,{"$error":"#VALUE!"}]
[null,null,null,{"$f":"GetFI(C588)","v":{"$error":"#VALUE!"}}]
[null,null,null,{"$error":"#VALUE!"}]
[null,null,null,{"$error":"#VALUE!"}]
[null,null,null,{"$error":"#VALUE!"}]
[null,null,null,{"$error":"#VALUE!"}]
[null,null,null,{"$error":"#VALUE!"}]
[null,null,null,{"$error":"#VALUE!"}]
[null,null,null,{"$error":"#VALUE!"}]
[null,null,null,{"$error":"#VALUE!"}]
[null,null,null,{"$error":"#VALUE!"}]
[null,null,null,{"$error":"#VALUE!"}]
[null,null,null,{"$error":"#VALUE!"}]
[null,null,null,{"$error":"#VALUE!"}]
[null,null,null,{"$error":"#VALUE!"}]
[null,null,null,{"$error":"#VALUE!"}]
[null,null,null,{"$error":"#VALUE!"}]
[null,null,null,{"$error":"#VALUE!"}]
[null,null,null,{"$error":"#VALUE!"}]
[null,null,null,{"$error":"#VALUE!"}]
[null,null,null,{"$error":"#VALUE!"}]
[null,null,null,{"$error":"#VALUE!"}]
[null,null,null,{"$error":"#VALUE!"}]
[null,null,null,{"$error":"#VALUE!"}]
[null,null,null,{"$error":"#VALUE!"}]
[null,null,null,{"$error":"#VALUE!"}]
[null,null,null,{"$error":"#VALUE!"}]
[null,null,null,{"$error":"#VALUE!"}]
[null,null,null,{"$error":"#VALUE!"}]
[null,null,null,{"$error":"#VALUE!"}]
[null,null,null,{"$error":"#VALUE!"}]
[null,null,null,{"$error":"#VALUE!"}]
[null,null,null,{"$error":"#VALUE!"}]
[null,null,null,{"$error":"#VALUE!"}]
[null,null,null,{"$error":"#VALUE!"}]
[null,null,null,{"$error":"#VALUE!"}]
[null,null,null,{"$error":"#VALUE!"}]
[null,null,null,{"$error":"#VALUE!"}]
[null,null,null,{"$error":"#VALUE!"}]
[null,null,null,{"$error":"#VALUE!"}]
[null,null,null,{"$error":"#VALUE!"}]
[null,null,null,{"$error":"#VALUE!"}]
[null,null,null,{"$error":"#VALUE!"}]
[null,null,null,{"$error":"#VALUE!"}]
[null,null,null,{"$error":"#VALUE!"}]
[null,null,null,{"$error":"#VALUE!"}]
[null,null,null,{"$error":"#VALUE!"}]
[null,null,null,{"$error":"#VALUE!"}]
[null,null,null,{"$error":"#VALUE!"}]
[null,null,null,{"$error":"#VALUE!"}]
[null,null,null,{"$error":"#VALUE!"}]
[null,null,null,{"$error":"#VALUE!"}]
[null,null,null,{"$error":"#VALUE!"}]
[null,null,null,{"$error":"#VALUE!"}]
[null,null,null,{"$error":"#VALUE!"}]
[null,null,null,{"$error":"#VALUE!"}]
[null,null,null,{"$error":"#VALUE!"}]
[null,null,null,{"$error":"#VALUE!"}]
[null,null,null,{"$error":"#VALUE!"}]
[null,null,null,{"$error":"#VALUE!"}]
[null,null,null,{"$error":"#VALUE!"}]
[null,null,null,{"$error":"#VALUE!"}]
[null,null,null,{"$error":"#VALUE!"}]
[null,null,null,{"$error":"#VALUE!"}]
[null,null,null,{"$error":"#VALUE!"}]
[null,null,null,{"$f":"GetFI(C652)","v":{"$error":"#VALUE!"}}]
[null,null,null,{"$error":"#VALUE!"}]
[null,null,null,{"$error":"#VALUE!"}]
[null,null,null,{"$error":"#VALUE!"}]
[null,null,null,{"$error":"#VALUE!"}]
[null,null,null,{"$error":"#VALUE!"}]
[null,null,null,{"$error":"#VALUE!"}]
[null,null,null,{"$error":"#VALUE!"}]
[null,null,null,{"$error":"#VALUE!"}]
[null,null,null,{"$error":"#VALUE!"}]
[null,null,null,{"$error":"#VALUE!"}]
[null,null,null,{"$error":"#VALUE!"}]
[null,null,null,{"$error":"#VALUE!"}]
[null,null,null,{"$error":"#VALUE!"}]
[null,null,null,{"$error":"#VALUE!"}]
[null,null,null,{"$error":"#VALUE!"}]
[null,null,null,{"$error":"#VALUE!"}]
[null,null,null,{"$error":"#VALUE!"}]
[null,null,null,{"$error":"#VALUE!"}]
[null,null,null,{"$error":"#VALUE!"}]
[null,null,null,{"$error":"#VALUE!"}]
[null,null,null,{"$error":"#VALUE!"}]
[null,null,null,{"$error":"#VALUE!"}]
[null,null,null,{"$error":"#VALUE!"}]
[null,null,null,{"$error":"#VALUE!"}]
[null,null,null,{"$error":"#VALUE!"}]
[null,null,null,{"$error":"#VALUE!"}]
[null,null,null,{"$error":"#VALUE!"}]
[null,null,null,{"$error":"#VALUE!"}]
[null,null,null,{"$error":"#VALUE!"}]
[null,null,null,{"$error":"#VALUE!"}]
[null,null,null,{"$error":"#VALUE!"}]
[null,null,null,{"$error":"#VALUE!"}]
[null,null,null,{"$error":"#VALUE!"}]
[null,null,null,{"$error":"#VALUE!"}]
[null,null,null,{"$error":"#VALUE!"}]
[null,null,null,{"$error":"#VALUE!"}]
[null,null,null,{"$error":"#VALUE!"}]
[null,null,null,{"$error":"#VALUE!"}]
[null,null,null,{"$error":"#VALUE!"}]
[null,null,null,{"$error":"#VALUE!"}]
[null,null,null,{"$error":"#VALUE!"}]
[null,null,null,{"$error":"#VALUE!"}]
[null,null,null,{"$error":"#VALUE!"}]
[null,null,null,{"$error":"#VALUE!"}]
[null,null,null,{"$error":"#VALUE!"}]
[null,null,null,{"$error":"#VALUE!"}]
[null,null,null,{"$error":"#VALUE!"}]
[null,null,null,{"$error":"#VALUE!"}]
[null,null,null,{"$error":"#VALUE!"}]
[null,null,null,{"$error":"#VALUE!"}]
[null,null,null,{"$error":"#VALUE!"}]
[null,null,null,{"$error":"#VALUE!"}]
[null,null,null,{"$error":"#VALUE!"}]
[null,null,null,{"$error":"#VALUE!"}]
[null,null,null,{"$error":"#VALUE!"}]
[null,null,null,{"$error":"#VALUE!"}]
[null,null,null,{"$error":"#VALUE!"}]
[null,null,null,{"$error":"#VALUE!"}]
[null,null,null,{"$error":"#VALUE!"}]
[null,null,null,{"$error":"#VALUE!"}]
[null,null,null,{"$error":"#VALUE!"}]
[null,null,null,{"$error":"#VALUE!"}]
[null,null,null,{"$error":"#VALUE!"}]
[null,null,null,{"$f":"GetFI(C716)","v":{"$error":"#VALUE!"}}]
[null,null,null,{"$error":"#VALUE!"}]
[null,null,null,{"$error":"#VALUE!"}]
[null,null,null,{"$error":"#VALUE!"}]
[null,null,null,{"$error":"#VALUE!"}]
[null,null,null,{"$error":"#VALUE!"}]
[null,null,null,{"$error":"#VALUE!"}]
[null,null,null,{"$error":"#VALUE!"}]
[null,null,null,{"$error":"#VALUE!"}]
[null,null,null,{"$error":"#VALUE!"}]
[null,null,null,{"$error":"#VALUE!"}]
[null,null,null,{"$error":"#VALUE!"}]
[null,null,null,{"$error":"#VALUE!"}]
[null,null,null,{"$error":"#VALUE!"}]
[null,null,null,{"$error":"#VALUE!"}]
[null,null,null,{"$error":"#VALUE!"}]
[null,null,null,{"$error":"#VALUE!"}]
[null,null,null,{"$error":"#VALUE!"}]
[null,null,null,{"$error":"#VALUE!"}]
[null,null,null,{"$error":"#VALUE!"}]
[null,null,null,{"$error":"#VALUE!"}]
[null,null,null,{"$error":"#VALUE!"}]
[null,null,null,{"$error":"#VALUE!"}]
[null,null,null,{"$error":"#VALUE!"}]
[null,null,null,{"$error":"#VALUE!"}]
[null,null,null,{"$error":"#VALUE!"}]
[null,null,null,{"$error":"#VALUE!"}]
[null,null,null,{"$error":"#VALUE!"}]
[null,null,null,{"$error":"#VALUE!"}]
[null,null,null,{"$error":"#VALUE!"}]
[null,null,null,{"$error":"#VALUE!"}]
[null,null,null,{"$error":"#VALUE!"}]
[null,null,null,{"$error":"#VALUE!"}]
[null,null,null,{"$error":"#VALUE!"}]
[null,null,null,{"$error":"#VALUE!"}]
[null,null,null,{"$error":"#VALUE!"}]
[null,null,null,{"$error":"#VALUE!"}]
[null,null,null,{"$error":"#VALUE!"}]
[null,null,null,{"$error":"#VALUE!"}]
[null,null,null,{"$error":"#VALUE!"}]
[null,null,null,{"$error":"#VALUE!"}]
[null,null,null,{"$error":"#VALUE!"}]
[null,null,null,{"$error":"#VALUE!"}]
[null,null,null,{"$error":"#VALUE!"}]
[null,null,null,{"$error":"#VALUE!"}]
[null,null,null,{"$error":"#VALUE!"}]
[null,null,null,{"$error":"#VALUE!"}]
[null,null,null,{"$error":"#VALUE!"}]
[null,null,null,{"$error":"#VALUE!"}]
[null,null,null,{"$error":"#VALUE!"}]
[null,null,null,{"$error":"#VALUE!"}]
[null,null,null,{"$error":"#VALUE!"}]
[null,null,null,{"$error":"#VALUE!"}]
[null,null,null,{"$error":"#VALUE!"}]
[null,null,null,{"$error":"#VALUE!"}]
[null,null,null,{"$error":"#VALUE!"}]
[null,null,null,{"$error":"#VALUE!"}]
[null,null,null,{"$error":"#VALUE!"}]
[null,null,null,{"$error":"#VALUE!"}]
[null,null,null,{"$error":"#VALUE!"}]
[null,null,null,{"$error":"#VALUE!"}]
[null,null,null,{"$error":"#VALUE!"}]
[null,null,null,{"$error":"#VALUE!"}]
[null,null,null,{"$error":"#VALUE!"}]
[null,null,null,{"$f":"GetFI(C780)","v":{"$error":"#VALUE!"}}]
[null,null,null,{"$error":"#VALUE!"}]
[null,null,null,{"$error":"#VALUE!"}]
[null,null,null,{"$error":"#VALUE!"}]
[null,null,null,{"$error":"#VALUE!"}]
[null,null,null,{"$error":"#VALUE!"}]
[null,null,null,{"$error":"#VALUE!"}]
[null,null,null,{"$error":"#VALUE!"}]
[null,null,null,{"$error":"#VALUE!"}]
[null,null,null,{"$error":"#VALUE!"}]
[null,null,null,{"$error":"#VALUE!"}]
[null,null,null,{"$error":"#VALUE!"}]
[null,null,null,{"$error":"#VALUE!"}]
[null,null,null,{"$error":"#VALUE!"}]
[null,null,null,{"$error":"#VALUE!"}]
[null,null,null,{"$error":"#VALUE!"}]
[null,null,null,{"$error":"#VALUE!"}]
[null,null,null,{"$error":"#VALUE!"}]
[null,null,null,{"$error":"#VALUE!"}]
[null,null,null,{"$error":"#VALUE!"}]
[null,null,null,{"$error":"#VALUE!"}]
[null,null,null,{"$error":"#VALUE!"}]
[null,null,null,{"$error":"#VALUE!"}]
[null,null,null,{"$error":"#VALUE!"}]
[null,null,null,{"$error":"#VALUE!"}]
[null,null,null,{"$error":"#VALUE!"}]
[null,null,null,{"$error":"#VALUE!"}]
[null,null,null,{"$error":"#VALUE!"}]
[null,null,null,{"$error":"#VALUE!"}]
[null,null,null,{"$error":"#VALUE!"}]
[null,null,null,{"$error":"#VALUE!"}]
[null,null,null,{"$error":"#VALUE!"}]
[null,null,null,{"$error":"#VALUE!"}]
[null,null,null,{"$error":"#VALUE!"}]
[null,null,null,{"$error":"#VALUE!"}]
[null,null,null,{"$error":"#VALUE!"}]
[null,null,null,{"$error":"#VALUE!"}]
[null,null,null,{"$error":"#VALUE!"}]
[null,null,null,{"$error":"#VALUE!"}]
[null,null,null,{"$error":"#VALUE!"}]
[null,null,null,{"$error":"#VALUE!"}]
[null,null,null,{"$error":"#VALUE!"}]
[null,null,null,{"$error":"#VALUE!"}]
[null,null,null,{"$error":"#VALUE!"}]
[null,null,null,{"$error":"#VALUE!"}]
[null,null,null,{"$error":"#VALUE!"}]
[null,null,null,{"$error":"#VALUE!"}]
[null,null,null,{"$error":"#VALUE!"}]
[null,null,null,{"$error":"#VALUE!"}]
[null,null,null,{"$error":"#VALUE!"}]
[null,null,null,{"$error":"#VALUE!"}]
[null,null,null,{"$error":"#VALUE!"}]
[null,null,null,{"$error":"#VALUE!"}]
[null,null,null,{"$error":"#VALUE!"}]
[null,null,null,{"$error":"#VALUE!"}]
[null,null,null,{"$error":"#VALUE!"}]
[null,null,null,{"$error":"#VALUE!"}]
[null,null,null,{"$error":"#VALUE!"}]
[null,null,null,{"$error":"#VALUE!"}]
[null,null,null,{"$error":"#VALUE!"}]
[null,null,null,{"$error":"#VALUE!"}]
[null,null,null,{"$error":"#VALUE!"}]
[null,null,null,{"$error":"#VALUE!"}]
[null,null,null,{"$error":"#VALUE!"}]
[null,null,null,{"$f":"GetFI(C844)","v":{"$error":"#VALUE!"}}]
[null,null,null,{"$error":"#VALUE!"}]
[null,null,null,{"$error":"#VALUE!"}]
[null,null,null,{"$error":"#VALUE!"}]
[null,null,null,{"$error":"#VALUE!"}]
[null,null,null,{"$error":"#VALUE!"}]
[null,null,null,{"$error":"#VALUE!"}]
[null,null,null,{"$error":"#VALUE!"}]
[null,null,null,{"$error":"#VALUE!"}]
[null,null,null,{"$error":"#VALUE!"}]
[null,null,null,{"$error":"#VALUE!"}]
[null,null,null,{"$error":"#VALUE!"}]
[null,null,null,{"$error":"#VALUE!"}]
[null,null,null,{"$error":"#VALUE!"}]
[null,null,null,{"$error":"#VALUE!"}]
[null,null,null,{"$error":"#VALUE!"}]
[null,null,null,{"$error":"#VALUE!"}]
[null,null,null,{"$error":"#VALUE!"}]
[null,null,null,{"$error":"#VALUE!"}]
[null,null,null,{"$error":"#VALUE!"}]
[null,null,null,{"$error":"#VALUE!"}]
[null,null,null,{"$error":"#VALUE!"}]
[null,null,null,{"$error":"#VALUE!"}]
[null,null,null,{"$error":"#VALUE!"}]
[null,null,null,{"$error":"#VALUE!"}]
[null,null,null,{"$error":"#VALUE!"}]
[null,null,null,{"$error":"#VALUE!"}]
[null,null,null,{"$error":"#VALUE!"}]
[null,null,null,{"$error":"#VALUE!"}]
[null,null,null,{"$error":"#VALUE!"}]
[null,null,null,{"$error":"#VALUE!"}]
[null,null,null,{"$error":"#VALUE!"}]
[null,null,null,{"$error":"#VALUE!"}]
[null,null,null,{"$error":"#VALUE!"}]
[null,null,null,{"$error":"#VALUE!"}]
[null,null,null,{"$error":"#VALUE!"}]
[null,null,null,{"$error":"#VALUE!"}]
[null,null,null,{"$error":"#VALUE!"}]
[null,null,null,{"$error":"#VALUE!"}]
[null,null,null,{"$error":"#VALUE!"}]
[null,null,null,{"$error":"#VALUE!"}]
[null,null,null,{"$error":"#VALUE!"}]
[null,null,null,{"$error":"#VALUE!"}]
[null,null,null,{"$error":"#VALUE!"}]
[null,null,null,{"$error":"#VALUE!"}]
[null,null,null,{"$error":"#VALUE!"}]
[null,null,null,{"$error":"#VALUE!"}]
[null,null,null,{"$error":"#VALUE!"}]
[null,null,null,{"$error":"#VALUE!"}]
[null,null,null,{"$error":"#VALUE!"}]
[null,null,null,{"$error":"#VALUE!"}]
[null,null,null,{"$error":"#VALUE!"}]
[null,null,null,{"$error":"#VALUE!"}]
[null,null,null,{"$error":"#VALUE!"}]
[null,null,null,{"$error":"#VALUE!"}]
[null,null,null,{"$error":"#VALUE!"}]
[null,null,null,{"$error":"#VALUE!"}]
[null,null,null,{"$error":"#VALUE!"}]
[null,null,null,{"$error":"#VALUE!"}]
[null,null,null,{"$error":"#VALUE!"}]
[null,null,null,{"$error":"#VALUE!"}]
[null,null,null,{"$error":"#VALUE!"}]
[null,null,null,{"$error":"#VALUE!"}]
[null,null,null,{"$error":"#VALUE!"}]
[null,null,null,{"$f":"GetFI(C908)","v":{"$error":"#VALUE!"}}]
[null,null,null,{"$error":"#VALUE!"}]
[null,null,null,{"$error":"#VALUE!"}]
[null,null,null,{"$error":"#VALUE!"}]
[null,null,null,{"$error":"#VALUE!"}]
[null,null,null,{"$error":"#VALUE!"}]
[null,null,null,{"$error":"#VALUE!"}]
[null,null,null,{"$error":"#VALUE!"}]
[null,null,null,{"$error":"#VALUE!"}]
[null,null,null,{"$error":"#VALUE!"}]
[null,null,null,{"$error":"#VALUE!"}]
[null,null,null,{"$error":"#VALUE!"}]
[null,null,null,{"$error":"#VALUE!"}]
[null,null,null,{"$error":"#VALUE!"}]
[null,null,null,{"$error":"#VALUE!"}]
[null,null,null,{"$error":"#VALUE!"}]
[null,null,null,{"$error":"#VALUE!"}]
[null,null,null,{"$error":"#VALUE!"}]
[null,null,null,{"$error":"#VALUE!"}]
[null,null,null,{"$error":"#VALUE!"}]
[null,null,null,{"$error":"#VALUE!"}]
[null,null,null,{"$error":"#VALUE!"}]
[null,null,null,{"$error":"#VALUE!"}]
[null,null,null,{"$error":"#VALUE!"}]
[null,null,null,{"$error":"#VALUE!"}]
[null,null,null,{"$error":"#VALUE!"}]
[null,null,null,{"$error":"#VALUE!"}]
[null,null,null,{"$error":"#VALUE!"}]
[null,null,null,{"$error":"#VALUE!"}]
[null,null,null,{"$error":"#VALUE!"}]
[null,null,null,{"$error":"#VALUE!"}]
[null,null,null,{"$error":"#VALUE!"}]
[null,null,null,{"$error":"#VALUE!"}]
[null,null,null,{"$error":"#VALUE!"}]
[null,null,null,{"$error":"#VALUE!"}]
[null,null,null,{"$error":"#VALUE!"}]
[null,null,null,{"$error":"#VALUE!"}]
[null,null,null,{"$error":"#VALUE!"}]
[null,null,null,{"$error":"#VALUE!"}]
[null,null,null,{"$error":"#VALUE!"}]
[null,null,null,{"$error":"#VALUE!"}]
[null,null,null,{"$error":"#VALUE!"}]
[null,null,null,{"$error":"#VALUE!"}]
[null,null,null,{"$error":"#VALUE!"}]
[null,null,null,{"$error":"#VALUE!"}]
[null,null,null,{"$error":"#VALUE!"}]
[null,null,null,{"$error":"#VALUE!"}]
[null,null,null,{"$error":"#VALUE!"}]
[null,null,null,{"$error":"#VALUE!"}]
[null,null,null,{"$error":"#VALUE!"}]
[null,null,null,{"$error":"#VALUE!"}]
[null,null,null,{"$error":"#VALUE!"}]
[null,null,null,{"$error":"#VALUE!"}]
[null,null,null,{"$error":"#VALUE!"}]
[null,null,null,{"$error":"#VALUE!"}]
[null,null,null,{"$error":"#VALUE!"}]
[null,null,null,{"$error":"#VALUE!"}]
[null,null,null,{"$error":"#VALUE!"}]
[null,null,null,{"$error":"#VALUE!"}]
[null,null,null,{"$error":"#VALUE!"}]
[null,null,null,{"$error":"#VALUE!"}]
[null,null,null,{"$error":"#VALUE!"}]
[null,null,null,{"$error":"#VALUE!"}]
[null,null,null,{"$error":"#VALUE!"}]
[null,null,null,{"$f":"GetFI(C972)","v":{"$error":"#VALUE!"}}]
[null,null,null,{"$error":"#VALUE!"}]
[null,null,null,{"$error":"#VALUE!"}]
[null,null,null,{"$error":"#VALUE!"}]
[null,null,null,{"$error":"#VALUE!"}]
[null,null,null,{"$error":"#VALUE!"}]
[null,null,null,{"$error":"#VALUE!"}]
[null,null,null,{"$error":"#VALUE!"}]
[null,null,null,{"$error":"#VALUE!"}]
[null,null,null,{"$error":"#VALUE!"}]
[null,null,null,{"$error":"#VALUE!"}]
[null,null,null,{"$error":"#VALUE!"}]
[null,null,null,{"$error":"#VALUE!"}]
[null,null,null,{"$error":"#VALUE!"}]
[null,null,null,{"$error":"#VALUE!"}]
[null,null,null,{"$error":"#VALUE!"}]
[null,null,null,{"$error":"#VALUE!"}]
[null,null,null,{"$error":"#VALUE!"}]
[null,null,null,{"$error":"#VALUE!"}]
[null,null,null,{"$error":"#VALUE!"}]
[null,null,null,{"$error":"#VALUE!"}]
[null,null,null,{"$error":"#VALUE!"}]
[null,null,null,{"$error":"#VALUE!"}]
[null,null,null,{"$error":"#VALUE!"}]
[null,null,null,{"$error":"#VALUE!"}]
[null,null,null,{"$error":"#VALUE!"}]
[null,null,null,{"$error":"#VALUE!"}]
[null,null,null,{"$error":"#VALUE!"}]
[null,null,null,{"$error":"#VALUE!"}]
[null,null,null,{"$error":"#VALUE!"}]
[null,null,null,{"$error":"#VALUE!"}]
[null,null,null,{"$error":"#VALUE!"}]
[null,null,null,{"$error":"#VALUE!"}]
[null,null,null,{"$error":"#VALUE!"}]
[null,null,null,{"$error":"#VALUE!"}]
[null,null,null,{"$error":"#VALUE!"}]
[null,null,null,{"$error":"#VALUE!"}]
[null,null,null,{"$error":"#VALUE!"}]
[null,null,null,{"$error":"#VALUE!"}]
[null,null,null,{"$error":"#VALUE!"}]
[null,null,null,{"$error":"#VALUE!"}]
[null,null,null,{"$error":"#VALUE!"}]
[null,null,null,{"$error":"#VALUE!"}]
[null,null,null,{"$error":"#VALUE!"}]
[null,null,null,{"$error":"#VALUE!"}]
[null,null,null,{"$error":"#VALUE!"}]
[null,null,null,{"$error":"#VALUE!"}]
[null,null,null,{"$error":"#VALUE!"}]
[null,null,null,{"$error":"#VALUE!"}]
[null,null,null,{"$error":"#VALUE!"}]
[null,null,null,{"$error":"#VALUE!"}]
[null,null,null,{"$error":"#VALUE!"}]
[null,null,null,{"$error":"#VALUE!"}]
[null,null,null,{"$error":"#VALUE!"}]
[null,null,null,{"$error":"#VALUE!"}]
[null,null,null,{"$error":"#VALUE!"}]
[null,null,null,{"$error":"#VALUE!"}]
[null,null,null,{"$error":"#VALUE!"}]
[null,null,null,{"$error":"#VALUE!"}]
[null,null,null,{"$error":"#VALUE!"}]
[null,null,null,{"$error":"#VALUE!"}]
[null,null,null,{"$error":"#VALUE!"}]
[null,null,null,{"$error":"#VALUE!"}]
[null,null,null,{"$error":"#VALUE!"}]
[null,null,null,{"$f":"GetFI(C1036)","v":{"$error":"#VALUE!"}}]
[null,null,null,{"$error":"#VALUE!"}]
[null,null,null,{"$error":"#VALUE!"}]
[null,null,null,{"$error":"#VALUE!"}]
[null,null,null,{"$error":"#VALUE!"}]
[null,null,null,{"$error":"#VALUE!"}]
[null,null,null,{"$error":"#VALUE!"}]
[null,null,null,{"$error":"#VALUE!"}]
[null,null,null,{"$error":"#VALUE!"}]
[null,null,null,{"$error":"#VALUE!"}]
[null,null,null,{"$error":"#VALUE!"}]
[null,null,null,{"$error":"#VALUE!"}]
[null,null,null,{"$error":"#VALUE!"}]
[null,null,null,{"$error":"#VALUE!"}]
[null,null,null,{"$error":"#VALUE!"}]
[null,null,null,{"$error":"#VALUE!"}]
[null,null,null,{"$error":"#VALUE!"}]
[null,null,null,{"$error":"#VALUE!"}]
[null,null,null,{"$error":"#VALUE!"}]
[null,null,null,{"$error":"#VALUE!"}]
[null,null,null,{"$error":"#VALUE!"}]
[null,null,null,{"$error":"#VALUE!"}]
[null,null,null,{"$error":"#VALUE!"}]
[null,null,null,{"$error":"#VALUE!"}]
[null,null,null,{"$error":"#VALUE!"}]
[null,null,null,{"$error":"#VALUE!"}]
[null,null,null,{"$error":"#VALUE!"}]
[null,null,null,{"$error":"#VALUE!"}]
[null,null,null,{"$error":"#VALUE!"}]
[null,null,null,{"$error":"#VALUE!"}]
[null,null,null,{"$error":"#VALUE!"}]
[null,null,null,{"$error":"#VALUE!"}]
[null,null,null,{"$error":"#VALUE!"}]
[null,null,null,{"$error":"#VALUE!"}]
[null,null,null,{"$error":"#VALUE!"}]
[null,null,null,{"$error":"#VALUE!"}]
[null,null,null,{"$error":"#VALUE!"}]
[null,null,null,{"$error":"#VALUE!"}]
[null,null,null,{"$error":"#VALUE!"}]
[null,null,null,{"$error":"#VALUE!"}]
[null,null,null,{"$error":"#VALUE!"}]
[null,null,null,{"$error":"#VALUE!"}]
[null,null,null,{"$error":"#VALUE!"}]
[null,null,null,{"$error":"#VALUE!"}]
[null,null,null,{"$error":"#VALUE!"}]
[null,null,null,{"$error":"#VALUE!"}]
[null,null,null,{"$error":"#VALUE!"}]
[null,null,null,{"$error":"#VALUE!"}]
[null,null,null,{"$error":"#VALUE!"}]
[null,null,null,{"$error":"#VALUE!"}]
[null,null,null,{"$error":"#VALUE!"}]
[null,null,null,{"$error":"#VALUE!"}]
[null,null,null,{"$error":"#VALUE!"}]
[null,null,null,{"$error":"#VALUE!"}]
[null,null,null,{"$error":"#VALUE!"}]
[null,null,null,{"$error":"#VALUE!"}]
[null,null,null,{"$error":"#VALUE!"}]
[null,null,null,{"$error":"#VALUE!"}]
[null,null,null,{"$error":"#VALUE!"}]
[null,null,null,{"$error":"#VALUE!"}]
[null,null,null,{"$error":"#VALUE!"}]
[null,null,null,{"$error":"#VALUE!"}]
[null,null,null,{"$error":"#VALUE!"}]
[null,null,null,{"$error":"#VALUE!"}]
[null,null,null,{"$f":"GetFI(C1100)","v":{"$error":"#VALUE!"}}]
[null,null,null,{"$error":"#VALUE!"}]
[null,null,null,{"$error":"#VALUE!"}]
[null,null,null,{"$error":"#VALUE!"}]
[null,null,null,{"$error":"#VALUE!"}]
[null,null,null,{"$error":"#VALUE!"}]
[null,null,null,{"$error":"#VALUE!"}]
[null,null,null,{"$error":"#VALUE!"}]
[null,null,null,{"$error":"#VALUE!"}]
[null,null,null,{"$error":"#VALUE!"}]
[null,null,null,{"$error":"#VALUE!"}]
[null,null,null,{"$error":"#VALUE!"}]
[null,null,null,{"$error":"#VALUE!"}]
[null,null,null,{"$error":"#VALUE!"}]
[null,null,null,{"$error":"#VALUE!"}]
[null,null,null,{"$error":"#VALUE!"}]
[null,null,null,{"$error":"#VALUE!"}]
[null,null,null,{"$error":"#VALUE!"}]
[null,null,null,{"$error":"#VALUE!"}]
[null,null,null,{"$error":"#VALUE!"}]
[null,null,null,{"$error":"#VALUE!"}]
[null,null,null,{"$error":"#VALUE!"}]
[null,null,null,{"$error":"#VALUE!"}]
[null,null,null,{"$error":"#VALUE!"}]
[null,null,null,{"$error":"#VALUE!"}]
[null,null,null,{"$error":"#VALUE!"}]
[null,null,null,{"$error":"#VALUE!"}]
[null,null,null,{"$error":"#VALUE!"}]
[null,null,null,{"$error":"#VALUE!"}]
[null,null,null,{"$error":"#VALUE!"}]
[null,null,null,{"$error":"#VALUE!"}]
[null,null,null,{"$error":"#VALUE!"}]
[null,null,null,{"$error":"#VALUE!"}]
[null,null,null,{"$error":"#VALUE!"}]
[null,null,null,{"$error":"#VALUE!"}]
[null,null,null,{"$error":"#VALUE!"}]
[null,null,null,{"$error":"#VALUE!"}]
[null,null,null,{"$error":"#VALUE!"}]
[null,null,null,{"$error":"#VALUE!"}]
[null,null,null,{"$error":"#VALUE!"}]
[null,null,null,{"$error":"#VALUE!"}]
[null,null,null,{"$error":"#VALUE!"}]
[null,null,null,{"$error":"#VALUE!"}]
[null,null,null,{"$error":"#VALUE!"}]
[null,null,null,{"$error":"#VALUE!"}]
[null,null,null,{"$error":"#VALUE!"}]
[null,null,null,{"$error":"#VALUE!"}]
[null,null,null,{"$error":"#VALUE!"}]
[null,null,null,{"$error":"#VALUE!"}]
[null,null,null,{"$error":"#VALUE!"}]
[null,null,null,{"$error":"#VALUE!"}]
[null,null,null,{"$error":"#VALUE!"}]
[null,null,null,{"$error":"#VALUE!"}]
[null,null,null,{"$error":"#VALUE!"}]
[null,null,null,{"$error":"#VALUE!"}]
[null,null,null,{"$error":"#VALUE!"}]
[null,null,null,{"$error":"#VALUE!"}]
[null,null,null,{"$error":"#VALUE!"}]
[null,null,null,{"$error":"#VALUE!"}]
[null,null,null,{"$error":"#VALUE!"}]
[null,null,null,{"$error":"#VALUE!"}]
[null,null,null,{"$error":"#VALUE!"}]
[null,null,null,{"$error":"#VALUE!"}]
[null,null,null,{"$error":"#VALUE!"}]
[null,null,null,{"$f":"GetFI(C1164)","v":{"$error":"#VALUE!"}}]
[null,null,null,{"$error":"#VALUE!"}]
[null,null,null,{"$error":"#VALUE!"}]
[null,null,null,{"$error":"#VALUE!"}]
[null,null,null,{"$error":"#VALUE!"}]
[null,null,null,{"$error":"#VALUE!"}]
[null,null,null,{"$error":"#VALUE!"}]
[null,null,null,{"$error":"#VALUE!"}]
[null,null,null,{"$error":"#VALUE!"}]
[null,null,null,{"$error":"#VALUE!"}]
[null,null,null,{"$error":"#VALUE!"}]
[null,null,null,{"$error":"#VALUE!"}]
[null,null,null,{"$error":"#VALUE!"}]
[null,null,null,{"$error":"#VALUE!"}]
[null,null,null,{"$error":"#VALUE!"}]
[null,null,null,{"$error":"#VALUE!"}]
[null,null,null,{"$error":"#VALUE!"}]
[null,null,null,{"$error":"#VALUE!"}]
[null,null,null,{"$error":"#VALUE!"}]
[null,null,null,{"$error":"#VALUE!"}]
[null,null,null,{"$error":"#VALUE!"}]
[null,null,null,{"$error":"#VALUE!"}]
[null,null,null,{"$error":"#VALUE!"}]
[null,null,null,{"$error":"#VALUE!"}]
[null,null,null,{"$error":"#VALUE!"}]
[null,null,null,{"$error":"#VALUE!"}]
[null,null,null,{"$error":"#VALUE!"}]
[null,null,null,{"$error":"#VALUE!"}]
[null,null,null,{"$error":"#VALUE!"}]
[null,null,null,{"$error":"#VALUE!"}]
[null,null,null,{"$error":"#VALUE!"}]
[null,null,null,{"$error":"#VALUE!"}]
[null,null,null,{"$error":"#VALUE!"}]
[null,null,null,{"$error":"#VALUE!"}]
[null,null,null,{"$error":"#VALUE!"}]
[null,null,null,{"$error":"#VALUE!"}]
[null,null,null,{"$error":"#VALUE!"}]
[null,null,null,{"$error":"#VALUE!"}]
[null,null,null,{"$error":"#VALUE!"}]
[null,null,null,{"$error":"#VALUE!"}]
[null,null,null,{"$error":"#VALUE!"}]
[null,null,null,{"$error":"#VALUE!"}]
[null,null,null,{"$error":"#VALUE!"}]
[null,null,null,{"$error":"#VALUE!"}]
[null,null,null,{"$error":"#VALUE!"}]
[null,null,null,{"$error":"#VALUE!"}]
[null,null,null,{"$error":"#VALUE!"}]
[null,null,null,{"$error":"#VALUE!"}]
[null,null,null,{"$error":"#VALUE!"}]
[null,null,null,{"$error":"#VALUE!"}]
[null,null,null,{"$error":"#VALUE!"}]
[null,null,null,{"$error":"#VALUE!"}]
[null,null,null,{"$error":"#VALUE!"}]
[null,null,null,{"$error":"#VALUE!"}]
[null,null,null,{"$error":"#VALUE!"}]
[null,null,null,{"$error":"#VALUE!"}]
[null,null,null,{"$error":"#VALUE!"}]
[null,null,null,{"$error":"#VALUE!"}]
[null,null,null,{"$error":"#VALUE!"}]
[null,null,null,{"$error":"#VALUE!"}]
[null,null,null,{"$error":"#VALUE!"}]
[null,null,null,{"$error":"#VALUE!"}]
[null,null,null,{"$error":"#VALUE!"}]
[null,null,null,{"$error":"#VALUE!"}]
[null,null,null,{"$f":"GetFI(C1228)","v":{"$error":"#VALUE!"}}]
[null,null,null,{"$error":"#VALUE!"}]
[null,null,null,{"$error":"#VALUE!"}]
[null,null,null,{"$error":"#VALUE!"}]
[null,null,null,{"$error":"#VALUE!"}]
[null,null,null,{"$error":"#VALUE!"}]
[null,null,null,{"$error":"#VALUE!"}]
[null,null,null,{"$error":"#VALUE!"}]
[null,null,null,{"$error":"#VALUE!"}]
[null,null,null,{"$error":"#VALUE!"}]
[null,null,null,{"$error":"#VALUE!"}]
[null,null,null,{"$error":"#VALUE!"}]
[null,null,null,{"$error":"#VALUE!"}]
[null,null,null,{"$error":"#VALUE!"}]
[null,null,null,{"$error":"#VALUE!"}]
[null,null,null,{"$error":"#VALUE!"}]
[null,null,null,{"$error":"#VALUE!"}]
[null,null,null,{"$error":"#VALUE!"}]
[null,null,null,{"$error":"#VALUE!"}]
[null,null,null,{"$error":"#VALUE!"}]
[null,null,null,{"$error":"#VALUE!"}]
[null,null,null,{"$error":"#VALUE!"}]
[null,null,null,{"$error":"#VALUE!"}]
[null,null,null,{"$error":"#VALUE!"}]
[null,null,null,{"$error":"#VALUE!"}]
[null,null,null,{"$error":"#VALUE!"}]
[null,null,null,{"$error":"#VALUE!"}]
[null,null,null,{"$error":"#VALUE!"}]
[null,null,null,{"$error":"#VALUE!"}]
[null,null,null,{"$error":"#VALUE!"}]
[null,null,null,{"$error":"#VALUE!"}]
[null,null,null,{"$error":"#VALUE!"}]
[null,null,null,{"$error":"#VALUE!"}]
[null,null,null,{"$error":"#VALUE!"}]
[null,null,null,{"$error":"#VALUE!"}]
[null,null,null,{"$error":"#VALUE!"}]
[null,null,null,{"$error":"#VALUE!"}]
[null,null,null,{"$error":"#VALUE!"}]
[null,null,null,{"$error":"#VALUE!"}]
[null,null,null,{"$error":"#VALUE!"}]
[null,null,null,{"$error":"#VALUE!"}]
[null,null,null,{"$error":"#VALUE!"}]
[null,null,null,{"$error":"#VALUE!"}]
[null,null,null,{"$error":"#VALUE!"}]
[null,null,null,{"$error":"#VALUE!"}]
[null,null,null,{"$error":"#VALUE!"}]
[null,null,null,{"$error":"#VALUE!"}]
[null,null,null,{"$error":"#VALUE!"}]
[null,null,null,{"$error":"#VALUE!"}]
[null,null,null,{"$error":"#VALUE!"}]
[null,null,null,{"$error":"#VALUE!"}]
[null,null,null,{"$error":"#VALUE!"}]
[null,null,null,{"$error":"#VALUE!"}]
[null,null,null,{"$error":"#VALUE!"}]
[null,null,null,{"$error":"#VALUE!"}]
[null,null,null,{"$error":"#VALUE!"}]
[null,null,null,{"$error":"#VALUE!"}]
[null,null,null,{"$error":"#VALUE!"}]
[null,null,null,{"$error":"#VALUE!"}]
[null,null,null,{"$error":"#VALUE!"}]
[null,null,null,{"$error":"#VALUE!"}]
[null,null,null,{"$error":"#VALUE!"}]
[null,null,null,{"$error":"#VALUE!"}]
[null,null,null,{"$error":"#VALUE!"}]
[null,null,null,{"$f":"GetFI(C1292)","v":{"$error":"#VALUE!"}}]
[null,null,null,{"$error":"#VALUE!"}]
[null,null,null,{"$error":"#VALUE!"}]
[null,null,null,{"$error":"#VALUE!"}]
[null,null,null,{"$error":"#VALUE!"}]
[null,null,null,{"$error":"#VALUE!"}]
[null,null,null,{"$error":"#VALUE!"}]
[null,null,null,{"$error":"#VALUE!"}]
[null,null,null,{"$error":"#VALUE!"}]
[null,null,null,{"$error":"#VALUE!"}]
[null,null,null,{"$error":"#VALUE!"}]
[null,null,null,{"$error":"#VALUE!"}]
[null,null,null,{"$error":"#VALUE!"}]
[null,null,null,{"$error":"#VALUE!"}]
[null,null,null,{"$error":"#VALUE!"}]
[null,null,null,{"$error":"#VALUE!"}]
[null,null,null,{"$error":"#VALUE!"}]
[null,null,null,{"$error":"#VALUE!"}]
[null,null,null,{"$error":"#VALUE!"}]
[null,null,null,{"$error":"#VALUE!"}]
[null,null,null,{"$error":"#VALUE!"}]
[null,null,null,{"$error":"#VALUE!"}]
[null,null,null,{"$error":"#VALUE!"}]
[null,null,null,{"$error":"#VALUE!"}]
[null,null,null,{"$error":"#VALUE!"}]
[null,null,null,{"$error":"#VALUE!"}]
[null,null,null,{"$error":"#VALUE!"}]
[null,null,null,{"$error":"#VALUE!"}]
[null,null,null,{"$error":"#VALUE!"}]
[null,null,null,{"$error":"#VALUE!"}]
[null,null,null,{"$error":"#VALUE!"}]
[null,null,null,{"$error":"#VALUE!"}]
[null,null,null,{"$error":"#VALUE!"}]
[null,null,null,{"$error":"#VALUE!"}]
[null,null,null,{"$error":"#VALUE!"}]
[null,null,null,{"$error":"#VALUE!"}]
[null,null,null,{"$error":"#VALUE!"}]
[null,null,null,{"$error":"#VALUE!"}]
[null,null,null,{"$error":"#VALUE!"}]
[null,null,null,{"$error":"#VALUE!"}]
[null,null,null,{"$error":"#VALUE!"}]
[null,null,null,{"$error":"#VALUE!"}]
[null,null,null,{"$error":"#VALUE!"}]
[null,null,null,{"$error":"#VALUE!"}]
[null,null,null,{"$error":"#VALUE!"}]
[null,null,null,{"$error":"#VALUE!"}]
[null,null,null,{"$error":"#VALUE!"}]
[null,null,null,{"$error":"#VALUE!"}]
[null,null,null,{"$error":"#VALUE!"}]
[null,null,null,{"$error":"#VALUE!"}]
[null,null,null,{"$error":"#VALUE!"}]
[null,null,null,{"$error":"#VALUE!"}]
[null,null,null,{"$error":"#VALUE!"}]
[null,null,null,{"$error":"#VALUE!"}]
[null,null,null,{"$error":"#VALUE!"}]
[null,null,null,{"$error":"#VALUE!"}]
[null,null,null,{"$error":"#VALUE!"}]
[null,null,null,{"$error":"#VALUE!"}]
[null,null,null,{"$error":"#VALUE!"}]
[null,null,null,{"$error":"#VALUE!"}]
[null,null,null,{"$error":"#VALUE!"}]
[null,null,null,{"$error":"#VALUE!"}]
[null,null,null,{"$error":"#VALUE!"}]
[null,null,null,{"$error":"#VALUE!"}]
[null,null,null,{"$f":"GetFI(C1356)","v":{"$error":"#VALUE!"}}]
[null,null,null,{"$error":"#VALUE!"}]
[null,null,null,{"$error":"#VALUE!"}]
[null,null,null,{"$error":"#VALUE!"}]
[null,null,null,{"$error":"#VALUE!"}]
[null,null,null,{"$error":"#VALUE!"}]
[null,null,null,{"$error":"#VALUE!"}]
[null,null,null,{"$error":"#VALUE!"}]
[null,null,null,{"$error":"#VALUE!"}]
[null,null,null,{"$error":"#VALUE!"}]
[null,null,null,{"$error":"#VALUE!"}]
[null,null,null,{"$error":"#VALUE!"}]
[null,null,null,{"$error":"#VALUE!"}]
[null,null,null,{"$error":"#VALUE!"}]
[null,null,null,{"$error":"#VALUE!"}]
[null,null,null,{"$error":"#VALUE!"}]
[null,null,null,{"$error":"#VALUE!"}]
[null,null,null,{"$error":"#VALUE!"}]
[null,null,null,{"$error":"#VALUE!"}]
[null,null,null,{"$error":"#VALUE!"}]
[null,null,null,{"$error":"#VALUE!"}]
[null,null,null,{"$error":"#VALUE!"}]
[null,null,null,{"$error":"#VALUE!"}]
[null,null,null,{"$error":"#VALUE!"}]
[null,null,null,{"$error":"#VALUE!"}]
[null,null,null,{"$error":"#VALUE!"}]
[null,null,null,{"$error":"#VALUE!"}]
[null,null,null,{"$error":"#VALUE!"}]
[null,null,null,{"$error":"#VALUE!"}]
[null,null,null,{"$error":"#VALUE!"}]

{"sheet":"СпискиКлассы","index":2,"n_rows":33,"n_cols":21,"rows_kept":33,"cut":false,"hidden":true,"merged":[]}
[1,{"$f":"A1+1","v":2},{"$f":"B1+1","v":3},4,5,6,7,8,9,10]
[null,{"$f":"Титул!B9","v":"2 А"},{"$f":"Титул!B10","v":"2 Б"},{"$f":"Титул!B11","v":"2 В"},{"$f":"Титул!B12","v":"3 А"},{"$f":"Титул!B13","v":"4 А"},{"$f":"Титул!B14","v":"4 Б"},{"$f":"Титул!B15","v":"4 В"},{"$f":"Титул!B16","v":"5 А"},{"$f":"Титул!B17","v":"5 Б"},{"$f":"Титул!B18","v":"6 А"},{"$f":"Титул!B19","v":"6 Б"},{"$f":"Титул!B20","v":"7 А"},{"$f":"Титул!B21","v":"7 Б"},{"$f":"Титул!B22","v":"8 А"},{"$f":"Титул!B23","v":"8 Б"},{"$f":"Титул!B24","v":"8 В"},{"$f":"Титул!B25","v":"9 А"},{"$f":"Титул!B26","v":"9 Б"},{"$f":"Титул!B27","v":"9 В"},{"$f":"Титул!B28","v":"11 А"}]
[null,"Фамилии и имена учащися класса","Фамилии и имена учащися класса","Фамилии и имена учащися класса","Фамилии и имена учащися класса","Фамилии и имена учащися класса","Фамилии и имена учащися класса","Фамилии и имена учащися класса","Фамилии и имена учащися класса","Фамилии и имена учащися класса","Фамилии и имена учащися класса","Фамилии и имена учащися класса","Фамилии и имена учащися класса","Фамилии и имена учащися класса","Фамилии и имена учащися класса","Фамилии и имена учащися класса","Фамилии и имена учащися класса","Фамилии и имена учащися класса","Фамилии и имена учащися класса","Фамилии и имена учащися класса","Фамилии и имена учащися класса"]
[null,"Богданова Алина","Белокопытов Егор","Баженов Егор","Бабаев Вячеслав","Алябьев Владислав","Барабаш Дана","Адинкова Александра","Александрова Полина","Ахмадеев Руслан","Бобырева Татьяна","Бирко Александра","Аверкиева Екатерина","Агеева Юлия","Аверкиев Максим","Ибрагимов Владислав","Бусыгин Михаил","Артемьева Ольга","Борисенко Юрий","Бузунова Елена","Афанасьев Антон"]
[null,"Ботников Артем","Будько Роман","Вдовченок Мария","Бочкарева Дарья","Афанасьев Кирилл","Барановская Диана","Бельфер Дарина","Голостенова Екатерина","Беляева Дарья","Бычкова Ирина","Варданян Сурик","Баслов Федор","Адиканкова Наталья","Андронов Дмитрий","Курдуманов Максим","Воробьев Алексей","Бахман Григорий","Вильский Павел","Вокарин Денис","Белобородов Сергей"]
[null,"Ващук Михаил","Быкова Ксения","Воробьев Владислав","Васильеву Алису","Бестужева Екатерина","Белан Татьяна","Берчанская Анна","Девицына Алиса","Вахмистрова Алина","Волошинович Виктор","Ворошилов Степан","Белозерова Елизавета","Варданян Герман","Апальков Александр","Леухин Данил","Громик Дмитрий","Виндец Максим","Жуков Дмитрий","Гнатик Данил","Балябин Александр"]
[null,"Голостенова Елизавета","Галайда Степан","Грибов Алексей","Власенко Данил","Буданцев Виталий","Белова Елизавета","Велиев Анар","Дерюжков Сергей","Гуляева Кристина","Гурская Анна","Герасимова Елена","Белявская Виктория","Воронкова Мария","Аргуткин Роман","Самсонов Сергей","Иваненко Илья","Виндец Никита","Жуков Никита","Грабский Евгений","Быстров Александр"]
[null,"Давыдова Вероника","Грехова Ярослава","Запорожан Олег","Воронков Игорь","Быков Иван","Бобылева Алена","Жмурко Лев","Долгачева Полина","Квецинская Евгения","Дерюгин Даниэль","Дышлевич Екатерина","Бодрова Ирина","Гирко Александра","Барабаш Максим","Стрельников Никита","Корнилов Кирилл","Волков Владислав","Махницкий Владислав","Гурский Павел","Вдовина Дарья"]
[null,"Евсеева Арина","Зырянова Ирина","Илларионов Дмитрий","Зудин Владислав","Вахрушев Никита","Гречановский Дмитрий","Зотов Александр","Елизаров Александр","Кристалинская Виктория","Зайко Роман","Зубков Евгений","Бойко Кристина","Горбунова Анна","Варфоломеев Роман","Шустов Вадим","Люцков Руслан","Елизарова Дарья","Наймушина Анастасия","Зимин Роман","Зубов Матвей"]
[null,"Зайцева Наталья","Капустина Полина","Карпов Роман","Капустин Никита","Гладкова Ульяна","Денежкина Эмилия","Ивченко Михаил","Еськова Ксения","Мирошниченко Иван","Коновалова Ксения","Каплун Анастасия","Волков Сергей","Гранина Анастасия","Голумбиевский Илья",null,"Махницкий Константин","Зарудная Екатерина","Петраков Иван","Иванченко Роман","Дрозд Владимир"]
[null,"Котелевкий Илья","Карпов Максим","Ковалев Владислав","Морозков Иван","Губенко София","Дупик Артур","Казаков Константин","Котельников Владислав","Мишко Леонид","Короткин Семен","Киян Максим","Волобуева Юлия","Жмурко Вячеслав","Диодоров Данил",null,"Ференчук Виктория","Иванова Екатерина","Федосеев Вячеслав","Калинин Денис","Иванова Кристина"]
[null,"Лаврентьев Руслан","Карташова Анастасия","Конакова Вероника","Наумова Софья","Егоров Максим","Калекин Никита","Ким Эмилия","Куличенко Мария","Плаунова Юлия","Латышев Артем","Колмогорцев Виктор","Ворошилов Семен","Забиров Константин","Ковалева Ксения",null,"Щетинина Татьяна","Ильин Сергей","Чувашова Руфина","Капсамун Диана","Кожанова Евгения"]
[null,"Лепехина Полина","Коростелева Ева","Кузьменко Александр","Плесовских Наталья","Жуков Денис","Козлова Софья","Коновчук Анна","Левина Алена","Полякова Наталья","Левина Татьяна","Кузнецов Егор","Гарин Кирилл","Зимин Егор","Коноплев Виталий",null,"Юдина Карина","Калиниченко Валерия","Шустова Мария","Курнакова Анастасия","Коретникова Юлия"]
[null,"Логашева Кристина","Кристалинская Олеся","Москвичев Сергей","Посталова Любовь","Кравченко Ксения","Липский Иван","Крюкова Дарья","Лунева Полина","Ракута Марина","Ливанова Анастасия","Кузнецова Елизавета","Демирова Сабина","Ипатова Виктория","Костина Наталья",null,null,"Каргова Мария",null,"Лиснюк Дмитрий","Лесик Екатерина"]
[null,"Лойко Роман","Крисюк Ксения","Пыленок Максимильян","Ромашина Стелла","Кузина Алена","Логачева Анастасия","Маслова Виктория","Лупарев Алексей","Рекин Даниил","Мирошникова Полина","Леонов Анатолий","Дубинина Виктория","Капсамун Милана","Косякова Анастасия",null,null,"Копылова Алина",null,"Морозова Гюнель","Ляпин Иван"]
[null,"Маматкулов Санжабек","Кужель Юлия","Черных Игнат","Салимгореева Кристина","Кулиев Артур","Нечай Дмитрий","Михеев Павел","Масличенко Владислав","Смольников Максим","Мухина Елена","Малкина Алена","Евдокимова Алена","Кириков Дмитрий","Красненков Сергей",null,null,"Коробкин Дмитрий",null,"Нечаева Валерия","Матвеева Елена"]
[null,"Панфилова Надежда","Лазаренкова Ангелина",null,"Сатановский Максим","Макаров Георгий","Першин Никита","Мухина Елизавета","Монастыршина Вероника","Ступко Тимофей","Недренко Олег","Меркулов Дмитрий","Емельянов Алексей","Лаптев Денис","Кузнецов Данил",null,null,"Костина Виктория",null,"Папирная Анастасия","Мелихов Дмитрий"]
[null,"Плесовских Жанна","Ловейко Виктория",null,"Сергеева Ксения","Набиулина Лолита","Полозов Матвей","Пельменев Сергей","Набок Данила","Фоминых Арина","Новоклинова Полина","Олифер Владислав","Иванова Анастасия","Лаптев Дмитрий","Матвеева Елизавета",null,null,"Лемешев Николай",null,"Просекова Алина","Москаленко Вероника"]
[null,"Плохих Данил","Марценюк Ангелина",null,"Сердюк Алена","Позняк Анастасия","Репина Полина","Платонов Дмитрий","Новикова Софья","Яримей Анастасия","Павлова Ксения","Харьков Влад","Казакова Екатерина","Лебедева Дарья","Михеева Евгения",null,null,"Ложников Кирилл",null,"Сапалова Кристина","Овчарова Кристина"]
[null,"Син Дмитрий","Мордвинский Георгий",null,"Сердюк Алиса","Силиванов Илья","Сейдахмедова Зарина","Потьканова Екатерина","Полякова Полина","Бабаев Владислав","Потьканова Вероника","Холов Владислав","Кизима Ялан","Линник Екатерина","Никифоров Кирилл",null,null,"Майнетти Анастасия",null,"Серазетдинова Ольга","Попкова Татьяна"]
[null,"Соколова Юлия","Мордвинский Роман",null,"Солодкову Дарью","Стаскевич Анастасия","Сероватова Елизавета","Птухина Евгения","Пономарев Артем","Балашова Анастасия","Пугачев Данил","Хорикова Анастасия","Лопатюк Екатерина","Лялько Вера","Павлушев Герман",null,null,"Мостовая Вероника",null,"Скидин Владимир","Рябов Максим"]
[null,"Чубенко Кристина","Ожигов Даниил",null,"Сударева Анжелика","Сушков Евгений","Храпкова Анастасия","Семенкова Диана","Пяточков Михаил","Докукина Виктория","Рысина Дарья","Шапкова Диана","Набиулина Полина","Матвеенко Ульяна","Пироган Никита",null,null,"Петрова Анастасия",null,"Толмачев Юрий","Сидорова Наталья"]
[null,"Яковленко Анастасия","Русакова Кристина",null,"Таскина Валерия","Юрченко Дарина","Циаменко Анастасия","Тищенко Диана","Сизова Ксения","Киселев Евгений","Сафронова Анастасия","Шмелькова Екатерина","Носачёв Владимир","Наумов Андрей","Пяткова Екатерина",null,null,"Полстьянов Эдуард",null,"Худиева Авсана","Сластина Алена"]
[null,"Ягайлова Варвара","Саулина Ольга",null,"Тимофи Карина","Кухоренко Алина","Шевцова Виктория","Федоров Артем","Терещенко Николай","Косогор Всеволод","Семенов Сергей","Шокин Андрей","Овчарова Антонина","Новикова Виктория","Сидоренко Владислав",null,null,"Полякова Таисия",null,"Чапурин Виталий","Солодилов Александр"]
[null,"Сахно Илья","Смолянская Валерия",null,"Хайрулин Артур","Лунев Владислав","Шинкоренко Анастасия","Широкова Карина","Толкачева Виктория","Крючков Александр","Сергеев Владислав","Цветкова Светлана","Прушинская Виктория","Петина Кристина","Слугина Валерия",null,null,"Проскурина Алёна",null,"Энсс Анастасия","Белоусов Олег"]
[null,"Власов Александр","Спицын Илья",null,"Харченко Валерия",null,null,"Игнатенко Всеволод","Тропина Виталия","Михеев Иван","Сулягина Екатерина","Васильева Регина","Татьмянина Екатерина","Петрова Полина","Тянутова Анна",null,null,"Ризаева Валентина",null,"Шорохова Полина","Вершинина Алина"]
[null,"Селина Евгения","Цилина Диана",null,"Шишкин Никита",null,null,"Мазуренко Ярослав","Турченко Ирина","Осипов Арсений","Тараканов Евгений","Евлоева Анастасия","Ялова Виктория","Сердюк Полина","Футчик Дмитрий",null,null,"Соболевская Анна",null,"Мясникова ","Тарасикова Алина"]
[null,"Лунева Ксения","Чиркина Милена",null,"Яремей Виктория",null,null,null,"Черниченко Ангелина","Очкин Кирилл","Трошина Ангелина","Шеповалова Маргарита","Кропачева Алина","Серкин Егор","Храпова Алена",null,null,"Сотников Илья",null,null,"Самсонова Кристина"]
[null,null,null,null,"Заикин Андрей",null,null,null,"Гиллазиев Владислав","Прушинский Сергей","Чечина Ксения",null,"Малов Максим","Сухарев Владимир","Чернышев Максим",null,null,"Федорин Константин"]
[null,null,null,null,null,null,null,null,"Ищенко Вячеслав","Суржиков Михаил","Чигрина Валерия",null,null,"Усик Никита","Чесноков Павел",null,null,"Хлопова Светлана"]
[null,null,null,null,null,null,null,null,null,"Чернышова Валентина","Шкварова Виолета",null,null,"Федоров Максим","Шеховец Настя"]
[null,null,null,null,null,null,null,null,null,"Энсс Александр","Винокурова Юлия",null,null,"Хорошенькая Наталья","Шипицин Максим"]
[null,null,null,null,null,null,null,null,null,null,"Самар Кирилл",null,null,"Четвертных Наталья","Юрьев Сергей"]

{"sheet":"ШкалаТрудн","index":3,"n_rows":34,"n_cols":14,"rows_kept":34,"cut":false,"hidden":true,"merged":[[0,1,0,13],[1,1,1,13],[2,1,3,1],[2,2,3,2],[2,3,2,13]]}
["вбк",{"$f":"Титул!B4","v":"МОУ СОШ  № 15"}]
["вбк",{"$f":"Титул!B5","v":"2014/15 учебный год"}]
[null,"№ пп","Учебные предметы","П а р а л л е л ь   к л а с с о в:"]
[null,null,null,1,2,3,4,5,6,7,8,9,10,11]
[null,1,"Алгебра",null,null,null,null,null,null,10,9,7,10,10]
[null,{"$f":"B5+1","v":2},"Астрономия",null,null,null,null,null,null,null,null,null,4,4]
[null,{"$f":"B6+1","v":3},"Биология",null,null,null,null,10,8,7,7,7,7,7]
[null,4,"География",null,null,null,null,null,7,6,6,5,3,3]
[null,5,"Геометрия",null,null,null,null,null,null,12,10,8,11,11]
[null,6,"Граждановедение",null,null,null,null,6,9,9,5]
[null,7,"Естествознание",6,6,6,6,7,8]
[null,8,"ИЗО",3,3,3,3,3,3,1,3]
[null,9,"Иностранный язык",5,5,5,5,9,11,10,8,9,8,8]
[null,10,"Информатика",6,6,6,6,4,10,4,7,7,6,6]
[null,11,"История",4,4,4,4,5,8,6,8,10,5,5]
[null,12,"Краеведение",null,null,null,null,7,9,5,5,null,2,2]
[null,13,"Литература",5,5,5,5,4,6,4,4,7,8,8]
[null,14,"Математика",8,8,8,8,10,13]
[null,15,"Музыка",3,3,3,3,2,1,1,1]
[null,16,"МХК",null,null,null,null,null,null,8,5,5,5,5]
[null,17,"ОБЖ",null,null,null,null,1,2,3,3,3,2,2]
[null,18,"Обществознание",null,null,null,null,null,null,null,null,null,5,5]
[null,19,"Право"]
[null,20,"Риторика"]
[null,21,"Русский язык",7,7,7,7,8,12,11,7,6,9,9]
[null,22,"Технология",2,2,2,2,4,3,2,1,4]
[null,23,"ФЗК",1,1,1,1,3,4,2,2,2,1,1]
[null,24,"Физика",null,null,null,null,null,null,8,9,13,12,12]
[null,25,"Химия",null,null,null,null,null,null,13,10,12,11,11]
[null,26,"Хореография",null,null,null,null,4,4]
[null,27,"Черчение",null,null,null,null,null,null,null,5,4]
[null,28,"Экология",null,null,null,null,3,3,3,6,1,3,3]
[null,29,"Экономика",null,null,null,null,null,null,null,null,11,6,6]
[null,30,"Природоведение",null,null,null,null,7]

{"sheet":"Нагрузка","index":4,"n_rows":24,"n_cols":27,"rows_kept":24,"cut":false,"hidden":true,"merged":[[1,1,1,2],[0,1,0,11],[0,12,0,13],[1,3,1,13]]}
[null,{"$f":"TRIM(Титул!B3)","v":"Муниципальное общеобразовательное учреждение: средняя общеобразовательная школа № 15 Городского округа \" Города Комсомольск-на-Амуре \""},null,null,null,null,null,null,null,null,null,null,{"$f":"Титул!B5","v":"2014/15 учебный год"}]
[null,null,null,"Р а с п р е д е л е н и е     у ч е б н о й     н а г р у з к и     у ч и т е л е й      п о    к л а с с а м:"]
[null,"Учебные предметы","Русский язык","Литература","Иностранный язык","Математика","Алгебра","Геометрия","Информатика","История","Обществознание","Окружающий мир","ИЗО","Музыка","Технология","Технология","ФЗК","Иностранный язык","Иностранный язык","География","Физика","Химия","Биология","МХК","ФЗК","ОБЖ","Природоведение"]
[null,"Коэф.трудности"]
[null,{"$f":"Титул!B9","v":"2 А"},"Ловейко","Ловейко",null,"Ловейко",null,null,null,null,null,"Ловейко ","Ловейко ","Заворина","Ловейко Е. С.","Ловейко Е. С.","Ермакова"]
[null,{"$f":"Титул!B10","v":"2 Б"},"Калиниченко","Калиниченко",null,"Калиниченко ",null,null,null,null,null,"Калиниченко","Калиниченко ","Заворина","Калиниченко ","Калиниченко","Ермакова"]
[null,{"$f":"Титул!B11","v":"2 В"},"Цилина","Цилина",null,"Цилина",null,null,null,null,null,"Цилина","Цилина","Заворина","Цилина","Цилина","Ермакова"]
[null,{"$f":"Титул!B12","v":"3 А"},"Литвиненко","Литвиненко",null,"Литвиненко",null,null,null,null,null,"Литвиненко","Литвиненко","Заворина","Литвиненко","Литвиненко","Ермакова","Калугина","Каплан"]
[null,{"$f":"Титул!B13","v":"4 А"},"Сологуб","Сологуб",null,"Сологуб",null,null,null,null,null,"Сологуб","Сологуб","Заворина","Сологуб","Сологуб","Ермакова","Калугина","Каплан"]
[null,{"$f":"Титул!B14","v":"4 Б"},"Варюшина","Варюшина",null,"Варюшина",null,null,null,null,null,"Варюшина","Варюшина","Заворина","Варюшина","Варюшина","Ермакова","Калугина","Пудренко"]
[null,{"$f":"Титул!B15","v":"4 В"},"Ржанова","Ржанова",null,"Ржанова",null,null,null,null,null,"Ржанова","Ржанова","Заворина","Ржанова","Ржанова","Ермакова","Калугина","Гулевич"]
[null,{"$f":"Титул!B16","v":"5 А"},"Адова","Адова",null,"Адова",null,null,null,null,null,"Адова","Адова","Заворина","Адова","Адова","Ермакова","Пудренко","Калугина"]
[null,{"$f":"Титул!B17","v":"5 Б"},"Есипова","Есипова","Калугина","Есипова",null,null,null,null,null,"Есипова","Есипова","Заворина","Есипова","Есипова","Ермакова","Калугина"]
[null,{"$f":"Титул!B18","v":"6 А"},"Дышлевич","Дышлевич",null,"Кочарова",null,null,null,"Быкова",null,null,"Терюшкова","Заворина","Девицын","Потьканова","Перфильев","Каплан","Гулевич",null,null,null,null,null,null,null,"Сидоренко"]
[null,{"$f":"Титул!B19","v":"6 Б"},"Шипилова","Шипилова",null,"Заплава",null,null,null,"Быкова",null,null,"Терюшкова","Заворина","Девицын","Баранчук","Перфильев","Пудренко","Калугина",null,null,null,null,null,null,null,"Сидоренко"]
[null,{"$f":"Титул!B20","v":"7 А"},"Шипилова","Шипилова",null,"Заплава",null,null,null,"Астраханцева","Астраханцева",null,"Терюшкова","Заворина","Девицын","Баранчук","Перфильев","Каплан ","Гулевич","Деревягина",null,null,"Сидоренко"]
[null,{"$f":"Титул!B21","v":"7 Б"},"Дышлевич","Дышлевич",null,"Заплава",null,null,null,"Астраханцева","Астраханцева",null,"Терюшкова","Заворина","Девицын","Потьканова","Перфильев","Пудренко","Калугина","Деревягина",null,null,"Сидоренко"]
[null,{"$f":"Титул!B22","v":"8 А"},"Годова","Годова",null,"Желтова",null,null,null,"Быкова","Быкова",null,"Терюшкова","Заворина","Девицын","Потьканова","Перфильев","Пудренко","Каплан","Сидоренко","Горнышкова",null,"Сидоренко"]
[null,{"$f":"Титул!B23","v":"8 Б"},"Шаврина","Шаврина","Гулевич","Заплава",null,null,"Головырина","Астраханцева","Астраханцева",null,"Терюшкова","Заворина","Девицын","Потьканова","Перфильев",null,null,"Сидоренко","Горнышкова",null,"Сидоренко"]
[null,{"$f":"Титул!B24","v":"8 В"},"Маслова","Зайцева","Гулевич","Желтова",null,null,"Головырина","Астраханцева","Астраханцева",null,"Терюшкова","Заворина","Девицын","Потьканова","Перфильев",null,null,"Сидоренко","Горнышкова",null,"Деревягина"]
[null,{"$f":"Титул!B25","v":"9 А"},"Дышлевич","Дышлевич",null,null,"Кочарова","Кочарова","Горнышкова","Быкова","Быкова",null,"Терюшкова","Заворина","Девицын","Потьканова","Финаева","Каплан","Сахарюк","Сидоренко","Головырина","Чжан","Сидоренко",null,null,"Терюшкова"]
[null,{"$f":"Титул!B26","v":"9 Б"},"Шипилова","Шипилова","Гулевич",null,"Заплава","Заплава","Головырина","Астроханцева","Астроханцева",null,"Терюшкова","Заворина","Девицын","Потьканова","Финаева",null,null,"Сидоренко","Головырина","Деревягина","Сидоренко",null,null,"Терюшкова"]
[null,{"$f":"Титул!B27","v":"9 В"},"Годова","Годова",null,null,"Желтова","Желтова","Горнышкова","Астроханцева","Астроханцева",null,"Терюшкова","Заворина","Девицын","Потьканова","Финаева","Каплан ","Гулевич","Сидоренко","Головырина","Чжан","Сидоренко",null,null,"Терюшкова"]
[null,{"$f":"Титул!B28","v":"11 А"},"Дышлевич","Дышлевич",null,"Кочарова",null,null,"Головырина","Быкова","Быкова",null,null,null,"Девицын","Потьканова","Финаева","Каплан","Сахарюк","Деревягина","Горнышкова","чжан","Сидоренко","Черкасова","Перфильев","Терюшкова"]

{"sheet":"2 А","index":5,"n_rows":130,"n_cols":35,"rows_kept":130,"cut":false,"hidden":true,"merged":[[41,31,41,34],[40,31,40,34],[46,31,46,34],[45,31,45,34],[44,31,44,34],[43,31,43,34],[42,31,42,34],[2,0,2,3],[2,4,2,17],[35,0,35,1],[2,18,2,22],[36,31,36,34],[35,31,35,34],[47,0,47,26],[47,28,47,33],[39,31,39,34],[36,0,46,0],[0,3,0,25],[0,0,0,2],[38,31,38,34],[3,31,3,34],[2,23,2,34],[0,26,0,32],[3,2,3,30],[3,0,4,1],[37,31,37,34],[1,29,1,31],[1,25,1,28],[1,0,1,24]]}
[{"$f":"Титул!B5","v":"2014/15 учебный год"},null,null,{"$f":"Титул!B4","v":"МОУ СОШ  № 15"},null,null,null,null,null,null,null,null,null,null,null,null,null,null,null,null,null,null,null,null,null,null,{"$f":"Титул!B6","v":"4 четверть"},null,null,null,null,null,null,null,"3+"]
["ВЕДОМОСТЬ  РЕЗУЛЬТАТОВ  УЧЕБНОЙ  ДЕЯТЕЛЬНОСТИ",null,null,null,null,null,null,null,null,null,null,null,null,null,null,null,null,null,null,null,null,null,null,null,null,{"$f":"Титул!B9","v":"2 А"},null,null,null,"класса"]
["Классный руководитель:",null,null,null,{"$f":"Титул!D9","v":"Ловейко Е.С."},null,null,null,null,null,null,null,null,null,null,null,null,null,"Программа:",null,null,null,null,{"$f":"Титул!G9","v":"УМК \"Школа России\""}]
["Вручную вносятся только оценки \"5\", \"4\", \"3\", \"2\", \"1\". \nНе аттестованным проставляется \"0\", освобожденным - \"Н\".  ",null,"У  ч  е  б  н  ы  е      п  р  е  д  м  е  т  ы",null,null,null,null,null,null,null,null,null,null,null,null,null,null,null,null,null,null,null,null,null,null,null,null,null,null,null,null,"Результаты ученика:"]
[null,null,{"$f":"Нагрузка!C3","v":"Русский язык"},{"$f":"Нагрузка!D3","v":"Литература"},{"$f":"Нагрузка!E3","v":"Иностранный язык"},{"$f":"Нагрузка!F3","v":"Математика"},{"$f":"Нагрузка!G3","v":"Алгебра"},{"$f":"Нагрузка!H3","v":"Геометрия"},{"$f":"Нагрузка!I3","v":"Информатика"},{"$f":"Нагрузка!J3","v":"История"},{"$f":"Нагрузка!K3","v":"Обществознание"},{"$f":"Нагрузка!L3","v":"Окружающий мир"},{"$f":"Нагрузка!M3","v":"ИЗО"},{"$f":"Нагрузка!N3","v":"Музыка"},{"$f":"Нагрузка!O3","v":"Технология"},{"$f":"Нагрузка!P3","v":"Технология"},{"$f":"Нагрузка!Q3","v":"ФЗК"},{"$f":"Нагрузка!R3","v":"Иностранный язык"},{"$f":"Нагрузка!S3","v":"Иностранный язык"},{"$f":"Нагрузка!T3","v":"География"},{"$f":"Нагрузка!U3","v":"Физика"},{"$f":"Нагрузка!V3","v":"Химия"},{"$f":"Нагрузка!W3","v":"Биология"},{"$f":"Нагрузка!X3","v":"МХК"},{"$f":"Нагрузка!Y3","v":"ФЗК"},{"$f":"Нагрузка!Z3","v":"ОБЖ"},{"$f":"Нагрузка!AA3","v":"Природоведение"},{"$f":"Нагрузка!AB3","v":0},{"$f":"Нагрузка!AC3","v":0},{"$f":"Нагрузка!AD3","v":0},{"$f":"Нагрузка!AE3","v":0},"Средний балл:","Степень обученности (СОУ):","Качество успеваемости:","Рейтинговый учебный балл:"]
[1,{"$f":"СпискиКлассы!B4","v":"Богданова Алина"},null,null,null,null,null,null,null,null,null,null,null,null,null,null,null,null,null,null,null,null,null,null,null,null,null,null,null,null,null,{"$f":"AVERAGE(C6:AE6)","v":{"$error":"#DIV/0!"}},{"$f":"(COUNTIF(C6:AE6,\"5\")+COUNTIF(C6:AE6,\"4\")*0.64+COUNTIF(C6:AE6,\"3\")*0.36+COUNTIF(C6:AE6,\"2\")*0.16)/(COUNTIF(C6:AE6,\"5\")+COUNTIF(C6:AE6,\"4\")+COUNTIF(C6:AE6,\"3\")+COUNTIF(C6:AE6,\"2\")+COUNTIF(C6:AE6,\"0\"))","v":{"$error":"#DIV/0!"}},{"$f":"((5*COUNTIF(C6:AE6,\"5\"))+(4*COUNTIF(C6:AE6,\"4\")))/(5*(COUNTA(C6:AE6)-COUNTIF(C6:AE6,\"н\")))","v":{"$error":"#DIV/0!"}},{"$f":"SUMIF(C91:AE91,\">0\",C91:AE91)/(COUNTIF(C6:AE6,\">0\")+COUNTIF(C6:AE6,\"=0\")+COUNTIF(C6:AE6,\"Н\"))","v":{"$error":"#DIV/0!"}}]
[{"$f":"A6+1","v":2},{"$f":"СпискиКлассы!B5","v":"Ботников Артем"},null,null,null,null,null,null,null,null,null,null,null,null,null,null,null,null,null,null,null,null,null,null,null,null,null,null,null,null,null,{"$f":"AVERAGE(C7:AE7)","v":{"$error":"#DIV/0!"}},{"$f":"(COUNTIF(C7:AE7,\"5\")+COUNTIF(C7:AE7,\"4\")*0.64+COUNTIF(C7:AE7,\"3\")*0.36+COUNTIF(C7:AE7,\"2\")*0.16)/(COUNTIF(C7:AE7,\"5\")+COUNTIF(C7:AE7,\"4\")+COUNTIF(C7:AE7,\"3\")+COUNTIF(C7:AE7,\"2\")+COUNTIF(C7:AE7,\"0\"))","v":{"$error":"#DIV/0!"}},{"$f":"((5*COUNTIF(C7:AE7,\"5\"))+(4*COUNTIF(C7:AE7,\"4\")))/(5*(COUNTA(C7:AE7)-COUNTIF(C7:AE7,\"н\")))","v":{"$error":"#DIV/0!"}},{"$error":"#DIV/0!"}]
[3,{"$f":"СпискиКлассы!B6","v":"Ващук Михаил"},null,null,null,null,null,null,null,null,null,null,null,null,null,null,null,null,null,null,null,null,null,null,null,null,null,null,null,null,null,{"$f":"AVERAGE(C8:AE8)","v":{"$error":"#DIV/0!"}},{"$error":"#DIV/0!"},{"$error":"#DIV/0!"},{"$error":"#DIV/0!"}]
[4,{"$f":"СпискиКлассы!B7","v":"Голостенова Елизавета"},null,null,null,null,null,null,null,null,null,null,null,null,null,null,null,null,null,null,null,null,null,null,null,null,null,null,null,null,null,{"$error":"#DIV/0!"},{"$error":"#DIV/0!"},{"$error":"#DIV/0!"},{"$error":"#DIV/0!"}]
[5,{"$f":"СпискиКлассы!B8","v":"Давыдова Вероника"},null,null,null,null,null,null,null,null,null,null,null,null,null,null,null,null,null,null,null,null,null,null,null,null,null,null,null,null,null,{"$error":"#DIV/0!"},{"$error":"#DIV/0!"},{"$error":"#DIV/0!"},{"$error":"#DIV/0!"}]
[6,{"$f":"СпискиКлассы!B9","v":"Евсеева Арина"},null,null,null,null,null,null,null,null,null,null,null,null,null,null,null,null,null,null,null,null,null,null,null,null,null,null,null,null,null,{"$error":"#DIV/0!"},{"$error":"#DIV/0!"},{"$error":"#DIV/0!"},{"$error":"#DIV/0!"}]
[7,{"$f":"СпискиКлассы!B10","v":"Зайцева Наталья"},null,null,null,null,null,null,null,null,null,null,null,null,null,null,null,null,null,null,null,null,null,null,null,null,null,null,null,null,null,{"$error":"#DIV/0!"},{"$error":"#DIV/0!"},{"$error":"#DIV/0!"},{"$error":"#DIV/0!"}]
[8,{"$f":"СпискиКлассы!B11","v":"Котелевкий Илья"},null,null,null,null,null,null,null,null,null,null,null,null,null,null,null,null,null,null,null,null,null,null,null,null,null,null,null,null,null,{"$error":"#DIV/0!"},{"$error":"#DIV/0!"},{"$error":"#DIV/0!"},{"$error":"#DIV/0!"}]
[9,{"$f":"СпискиКлассы!B12","v":"Лаврентьев Руслан"},null,null,null,null,null,null,null,null,null,null,null,null,null,null,null,null,null,null,null,null,null,null,null,null,null,null,null,null,null,{"$error":"#DIV/0!"},{"$error":"#DIV/0!"},{"$error":"#DIV/0!"},{"$error":"#DIV/0!"}]
[10,{"$f":"СпискиКлассы!B13","v":"Лепехина Полина"},null,null,null,null,null,null,null,null,null,null,null,null,null,null,null,null,null,null,null,null,null,null,null,null,null,null,null,null,null,{"$error":"#DIV/0!"},{"$error":"#DIV/0!"},{"$error":"#DIV/0!"},{"$error":"#DIV/0!"}]
[11,{"$f":"СпискиКлассы!B14","v":"Логашева Кристина"},null,null,null,null,null,null,null,null,null,null,null,null,null,null,null,null,null,null,null,null,null,null,null,null,null,null,null,null,null,{"$error":"#DIV/0!"},{"$error":"#DIV/0!"},{"$error":"#DIV/0!"},{"$error":"#DIV/0!"}]
[12,{"$f":"СпискиКлассы!B15","v":"Лойко Роман"},null,null,null,null,null,null,null,null,null,null,null,null,null,null,null,null,null,null,null,null,null,null,null,null,null,null,null,null,null,{"$f":"AVERAGE(C17:AE17)","v":{"$error":"#DIV/0!"}},{"$error":"#DIV/0!"},{"$error":"#DIV/0!"},{"$error":"#DIV/0!"}]
[13,{"$f":"СпискиКлассы!B16","v":"Маматкулов Санжабек"},null,null,null,null,null,null,null,null,null,null,null,null,null,null,null,null,null,null,null,null,null,null,null,null,null,null,null,null,null,{"$error":"#DIV/0!"},{"$error":"#DIV/0!"},{"$error":"#DIV/0!"},{"$error":"#DIV/0!"}]
[14,{"$f":"СпискиКлассы!B17","v":"Панфилова Надежда"},null,null,null,null,null,null,null,null,null,null,null,null,null,null,null,null,null,null,null,null,null,null,null,null,null,null,null,null,null,{"$error":"#DIV/0!"},{"$error":"#DIV/0!"},{"$error":"#DIV/0!"},{"$error":"#DIV/0!"}]
[15,{"$f":"СпискиКлассы!B18","v":"Плесовских Жанна"},null,null,null,null,null,null,null,null,null,null,null,null,null,null,null,null,null,null,null,null,null,null,null,null,null,null,null,null,null,{"$error":"#DIV/0!"},{"$error":"#DIV/0!"},{"$error":"#DIV/0!"},{"$error":"#DIV/0!"}]
[16,{"$f":"СпискиКлассы!B19","v":"Плохих Данил"},null,null,null,null,null,null,null,null,null,null,null,null,null,null,null,null,null,null,null,null,null,null,null,null,null,null,null,null,null,{"$error":"#DIV/0!"},{"$error":"#DIV/0!"},{"$error":"#DIV/0!"},{"$error":"#DIV/0!"}]
[17,{"$f":"СпискиКлассы!B20","v":"Син Дмитрий"},null,null,null,null,null,null,null,null,null,null,null,null,null,null,null,null,null,null,null,null,null,null,null,null,null,null,null,null,null,{"$error":"#DIV/0!"},{"$error":"#DIV/0!"},{"$error":"#DIV/0!"},{"$error":"#DIV/0!"}]
[18,{"$f":"СпискиКлассы!B21","v":"Соколова Юлия"},null,null,null,null,null,null,null,null,null,null,null,null,null,null,null,null,null,null,null,null,null,null,null,null,null,null,null,null,null,{"$error":"#DIV/0!"},{"$error":"#DIV/0!"},{"$error":"#DIV/0!"},{"$error":"#DIV/0!"}]
[19,{"$f":"СпискиКлассы!B22","v":"Чубенко Кристина"},null,null,null,null,null,null,null,null,null,null,null,null,null,null,null,null,null,null,null,null,null,null,null,null,null,null,null,null,null,{"$error":"#DIV/0!"},{"$error":"#DIV/0!"},{"$error":"#DIV/0!"},{"$error":"#DIV/0!"}]
[20,{"$f":"СпискиКлассы!B23","v":"Яковленко Анастасия"},null,null,null,null,null,null,null,null,null,null,null,null,null,null,null,null,null,null,null,null,null,null,null,null,null,null,null,null,null,{"$error":"#DIV/0!"},{"$error":"#DIV/0!"},{"$error":"#DIV/0!"},{"$error":"#DIV/0!"}]
[21,{"$f":"СпискиКлассы!B24","v":"Ягайлова Варвара"},null,null,null,null,null,null,null,null,null,null,null,null,null,null,null,null,null,null,null,null,null,null,null,null,null,null,null,null,null,{"$error":"#DIV/0!"},{"$error":"#DIV/0!"},{"$error":"#DIV/0!"},{"$error":"#DIV/0!"}]
[22,{"$f":"СпискиКлассы!B25","v":"Сахно Илья"},null,null,null,null,null,null,null,null,null,null,null,null,null,null,null,null,null,null,null,null,null,null,null,null,null,null,null,null,null,{"$error":"#DIV/0!"},{"$error":"#DIV/0!"},{"$error":"#DIV/0!"},{"$error":"#DIV/0!"}]
[23,{"$f":"СпискиКлассы!B26","v":"Власов Александр"},null,null,null,null,null,null,null,null,null,null,null,null,null,null,null,null,null,null,null,null,null,null,null,null,null,null,null,null,null,{"$error":"#DIV/0!"},{"$error":"#DIV/0!"},{"$error":"#DIV/0!"},{"$error":"#DIV/0!"}]
[24,{"$f":"СпискиКлассы!B27","v":"Селина Евгения"},null,null,null,null,null,null,null,null,null,null,null,null,null,null,null,null,null,null,null,null,null,null,null,null,null,null,null,null,null,{"$error":"#DIV/0!"},{"$error":"#DIV/0!"},{"$error":"#DIV/0!"},{"$error":"#DIV/0!"}]
[25,{"$f":"СпискиКлассы!B28","v":"Лунева Ксения"},null,null,null,null,null,null,null,null,null,null,null,null,null,null,null,null,null,null,null,null,null,null,null,null,null,null,null,null,null,{"$error":"#DIV/0!"},{"$error":"#DIV/0!"},{"$error":"#DIV/0!"},{"$error":"#DIV/0!"}]
[26,{"$f":"СпискиКлассы!B29","v":0},null,null,null,null,null,null,null,null,null,null,null,null,null,null,null,null,null,null,null,null,null,null,null,null,null,null,null,null,null,{"$f":"AVERAGE(C31:AE31)","v":{"$error":"#DIV/0!"}},{"$f":"(COUNTIF(C31:AE31,\"5\")+COUNTIF(C31:AE31,\"4\")*0.64+COUNTIF(C31:AE31,\"3\")*0.36+COUNTIF(C31:AE31,\"2\")*0.16)/(COUNTIF(C31:AE31,\"5\")+COUNTIF(C31:AE31,\"4\")+COUNTIF(C31:AE31,\"3\")+COUNTIF(C31:AE31,\"2\")+COUNTIF(C31:AE31,\"0\"))","v":{"$error":"#DIV/0!"}},{"$error":"#DIV/0!"},{"$error":"#DIV/0!"}]
[27,{"$f":"СпискиКлассы!B30","v":0},null,null,null,null,null,null,null,null,null,null,null,null,null,null,null,null,null,null,null,null,null,null,null,null,null,null,null,null,null,{"$error":"#DIV/0!"},{"$error":"#DIV/0!"},{"$error":"#DIV/0!"},{"$error":"#DIV/0!"}]
[28,{"$f":"СпискиКлассы!B31","v":0},null,null,null,null,null,null,null,null,null,null,null,null,null,null,null,null,null,null,null,null,null,null,null,null,null,null,null,null,null,{"$error":"#DIV/0!"},{"$error":"#DIV/0!"},{"$error":"#DIV/0!"},{"$error":"#DIV/0!"}]
[29,{"$f":"СпискиКлассы!B32","v":0},null,null,null,null,null,null,null,null,null,null,null,null,null,null,null,null,null,null,null,null,null,null,null,null,null,null,null,null,null,{"$error":"#DIV/0!"},{"$error":"#DIV/0!"},{"$error":"#DIV/0!"},{"$error":"#DIV/0!"}]
[30,{"$f":"СпискиКлассы!B43","v":0},null,null,null,null,null,null,null,null,null,null,null,null,null,null,null,null,null,null,null,null,null,null,null,null,null,null,null,null,null,{"$error":"#DIV/0!"},{"$error":"#DIV/0!"},{"$error":"#DIV/0!"},{"$f":"SUMIF(C130:AE130,\">0\",C130:AE130)/(COUNTIF(C35:AE35,\">0\")+COUNTIF(C35:AE35,\"=0\")+COUNTIF(C35:AE35,\"Н\"))","v":{"$error":"#DIV/0!"}}]
[" Фамилия и инициалы                                           учителя - предметника",null,{"$f":"Нагрузка!C5","v":"Ловейко"},{"$f":"Нагрузка!D5","v":"Ловейко"},{"$f":"Нагрузка!E5","v":0},{"$f":"Нагрузка!F5","v":"Ловейко"},{"$f":"Нагрузка!G5","v":0},{"$f":"Нагрузка!H5","v":0},{"$f":"Нагрузка!I5","v":0},{"$f":"Нагрузка!J5","v":0},{"$f":"Нагрузка!K5","v":0},{"$f":"Нагрузка!L5","v":"Ловейко "},{"$f":"Нагрузка!M5","v":"Ловейко "},{"$f":"Нагрузка!N5","v":"Заворина"},{"$f":"Нагрузка!O5","v":"Ловейко Е. С."},{"$f":"Нагрузка!P5","v":"Ловейко Е. С."},{"$f":"Нагрузка!Q5","v":"Ермакова"},{"$f":"Нагрузка!R5","v":0},{"$f":"Нагрузка!S5","v":0},{"$f":"Нагрузка!T5","v":0},{"$f":"Нагрузка!U5","v":0},{"$f":"Нагрузка!V5","v":0},{"$f":"Нагрузка!W5","v":0},{"$f":"Нагрузка!X5","v":0},{"$f":"Нагрузка!Y5","v":0},{"$f":"Нагрузка!Z5","v":0},{"$f":"Нагрузка!AA5","v":0},{"$f":"Нагрузка!AB5","v":0},{"$f":"Нагрузка!AC5","v":0},{"$f":"Нагрузка!AD5","v":0},{"$f":"Нагрузка!AE5","v":0},"Показатели результатов учебной деятельности в  целом по классу:"]
["Результаты учебной деятельности класса","Количество  \"5\":",{"$f":"COUNTIF(C6:C35,5)","v":0},0,0,0,0,0,0,0,0,0,0,0,0,0,0,0,0,0,0,0,0,0,0,0,0,0,0,0,0,{"$f":"SUM(C37:AE37)","v":0}]
[null,"Количество  \"4\":",{"$f":"COUNTIF(C6:C35,4)","v":0},0,0,0,0,0,0,0,0,0,0,0,0,0,0,0,0,0,0,0,0,0,0,0,0,0,0,0,0,0]
[null,"Количество  \"3\":",{"$f":"COUNTIF(C6:C35,3)","v":0},0,0,0,0,0,0,0,0,0,0,0,0,0,0,0,0,0,0,0,0,0,0,0,0,0,0,0,0,0]
[null,"Количество  \"2\":",{"$f":"COUNTIF(C6:C35,2)","v":0},0,0,0,0,0,0,0,0,0,0,0,0,0,0,0,0,0,0,0,0,0,0,0,0,0,0,0,0,0]
[null,"Не аттестовано:",{"$f":"COUNTIF(C6:C35,0)","v":0},0,0,0,0,0,0,0,0,0,0,0,0,0,0,0,0,0,0,0,0,0,0,0,0,0,0,0,0,0]
[null,"Освобождено:",{"$f":"COUNTIF(C6:C35,\"н\")","v":0},0,0,0,0,0,0,0,0,0,0,0,0,0,0,0,0,0,0,0,0,0,0,0,0,0,0,0,0,0]
[null,"Успеваемость:",{"$f":"(C37+C38+C39)/(C37+C38+C39+C40+C41)","v":{"$error":"#DIV/0!"}},{"$f":"(D37+D38+D39)/(D37+D38+D39+D40+D41)","v":{"$error":"#DIV/0!"}},{"$error":"#DIV/0!"},{"$error":"#DIV/0!"},{"$error":"#DIV/0!"},{"$error":"#DIV/0!"},{"$error":"#DIV/0!"},{"$error":"#DIV/0!"},{"$error":"#DIV/0!"},{"$error":"#DIV/0!"},{"$error":"#DIV/0!"},{"$error":"#DIV/0!"},{"$error":"#DIV/0!"},{"$error":"#DIV/0!"},{"$error":"#DIV/0!"},{"$error":"#DIV/0!"},{"$error":"#DIV/0!"},{"$error":"#DIV/0!"},{"$error":"#DIV/0!"},{"$error":"#DIV/0!"},{"$error":"#DIV/0!"},{"$error":"#DIV/0!"},{"$error":"#DIV/0!"},{"$error":"#DIV/0!"},{"$error":"#DIV/0!"},{"$error":"#DIV/0!"},{"$error":"#DIV/0!"},{"$error":"#DIV/0!"},{"$error":"#DIV/0!"},{"$f":"('2 А(2)'!D2-'2 А(2)'!C43-'2 А(2)'!C53)/'2 А(2)'!D2","v":1}]
[null,"Качество знаний:",{"$f":"(C37+C38)/(C37+C38+C39+C40+C41)","v":{"$error":"#DIV/0!"}},{"$f":"(D37+D38)/(D37+D38+D39+D40+D41)","v":{"$error":"#DIV/0!"}},{"$error":"#DIV/0!"},{"$error":"#DIV/0!"},{"$error":"#DIV/0!"},{"$error":"#DIV/0!"},{"$error":"#DIV/0!"},{"$error":"#DIV/0!"},{"$error":"#DIV/0!"},{"$error":"#DIV/0!"},{"$error":"#DIV/0!"},{"$error":"#DIV/0!"},{"$error":"#DIV/0!"},{"$error":"#DIV/0!"},{"$error":"#DIV/0!"},{"$error":"#DIV/0!"},{"$error":"#DIV/0!"},{"$error":"#DIV/0!"},{"$error":"#DIV/0!"},{"$error":"#DIV/0!"},{"$error":"#DIV/0!"},{"$error":"#DIV/0!"},{"$error":"#DIV/0!"},{"$error":"#DIV/0!"},{"$error":"#DIV/0!"},{"$error":"#DIV/0!"},{"$error":"#DIV/0!"},{"$error":"#DIV/0!"},{"$error":"#DIV/0!"},{"$f":"('2 А(2)'!C3+'2 А(2)'!C18)/'2 А(2)'!D2","v":0}]
[null,"Степень обученности:",{"$f":"(C37+C38*0.64+C39*0.36+C40*0.16)/(C37+C38+C39+C40+C41)","v":{"$error":"#DIV/0!"}},{"$f":"(D37+D38*0.64+D39*0.36+D40*0.16)/(D37+D38+D39+D40+D41)","v":{"$error":"#DIV/0!"}},{"$error":"#DIV/0!"},{"$error":"#DIV/0!"},{"$error":"#DIV/0!"},{"$error":"#DIV/0!"},{"$error":"#DIV/0!"},{"$error":"#DIV/0!"},{"$error":"#DIV/0!"},{"$error":"#DIV/0!"},{"$error":"#DIV/0!"},{"$error":"#DIV/0!"},{"$error":"#DIV/0!"},{"$error":"#DIV/0!"},{"$error":"#DIV/0!"},{"$error":"#DIV/0!"},{"$error":"#DIV/0!"},{"$error":"#DIV/0!"},{"$error":"#DIV/0!"},{"$error":"#DIV/0!"},{"$error":"#DIV/0!"},{"$error":"#DIV/0!"},{"$error":"#DIV/0!"},{"$error":"#DIV/0!"},{"$error":"#DIV/0!"},{"$error":"#DIV/0!"},{"$error":"#DIV/0!"},{"$error":"#DIV/0!"},{"$error":"#DIV/0!"},{"$f":"(AF37+AF38*0.64+AF39*0.36+AF40*0.16)/(AF37+AF38+AF39+AF40+AF41)","v":{"$error":"#DIV/0!"}}]
[null,"Средний балл:              ",{"$f":"(C37*5+C38*4+C39*3+C40*2)/(C37+C38+C39+C40+C41)","v":{"$error":"#DIV/0!"}},{"$f":"(D37*5+D38*4+D39*3+D40*2)/(D37+D38+D39+D40+D41)","v":{"$error":"#DIV/0!"}},{"$error":"#DIV/0!"},{"$error":"#DIV/0!"},{"$error":"#DIV/0!"},{"$error":"#DIV/0!"},{"$error":"#DIV/0!"},{"$error":"#DIV/0!"},{"$error":"#DIV/0!"},{"$error":"#DIV/0!"},{"$error":"#DIV/0!"},{"$error":"#DIV/0!"},{"$error":"#DIV/0!"},{"$error":"#DIV/0!"},{"$error":"#DIV/0!"},{"$error":"#DIV/0!"},{"$error":"#DIV/0!"},{"$error":"#DIV/0!"},{"$error":"#DIV/0!"},{"$error":"#DIV/0!"},{"$error":"#DIV/0!"},{"$error":"#DIV/0!"},{"$error":"#DIV/0!"},{"$error":"#DIV/0!"},{"$error":"#DIV/0!"},{"$error":"#DIV/0!"},{"$error":"#DIV/0!"},{"$error":"#DIV/0!"},{"$error":"#DIV/0!"},{"$f":"(AF37*5+AF38*4+AF39*3+AF40*2)/(AF37+AF38+AF39+AF40+AF41)","v":{"$error":"#DIV/0!"}}]
[null,"Качество успеваемости:",{"$f":"(5*C37+4*C38)*0.2/(SUM(C37+C38+C39+C40+C41))","v":{"$error":"#DIV/0!"}},{"$f":"(5*COUNTIF(D6:D35,5)+4*COUNTIF(D6:D35,4))*0.2/(COUNTA(D6:D35)-COUNTIF(D6:D35,\"н\"))","v":{"$error":"#DIV/0!"}},{"$error":"#DIV/0!"},{"$error":"#DIV/0!"},{"$error":"#DIV/0!"},{"$error":"#DIV/0!"},{"$error":"#DIV/0!"},{"$error":"#DIV/0!"},{"$error":"#DIV/0!"},{"$error":"#DIV/0!"},{"$error":"#DIV/0!"},{"$error":"#DIV/0!"},{"$error":"#DIV/0!"},{"$error":"#DIV/0!"},{"$error":"#DIV/0!"},{"$error":"#DIV/0!"},{"$error":"#DIV/0!"},{"$error":"#DIV/0!"},{"$error":"#DIV/0!"},{"$error":"#DIV/0!"},{"$error":"#DIV/0!"},{"$error":"#DIV/0!"},{"$error":"#DIV/0!"},{"$error":"#DIV/0!"},{"$error":"#DIV/0!"},{"$error":"#DIV/0!"},{"$error":"#DIV/0!"},{"$error":"#DIV/0!"},{"$error":"#DIV/0!"},{"$f":"(5*COUNTIF(C6:AE35,5)+4*COUNTIF(C6:AE35,4))*0.2/(COUNTA(C6:AE35)-COUNTIF(C6:AE35,\"н\"))","v":{"$error":"#DIV/0!"}}]
["Выполнено с помощью программы статистического анализа результатов учебной деятельности",null,null,null,null,null,null,null,null,null,null,null,null,null,null,null,null,null,null,null,null,null,null,null,null,null,null,null,{"$f":"Титул!G31","v":"PSORUD-Klass.v.04.11.demo"},null,null,null,null,null,"3+"]
[]
[]
[]
[]
[]
[]
[]
[]
[]
[]
[]
[]
[]
[]
[]
[]
[]
[]
[]
[]
[]
[]
[]
[]
[]
[]
[]
[]
[]
[]
[]
[]
[]
[]
[]
[]
[]
[]
[]
[]
[]
[null,"Коэф.трудн.предмета",{"$f":"VLOOKUP(C$5,ШкалаТрудн!$C$5:$N$34,LEFT($Z$2,2)+1,0)","v":7},{"$f":"VLOOKUP(D$5,ШкалаТрудн!$C$5:$N$34,LEFT($Z$2,2)+1,0)","v":5},{"$f":"VLOOKUP(E$5,ШкалаТрудн!$C$5:$N$34,LEFT($Z$2,2)+1,0)","v":5},{"$f":"VLOOKUP(F$5,ШкалаТрудн!$C$5:$N$34,LEFT($Z$2,2)+1,0)","v":8},{"$f":"VLOOKUP(G$5,ШкалаТрудн!$C$5:$N$34,LEFT($Z$2,2)+1,0)","v":0},{"$f":"VLOOKUP(H$5,ШкалаТрудн!$C$5:$N$34,LEFT($Z$2,2)+1,0)","v":0},{"$f":"VLOOKUP(I$5,ШкалаТрудн!$C$5:$N$34,LEFT($Z$2,2)+1,0)","v":6},{"$f":"VLOOKUP(J$5,ШкалаТрудн!$C$5:$N$34,LEFT($Z$2,2)+1,0)","v":4},{"$f":"VLOOKUP(K$5,ШкалаТрудн!$C$5:$N$34,LEFT($Z$2,2)+1,0)","v":0},{"$f":"VLOOKUP(L$5,ШкалаТрудн!$C$5:$N$34,LEFT($Z$2,2)+1,0)","v":{"$error":"#N/A"}},{"$f":"VLOOKUP(M$5,ШкалаТрудн!$C$5:$N$34,LEFT($Z$2,2)+1,0)","v":3},{"$f":"VLOOKUP(N$5,ШкалаТрудн!$C$5:$N$34,LEFT($Z$2,2)+1,0)","v":3},{"$f":"VLOOKUP(O$5,ШкалаТрудн!$C$5:$N$34,LEFT($Z$2,2)+1,0)","v":2},{"$f":"VLOOKUP(P$5,ШкалаТрудн!$C$5:$N$34,LEFT($Z$2,2)+1,0)","v":2},{"$f":"VLOOKUP(Q$5,ШкалаТрудн!$C$5:$N$34,LEFT($Z$2,2)+1,0)","v":1},{"$f":"VLOOKUP(R$5,ШкалаТрудн!$C$5:$N$34,LEFT($Z$2,2)+1,0)","v":5},{"$f":"VLOOKUP(S$5,ШкалаТрудн!$C$5:$N$34,LEFT($Z$2,2)+1,0)","v":5},{"$f":"VLOOKUP(T$5,ШкалаТрудн!$C$5:$N$34,LEFT($Z$2,2)+1,0)","v":0},{"$f":"VLOOKUP(U$5,ШкалаТрудн!$C$5:$N$34,LEFT($Z$2,2)+1,0)","v":0},{"$f":"VLOOKUP(V$5,ШкалаТрудн!$C$5:$N$34,LEFT($Z$2,2)+1,0)","v":0},{"$f":"VLOOKUP(W$5,ШкалаТрудн!$C$5:$N$34,LEFT($Z$2,2)+1,0)","v":0},{"$f":"VLOOKUP(X$5,ШкалаТрудн!$C$5:$N$34,LEFT($Z$2,2)+1,0)","v":0},{"$f":"VLOOKUP(Y$5,ШкалаТрудн!$C$5:$N$34,LEFT($Z$2,2)+1,0)","v":1},{"$f":"VLOOKUP(Z$5,ШкалаТрудн!$C$5:$N$34,LEFT($Z$2,2)+1,0)","v":0},{"$f":"VLOOKUP(AA$5,ШкалаТрудн!$C$5:$N$34,LEFT($Z$2,2)+1,0)","v":0},{"$f":"VLOOKUP(AB$5,ШкалаТрудн!$C$5:$N$34,LEFT($Z$2,2)+1,0)","v":{"$error":"#N/A"}},{"$f":"VLOOKUP(AC$5,ШкалаТрудн!$C$5:$N$34,LEFT($Z$2,2)+1,0)","v":{"$error":"#N/A"}},{"$f":"VLOOKUP(AD$5,ШкалаТрудн!$C$5:$N$34,LEFT($Z$2,2)+1,0)","v":{"$error":"#N/A"}},{"$f":"VLOOKUP(AE$5,ШкалаТрудн!$C$5:$N$34,LEFT($Z$2,2)+1,0)","v":{"$error":"#N/A"}}]
[null,null,{"$f":"C6*C$90","v":0},0,0,0,0,0,0,0,0,{"$error":"#N/A"},0,0,0,0,0,0,0,0,0,0,0,0,0,0,0,{"$error":"#N/A"},{"$error":"#N/A"},{"$error":"#N/A"},{"$error":"#N/A"}]
[null,null,{"$f":"C7*C$90","v":0},0,0,0,0,0,0,0,0,{"$error":"#N/A"},0,0,0,0,0,0,0,0,0,0,0,0,0,0,0,{"$error":"#N/A"},{"$error":"#N/A"},{"$error":"#N/A"},{"$error":"#N/A"}]
[null,null,{"$f":"C8*C$90","v":0},0,0,0,0,0,0,0,0,{"$error":"#N/A"},0,0,0,0,0,0,0,0,0,0,0,0,0,0,0,{"$error":"#N/A"},{"$error":"#N/A"},{"$error":"#N/A"},{"$error":"#N/A"}]
[null,null,{"$f":"C9*C$90","v":0},0,0,0,0,0,0,0,0,{"$error":"#N/A"},0,0,0,0,0,0,0,0,0,0,0,0,0,0,0,{"$error":"#N/A"},{"$error":"#N/A"},{"$error":"#N/A"},{"$error":"#N/A"}]
[null,null,{"$f":"C10*C$90","v":0},0,0,0,0,0,0,0,0,{"$error":"#N/A"},0,0,0,0,0,0,0,0,0,0,0,0,0,0,0,{"$error":"#N/A"},{"$error":"#N/A"},{"$error":"#N/A"},{"$error":"#N/A"}]
[null,null,{"$f":"C11*C$90","v":0},0,0,0,0,0,0,0,0,{"$error":"#N/A"},0,0,0,0,0,0,0,0,0,0,0,0,0,0,0,{"$error":"#N/A"},{"$error":"#N/A"},{"$error":"#N/A"},{"$error":"#N/A"}]
[null,null,{"$f":"C12*C$90","v":0},0,0,0,0,0,0,0,0,{"$error":"#N/A"},0,0,0,0,0,0,0,0,0,0,0,0,0,0,0,{"$error":"#N/A"},{"$error":"#N/A"},{"$error":"#N/A"},{"$error":"#N/A"}]
[null,null,{"$f":"C13*C$90","v":0},0,0,0,0,0,0,0,0,{"$error":"#N/A"},0,0,0,0,0,0,0,0,0,0,0,0,0,0,0,{"$error":"#N/A"},{"$error":"#N/A"},{"$error":"#N/A"},{"$error":"#N/A"}]
[null,null,{"$f":"C14*C$90","v":0},0,0,0,0,0,0,0,0,{"$error":"#N/A"},0,0,0,0,0,0,0,0,0,0,0,0,0,0,0,{"$error":"#N/A"},{"$error":"#N/A"},{"$error":"#N/A"},{"$error":"#N/A"}]
[null,null,{"$f":"C15*C$90","v":0},0,0,0,0,0,0,0,0,{"$error":"#N/A"},0,0,0,0,0,0,0,0,0,0,0,0,0,0,0,{"$error":"#N/A"},{"$error":"#N/A"},{"$error":"#N/A"},{"$error":"#N/A"}]
[null,null,{"$f":"C16*C$90","v":0},0,0,0,0,0,0,0,0,{"$error":"#N/A"},0,0,0,0,0,0,0,0,0,0,0,0,0,0,0,{"$error":"#N/A"},{"$error":"#N/A"},{"$error":"#N/A"},{"$error":"#N/A"}]
[null,null,{"$f":"C17*C$90","v":0},0,0,0,0,0,0,0,0,{"$error":"#N/A"},0,0,0,0,0,0,0,0,0,0,0,0,0,0,0,{"$error":"#N/A"},{"$error":"#N/A"},{"$error":"#N/A"},{"$error":"#N/A"}]
[null,null,{"$f":"C18*C$90","v":0},0,0,0,0,0,0,0,0,{"$error":"#N/A"},0,0,0,0,0,0,0,0,0,0,0,0,0,0,0,{"$error":"#N/A"},{"$error":"#N/A"},{"$error":"#N/A"},{"$error":"#N/A"}]
[null,null,{"$f":"C19*C$90","v":0},0,0,0,0,0,0,0,0,{"$error":"#N/A"},0,0,0,0,0,0,0,0,0,0,0,0,0,0,0,{"$error":"#N/A"},{"$error":"#N/A"},{"$error":"#N/A"},{"$error":"#N/A"}]
[null,null,{"$f":"C20*C$90","v":0},0,0,0,0,0,0,0,0,{"$error":"#N/A"},0,0,0,0,0,0,0,0,0,0,0,0,0,0,0,{"$error":"#N/A"},{"$error":"#N/A"},{"$error":"#N/A"},{"$error":"#N/A"}]
[null,null,{"$f":"C21*C$90","v":0},0,0,0,0,0,0,0,0,{"$error":"#N/A"},0,0,0,0,0,0,0,0,0,0,0,0,0,0,0,{"$error":"#N/A"},{"$error":"#N/A"},{"$error":"#N/A"},{"$error":"#N/A"}]
[null,null,{"$f":"C22*C$90","v":0},0,0,0,0,0,0,0,0,{"$error":"#N/A"},0,0,0,0,0,0,0,0,0,0,0,0,0,0,0,{"$error":"#N/A"},{"$error":"#N/A"},{"$error":"#N/A"},{"$error":"#N/A"}]
[null,null,{"$f":"C23*C$90","v":0},0,0,0,0,0,0,0,0,{"$error":"#N/A"},0,0,0,0,0,0,0,0,0,0,0,0,0,0,0,{"$error":"#N/A"},{"$error":"#N/A"},{"$error":"#N/A"},{"$error":"#N/A"}]
[null,null,{"$f":"C24*C$90","v":0},0,0,0,0,0,0,0,0,{"$error":"#N/A"},0,0,0,0,0,0,0,0,0,0,0,0,0,0,0,{"$error":"#N/A"},{"$error":"#N/A"},{"$error":"#N/A"},{"$error":"#N/A"}]
[null,null,{"$f":"C25*C$90","v":0},0,0,0,0,0,0,0,0,{"$error":"#N/A"},0,0,0,0,0,0,0,0,0,0,0,0,0,0,0,{"$error":"#N/A"},{"$error":"#N/A"},{"$error":"#N/A"},{"$error":"#N/A"}]
[null,null,{"$f":"C26*C$90","v":0},0,0,0,0,0,0,0,0,{"$error":"#N/A"},0,0,0,0,0,0,0,0,0,0,0,0,0,0,0,{"$error":"#N/A"},{"$error":"#N/A"},{"$error":"#N/A"},{"$error":"#N/A"}]
[null,null,{"$f":"C27*C$90","v":0},0,0,0,0,0,0,0,0,{"$error":"#N/A"},0,0,0,0,0,0,0,0,0,0,0,0,0,0,0,{"$error":"#N/A"},{"$error":"#N/A"},{"$error":"#N/A"},{"$error":"#N/A"}]
[null,null,{"$f":"C28*C$90","v":0},0,0,0,0,0,0,0,0,{"$error":"#N/A"},0,0,0,0,0,0,0,0,0,0,0,0,0,0,0,{"$error":"#N/A"},{"$error":"#N/A"},{"$error":"#N/A"},{"$error":"#N/A"}]
[null,null,{"$f":"C29*C$90","v":0},0,0,0,0,0,0,0,0,{"$error":"#N/A"},0,0,0,0,0,0,0,0,0,0,0,0,0,0,0,{"$error":"#N/A"},{"$error":"#N/A"},{"$error":"#N/A"},{"$error":"#N/A"}]
[null,null,{"$f":"C30*C$90","v":0},0,0,0,0,0,0,0,0,{"$error":"#N/A"},0,0,0,0,0,0,0,0,0,0,0,0,0,0,0,{"$error":"#N/A"},{"$error":"#N/A"},{"$error":"#N/A"},{"$error":"#N/A"}]
[null,null,{"$f":"C31*C$90","v":0},0,0,0,0,0,0,0,0,{"$error":"#N/A"},0,0,0,0,0,0,0,0,0,0,0,0,0,0,0,{"$error":"#N/A"},{"$error":"#N/A"},{"$error":"#N/A"},{"$error":"#N/A"}]
[null,null,{"$f":"C32*C$90","v":0},0,0,0,0,0,0,0,0,{"$error":"#N/A"},0,0,0,0,0,0,0,0,0,0,0,0,0,0,0,{"$error":"#N/A"},{"$error":"#N/A"},{"$error":"#N/A"},{"$error":"#N/A"}]
[null,null,{"$f":"C33*C$90","v":0},0,0,0,0,0,0,0,0,{"$error":"#N/A"},0,0,0,0,0,0,0,0,0,0,0,0,0,0,0,{"$error":"#N/A"},{"$error":"#N/A"},{"$error":"#N/A"},{"$error":"#N/A"}]
[null,null,{"$f":"C34*C$90","v":0},0,0,0,0,0,0,0,0,{"$error":"#N/A"},0,0,0,0,0,0,0,0,0,0,0,0,0,0,0,{"$error":"#N/A"},{"$error":"#N/A"},{"$error":"#N/A"},{"$error":"#N/A"}]
[null,null,{"$f":"#REF!*C$90","v":{"$error":"#REF!"}},{"$f":"#REF!*D$90","v":{"$error":"#REF!"}},{"$f":"#REF!*E$90","v":{"$error":"#REF!"}},{"$f":"#REF!*F$90","v":{"$error":"#REF!"}},{"$f":"#REF!*G$90","v":{"$error":"#REF!"}},{"$f":"#REF!*H$90","v":{"$error":"#REF!"}},{"$f":"#REF!*I$90","v":{"$error":"#REF!"}},{"$f":"#REF!*J$90","v":{"$error":"#REF!"}},{"$f":"#REF!*K$90","v":{"$error":"#REF!"}},{"$f":"#REF!*L$90","v":{"$error":"#REF!"}},{"$f":"#REF!*M$90","v":{"$error":"#REF!"}},{"$f":"#REF!*N$90","v":{"$error":"#REF!"}},{"$f":"#REF!*O$90","v":{"$error":"#REF!"}},{"$f":"#REF!*P$90","v":{"$error":"#REF!"}},{"$f":"#REF!*Q$90","v":{"$error":"#REF!"}},{"$f":"#REF!*R$90","v":{"$error":"#REF!"}},{"$f":"#REF!*S$90","v":{"$error":"#REF!"}},{"$f":"#REF!*T$90","v":{"$error":"#REF!"}},{"$f":"#REF!*U$90","v":{"$error":"#REF!"}},{"$f":"#REF!*V$90","v":{"$error":"#REF!"}},{"$f":"#REF!*W$90","v":{"$error":"#REF!"}},{"$f":"#REF!*X$90","v":{"$error":"#REF!"}},{"$f":"#REF!*Y$90","v":{"$error":"#REF!"}},{"$f":"#REF!*Z$90","v":{"$error":"#REF!"}},{"$f":"#REF!*AA$90","v":{"$error":"#REF!"}},{"$f":"#REF!*AB$90","v":{"$error":"#REF!"}},{"$f":"#REF!*AC$90","v":{"$error":"#REF!"}},{"$f":"#REF!*AD$90","v":{"$error":"#REF!"}},{"$f":"#REF!*AE$90","v":{"$error":"#REF!"}}]
[null,null,{"$f":"#REF!*C$90","v":{"$error":"#REF!"}},{"$f":"#REF!*D$90","v":{"$error":"#REF!"}},{"$f":"#REF!*E$90","v":{"$error":"#REF!"}},{"$f":"#REF!*F$90","v":{"$error":"#REF!"}},{"$f":"#REF!*G$90","v":{"$error":"#REF!"}},{"$f":"#REF!*H$90","v":{"$error":"#REF!"}},{"$f":"#REF!*I$90","v":{"$error":"#REF!"}},{"$f":"#REF!*J$90","v":{"$error":"#REF!"}},{"$f":"#REF!*K$90","v":{"$error":"#REF!"}},{"$f":"#REF!*L$90","v":{"$error":"#REF!"}},{"$f":"#REF!*M$90","v":{"$error":"#REF!"}},{"$f":"#REF!*N$90","v":{"$error":"#REF!"}},{"$f":"#REF!*O$90","v":{"$error":"#REF!"}},{"$f":"#REF!*P$90","v":{"$error":"#REF!"}},{"$f":"#REF!*Q$90","v":{"$error":"#REF!"}},{"$f":"#REF!*R$90","v":{"$error":"#REF!"}},{"$f":"#REF!*S$90","v":{"$error":"#REF!"}},{"$f":"#REF!*T$90","v":{"$error":"#REF!"}},{"$f":"#REF!*U$90","v":{"$error":"#REF!"}},{"$f":"#REF!*V$90","v":{"$error":"#REF!"}},{"$f":"#REF!*W$90","v":{"$error":"#REF!"}},{"$f":"#REF!*X$90","v":{"$error":"#REF!"}},{"$f":"#REF!*Y$90","v":{"$error":"#REF!"}},{"$f":"#REF!*Z$90","v":{"$error":"#REF!"}},{"$f":"#REF!*AA$90","v":{"$error":"#REF!"}},{"$f":"#REF!*AB$90","v":{"$error":"#REF!"}},{"$f":"#REF!*AC$90","v":{"$error":"#REF!"}},{"$f":"#REF!*AD$90","v":{"$error":"#REF!"}},{"$f":"#REF!*AE$90","v":{"$error":"#REF!"}}]
[null,null,{"$f":"#REF!*C$90","v":{"$error":"#REF!"}},{"$f":"#REF!*D$90","v":{"$error":"#REF!"}},{"$f":"#REF!*E$90","v":{"$error":"#REF!"}},{"$f":"#REF!*F$90","v":{"$error":"#REF!"}},{"$f":"#REF!*G$90","v":{"$error":"#REF!"}},{"$f":"#REF!*H$90","v":{"$error":"#REF!"}},{"$f":"#REF!*I$90","v":{"$error":"#REF!"}},{"$f":"#REF!*J$90","v":{"$error":"#REF!"}},{"$f":"#REF!*K$90","v":{"$error":"#REF!"}},{"$f":"#REF!*L$90","v":{"$error":"#REF!"}},{"$f":"#REF!*M$90","v":{"$error":"#REF!"}},{"$f":"#REF!*N$90","v":{"$error":"#REF!"}},{"$f":"#REF!*O$90","v":{"$error":"#REF!"}},{"$f":"#REF!*P$90","v":{"$error":"#REF!"}},{"$f":"#REF!*Q$90","v":{"$error":"#REF!"}},{"$f":"#REF!*R$90","v":{"$error":"#REF!"}},{"$f":"#REF!*S$90","v":{"$error":"#REF!"}},{"$f":"#REF!*T$90","v":{"$error":"#REF!"}},{"$f":"#REF!*U$90","v":{"$error":"#REF!"}},{"$f":"#REF!*V$90","v":{"$error":"#REF!"}},{"$f":"#REF!*W$90","v":{"$error":"#REF!"}},{"$f":"#REF!*X$90","v":{"$error":"#REF!"}},{"$f":"#REF!*Y$90","v":{"$error":"#REF!"}},{"$f":"#REF!*Z$90","v":{"$error":"#REF!"}},{"$f":"#REF!*AA$90","v":{"$error":"#REF!"}},{"$f":"#REF!*AB$90","v":{"$error":"#REF!"}},{"$f":"#REF!*AC$90","v":{"$error":"#REF!"}},{"$f":"#REF!*AD$90","v":{"$error":"#REF!"}},{"$f":"#REF!*AE$90","v":{"$error":"#REF!"}}]
[null,null,{"$f":"#REF!*C$90","v":{"$error":"#REF!"}},{"$f":"#REF!*D$90","v":{"$error":"#REF!"}},{"$f":"#REF!*E$90","v":{"$error":"#REF!"}},{"$f":"#REF!*F$90","v":{"$error":"#REF!"}},{"$f":"#REF!*G$90","v":{"$error":"#REF!"}},{"$f":"#REF!*H$90","v":{"$error":"#REF!"}},{"$f":"#REF!*I$90","v":{"$error":"#REF!"}},{"$f":"#REF!*J$90","v":{"$error":"#REF!"}},{"$f":"#REF!*K$90","v":{"$error":"#REF!"}},{"$f":"#REF!*L$90","v":{"$error":"#REF!"}},{"$f":"#REF!*M$90","v":{"$error":"#REF!"}},{"$f":"#REF!*N$90","v":{"$error":"#REF!"}},{"$f":"#REF!*O$90","v":{"$error":"#REF!"}},{"$f":"#REF!*P$90","v":{"$error":"#REF!"}},{"$f":"#REF!*Q$90","v":{"$error":"#REF!"}},{"$f":"#REF!*R$90","v":{"$error":"#REF!"}},{"$f":"#REF!*S$90","v":{"$error":"#REF!"}},{"$f":"#REF!*T$90","v":{"$error":"#REF!"}},{"$f":"#REF!*U$90","v":{"$error":"#REF!"}},{"$f":"#REF!*V$90","v":{"$error":"#REF!"}},{"$f":"#REF!*W$90","v":{"$error":"#REF!"}},{"$f":"#REF!*X$90","v":{"$error":"#REF!"}},{"$f":"#REF!*Y$90","v":{"$error":"#REF!"}},{"$f":"#REF!*Z$90","v":{"$error":"#REF!"}},{"$f":"#REF!*AA$90","v":{"$error":"#REF!"}},{"$f":"#REF!*AB$90","v":{"$error":"#REF!"}},{"$f":"#REF!*AC$90","v":{"$error":"#REF!"}},{"$f":"#REF!*AD$90","v":{"$error":"#REF!"}},{"$f":"#REF!*AE$90","v":{"$error":"#REF!"}}]
[null,null,{"$f":"#REF!*C$90","v":{"$error":"#REF!"}},{"$f":"#REF!*D$90","v":{"$error":"#REF!"}},{"$f":"#REF!*E$90","v":{"$error":"#REF!"}},{"$f":"#REF!*F$90","v":{"$error":"#REF!"}},{"$f":"#REF!*G$90","v":{"$error":"#REF!"}},{"$f":"#REF!*H$90","v":{"$error":"#REF!"}},{"$f":"#REF!*I$90","v":{"$error":"#REF!"}},{"$f":"#REF!*J$90","v":{"$error":"#REF!"}},{"$f":"#REF!*K$90","v":{"$error":"#REF!"}},{"$f":"#REF!*L$90","v":{"$error":"#REF!"}},{"$f":"#REF!*M$90","v":{"$error":"#REF!"}},{"$f":"#REF!*N$90","v":{"$error":"#REF!"}},{"$f":"#REF!*O$90","v":{"$error":"#REF!"}},{"$f":"#REF!*P$90","v":{"$error":"#REF!"}},{"$f":"#REF!*Q$90","v":{"$error":"#REF!"}},{"$f":"#REF!*R$90","v":{"$error":"#REF!"}},{"$f":"#REF!*S$90","v":{"$error":"#REF!"}},{"$f":"#REF!*T$90","v":{"$error":"#REF!"}},{"$f":"#REF!*U$90","v":{"$error":"#REF!"}},{"$f":"#REF!*V$90","v":{"$error":"#REF!"}},{"$f":"#REF!*W$90","v":{"$error":"#REF!"}},{"$f":"#REF!*X$90","v":{"$error":"#REF!"}},{"$f":"#REF!*Y$90","v":{"$error":"#REF!"}},{"$f":"#REF!*Z$90","v":{"$error":"#REF!"}},{"$f":"#REF!*AA$90","v":{"$error":"#REF!"}},{"$f":"#REF!*AB$90","v":{"$error":"#REF!"}},{"$f":"#REF!*AC$90","v":{"$error":"#REF!"}},{"$f":"#REF!*AD$90","v":{"$error":"#REF!"}},{"$f":"#REF!*AE$90","v":{"$error":"#REF!"}}]
[null,null,{"$f":"#REF!*C$90","v":{"$error":"#REF!"}},{"$f":"#REF!*D$90","v":{"$error":"#REF!"}},{"$f":"#REF!*E$90","v":{"$error":"#REF!"}},{"$f":"#REF!*F$90","v":{"$error":"#REF!"}},{"$f":"#REF!*G$90","v":{"$error":"#REF!"}},{"$f":"#REF!*H$90","v":{"$error":"#REF!"}},{"$f":"#REF!*I$90","v":{"$error":"#REF!"}},{"$f":"#REF!*J$90","v":{"$error":"#REF!"}},{"$f":"#REF!*K$90","v":{"$error":"#REF!"}},{"$f":"#REF!*L$90","v":{"$error":"#REF!"}},{"$f":"#REF!*M$90","v":{"$error":"#REF!"}},{"$f":"#REF!*N$90","v":{"$error":"#REF!"}},{"$f":"#REF!*O$90","v":{"$error":"#REF!"}},{"$f":"#REF!*P$90","v":{"$error":"#REF!"}},{"$f":"#REF!*Q$90","v":{"$error":"#REF!"}},{"$f":"#REF!*R$90","v":{"$error":"#REF!"}},{"$f":"#REF!*S$90","v":{"$error":"#REF!"}},{"$f":"#REF!*T$90","v":{"$error":"#REF!"}},{"$f":"#REF!*U$90","v":{"$error":"#REF!"}},{"$f":"#REF!*V$90","v":{"$error":"#REF!"}},{"$f":"#REF!*W$90","v":{"$error":"#REF!"}},{"$f":"#REF!*X$90","v":{"$error":"#REF!"}},{"$f":"#REF!*Y$90","v":{"$error":"#REF!"}},{"$f":"#REF!*Z$90","v":{"$error":"#REF!"}},{"$f":"#REF!*AA$90","v":{"$error":"#REF!"}},{"$f":"#REF!*AB$90","v":{"$error":"#REF!"}},{"$f":"#REF!*AC$90","v":{"$error":"#REF!"}},{"$f":"#REF!*AD$90","v":{"$error":"#REF!"}},{"$f":"#REF!*AE$90","v":{"$error":"#REF!"}}]
[null,null,{"$f":"#REF!*C$90","v":{"$error":"#REF!"}},{"$f":"#REF!*D$90","v":{"$error":"#REF!"}},{"$f":"#REF!*E$90","v":{"$error":"#REF!"}},{"$f":"#REF!*F$90","v":{"$error":"#REF!"}},{"$f":"#REF!*G$90","v":{"$error":"#REF!"}},{"$f":"#REF!*H$90","v":{"$error":"#REF!"}},{"$f":"#REF!*I$90","v":{"$error":"#REF!"}},{"$f":"#REF!*J$90","v":{"$error":"#REF!"}},{"$f":"#REF!*K$90","v":{"$error":"#REF!"}},{"$f":"#REF!*L$90","v":{"$error":"#REF!"}},{"$f":"#REF!*M$90","v":{"$error":"#REF!"}},{"$f":"#REF!*N$90","v":{"$error":"#REF!"}},{"$f":"#REF!*O$90","v":{"$error":"#REF!"}},{"$f":"#REF!*P$90","v":{"$error":"#REF!"}},{"$f":"#REF!*Q$90","v":{"$error":"#REF!"}},{"$f":"#REF!*R$90","v":{"$error":"#REF!"}},{"$f":"#REF!*S$90","v":{"$error":"#REF!"}},{"$f":"#REF!*T$90","v":{"$error":"#REF!"}},{"$f":"#REF!*U$90","v":{"$error":"#REF!"}},{"$f":"#REF!*V$90","v":{"$error":"#REF!"}},{"$f":"#REF!*W$90","v":{"$error":"#REF!"}},{"$f":"#REF!*X$90","v":{"$error":"#REF!"}},{"$f":"#REF!*Y$90","v":{"$error":"#REF!"}},{"$f":"#REF!*Z$90","v":{"$error":"#REF!"}},{"$f":"#REF!*AA$90","v":{"$error":"#REF!"}},{"$f":"#REF!*AB$90","v":{"$error":"#REF!"}},{"$f":"#REF!*AC$90","v":{"$error":"#REF!"}},{"$f":"#REF!*AD$90","v":{"$error":"#REF!"}},{"$f":"#REF!*AE$90","v":{"$error":"#REF!"}}]
[null,null,{"$f":"#REF!*C$90","v":{"$error":"#REF!"}},{"$f":"#REF!*D$90","v":{"$error":"#REF!"}},{"$f":"#REF!*E$90","v":{"$error":"#REF!"}},{"$f":"#REF!*F$90","v":{"$error":"#REF!"}},{"$f":"#REF!*G$90","v":{"$error":"#REF!"}},{"$f":"#REF!*H$90","v":{"$error":"#REF!"}},{"$f":"#REF!*I$90","v":{"$error":"#REF!"}},{"$f":"#REF!*J$90","v":{"$error":"#REF!"}},{"$f":"#REF!*K$90","v":{"$error":"#REF!"}},{"$f":"#REF!*L$90","v":{"$error":"#REF!"}},{"$f":"#REF!*M$90","v":{"$error":"#REF!"}},{"$f":"#REF!*N$90","v":{"$error":"#REF!"}},{"$f":"#REF!*O$90","v":{"$error":"#REF!"}},{"$f":"#REF!*P$90","v":{"$error":"#REF!"}},{"$f":"#REF!*Q$90","v":{"$error":"#REF!"}},{"$f":"#REF!*R$90","v":{"$error":"#REF!"}},{"$f":"#REF!*S$90","v":{"$error":"#REF!"}},{"$f":"#REF!*T$90","v":{"$error":"#REF!"}},{"$f":"#REF!*U$90","v":{"$error":"#REF!"}},{"$f":"#REF!*V$90","v":{"$error":"#REF!"}},{"$f":"#REF!*W$90","v":{"$error":"#REF!"}},{"$f":"#REF!*X$90","v":{"$error":"#REF!"}},{"$f":"#REF!*Y$90","v":{"$error":"#REF!"}},{"$f":"#REF!*Z$90","v":{"$error":"#REF!"}},{"$f":"#REF!*AA$90","v":{"$error":"#REF!"}},{"$f":"#REF!*AB$90","v":{"$error":"#REF!"}},{"$f":"#REF!*AC$90","v":{"$error":"#REF!"}},{"$f":"#REF!*AD$90","v":{"$error":"#REF!"}},{"$f":"#REF!*AE$90","v":{"$error":"#REF!"}}]
[null,null,{"$f":"#REF!*C$90","v":{"$error":"#REF!"}},{"$f":"#REF!*D$90","v":{"$error":"#REF!"}},{"$f":"#REF!*E$90","v":{"$error":"#REF!"}},{"$f":"#REF!*F$90","v":{"$error":"#REF!"}},{"$f":"#REF!*G$90","v":{"$error":"#REF!"}},{"$f":"#REF!*H$90","v":{"$error":"#REF!"}},{"$f":"#REF!*I$90","v":{"$error":"#REF!"}},{"$f":"#REF!*J$90","v":{"$error":"#REF!"}},{"$f":"#REF!*K$90","v":{"$error":"#REF!"}},{"$f":"#REF!*L$90","v":{"$error":"#REF!"}},{"$f":"#REF!*M$90","v":{"$error":"#REF!"}},{"$f":"#REF!*N$90","v":{"$error":"#REF!"}},{"$f":"#REF!*O$90","v":{"$error":"#REF!"}},{"$f":"#REF!*P$90","v":{"$error":"#REF!"}},{"$f":"#REF!*Q$90","v":{"$error":"#REF!"}},{"$f":"#REF!*R$90","v":{"$error":"#REF!"}},{"$f":"#REF!*S$90","v":{"$error":"#REF!"}},{"$f":"#REF!*T$90","v":{"$error":"#REF!"}},{"$f":"#REF!*U$90","v":{"$error":"#REF!"}},{"$f":"#REF!*V$90","v":{"$error":"#REF!"}},{"$f":"#REF!*W$90","v":{"$error":"#REF!"}},{"$f":"#REF!*X$90","v":{"$error":"#REF!"}},{"$f":"#REF!*Y$90","v":{"$error":"#REF!"}},{"$f":"#REF!*Z$90","v":{"$error":"#REF!"}},{"$f":"#REF!*AA$90","v":{"$error":"#REF!"}},{"$f":"#REF!*AB$90","v":{"$error":"#REF!"}},{"$f":"#REF!*AC$90","v":{"$error":"#REF!"}},{"$f":"#REF!*AD$90","v":{"$error":"#REF!"}},{"$f":"#REF!*AE$90","v":{"$error":"#REF!"}}]
[null,null,{"$f":"#REF!*C$90","v":{"$error":"#REF!"}},{"$f":"#REF!*D$90","v":{"$error":"#REF!"}},{"$f":"#REF!*E$90","v":{"$error":"#REF!"}},{"$f":"#REF!*F$90","v":{"$error":"#REF!"}},{"$f":"#REF!*G$90","v":{"$error":"#REF!"}},{"$f":"#REF!*H$90","v":{"$error":"#REF!"}},{"$f":"#REF!*I$90","v":{"$error":"#REF!"}},{"$f":"#REF!*J$90","v":{"$error":"#REF!"}},{"$f":"#REF!*K$90","v":{"$error":"#REF!"}},{"$f":"#REF!*L$90","v":{"$error":"#REF!"}},{"$f":"#REF!*M$90","v":{"$error":"#REF!"}},{"$f":"#REF!*N$90","v":{"$error":"#REF!"}},{"$f":"#REF!*O$90","v":{"$error":"#REF!"}},{"$f":"#REF!*P$90","v":{"$error":"#REF!"}},{"$f":"#REF!*Q$90","v":{"$error":"#REF!"}},{"$f":"#REF!*R$90","v":{"$error":"#REF!"}},{"$f":"#REF!*S$90","v":{"$error":"#REF!"}},{"$f":"#REF!*T$90","v":{"$error":"#REF!"}},{"$f":"#REF!*U$90","v":{"$error":"#REF!"}},{"$f":"#REF!*V$90","v":{"$error":"#REF!"}},{"$f":"#REF!*W$90","v":{"$error":"#REF!"}},{"$f":"#REF!*X$90","v":{"$error":"#REF!"}},{"$f":"#REF!*Y$90","v":{"$error":"#REF!"}},{"$f":"#REF!*Z$90","v":{"$error":"#REF!"}},{"$f":"#REF!*AA$90","v":{"$error":"#REF!"}},{"$f":"#REF!*AB$90","v":{"$error":"#REF!"}},{"$f":"#REF!*AC$90","v":{"$error":"#REF!"}},{"$f":"#REF!*AD$90","v":{"$error":"#REF!"}},{"$f":"#REF!*AE$90","v":{"$error":"#REF!"}}]
[null,null,{"$f":"C35*C$90","v":0},0,0,0,0,0,0,0,0,{"$error":"#N/A"},0,0,0,0,0,0,0,0,0,0,0,0,0,0,0,{"$error":"#N/A"},{"$error":"#N/A"},{"$error":"#N/A"},{"$error":"#N/A"}]

{"sheet":"2 А(2)","index":6,"n_rows":82,"n_cols":8,"rows_kept":82,"cut":false,"hidden":true,"merged":[[0,0,0,3],[0,4,0,7],[3,0,15,0],[67,0,67,1],[52,0,52,1],[42,0,42,1],[17,0,17,1],[1,0,1,2],[2,0,2,1]]}
[{"$f":"Титул!B9","v":"2 А"},null,null,null,"Страница заполняется автоматически, без участия оператора!!!"]
["Всего учащихся в классе:",null,null,{"$f":"Титул!C9","v":25},"Фамилии, имена               учащихся","Учебные предметы","Фамилии и инициалы учителей","Пояснения, примечания, причины"]
["Учатся на  \"5\":",null,{"$f":"COUNTA(E3:E17)","v":0},1]
[null,null,null,2]
[null,null,null,3]
[null,null,null,4]
[null,null,null,5]
[null,null,null,6]
[null,null,null,7]
[null,null,null,8]
[null,null,null,9]
[null,null,null,10]
[null,null,null,11]
[null,null,null,12]
[null,null,null,13]
[null,null,null,14]
[null,null,null,15]
["Учатся  на \"4\"и\"5\"",null,{"$f":"COUNTA(E18:E42)","v":0},1]
[null," ",null,2]
[null,null,null,3]
[null,null,null,4]
[null,null,null,5]
[null,null,null,6]
[null,null,null,7]
[null,null,null,8]
[null,null,null,9]
[null,null,null,10]
[null,null,null,11]
[null,null,null,12]
[null,null,null,13]
[null,null,null,14]
[null,null,null,15]
[null,null,null,16]
[null,null,null,17]
[null,null,null,18]
[null,null,null,19]
[null,null,null,20]
[null,null,null,21]
[null,null,null,22]
[null,null,null,23]
[null,null,null,24]
[null,null,null,25]
["Не аттестованы:",null,{"$f":"COUNTA(E43:E52)","v":0},1]
[null," ",null,2]
[null,null,null,3]
[null,null,null,4]
[null,null,null,5]
[null,null,null,6]
[null,null,null,7]
[null,null,null,8]
[null,null,null,9]
[null,null,null,10]
["Не успевают:",null,{"$f":"COUNTA(E53:E67)","v":0},1]
[null," ",null,2]
[null,null,null,3]
[null,null,null,4]
[null,null,null,5]
[null,null,null,6]
[null,null,null,7]
[null,null,null,8]
[null,null,null,9]
[null,null,null,10]
[null,null,null,11]
[null,null,null,12]
[null,null,null,13]
[null,null,null,14]
[null,null,null,15]
["Освобождены:",null,{"$f":"COUNTA(E68:E82)","v":0},1]
[null," ",null,2]
[null,null,null,3]
[null,null,null,4]
[null,null,null,5]
[null,null,null,6]
[null,null,null,7]
[null,null,null,8]
[null,null,null,9]
[null,null,null,10]
[null,null,null,11]
[null,null,null,12]
[null,null,null,13]
[null,null,null,14]
[null,null,null,15]

{"sheet":"2 Б","index":7,"n_rows":130,"n_cols":35,"rows_kept":130,"cut":false,"hidden":true,"merged":[[0,26,0,32],[3,2,3,30],[0,0,0,2],[0,3,0,25],[2,4,2,17],[3,31,3,34],[2,23,2,34],[2,18,2,22],[1,29,1,31],[1,25,1,28],[1,0,1,24],[2,0,2,3],[47,0,47,26],[46,31,46,34],[45,31,45,34],[44,31,44,34],[43,31,43,34],[47,28,47,33],[35,31,35,34],[38,31,38,34],[37,31,37,34],[36,31,36,34],[3,0,4,1],[35,0,35,1],[36,0,46,0],[42,31,42,34],[41,31,41,34],[40,31,40,34],[39,31,39,34]]}
[{"$f":"Титул!B5","v":"2014/15 учебный год"},null,null,{"$f":"Титул!B4","v":"МОУ СОШ  № 15"},null,null,null,null,null,null,null,null,null,null,null,null,null,null,null,null,null,null,null,null,null,null,{"$f":"Титул!B6","v":"4 четверть"},null,null,null,null,null,null,null,"3+"]
["ВЕДОМОСТЬ  РЕЗУЛЬТАТОВ  УЧЕБНОЙ  ДЕЯТЕЛЬНОСТИ",null,null,null,null,null,null,null,null,null,null,null,null,null,null,null,null,null,null,null,null,null,null,null,null,{"$f":"Титул!B10","v":"2 Б"},null,null,null,"класса"]
["Классный руководитель:",null,null,null,{"$f":"Титул!D10","v":"Калиниченко Т.А."},null,null,null,null,null,null,null,null,null,null,null,null,null,"Программа:",null,null,null,null,{"$f":"Титул!G10","v":"УМК \"Школа 2100\""}]
["Вручную вносятся только оценки \"5\", \"4\", \"3\", \"2\", \"1\". \nНе аттестованным проставляется \"0\", освобожденным - \"Н\".  ",null,"У  ч  е  б  н  ы  е      п  р  е  д  м  е  т  ы",null,null,null,null,null,null,null,null,null,null,null,null,null,null,null,null,null,null,null,null,null,null,null,null,null,null,null,null,"Результаты ученика:"]
[null,null,{"$f":"Нагрузка!C3","v":"Русский язык"},{"$f":"Нагрузка!D3","v":"Литература"},{"$f":"Нагрузка!E3","v":"Иностранный язык"},{"$f":"Нагрузка!F3","v":"Математика"},{"$f":"Нагрузка!G3","v":"Алгебра"},{"$f":"Нагрузка!H3","v":"Геометрия"},{"$f":"Нагрузка!I3","v":"Информатика"},{"$f":"Нагрузка!J3","v":"История"},{"$f":"Нагрузка!K3","v":"Обществознание"},{"$f":"Нагрузка!L3","v":"Окружающий мир"},{"$f":"Нагрузка!M3","v":"ИЗО"},{"$f":"Нагрузка!N3","v":"Музыка"},{"$f":"Нагрузка!O3","v":"Технология"},{"$f":"Нагрузка!P3","v":"Технология"},{"$f":"Нагрузка!Q3","v":"ФЗК"},{"$f":"Нагрузка!R3","v":"Иностранный язык"},{"$f":"Нагрузка!S3","v":"Иностранный язык"},{"$f":"Нагрузка!T3","v":"География"},{"$f":"Нагрузка!U3","v":"Физика"},{"$f":"Нагрузка!V3","v":"Химия"},{"$f":"Нагрузка!W3","v":"Биология"},{"$f":"Нагрузка!X3","v":"МХК"},{"$f":"Нагрузка!Y3","v":"ФЗК"},{"$f":"Нагрузка!Z3","v":"ОБЖ"},{"$f":"Нагрузка!AA3","v":"Природоведение"},{"$f":"Нагрузка!AB3","v":0},{"$f":"Нагрузка!AC3","v":0},{"$f":"Нагрузка!AD3","v":0},{"$f":"Нагрузка!AE3","v":0},"Средний балл:","Степень обученности (СОУ):","Качество успеваемости:","Рейтинговый учебный балл:"]
[1,{"$f":"СпискиКлассы!C4","v":"Белокопытов Егор"},null,null,null,null,null,null,null,null,null,null,null,null,null,null,null,null,null,null,null,null,null,null,null,null,null,null,null,null,null,{"$f":"AVERAGE(C6:AE6)","v":{"$error":"#DIV/0!"}},{"$f":"(COUNTIF(C6:AE6,\"5\")+COUNTIF(C6:AE6,\"4\")*0.64+COUNTIF(C6:AE6,\"3\")*0.36+COUNTIF(C6:AE6,\"2\")*0.16)/(COUNTIF(C6:AE6,\"5\")+COUNTIF(C6:AE6,\"4\")+COUNTIF(C6:AE6,\"3\")+COUNTIF(C6:AE6,\"2\")+COUNTIF(C6:AE6,\"0\"))","v":{"$error":"#DIV/0!"}},{"$f":"((5*COUNTIF(C6:AE6,\"5\"))+(4*COUNTIF(C6:AE6,\"4\")))/(5*(COUNTA(C6:AE6)-COUNTIF(C6:AE6,\"н\")))","v":{"$error":"#DIV/0!"}},{"$f":"SUMIF(C91:AE91,\">0\",C91:AE91)/(COUNTIF(C6:AE6,\">0\")+COUNTIF(C6:AE6,\"=0\")+COUNTIF(C6:AE6,\"Н\"))","v":{"$error":"#DIV/0!"}}]
[{"$f":"A6+1","v":2},{"$f":"СпискиКлассы!C5","v":"Будько Роман"},null,null,null,null,null,null,null,null,null,null,null,null,null,null,null,null,null,null,null,null,null,null,null,null,null,null,null,null,null,{"$f":"AVERAGE(C7:AE7)","v":{"$error":"#DIV/0!"}},{"$f":"(COUNTIF(C7:AE7,\"5\")+COUNTIF(C7:AE7,\"4\")*0.64+COUNTIF(C7:AE7,\"3\")*0.36+COUNTIF(C7:AE7,\"2\")*0.16)/(COUNTIF(C7:AE7,\"5\")+COUNTIF(C7:AE7,\"4\")+COUNTIF(C7:AE7,\"3\")+COUNTIF(C7:AE7,\"2\")+COUNTIF(C7:AE7,\"0\"))","v":{"$error":"#DIV/0!"}},{"$f":"((5*COUNTIF(C7:AE7,\"5\"))+(4*COUNTIF(C7:AE7,\"4\")))/(5*(COUNTA(C7:AE7)-COUNTIF(C7:AE7,\"н\")))","v":{"$error":"#DIV/0!"}},{"$error":"#DIV/0!"}]
[3,{"$f":"СпискиКлассы!C6","v":"Быкова Ксения"},null,null,null,null,null,null,null,null,null,null,null,null,null,null,null,null,null,null,null,null,null,null,null,null,null,null,null,null,null,{"$f":"AVERAGE(C8:AE8)","v":{"$error":"#DIV/0!"}},{"$error":"#DIV/0!"},{"$error":"#DIV/0!"},{"$error":"#DIV/0!"}]
[4,{"$f":"СпискиКлассы!C7","v":"Галайда Степан"},null,null,null,null,null,null,null,null,null,null,null,null,null,null,null,null,null,null,null,null,null,null,null,null,null,null,null,null,null,{"$error":"#DIV/0!"},{"$error":"#DIV/0!"},{"$error":"#DIV/0!"},{"$error":"#DIV/0!"}]
[5,{"$f":"СпискиКлассы!C8","v":"Грехова Ярослава"},null,null,null,null,null,null,null,null,null,null,null,null,null,null,null,null,null,null,null,null,null,null,null,null,null,null,null,null,null,{"$error":"#DIV/0!"},{"$error":"#DIV/0!"},{"$error":"#DIV/0!"},{"$error":"#DIV/0!"}]
[6,{"$f":"СпискиКлассы!C9","v":"Зырянова Ирина"},null,null,null,null,null,null,null,null,null,null,null,null,null,null,null,null,null,null,null,null,null,null,null,null,null,null,null,null,null,{"$error":"#DIV/0!"},{"$error":"#DIV/0!"},{"$error":"#DIV/0!"},{"$error":"#DIV/0!"}]
[7,{"$f":"СпискиКлассы!C10","v":"Капустина Полина"},null,null,null,null,null,null,null,null,null,null,null,null,null,null,null,null,null,null,null,null,null,null,null,null,null,null,null,null,null,{"$error":"#DIV/0!"},{"$error":"#DIV/0!"},{"$error":"#DIV/0!"},{"$error":"#DIV/0!"}]
[8,{"$f":"СпискиКлассы!C11","v":"Карпов Максим"},null,null,null,null,null,null,null,null,null,null,null,null,null,null,null,null,null,null,null,null,null,null,null,null,null,null,null,null,null,{"$error":"#DIV/0!"},{"$error":"#DIV/0!"},{"$error":"#DIV/0!"},{"$error":"#DIV/0!"}]
[9,{"$f":"СпискиКлассы!C12","v":"Карташова Анастасия"},null,null,null,null,null,null,null,null,null,null,null,null,null,null,null,null,null,null,null,null,null,null,null,null,null,null,null,null,null,{"$error":"#DIV/0!"},{"$error":"#DIV/0!"},{"$error":"#DIV/0!"},{"$error":"#DIV/0!"}]
[10,{"$f":"СпискиКлассы!C13","v":"Коростелева Ева"},null,null,null,null,null,null,null,null,null,null,null,null,null,null,null,null,null,null,null,null,null,null,null,null,null,null,null,null,null,{"$error":"#DIV/0!"},{"$error":"#DIV/0!"},{"$error":"#DIV/0!"},{"$error":"#DIV/0!"}]
[11,{"$f":"СпискиКлассы!C14","v":"Кристалинская Олеся"},null,null,null,null,null,null,null,null,null,null,null,null,null,null,null,null,null,null,null,null,null,null,null,null,null,null,null,null,null,{"$error":"#DIV/0!"},{"$error":"#DIV/0!"},{"$error":"#DIV/0!"},{"$error":"#DIV/0!"}]
[12,{"$f":"СпискиКлассы!C15","v":"Крисюк Ксения"},null,null,null,null,null,null,null,null,null,null,null,null,null,null,null,null,null,null,null,null,null,null,null,null,null,null,null,null,null,{"$error":"#DIV/0!"},{"$error":"#DIV/0!"},{"$error":"#DIV/0!"},{"$error":"#DIV/0!"}]
[13,{"$f":"СпискиКлассы!C16","v":"Кужель Юлия"},null,null,null,null,null,null,null,null,null,null,null,null,null,null,null,null,null,null,null,null,null,null,null,null,null,null,null,null,null,{"$error":"#DIV/0!"},{"$error":"#DIV/0!"},{"$error":"#DIV/0!"},{"$error":"#DIV/0!"}]
[14,{"$f":"СпискиКлассы!C17","v":"Лазаренкова Ангелина"},null,null,null,null,null,null,null,null,null,null,null,null,null,null,null,null,null,null,null,null,null,null,null,null,null,null,null,null,null,{"$error":"#DIV/0!"},{"$error":"#DIV/0!"},{"$error":"#DIV/0!"},{"$error":"#DIV/0!"}]
[15,{"$f":"СпискиКлассы!C18","v":"Ловейко Виктория"},null,null,null,null,null,null,null,null,null,null,null,null,null,null,null,null,null,null,null,null,null,null,null,null,null,null,null,null,null,{"$error":"#DIV/0!"},{"$error":"#DIV/0!"},{"$error":"#DIV/0!"},{"$error":"#DIV/0!"}]
[16,{"$f":"СпискиКлассы!C19","v":"Марценюк Ангелина"},null,null,null,null,null,null,null,null,null,null,null,null,null,null,null,null,null,null,null,null,null,null,null,null,null,null,null,null,null,{"$error":"#DIV/0!"},{"$error":"#DIV/0!"},{"$error":"#DIV/0!"},{"$error":"#DIV/0!"}]
[17,{"$f":"СпискиКлассы!C20","v":"Мордвинский Георгий"},null,null,null,null,null,null,null,null,null,null,null,null,null,null,null,null,null,null,null,null,null,null,null,null,null,null,null,null,null,{"$error":"#DIV/0!"},{"$error":"#DIV/0!"},{"$error":"#DIV/0!"},{"$error":"#DIV/0!"}]
[18,{"$f":"СпискиКлассы!C21","v":"Мордвинский Роман"},null,null,null,null,null,null,null,null,null,null,null,null,null,null,null,null,null,null,null,null,null,null,null,null,null,null,null,null,null,{"$error":"#DIV/0!"},{"$error":"#DIV/0!"},{"$error":"#DIV/0!"},{"$error":"#DIV/0!"}]
[19,{"$f":"СпискиКлассы!C22","v":"Ожигов Даниил"},null,null,null,null,null,null,null,null,null,null,null,null,null,null,null,null,null,null,null,null,null,null,null,null,null,null,null,null,null,{"$error":"#DIV/0!"},{"$error":"#DIV/0!"},{"$error":"#DIV/0!"},{"$error":"#DIV/0!"}]
[20,{"$f":"СпискиКлассы!C23","v":"Русакова Кристина"},null,null,null,null,null,null,null,null,null,null,null,null,null,null,null,null,null,null,null,null,null,null,null,null,null,null,null,null,null,{"$error":"#DIV/0!"},{"$error":"#DIV/0!"},{"$error":"#DIV/0!"},{"$error":"#DIV/0!"}]
[21,{"$f":"СпискиКлассы!C24","v":"Саулина Ольга"},null,null,null,null,null,null,null,null,null,null,null,null,null,null,null,null,null,null,null,null,null,null,null,null,null,null,null,null,null,{"$error":"#DIV/0!"},{"$error":"#DIV/0!"},{"$error":"#DIV/0!"},{"$error":"#DIV/0!"}]
[22,{"$f":"СпискиКлассы!C25","v":"Смолянская Валерия"},null,null,null,null,null,null,null,null,null,null,null,null,null,null,null,null,null,null,null,null,null,null,null,null,null,null,null,null,null,{"$error":"#DIV/0!"},{"$error":"#DIV/0!"},{"$error":"#DIV/0!"},{"$error":"#DIV/0!"}]
[23,{"$f":"СпискиКлассы!C26","v":"Спицын Илья"},null,null,null,null,null,null,null,null,null,null,null,null,null,null,null,null,null,null,null,null,null,null,null,null,null,null,null,null,null,{"$error":"#DIV/0!"},{"$error":"#DIV/0!"},{"$error":"#DIV/0!"},{"$error":"#DIV/0!"}]
[24,{"$f":"СпискиКлассы!C27","v":"Цилина Диана"},null,null,null,null,null,null,null,null,null,null,null,null,null,null,null,null,null,null,null,null,null,null,null,null,null,null,null,null,null,{"$error":"#DIV/0!"},{"$error":"#DIV/0!"},{"$error":"#DIV/0!"},{"$error":"#DIV/0!"}]
[25,{"$f":"СпискиКлассы!C28","v":"Чиркина Милена"},null,null,null,null,null,null,null,null,null,null,null,null,null,null,null,null,null,null,null,null,null,null,null,null,null,null,null,null,null,{"$error":"#DIV/0!"},{"$error":"#DIV/0!"},{"$error":"#DIV/0!"},{"$error":"#DIV/0!"}]
[26,{"$f":"СпискиКлассы!C29","v":0},null,null,null,null,null,null,null,null,null,null,null,null,null,null,null,null,null,null,null,null,null,null,null,null,null,null,null,null,null,{"$f":"AVERAGE(C31:AE31)","v":{"$error":"#DIV/0!"}},{"$f":"(COUNTIF(C31:AE31,\"5\")+COUNTIF(C31:AE31,\"4\")*0.64+COUNTIF(C31:AE31,\"3\")*0.36+COUNTIF(C31:AE31,\"2\")*0.16)/(COUNTIF(C31:AE31,\"5\")+COUNTIF(C31:AE31,\"4\")+COUNTIF(C31:AE31,\"3\")+COUNTIF(C31:AE31,\"2\")+COUNTIF(C31:AE31,\"0\"))","v":{"$error":"#DIV/0!"}},{"$error":"#DIV/0!"},{"$error":"#DIV/0!"}]
[27,{"$f":"СпискиКлассы!C30","v":0},null,null,null,null,null,null,null,null,null,null,null,null,null,null,null,null,null,null,null,null,null,null,null,null,null,null,null,null,null,{"$error":"#DIV/0!"},{"$error":"#DIV/0!"},{"$error":"#DIV/0!"},{"$error":"#DIV/0!"}]
[28,{"$f":"СпискиКлассы!C31","v":0},null,null,null,null,null,null,null,null,null,null,null,null,null,null,null,null,null,null,null,null,null,null,null,null,null,null,null,null,null,{"$error":"#DIV/0!"},{"$error":"#DIV/0!"},{"$error":"#DIV/0!"},{"$error":"#DIV/0!"}]
[29,{"$f":"СпискиКлассы!C32","v":0},null,null,null,null,null,null,null,null,null,null,null,null,null,null,null,null,null,null,null,null,null,null,null,null,null,null,null,null,null,{"$error":"#DIV/0!"},{"$error":"#DIV/0!"},{"$error":"#DIV/0!"},{"$error":"#DIV/0!"}]
[30,{"$f":"СпискиКлассы!C43","v":0},null,null,null,null,null,null,null,null,null,null,null,null,null,null,null,null,null,null,null,null,null,null,null,null,null,null,null,null,null,{"$error":"#DIV/0!"},{"$error":"#DIV/0!"},{"$error":"#DIV/0!"},{"$f":"SUMIF(C130:AE130,\">0\",C130:AE130)/(COUNTIF(C35:AE35,\">0\")+COUNTIF(C35:AE35,\"=0\")+COUNTIF(C35:AE35,\"Н\"))","v":{"$error":"#DIV/0!"}}]
[" Фамилия и инициалы                                           учителя - предметника",null,{"$f":"Нагрузка!C6","v":"Калиниченко"},{"$f":"Нагрузка!D6","v":"Калиниченко"},{"$f":"Нагрузка!E6","v":0},{"$f":"Нагрузка!F6","v":"Калиниченко "},{"$f":"Нагрузка!G6","v":0},{"$f":"Нагрузка!H6","v":0},{"$f":"Нагрузка!I6","v":0},{"$f":"Нагрузка!J6","v":0},{"$f":"Нагрузка!K6","v":0},{"$f":"Нагрузка!L6","v":"Калиниченко"},{"$f":"Нагрузка!M6","v":"Калиниченко "},{"$f":"Нагрузка!N6","v":"Заворина"},{"$f":"Нагрузка!O6","v":"Калиниченко "},{"$f":"Нагрузка!P6","v":"Калиниченко"},{"$f":"Нагрузка!Q6","v":"Ермакова"},{"$f":"Нагрузка!R6","v":0},{"$f":"Нагрузка!S6","v":0},{"$f":"Нагрузка!T6","v":0},{"$f":"Нагрузка!U6","v":0},{"$f":"Нагрузка!V6","v":0},{"$f":"Нагрузка!W6","v":0},{"$f":"Нагрузка!X6","v":0},{"$f":"Нагрузка!Y6","v":0},{"$f":"Нагрузка!Z6","v":0},{"$f":"Нагрузка!AA6","v":0},{"$f":"Нагрузка!AB6","v":0},{"$f":"Нагрузка!AC6","v":0},{"$f":"Нагрузка!AD6","v":0},{"$f":"Нагрузка!AE6","v":0},"Показатели результатов учебной деятельности в  целом по классу:"]
["Результаты учебной деятельности класса","Количество  \"5\":",{"$f":"COUNTIF(C6:C35,5)","v":0},0,0,0,0,0,0,0,0,0,0,0,0,0,0,0,0,0,0,0,0,0,0,0,0,0,0,0,0,{"$f":"SUM(C37:AE37)","v":0}]
[null,"Количество  \"4\":",{"$f":"COUNTIF(C6:C35,4)","v":0},0,0,0,0,0,0,0,0,0,0,0,0,0,0,0,0,0,0,0,0,0,0,0,0,0,0,0,0,0]
[null,"Количество  \"3\":",{"$f":"COUNTIF(C6:C35,3)","v":0},0,0,0,0,0,0,0,0,0,0,0,0,0,0,0,0,0,0,0,0,0,0,0,0,0,0,0,0,0]
[null,"Количество  \"2\":",{"$f":"COUNTIF(C6:C35,2)","v":0},0,0,0,0,0,0,0,0,0,0,0,0,0,0,0,0,0,0,0,0,0,0,0,0,0,0,0,0,0]
[null,"Не аттестовано:",{"$f":"COUNTIF(C6:C35,0)","v":0},0,0,0,0,0,0,0,0,0,0,0,0,0,0,0,0,0,0,0,0,0,0,0,0,0,0,0,0,0]
[null,"Освобождено:",{"$f":"COUNTIF(C6:C35,\"н\")","v":0},0,0,0,0,0,0,0,0,0,0,0,0,0,0,0,0,0,0,0,0,0,0,0,0,0,0,0,0,0]
[null,"Успеваемость:",{"$f":"(C37+C38+C39)/(C37+C38+C39+C40+C41)","v":{"$error":"#DIV/0!"}},{"$f":"(D37+D38+D39)/(D37+D38+D39+D40+D41)","v":{"$error":"#DIV/0!"}},{"$error":"#DIV/0!"},{"$error":"#DIV/0!"},{"$error":"#DIV/0!"},{"$error":"#DIV/0!"},{"$error":"#DIV/0!"},{"$error":"#DIV/0!"},{"$error":"#DIV/0!"},{"$error":"#DIV/0!"},{"$error":"#DIV/0!"},{"$error":"#DIV/0!"},{"$error":"#DIV/0!"},{"$error":"#DIV/0!"},{"$error":"#DIV/0!"},{"$error":"#DIV/0!"},{"$error":"#DIV/0!"},{"$error":"#DIV/0!"},{"$error":"#DIV/0!"},{"$error":"#DIV/0!"},{"$error":"#DIV/0!"},{"$error":"#DIV/0!"},{"$error":"#DIV/0!"},{"$error":"#DIV/0!"},{"$error":"#DIV/0!"},{"$error":"#DIV/0!"},{"$error":"#DIV/0!"},{"$error":"#DIV/0!"},{"$error":"#DIV/0!"},{"$f":"('2 Б(2)'!D2-'2 Б(2)'!C43-'2 Б(2)'!C53)/'2 Б(2)'!D2","v":1}]
[null,"Качество знаний:",{"$f":"(C37+C38)/(C37+C38+C39+C40+C41)","v":{"$error":"#DIV/0!"}},{"$f":"(D37+D38)/(D37+D38+D39+D40+D41)","v":{"$error":"#DIV/0!"}},{"$error":"#DIV/0!"},{"$error":"#DIV/0!"},{"$error":"#DIV/0!"},{"$error":"#DIV/0!"},{"$error":"#DIV/0!"},{"$error":"#DIV/0!"},{"$error":"#DIV/0!"},{"$error":"#DIV/0!"},{"$error":"#DIV/0!"},{"$error":"#DIV/0!"},{"$error":"#DIV/0!"},{"$error":"#DIV/0!"},{"$error":"#DIV/0!"},{"$error":"#DIV/0!"},{"$error":"#DIV/0!"},{"$error":"#DIV/0!"},{"$error":"#DIV/0!"},{"$error":"#DIV/0!"},{"$error":"#DIV/0!"},{"$error":"#DIV/0!"},{"$error":"#DIV/0!"},{"$error":"#DIV/0!"},{"$error":"#DIV/0!"},{"$error":"#DIV/0!"},{"$error":"#DIV/0!"},{"$error":"#DIV/0!"},{"$error":"#DIV/0!"},{"$f":"('2 Б(2)'!C3+'2 Б(2)'!C18)/'2 Б(2)'!D2","v":0}]
[null,"Степень обученности:",{"$f":"(C37+C38*0.64+C39*0.36+C40*0.16)/(C37+C38+C39+C40+C41)","v":{"$error":"#DIV/0!"}},{"$f":"(D37+D38*0.64+D39*0.36+D40*0.16)/(D37+D38+D39+D40+D41)","v":{"$error":"#DIV/0!"}},{"$error":"#DIV/0!"},{"$error":"#DIV/0!"},{"$error":"#DIV/0!"},{"$error":"#DIV/0!"},{"$error":"#DIV/0!"},{"$error":"#DIV/0!"},{"$error":"#DIV/0!"},{"$error":"#DIV/0!"},{"$error":"#DIV/0!"},{"$error":"#DIV/0!"},{"$error":"#DIV/0!"},{"$error":"#DIV/0!"},{"$error":"#DIV/0!"},{"$error":"#DIV/0!"},{"$error":"#DIV/0!"},{"$error":"#DIV/0!"},{"$error":"#DIV/0!"},{"$error":"#DIV/0!"},{"$error":"#DIV/0!"},{"$error":"#DIV/0!"},{"$error":"#DIV/0!"},{"$error":"#DIV/0!"},{"$error":"#DIV/0!"},{"$error":"#DIV/0!"},{"$error":"#DIV/0!"},{"$error":"#DIV/0!"},{"$error":"#DIV/0!"},{"$f":"(AF37+AF38*0.64+AF39*0.36+AF40*0.16)/(AF37+AF38+AF39+AF40+AF41)","v":{"$error":"#DIV/0!"}}]
[null,"Средний балл:              ",{"$f":"(C37*5+C38*4+C39*3+C40*2)/(C37+C38+C39+C40+C41)","v":{"$error":"#DIV/0!"}},{"$f":"(D37*5+D38*4+D39*3+D40*2)/(D37+D38+D39+D40+D41)","v":{"$error":"#DIV/0!"}},{"$error":"#DIV/0!"},{"$error":"#DIV/0!"},{"$error":"#DIV/0!"},{"$error":"#DIV/0!"},{"$error":"#DIV/0!"},{"$error":"#DIV/0!"},{"$error":"#DIV/0!"},{"$error":"#DIV/0!"},{"$error":"#DIV/0!"},{"$error":"#DIV/0!"},{"$error":"#DIV/0!"},{"$error":"#DIV/0!"},{"$error":"#DIV/0!"},{"$error":"#DIV/0!"},{"$error":"#DIV/0!"},{"$error":"#DIV/0!"},{"$error":"#DIV/0!"},{"$error":"#DIV/0!"},{"$error":"#DIV/0!"},{"$error":"#DIV/0!"},{"$error":"#DIV/0!"},{"$error":"#DIV/0!"},{"$error":"#DIV/0!"},{"$error":"#DIV/0!"},{"$error":"#DIV/0!"},{"$error":"#DIV/0!"},{"$error":"#DIV/0!"},{"$f":"(AF37*5+AF38*4+AF39*3+AF40*2)/(AF37+AF38+AF39+AF40+AF41)","v":{"$error":"#DIV/0!"}}]
[null,"Качество успеваемости:",{"$f":"(5*C37+4*C38)*0.2/(SUM(C37+C38+C39+C40+C41))","v":{"$error":"#DIV/0!"}},{"$f":"(5*COUNTIF(D6:D35,5)+4*COUNTIF(D6:D35,4))*0.2/(COUNTA(D6:D35)-COUNTIF(D6:D35,\"н\"))","v":{"$error":"#DIV/0!"}},{"$error":"#DIV/0!"},{"$error":"#DIV/0!"},{"$error":"#DIV/0!"},{"$error":"#DIV/0!"},{"$error":"#DIV/0!"},{"$error":"#DIV/0!"},{"$error":"#DIV/0!"},{"$error":"#DIV/0!"},{"$error":"#DIV/0!"},{"$error":"#DIV/0!"},{"$error":"#DIV/0!"},{"$error":"#DIV/0!"},{"$error":"#DIV/0!"},{"$error":"#DIV/0!"},{"$error":"#DIV/0!"},{"$error":"#DIV/0!"},{"$error":"#DIV/0!"},{"$error":"#DIV/0!"},{"$error":"#DIV/0!"},{"$error":"#DIV/0!"},{"$error":"#DIV/0!"},{"$error":"#DIV/0!"},{"$error":"#DIV/0!"},{"$error":"#DIV/0!"},{"$error":"#DIV/0!"},{"$error":"#DIV/0!"},{"$error":"#DIV/0!"},{"$f":"(5*COUNTIF(C6:AE35,5)+4*COUNTIF(C6:AE35,4))*0.2/(COUNTA(C6:AE35)-COUNTIF(C6:AE35,\"н\"))","v":{"$error":"#DIV/0!"}}]
["Выполнено с помощью программы статистического анализа результатов учебной деятельности",null,null,null,null,null,null,null,null,null,null,null,null,null,null,null,null,null,null,null,null,null,null,null,null,null,null,null,{"$f":"Титул!G31","v":"PSORUD-Klass.v.04.11.demo"},null,null,null,null,null,"3+"]
[]
[]
[]
[]
[]
[]
[]
[]
[]
[]
[]
[]
[]
[]
[]
[]
[]
[]
[]
[]
[]
[]
[]
[]
[]
[]
[]
[]
[]
[]
[]
[]
[]
[]
[]
[]
[]
[]
[]
[]
[]
[null,"Коэф.трудн.предмета",{"$f":"VLOOKUP(C$5,ШкалаТрудн!$C$5:$N$34,LEFT($Z$2,2)+1,0)","v":7},{"$f":"VLOOKUP(D$5,ШкалаТрудн!$C$5:$N$34,LEFT($Z$2,2)+1,0)","v":5},{"$f":"VLOOKUP(E$5,ШкалаТрудн!$C$5:$N$34,LEFT($Z$2,2)+1,0)","v":5},{"$f":"VLOOKUP(F$5,ШкалаТрудн!$C$5:$N$34,LEFT($Z$2,2)+1,0)","v":8},{"$f":"VLOOKUP(G$5,ШкалаТрудн!$C$5:$N$34,LEFT($Z$2,2)+1,0)","v":0},{"$f":"VLOOKUP(H$5,ШкалаТрудн!$C$5:$N$34,LEFT($Z$2,2)+1,0)","v":0},{"$f":"VLOOKUP(I$5,ШкалаТрудн!$C$5:$N$34,LEFT($Z$2,2)+1,0)","v":6},{"$f":"VLOOKUP(J$5,ШкалаТрудн!$C$5:$N$34,LEFT($Z$2,2)+1,0)","v":4},{"$f":"VLOOKUP(K$5,ШкалаТрудн!$C$5:$N$34,LEFT($Z$2,2)+1,0)","v":0},{"$f":"VLOOKUP(L$5,ШкалаТрудн!$C$5:$N$34,LEFT($Z$2,2)+1,0)","v":{"$error":"#N/A"}},{"$f":"VLOOKUP(M$5,ШкалаТрудн!$C$5:$N$34,LEFT($Z$2,2)+1,0)","v":3},{"$f":"VLOOKUP(N$5,ШкалаТрудн!$C$5:$N$34,LEFT($Z$2,2)+1,0)","v":3},{"$f":"VLOOKUP(O$5,ШкалаТрудн!$C$5:$N$34,LEFT($Z$2,2)+1,0)","v":2},{"$f":"VLOOKUP(P$5,ШкалаТрудн!$C$5:$N$34,LEFT($Z$2,2)+1,0)","v":2},{"$f":"VLOOKUP(Q$5,ШкалаТрудн!$C$5:$N$34,LEFT($Z$2,2)+1,0)","v":1},{"$f":"VLOOKUP(R$5,ШкалаТрудн!$C$5:$N$34,LEFT($Z$2,2)+1,0)","v":5},{"$f":"VLOOKUP(S$5,ШкалаТрудн!$C$5:$N$34,LEFT($Z$2,2)+1,0)","v":5},{"$f":"VLOOKUP(T$5,ШкалаТрудн!$C$5:$N$34,LEFT($Z$2,2)+1,0)","v":0},{"$f":"VLOOKUP(U$5,ШкалаТрудн!$C$5:$N$34,LEFT($Z$2,2)+1,0)","v":0},{"$f":"VLOOKUP(V$5,ШкалаТрудн!$C$5:$N$34,LEFT($Z$2,2)+1,0)","v":0},{"$f":"VLOOKUP(W$5,ШкалаТрудн!$C$5:$N$34,LEFT($Z$2,2)+1,0)","v":0},{"$f":"VLOOKUP(X$5,ШкалаТрудн!$C$5:$N$34,LEFT($Z$2,2)+1,0)","v":0},{"$f":"VLOOKUP(Y$5,ШкалаТрудн!$C$5:$N$34,LEFT($Z$2,2)+1,0)","v":1},{"$f":"VLOOKUP(Z$5,ШкалаТрудн!$C$5:$N$34,LEFT($Z$2,2)+1,0)","v":0},{"$f":"VLOOKUP(AA$5,ШкалаТрудн!$C$5:$N$34,LEFT($Z$2,2)+1,0)","v":0},{"$f":"VLOOKUP(AB$5,ШкалаТрудн!$C$5:$N$34,LEFT($Z$2,2)+1,0)","v":{"$error":"#N/A"}},{"$f":"VLOOKUP(AC$5,ШкалаТрудн!$C$5:$N$34,LEFT($Z$2,2)+1,0)","v":{"$error":"#N/A"}},{"$f":"VLOOKUP(AD$5,ШкалаТрудн!$C$5:$N$34,LEFT($Z$2,2)+1,0)","v":{"$error":"#N/A"}},{"$f":"VLOOKUP(AE$5,ШкалаТрудн!$C$5:$N$34,LEFT($Z$2,2)+1,0)","v":{"$error":"#N/A"}}]
[null,null,{"$f":"C6*C$90","v":0},0,0,0,0,0,0,0,0,{"$error":"#N/A"},0,0,0,0,0,0,0,0,0,0,0,0,0,0,0,{"$error":"#N/A"},{"$error":"#N/A"},{"$error":"#N/A"},{"$error":"#N/A"}]
[null,null,{"$f":"C7*C$90","v":0},0,0,0,0,0,0,0,0,{"$error":"#N/A"},0,0,0,0,0,0,0,0,0,0,0,0,0,0,0,{"$error":"#N/A"},{"$error":"#N/A"},{"$error":"#N/A"},{"$error":"#N/A"}]
[null,null,{"$f":"C8*C$90","v":0},0,0,0,0,0,0,0,0,{"$error":"#N/A"},0,0,0,0,0,0,0,0,0,0,0,0,0,0,0,{"$error":"#N/A"},{"$error":"#N/A"},{"$error":"#N/A"},{"$error":"#N/A"}]
[null,null,{"$f":"C9*C$90","v":0},0,0,0,0,0,0,0,0,{"$error":"#N/A"},0,0,0,0,0,0,0,0,0,0,0,0,0,0,0,{"$error":"#N/A"},{"$error":"#N/A"},{"$error":"#N/A"},{"$error":"#N/A"}]
[null,null,{"$f":"C10*C$90","v":0},0,0,0,0,0,0,0,0,{"$error":"#N/A"},0,0,0,0,0,0,0,0,0,0,0,0,0,0,0,{"$error":"#N/A"},{"$error":"#N/A"},{"$error":"#N/A"},{"$error":"#N/A"}]
[null,null,{"$f":"C11*C$90","v":0},0,0,0,0,0,0,0,0,{"$error":"#N/A"},0,0,0,0,0,0,0,0,0,0,0,0,0,0,0,{"$error":"#N/A"},{"$error":"#N/A"},{"$error":"#N/A"},{"$error":"#N/A"}]
[null,null,{"$f":"C12*C$90","v":0},0,0,0,0,0,0,0,0,{"$error":"#N/A"},0,0,0,0,0,0,0,0,0,0,0,0,0,0,0,{"$error":"#N/A"},{"$error":"#N/A"},{"$error":"#N/A"},{"$error":"#N/A"}]
[null,null,{"$f":"C13*C$90","v":0},0,0,0,0,0,0,0,0,{"$error":"#N/A"},0,0,0,0,0,0,0,0,0,0,0,0,0,0,0,{"$error":"#N/A"},{"$error":"#N/A"},{"$error":"#N/A"},{"$error":"#N/A"}]
[null,null,{"$f":"C14*C$90","v":0},0,0,0,0,0,0,0,0,{"$error":"#N/A"},0,0,0,0,0,0,0,0,0,0,0,0,0,0,0,{"$error":"#N/A"},{"$error":"#N/A"},{"$error":"#N/A"},{"$error":"#N/A"}]
[null,null,{"$f":"C15*C$90","v":0},0,0,0,0,0,0,0,0,{"$error":"#N/A"},0,0,0,0,0,0,0,0,0,0,0,0,0,0,0,{"$error":"#N/A"},{"$error":"#N/A"},{"$error":"#N/A"},{"$error":"#N/A"}]
[null,null,{"$f":"C16*C$90","v":0},0,0,0,0,0,0,0,0,{"$error":"#N/A"},0,0,0,0,0,0,0,0,0,0,0,0,0,0,0,{"$error":"#N/A"},{"$error":"#N/A"},{"$error":"#N/A"},{"$error":"#N/A"}]
[null,null,{"$f":"C17*C$90","v":0},0,0,0,0,0,0,0,0,{"$error":"#N/A"},0,0,0,0,0,0,0,0,0,0,0,0,0,0,0,{"$error":"#N/A"},{"$error":"#N/A"},{"$error":"#N/A"},{"$error":"#N/A"}]
[null,null,{"$f":"C18*C$90","v":0},0,0,0,0,0,0,0,0,{"$error":"#N/A"},0,0,0,0,0,0,0,0,0,0,0,0,0,0,0,{"$error":"#N/A"},{"$error":"#N/A"},{"$error":"#N/A"},{"$error":"#N/A"}]
[null,null,{"$f":"C19*C$90","v":0},0,0,0,0,0,0,0,0,{"$error":"#N/A"},0,0,0,0,0,0,0,0,0,0,0,0,0,0,0,{"$error":"#N/A"},{"$error":"#N/A"},{"$error":"#N/A"},{"$error":"#N/A"}]
[null,null,{"$f":"C20*C$90","v":0},0,0,0,0,0,0,0,0,{"$error":"#N/A"},0,0,0,0,0,0,0,0,0,0,0,0,0,0,0,{"$error":"#N/A"},{"$error":"#N/A"},{"$error":"#N/A"},{"$error":"#N/A"}]
[null,null,{"$f":"C21*C$90","v":0},0,0,0,0,0,0,0,0,{"$error":"#N/A"},0,0,0,0,0,0,0,0,0,0,0,0,0,0,0,{"$error":"#N/A"},{"$error":"#N/A"},{"$error":"#N/A"},{"$error":"#N/A"}]
[null,null,{"$f":"C22*C$90","v":0},0,0,0,0,0,0,0,0,{"$error":"#N/A"},0,0,0,0,0,0,0,0,0,0,0,0,0,0,0,{"$error":"#N/A"},{"$error":"#N/A"},{"$error":"#N/A"},{"$error":"#N/A"}]
[null,null,{"$f":"C23*C$90","v":0},0,0,0,0,0,0,0,0,{"$error":"#N/A"},0,0,0,0,0,0,0,0,0,0,0,0,0,0,0,{"$error":"#N/A"},{"$error":"#N/A"},{"$error":"#N/A"},{"$error":"#N/A"}]
[null,null,{"$f":"C24*C$90","v":0},0,0,0,0,0,0,0,0,{"$error":"#N/A"},0,0,0,0,0,0,0,0,0,0,0,0,0,0,0,{"$error":"#N/A"},{"$error":"#N/A"},{"$error":"#N/A"},{"$error":"#N/A"}]
[null,null,{"$f":"C25*C$90","v":0},0,0,0,0,0,0,0,0,{"$error":"#N/A"},0,0,0,0,0,0,0,0,0,0,0,0,0,0,0,{"$error":"#N/A"},{"$error":"#N/A"},{"$error":"#N/A"},{"$error":"#N/A"}]
[null,null,{"$f":"C26*C$90","v":0},0,0,0,0,0,0,0,0,{"$error":"#N/A"},0,0,0,0,0,0,0,0,0,0,0,0,0,0,0,{"$error":"#N/A"},{"$error":"#N/A"},{"$error":"#N/A"},{"$error":"#N/A"}]
[null,null,{"$f":"C27*C$90","v":0},0,0,0,0,0,0,0,0,{"$error":"#N/A"},0,0,0,0,0,0,0,0,0,0,0,0,0,0,0,{"$error":"#N/A"},{"$error":"#N/A"},{"$error":"#N/A"},{"$error":"#N/A"}]
[null,null,{"$f":"C28*C$90","v":0},0,0,0,0,0,0,0,0,{"$error":"#N/A"},0,0,0,0,0,0,0,0,0,0,0,0,0,0,0,{"$error":"#N/A"},{"$error":"#N/A"},{"$error":"#N/A"},{"$error":"#N/A"}]
[null,null,{"$f":"C29*C$90","v":0},0,0,0,0,0,0,0,0,{"$error":"#N/A"},0,0,0,0,0,0,0,0,0,0,0,0,0,0,0,{"$error":"#N/A"},{"$error":"#N/A"},{"$error":"#N/A"},{"$error":"#N/A"}]
[null,null,{"$f":"C30*C$90","v":0},0,0,0,0,0,0,0,0,{"$error":"#N/A"},0,0,0,0,0,0,0,0,0,0,0,0,0,0,0,{"$error":"#N/A"},{"$error":"#N/A"},{"$error":"#N/A"},{"$error":"#N/A"}]
[null,null,{"$f":"C31*C$90","v":0},0,0,0,0,0,0,0,0,{"$error":"#N/A"},0,0,0,0,0,0,0,0,0,0,0,0,0,0,0,{"$error":"#N/A"},{"$error":"#N/A"},{"$error":"#N/A"},{"$error":"#N/A"}]
[null,null,{"$f":"C32*C$90","v":0},0,0,0,0,0,0,0,0,{"$error":"#N/A"},0,0,0,0,0,0,0,0,0,0,0,0,0,0,0,{"$error":"#N/A"},{"$error":"#N/A"},{"$error":"#N/A"},{"$error":"#N/A"}]
[null,null,{"$f":"C33*C$90","v":0},0,0,0,0,0,0,0,0,{"$error":"#N/A"},0,0,0,0,0,0,0,0,0,0,0,0,0,0,0,{"$error":"#N/A"},{"$error":"#N/A"},{"$error":"#N/A"},{"$error":"#N/A"}]
[null,null,{"$f":"C34*C$90","v":0},0,0,0,0,0,0,0,0,{"$error":"#N/A"},0,0,0,0,0,0,0,0,0,0,0,0,0,0,0,{"$error":"#N/A"},{"$error":"#N/A"},{"$error":"#N/A"},{"$error":"#N/A"}]
[null,null,{"$f":"#REF!*C$90","v":{"$error":"#REF!"}},{"$f":"#REF!*D$90","v":{"$error":"#REF!"}},{"$f":"#REF!*E$90","v":{"$error":"#REF!"}},{"$f":"#REF!*F$90","v":{"$error":"#REF!"}},{"$f":"#REF!*G$90","v":{"$error":"#REF!"}},{"$f":"#REF!*H$90","v":{"$error":"#REF!"}},{"$f":"#REF!*I$90","v":{"$error":"#REF!"}},{"$f":"#REF!*J$90","v":{"$error":"#REF!"}},{"$f":"#REF!*K$90","v":{"$error":"#REF!"}},{"$f":"#REF!*L$90","v":{"$error":"#REF!"}},{"$f":"#REF!*M$90","v":{"$error":"#REF!"}},{"$f":"#REF!*N$90","v":{"$error":"#REF!"}},{"$f":"#REF!*O$90","v":{"$error":"#REF!"}},{"$f":"#REF!*P$90","v":{"$error":"#REF!"}},{"$f":"#REF!*Q$90","v":{"$error":"#REF!"}},{"$f":"#REF!*R$90","v":{"$error":"#REF!"}},{"$f":"#REF!*S$90","v":{"$error":"#REF!"}},{"$f":"#REF!*T$90","v":{"$error":"#REF!"}},{"$f":"#REF!*U$90","v":{"$error":"#REF!"}},{"$f":"#REF!*V$90","v":{"$error":"#REF!"}},{"$f":"#REF!*W$90","v":{"$error":"#REF!"}},{"$f":"#REF!*X$90","v":{"$error":"#REF!"}},{"$f":"#REF!*Y$90","v":{"$error":"#REF!"}},{"$f":"#REF!*Z$90","v":{"$error":"#REF!"}},{"$f":"#REF!*AA$90","v":{"$error":"#REF!"}},{"$f":"#REF!*AB$90","v":{"$error":"#REF!"}},{"$f":"#REF!*AC$90","v":{"$error":"#REF!"}},{"$f":"#REF!*AD$90","v":{"$error":"#REF!"}},{"$f":"#REF!*AE$90","v":{"$error":"#REF!"}}]
[null,null,{"$f":"#REF!*C$90","v":{"$error":"#REF!"}},{"$f":"#REF!*D$90","v":{"$error":"#REF!"}},{"$f":"#REF!*E$90","v":{"$error":"#REF!"}},{"$f":"#REF!*F$90","v":{"$error":"#REF!"}},{"$f":"#REF!*G$90","v":{"$error":"#REF!"}},{"$f":"#REF!*H$90","v":{"$error":"#REF!"}},{"$f":"#REF!*I$90","v":{"$error":"#REF!"}},{"$f":"#REF!*J$90","v":{"$error":"#REF!"}},{"$f":"#REF!*K$90","v":{"$error":"#REF!"}},{"$f":"#REF!*L$90","v":{"$error":"#REF!"}},{"$f":"#REF!*M$90","v":{"$error":"#REF!"}},{"$f":"#REF!*N$90","v":{"$error":"#REF!"}},{"$f":"#REF!*O$90","v":{"$error":"#REF!"}},{"$f":"#REF!*P$90","v":{"$error":"#REF!"}},{"$f":"#REF!*Q$90","v":{"$error":"#REF!"}},{"$f":"#REF!*R$90","v":{"$error":"#REF!"}},{"$f":"#REF!*S$90","v":{"$error":"#REF!"}},{"$f":"#REF!*T$90","v":{"$error":"#REF!"}},{"$f":"#REF!*U$90","v":{"$error":"#REF!"}},{"$f":"#REF!*V$90","v":{"$error":"#REF!"}},{"$f":"#REF!*W$90","v":{"$error":"#REF!"}},{"$f":"#REF!*X$90","v":{"$error":"#REF!"}},{"$f":"#REF!*Y$90","v":{"$error":"#REF!"}},{"$f":"#REF!*Z$90","v":{"$error":"#REF!"}},{"$f":"#REF!*AA$90","v":{"$error":"#REF!"}},{"$f":"#REF!*AB$90","v":{"$error":"#REF!"}},{"$f":"#REF!*AC$90","v":{"$error":"#REF!"}},{"$f":"#REF!*AD$90","v":{"$error":"#REF!"}},{"$f":"#REF!*AE$90","v":{"$error":"#REF!"}}]
[null,null,{"$f":"#REF!*C$90","v":{"$error":"#REF!"}},{"$f":"#REF!*D$90","v":{"$error":"#REF!"}},{"$f":"#REF!*E$90","v":{"$error":"#REF!"}},{"$f":"#REF!*F$90","v":{"$error":"#REF!"}},{"$f":"#REF!*G$90","v":{"$error":"#REF!"}},{"$f":"#REF!*H$90","v":{"$error":"#REF!"}},{"$f":"#REF!*I$90","v":{"$error":"#REF!"}},{"$f":"#REF!*J$90","v":{"$error":"#REF!"}},{"$f":"#REF!*K$90","v":{"$error":"#REF!"}},{"$f":"#REF!*L$90","v":{"$error":"#REF!"}},{"$f":"#REF!*M$90","v":{"$error":"#REF!"}},{"$f":"#REF!*N$90","v":{"$error":"#REF!"}},{"$f":"#REF!*O$90","v":{"$error":"#REF!"}},{"$f":"#REF!*P$90","v":{"$error":"#REF!"}},{"$f":"#REF!*Q$90","v":{"$error":"#REF!"}},{"$f":"#REF!*R$90","v":{"$error":"#REF!"}},{"$f":"#REF!*S$90","v":{"$error":"#REF!"}},{"$f":"#REF!*T$90","v":{"$error":"#REF!"}},{"$f":"#REF!*U$90","v":{"$error":"#REF!"}},{"$f":"#REF!*V$90","v":{"$error":"#REF!"}},{"$f":"#REF!*W$90","v":{"$error":"#REF!"}},{"$f":"#REF!*X$90","v":{"$error":"#REF!"}},{"$f":"#REF!*Y$90","v":{"$error":"#REF!"}},{"$f":"#REF!*Z$90","v":{"$error":"#REF!"}},{"$f":"#REF!*AA$90","v":{"$error":"#REF!"}},{"$f":"#REF!*AB$90","v":{"$error":"#REF!"}},{"$f":"#REF!*AC$90","v":{"$error":"#REF!"}},{"$f":"#REF!*AD$90","v":{"$error":"#REF!"}},{"$f":"#REF!*AE$90","v":{"$error":"#REF!"}}]
[null,null,{"$f":"#REF!*C$90","v":{"$error":"#REF!"}},{"$f":"#REF!*D$90","v":{"$error":"#REF!"}},{"$f":"#REF!*E$90","v":{"$error":"#REF!"}},{"$f":"#REF!*F$90","v":{"$error":"#REF!"}},{"$f":"#REF!*G$90","v":{"$error":"#REF!"}},{"$f":"#REF!*H$90","v":{"$error":"#REF!"}},{"$f":"#REF!*I$90","v":{"$error":"#REF!"}},{"$f":"#REF!*J$90","v":{"$error":"#REF!"}},{"$f":"#REF!*K$90","v":{"$error":"#REF!"}},{"$f":"#REF!*L$90","v":{"$error":"#REF!"}},{"$f":"#REF!*M$90","v":{"$error":"#REF!"}},{"$f":"#REF!*N$90","v":{"$error":"#REF!"}},{"$f":"#REF!*O$90","v":{"$error":"#REF!"}},{"$f":"#REF!*P$90","v":{"$error":"#REF!"}},{"$f":"#REF!*Q$90","v":{"$error":"#REF!"}},{"$f":"#REF!*R$90","v":{"$error":"#REF!"}},{"$f":"#REF!*S$90","v":{"$error":"#REF!"}},{"$f":"#REF!*T$90","v":{"$error":"#REF!"}},{"$f":"#REF!*U$90","v":{"$error":"#REF!"}},{"$f":"#REF!*V$90","v":{"$error":"#REF!"}},{"$f":"#REF!*W$90","v":{"$error":"#REF!"}},{"$f":"#REF!*X$90","v":{"$error":"#REF!"}},{"$f":"#REF!*Y$90","v":{"$error":"#REF!"}},{"$f":"#REF!*Z$90","v":{"$error":"#REF!"}},{"$f":"#REF!*AA$90","v":{"$error":"#REF!"}},{"$f":"#REF!*AB$90","v":{"$error":"#REF!"}},{"$f":"#REF!*AC$90","v":{"$error":"#REF!"}},{"$f":"#REF!*AD$90","v":{"$error":"#REF!"}},{"$f":"#REF!*AE$90","v":{"$error":"#REF!"}}]
[null,null,{"$f":"#REF!*C$90","v":{"$error":"#REF!"}},{"$f":"#REF!*D$90","v":{"$error":"#REF!"}},{"$f":"#REF!*E$90","v":{"$error":"#REF!"}},{"$f":"#REF!*F$90","v":{"$error":"#REF!"}},{"$f":"#REF!*G$90","v":{"$error":"#REF!"}},{"$f":"#REF!*H$90","v":{"$error":"#REF!"}},{"$f":"#REF!*I$90","v":{"$error":"#REF!"}},{"$f":"#REF!*J$90","v":{"$error":"#REF!"}},{"$f":"#REF!*K$90","v":{"$error":"#REF!"}},{"$f":"#REF!*L$90","v":{"$error":"#REF!"}},{"$f":"#REF!*M$90","v":{"$error":"#REF!"}},{"$f":"#REF!*N$90","v":{"$error":"#REF!"}},{"$f":"#REF!*O$90","v":{"$error":"#REF!"}},{"$f":"#REF!*P$90","v":{"$error":"#REF!"}},{"$f":"#REF!*Q$90","v":{"$error":"#REF!"}},{"$f":"#REF!*R$90","v":{"$error":"#REF!"}},{"$f":"#REF!*S$90","v":{"$error":"#REF!"}},{"$f":"#REF!*T$90","v":{"$error":"#REF!"}},{"$f":"#REF!*U$90","v":{"$error":"#REF!"}},{"$f":"#REF!*V$90","v":{"$error":"#REF!"}},{"$f":"#REF!*W$90","v":{"$error":"#REF!"}},{"$f":"#REF!*X$90","v":{"$error":"#REF!"}},{"$f":"#REF!*Y$90","v":{"$error":"#REF!"}},{"$f":"#REF!*Z$90","v":{"$error":"#REF!"}},{"$f":"#REF!*AA$90","v":{"$error":"#REF!"}},{"$f":"#REF!*AB$90","v":{"$error":"#REF!"}},{"$f":"#REF!*AC$90","v":{"$error":"#REF!"}},{"$f":"#REF!*AD$90","v":{"$error":"#REF!"}},{"$f":"#REF!*AE$90","v":{"$error":"#REF!"}}]
[null,null,{"$f":"#REF!*C$90","v":{"$error":"#REF!"}},{"$f":"#REF!*D$90","v":{"$error":"#REF!"}},{"$f":"#REF!*E$90","v":{"$error":"#REF!"}},{"$f":"#REF!*F$90","v":{"$error":"#REF!"}},{"$f":"#REF!*G$90","v":{"$error":"#REF!"}},{"$f":"#REF!*H$90","v":{"$error":"#REF!"}},{"$f":"#REF!*I$90","v":{"$error":"#REF!"}},{"$f":"#REF!*J$90","v":{"$error":"#REF!"}},{"$f":"#REF!*K$90","v":{"$error":"#REF!"}},{"$f":"#REF!*L$90","v":{"$error":"#REF!"}},{"$f":"#REF!*M$90","v":{"$error":"#REF!"}},{"$f":"#REF!*N$90","v":{"$error":"#REF!"}},{"$f":"#REF!*O$90","v":{"$error":"#REF!"}},{"$f":"#REF!*P$90","v":{"$error":"#REF!"}},{"$f":"#REF!*Q$90","v":{"$error":"#REF!"}},{"$f":"#REF!*R$90","v":{"$error":"#REF!"}},{"$f":"#REF!*S$90","v":{"$error":"#REF!"}},{"$f":"#REF!*T$90","v":{"$error":"#REF!"}},{"$f":"#REF!*U$90","v":{"$error":"#REF!"}},{"$f":"#REF!*V$90","v":{"$error":"#REF!"}},{"$f":"#REF!*W$90","v":{"$error":"#REF!"}},{"$f":"#REF!*X$90","v":{"$error":"#REF!"}},{"$f":"#REF!*Y$90","v":{"$error":"#REF!"}},{"$f":"#REF!*Z$90","v":{"$error":"#REF!"}},{"$f":"#REF!*AA$90","v":{"$error":"#REF!"}},{"$f":"#REF!*AB$90","v":{"$error":"#REF!"}},{"$f":"#REF!*AC$90","v":{"$error":"#REF!"}},{"$f":"#REF!*AD$90","v":{"$error":"#REF!"}},{"$f":"#REF!*AE$90","v":{"$error":"#REF!"}}]
[null,null,{"$f":"#REF!*C$90","v":{"$error":"#REF!"}},{"$f":"#REF!*D$90","v":{"$error":"#REF!"}},{"$f":"#REF!*E$90","v":{"$error":"#REF!"}},{"$f":"#REF!*F$90","v":{"$error":"#REF!"}},{"$f":"#REF!*G$90","v":{"$error":"#REF!"}},{"$f":"#REF!*H$90","v":{"$error":"#REF!"}},{"$f":"#REF!*I$90","v":{"$error":"#REF!"}},{"$f":"#REF!*J$90","v":{"$error":"#REF!"}},{"$f":"#REF!*K$90","v":{"$error":"#REF!"}},{"$f":"#REF!*L$90","v":{"$error":"#REF!"}},{"$f":"#REF!*M$90","v":{"$error":"#REF!"}},{"$f":"#REF!*N$90","v":{"$error":"#REF!"}},{"$f":"#REF!*O$90","v":{"$error":"#REF!"}},{"$f":"#REF!*P$90","v":{"$error":"#REF!"}},{"$f":"#REF!*Q$90","v":{"$error":"#REF!"}},{"$f":"#REF!*R$90","v":{"$error":"#REF!"}},{"$f":"#REF!*S$90","v":{"$error":"#REF!"}},{"$f":"#REF!*T$90","v":{"$error":"#REF!"}},{"$f":"#REF!*U$90","v":{"$error":"#REF!"}},{"$f":"#REF!*V$90","v":{"$error":"#REF!"}},{"$f":"#REF!*W$90","v":{"$error":"#REF!"}},{"$f":"#REF!*X$90","v":{"$error":"#REF!"}},{"$f":"#REF!*Y$90","v":{"$error":"#REF!"}},{"$f":"#REF!*Z$90","v":{"$error":"#REF!"}},{"$f":"#REF!*AA$90","v":{"$error":"#REF!"}},{"$f":"#REF!*AB$90","v":{"$error":"#REF!"}},{"$f":"#REF!*AC$90","v":{"$error":"#REF!"}},{"$f":"#REF!*AD$90","v":{"$error":"#REF!"}},{"$f":"#REF!*AE$90","v":{"$error":"#REF!"}}]
[null,null,{"$f":"#REF!*C$90","v":{"$error":"#REF!"}},{"$f":"#REF!*D$90","v":{"$error":"#REF!"}},{"$f":"#REF!*E$90","v":{"$error":"#REF!"}},{"$f":"#REF!*F$90","v":{"$error":"#REF!"}},{"$f":"#REF!*G$90","v":{"$error":"#REF!"}},{"$f":"#REF!*H$90","v":{"$error":"#REF!"}},{"$f":"#REF!*I$90","v":{"$error":"#REF!"}},{"$f":"#REF!*J$90","v":{"$error":"#REF!"}},{"$f":"#REF!*K$90","v":{"$error":"#REF!"}},{"$f":"#REF!*L$90","v":{"$error":"#REF!"}},{"$f":"#REF!*M$90","v":{"$error":"#REF!"}},{"$f":"#REF!*N$90","v":{"$error":"#REF!"}},{"$f":"#REF!*O$90","v":{"$error":"#REF!"}},{"$f":"#REF!*P$90","v":{"$error":"#REF!"}},{"$f":"#REF!*Q$90","v":{"$error":"#REF!"}},{"$f":"#REF!*R$90","v":{"$error":"#REF!"}},{"$f":"#REF!*S$90","v":{"$error":"#REF!"}},{"$f":"#REF!*T$90","v":{"$error":"#REF!"}},{"$f":"#REF!*U$90","v":{"$error":"#REF!"}},{"$f":"#REF!*V$90","v":{"$error":"#REF!"}},{"$f":"#REF!*W$90","v":{"$error":"#REF!"}},{"$f":"#REF!*X$90","v":{"$error":"#REF!"}},{"$f":"#REF!*Y$90","v":{"$error":"#REF!"}},{"$f":"#REF!*Z$90","v":{"$error":"#REF!"}},{"$f":"#REF!*AA$90","v":{"$error":"#REF!"}},{"$f":"#REF!*AB$90","v":{"$error":"#REF!"}},{"$f":"#REF!*AC$90","v":{"$error":"#REF!"}},{"$f":"#REF!*AD$90","v":{"$error":"#REF!"}},{"$f":"#REF!*AE$90","v":{"$error":"#REF!"}}]
[null,null,{"$f":"#REF!*C$90","v":{"$error":"#REF!"}},{"$f":"#REF!*D$90","v":{"$error":"#REF!"}},{"$f":"#REF!*E$90","v":{"$error":"#REF!"}},{"$f":"#REF!*F$90","v":{"$error":"#REF!"}},{"$f":"#REF!*G$90","v":{"$error":"#REF!"}},{"$f":"#REF!*H$90","v":{"$error":"#REF!"}},{"$f":"#REF!*I$90","v":{"$error":"#REF!"}},{"$f":"#REF!*J$90","v":{"$error":"#REF!"}},{"$f":"#REF!*K$90","v":{"$error":"#REF!"}},{"$f":"#REF!*L$90","v":{"$error":"#REF!"}},{"$f":"#REF!*M$90","v":{"$error":"#REF!"}},{"$f":"#REF!*N$90","v":{"$error":"#REF!"}},{"$f":"#REF!*O$90","v":{"$error":"#REF!"}},{"$f":"#REF!*P$90","v":{"$error":"#REF!"}},{"$f":"#REF!*Q$90","v":{"$error":"#REF!"}},{"$f":"#REF!*R$90","v":{"$error":"#REF!"}},{"$f":"#REF!*S$90","v":{"$error":"#REF!"}},{"$f":"#REF!*T$90","v":{"$error":"#REF!"}},{"$f":"#REF!*U$90","v":{"$error":"#REF!"}},{"$f":"#REF!*V$90","v":{"$error":"#REF!"}},{"$f":"#REF!*W$90","v":{"$error":"#REF!"}},{"$f":"#REF!*X$90","v":{"$error":"#REF!"}},{"$f":"#REF!*Y$90","v":{"$error":"#REF!"}},{"$f":"#REF!*Z$90","v":{"$error":"#REF!"}},{"$f":"#REF!*AA$90","v":{"$error":"#REF!"}},{"$f":"#REF!*AB$90","v":{"$error":"#REF!"}},{"$f":"#REF!*AC$90","v":{"$error":"#REF!"}},{"$f":"#REF!*AD$90","v":{"$error":"#REF!"}},{"$f":"#REF!*AE$90","v":{"$error":"#REF!"}}]
[null,null,{"$f":"#REF!*C$90","v":{"$error":"#REF!"}},{"$f":"#REF!*D$90","v":{"$error":"#REF!"}},{"$f":"#REF!*E$90","v":{"$error":"#REF!"}},{"$f":"#REF!*F$90","v":{"$error":"#REF!"}},{"$f":"#REF!*G$90","v":{"$error":"#REF!"}},{"$f":"#REF!*H$90","v":{"$error":"#REF!"}},{"$f":"#REF!*I$90","v":{"$error":"#REF!"}},{"$f":"#REF!*J$90","v":{"$error":"#REF!"}},{"$f":"#REF!*K$90","v":{"$error":"#REF!"}},{"$f":"#REF!*L$90","v":{"$error":"#REF!"}},{"$f":"#REF!*M$90","v":{"$error":"#REF!"}},{"$f":"#REF!*N$90","v":{"$error":"#REF!"}},{"$f":"#REF!*O$90","v":{"$error":"#REF!"}},{"$f":"#REF!*P$90","v":{"$error":"#REF!"}},{"$f":"#REF!*Q$90","v":{"$error":"#REF!"}},{"$f":"#REF!*R$90","v":{"$error":"#REF!"}},{"$f":"#REF!*S$90","v":{"$error":"#REF!"}},{"$f":"#REF!*T$90","v":{"$error":"#REF!"}},{"$f":"#REF!*U$90","v":{"$error":"#REF!"}},{"$f":"#REF!*V$90","v":{"$error":"#REF!"}},{"$f":"#REF!*W$90","v":{"$error":"#REF!"}},{"$f":"#REF!*X$90","v":{"$error":"#REF!"}},{"$f":"#REF!*Y$90","v":{"$error":"#REF!"}},{"$f":"#REF!*Z$90","v":{"$error":"#REF!"}},{"$f":"#REF!*AA$90","v":{"$error":"#REF!"}},{"$f":"#REF!*AB$90","v":{"$error":"#REF!"}},{"$f":"#REF!*AC$90","v":{"$error":"#REF!"}},{"$f":"#REF!*AD$90","v":{"$error":"#REF!"}},{"$f":"#REF!*AE$90","v":{"$error":"#REF!"}}]
[null,null,{"$f":"C35*C$90","v":0},0,0,0,0,0,0,0,0,{"$error":"#N/A"},0,0,0,0,0,0,0,0,0,0,0,0,0,0,0,{"$error":"#N/A"},{"$error":"#N/A"},{"$error":"#N/A"},{"$error":"#N/A"}]

{"sheet":"2 Б(2)","index":8,"n_rows":82,"n_cols":8,"rows_kept":82,"cut":false,"hidden":true,"merged":[[0,4,0,7],[0,0,0,3],[3,0,15,0],[67,0,67,1],[52,0,52,1],[42,0,42,1],[17,0,17,1],[1,0,1,2],[2,0,2,1]]}
[{"$f":"Титул!B10","v":"2 Б"},null,null,null,"Страница заполняется автоматически, без участия оператора!!!"]
["Всего учащихся в классе:",null,null,{"$f":"Титул!C10","v":25},"Фамилии, имена               учащихся","Учебные предметы","Фамилии и инициалы учителей","Пояснения, примечания, причины"]
["Учатся на  \"5\":",null,{"$f":"COUNTA(E3:E17)","v":0},1]
[null,null,null,2]
[null,null,null,3]
[null,null,null,4]
[null,null,null,5]
[null,null,null,6]
[null,null,null,7]
[null,null,null,8]
[null,null,null,9]
[null,null,null,10]
[null,null,null,11]
[null,null,null,12]
[null,null,null,13]
[null,null,null,14]
[null,null,null,15]
["Учатся  на \"4\"и\"5\"",null,{"$f":"COUNTA(E18:E42)","v":0},1]
[null," ",null,2]
[null,null,null,3]
[null,null,null,4]
[null,null,null,5]
[null,null,null,6]
[null,null,null,7]
[null,null,null,8]
[null,null,null,9]
[null,null,null,10]
[null,null,null,11]
[null,null,null,12]
[null,null,null,13]
[null,null,null,14]
[null,null,null,15]
[null,null,null,16]
[null,null,null,17]
[null,null,null,18]
[null,null,null,19]
[null,null,null,20]
[null,null,null,21]
[null,null,null,22]
[null,null,null,23]
[null,null,null,24]
[null,null,null,25]
["Не аттестованы:",null,{"$f":"COUNTA(E43:E52)","v":0},1]
[null," ",null,2]
[null,null,null,3]
[null,null,null,4]
[null,null,null,5]
[null,null,null,6]
[null,null,null,7]
[null,null,null,8]
[null,null,null,9]
[null,null,null,10]
["Не успевают:",null,{"$f":"COUNTA(E53:E67)","v":0},1]
[null," ",null,2]
[null,null,null,3]
[null,null,null,4]
[null,null,null,5]
[null,null,null,6]
[null,null,null,7]
[null,null,null,8]
[null,null,null,9]
[null,null,null,10]
[null,null,null,11]
[null,null,null,12]
[null,null,null,13]
[null,null,null,14]
[null,null,null,15]
["Освобождены:",null,{"$f":"COUNTA(E68:E82)","v":0},1]
[null," ",null,2]
[null,null,null,3]
[null,null,null,4]
[null,null,null,5]
[null,null,null,6]
[null,null,null,7]
[null,null,null,8]
[null,null,null,9]
[null,null,null,10]
[null,null,null,11]
[null,null,null,12]
[null,null,null,13]
[null,null,null,14]
[null,null,null,15]

{"sheet":"2 В","index":9,"n_rows":130,"n_cols":35,"rows_kept":130,"cut":false,"hidden":true,"merged":[[0,26,0,32],[3,2,3,30],[0,0,0,2],[0,3,0,25],[2,4,2,17],[3,31,3,34],[2,23,2,34],[2,18,2,22],[1,29,1,31],[1,25,1,28],[1,0,1,24],[2,0,2,3],[47,0,47,26],[46,31,46,34],[45,31,45,34],[44,31,44,34],[43,31,43,34],[47,28,47,33],[35,31,35,34],[38,31,38,34],[37,31,37,34],[36,31,36,34],[3,0,4,1],[35,0,35,1],[36,0,46,0],[42,31,42,34],[41,31,41,34],[40,31,40,34],[39,31,39,34]]}
[{"$f":"Титул!B5","v":"2014/15 учебный год"},null,null,{"$f":"Титул!B4","v":"МОУ СОШ  № 15"},null,null,null,null,null,null,null,null,null,null,null,null,null,null,null,null,null,null,null,null,null,null,{"$f":"Титул!B6","v":"4 четверть"},null,null,null,null,null,null,null,"3+"]
["ВЕДОМОСТЬ  РЕЗУЛЬТАТОВ  УЧЕБНОЙ  ДЕЯТЕЛЬНОСТИ",null,null,null,null,null,null,null,null,null,null,null,null,null,null,null,null,null,null,null,null,null,null,null,null,{"$f":"Титул!B11","v":"2 В"},null,null,null,"класса"]
["Классный руководитель:",null,null,null,{"$f":"Титул!D11","v":"Цилина О.В."},null,null,null,null,null,null,null,null,null,null,null,null,null,"Программа:",null,null,null,null,{"$f":"Титул!G11","v":"УМК \"Школа России\" (ЗПР)"}]
["Вручную вносятся только оценки \"5\", \"4\", \"3\", \"2\", \"1\". \nНе аттестованным проставляется \"0\", освобожденным - \"Н\".  ",null,"У  ч  е  б  н  ы  е      п  р  е  д  м  е  т  ы",null,null,null,null,null,null,null,null,null,null,null,null,null,null,null,null,null,null,null,null,null,null,null,null,null,null,null,null,"Результаты ученика:"]
[null,null,{"$f":"Нагрузка!C3","v":"Русский язык"},{"$f":"Нагрузка!D3","v":"Литература"},{"$f":"Нагрузка!E3","v":"Иностранный язык"},{"$f":"Нагрузка!F3","v":"Математика"},{"$f":"Нагрузка!G3","v":"Алгебра"},{"$f":"Нагрузка!H3","v":"Геометрия"},{"$f":"Нагрузка!I3","v":"Информатика"},{"$f":"Нагрузка!J3","v":"История"},{"$f":"Нагрузка!K3","v":"Обществознание"},{"$f":"Нагрузка!L3","v":"Окружающий мир"},{"$f":"Нагрузка!M3","v":"ИЗО"},{"$f":"Нагрузка!N3","v":"Музыка"},{"$f":"Нагрузка!O3","v":"Технология"},{"$f":"Нагрузка!P3","v":"Технология"},{"$f":"Нагрузка!Q3","v":"ФЗК"},{"$f":"Нагрузка!R3","v":"Иностранный язык"},{"$f":"Нагрузка!S3","v":"Иностранный язык"},{"$f":"Нагрузка!T3","v":"География"},{"$f":"Нагрузка!U3","v":"Физика"},{"$f":"Нагрузка!V3","v":"Химия"},{"$f":"Нагрузка!W3","v":"Биология"},{"$f":"Нагрузка!X3","v":"МХК"},{"$f":"Нагрузка!Y3","v":"ФЗК"},{"$f":"Нагрузка!Z3","v":"ОБЖ"},{"$f":"Нагрузка!AA3","v":"Природоведение"},{"$f":"Нагрузка!AB3","v":0},{"$f":"Нагрузка!AC3","v":0},{"$f":"Нагрузка!AD3","v":0},{"$f":"Нагрузка!AE3","v":0},"Средний балл:","Степень обученности (СОУ):","Качество успеваемости:","Рейтинговый учебный балл:"]
[1,{"$f":"СпискиКлассы!D4","v":"Баженов Егор"},null,null,null,null,null,null,null,null,null,null,null,null,null,null,null,null,null,null,null,null,null,null,null,null,null,null,null,null,null,{"$f":"AVERAGE(C6:AE6)","v":{"$error":"#DIV/0!"}},{"$f":"(COUNTIF(C6:AE6,\"5\")+COUNTIF(C6:AE6,\"4\")*0.64+COUNTIF(C6:AE6,\"3\")*0.36+COUNTIF(C6:AE6,\"2\")*0.16)/(COUNTIF(C6:AE6,\"5\")+COUNTIF(C6:AE6,\"4\")+COUNTIF(C6:AE6,\"3\")+COUNTIF(C6:AE6,\"2\")+COUNTIF(C6:AE6,\"0\"))","v":{"$error":"#DIV/0!"}},{"$f":"((5*COUNTIF(C6:AE6,\"5\"))+(4*COUNTIF(C6:AE6,\"4\")))/(5*(COUNTA(C6:AE6)-COUNTIF(C6:AE6,\"н\")))","v":{"$error":"#DIV/0!"}},{"$f":"SUMIF(C91:AE91,\">0\",C91:AE91)/(COUNTIF(C6:AE6,\">0\")+COUNTIF(C6:AE6,\"=0\")+COUNTIF(C6:AE6,\"Н\"))","v":{"$error":"#DIV/0!"}}]
[{"$f":"A6+1","v":2},{"$f":"СпискиКлассы!D5","v":"Вдовченок Мария"},null,null,null,null,null,null,null,null,null,null,null,null,null,null,null,null,null,null,null,null,null,null,null,null,null,null,null,null,null,{"$f":"AVERAGE(C7:AE7)","v":{"$error":"#DIV/0!"}},{"$f":"(COUNTIF(C7:AE7,\"5\")+COUNTIF(C7:AE7,\"4\")*0.64+COUNTIF(C7:AE7,\"3\")*0.36+COUNTIF(C7:AE7,\"2\")*0.16)/(COUNTIF(C7:AE7,\"5\")+COUNTIF(C7:AE7,\"4\")+COUNTIF(C7:AE7,\"3\")+COUNTIF(C7:AE7,\"2\")+COUNTIF(C7:AE7,\"0\"))","v":{"$error":"#DIV/0!"}},{"$f":"((5*COUNTIF(C7:AE7,\"5\"))+(4*COUNTIF(C7:AE7,\"4\")))/(5*(COUNTA(C7:AE7)-COUNTIF(C7:AE7,\"н\")))","v":{"$error":"#DIV/0!"}},{"$error":"#DIV/0!"}]
[3,{"$f":"СпискиКлассы!D6","v":"Воробьев Владислав"},null,null,null,null,null,null,null,null,null,null,null,null,null,null,null,null,null,null,null,null,null,null,null,null,null,null,null,null,null,{"$f":"AVERAGE(C8:AE8)","v":{"$error":"#DIV/0!"}},{"$error":"#DIV/0!"},{"$error":"#DIV/0!"},{"$error":"#DIV/0!"}]
[4,{"$f":"СпискиКлассы!D7","v":"Грибов Алексей"},null,null,null,null,null,null,null,null,null,null,null,null,null,null,null,null,null,null,null,null,null,null,null,null,null,null,null,null,null,{"$error":"#DIV/0!"},{"$error":"#DIV/0!"},{"$error":"#DIV/0!"},{"$error":"#DIV/0!"}]
[5,{"$f":"СпискиКлассы!D8","v":"Запорожан Олег"},null,null,null,null,null,null,null,null,null,null,null,null,null,null,null,null,null,null,null,null,null,null,null,null,null,null,null,null,null,{"$error":"#DIV/0!"},{"$error":"#DIV/0!"},{"$error":"#DIV/0!"},{"$error":"#DIV/0!"}]
[6,{"$f":"СпискиКлассы!D9","v":"Илларионов Дмитрий"},null,null,null,null,null,null,null,null,null,null,null,null,null,null,null,null,null,null,null,null,null,null,null,null,null,null,null,null,null,{"$error":"#DIV/0!"},{"$error":"#DIV/0!"},{"$error":"#DIV/0!"},{"$error":"#DIV/0!"}]
[7,{"$f":"СпискиКлассы!D10","v":"Карпов Роман"},null,null,null,null,null,null,null,null,null,null,null,null,null,null,null,null,null,null,null,null,null,null,null,null,null,null,null,null,null,{"$error":"#DIV/0!"},{"$error":"#DIV/0!"},{"$error":"#DIV/0!"},{"$error":"#DIV/0!"}]
[8,{"$f":"СпискиКлассы!D11","v":"Ковалев Владислав"},null,null,null,null,null,null,null,null,null,null,null,null,null,null,null,null,null,null,null,null,null,null,null,null,null,null,null,null,null,{"$error":"#DIV/0!"},{"$error":"#DIV/0!"},{"$error":"#DIV/0!"},{"$error":"#DIV/0!"}]
[9,{"$f":"СпискиКлассы!D12","v":"Конакова Вероника"},null,null,null,null,null,null,null,null,null,null,null,null,null,null,null,null,null,null,null,null,null,null,null,null,null,null,null,null,null,{"$error":"#DIV/0!"},{"$error":"#DIV/0!"},{"$error":"#DIV/0!"},{"$error":"#DIV/0!"}]
[10,{"$f":"СпискиКлассы!D13","v":"Кузьменко Александр"},null,null,null,null,null,null,null,null,null,null,null,null,null,null,null,null,null,null,null,null,null,null,null,null,null,null,null,null,null,{"$error":"#DIV/0!"},{"$error":"#DIV/0!"},{"$error":"#DIV/0!"},{"$error":"#DIV/0!"}]
[11,{"$f":"СпискиКлассы!D14","v":"Москвичев Сергей"},null,null,null,null,null,null,null,null,null,null,null,null,null,null,null,null,null,null,null,null,null,null,null,null,null,null,null,null,null,{"$error":"#DIV/0!"},{"$error":"#DIV/0!"},{"$error":"#DIV/0!"},{"$error":"#DIV/0!"}]
[12,{"$f":"СпискиКлассы!D15","v":"Пыленок Максимильян"},null,null,null,null,null,null,null,null,null,null,null,null,null,null,null,null,null,null,null,null,null,null,null,null,null,null,null,null,null,{"$error":"#DIV/0!"},{"$error":"#DIV/0!"},{"$error":"#DIV/0!"},{"$error":"#DIV/0!"}]
[13,{"$f":"СпискиКлассы!D16","v":"Черных Игнат"},null,null,null,null,null,null,null,null,null,null,null,null,null,null,null,null,null,null,null,null,null,null,null,null,null,null,null,null,null,{"$error":"#DIV/0!"},{"$error":"#DIV/0!"},{"$error":"#DIV/0!"},{"$error":"#DIV/0!"}]
[14,{"$f":"СпискиКлассы!D17","v":0},null,null,null,null,null,null,null,null,null,null,null,null,null,null,null,null,null,null,null,null,null,null,null,null,null,null,null,null,null,{"$error":"#DIV/0!"},{"$error":"#DIV/0!"},{"$error":"#DIV/0!"},{"$error":"#DIV/0!"}]
[15,{"$f":"СпискиКлассы!D18","v":0},null,null,null,null,null,null,null,null,null,null,null,null,null,null,null,null,null,null,null,null,null,null,null,null,null,null,null,null,null,{"$error":"#DIV/0!"},{"$error":"#DIV/0!"},{"$error":"#DIV/0!"},{"$error":"#DIV/0!"}]
[16,{"$f":"СпискиКлассы!D19","v":0},null,null,null,null,null,null,null,null,null,null,null,null,null,null,null,null,null,null,null,null,null,null,null,null,null,null,null,null,null,{"$error":"#DIV/0!"},{"$error":"#DIV/0!"},{"$error":"#DIV/0!"},{"$error":"#DIV/0!"}]
[17,{"$f":"СпискиКлассы!D20","v":0},null,null,null,null,null,null,null,null,null,null,null,null,null,null,null,null,null,null,null,null,null,null,null,null,null,null,null,null,null,{"$error":"#DIV/0!"},{"$error":"#DIV/0!"},{"$error":"#DIV/0!"},{"$error":"#DIV/0!"}]
[18,{"$f":"СпискиКлассы!D21","v":0},null,null,null,null,null,null,null,null,null,null,null,null,null,null,null,null,null,null,null,null,null,null,null,null,null,null,null,null,null,{"$error":"#DIV/0!"},{"$error":"#DIV/0!"},{"$error":"#DIV/0!"},{"$error":"#DIV/0!"}]
[19,{"$f":"СпискиКлассы!D22","v":0},null,null,null,null,null,null,null,null,null,null,null,null,null,null,null,null,null,null,null,null,null,null,null,null,null,null,null,null,null,{"$error":"#DIV/0!"},{"$error":"#DIV/0!"},{"$error":"#DIV/0!"},{"$error":"#DIV/0!"}]
[20,{"$f":"СпискиКлассы!D23","v":0},null,null,null,null,null,null,null,null,null,null,null,null,null,null,null,null,null,null,null,null,null,null,null,null,null,null,null,null,null,{"$error":"#DIV/0!"},{"$error":"#DIV/0!"},{"$error":"#DIV/0!"},{"$error":"#DIV/0!"}]
[21,{"$f":"СпискиКлассы!D24","v":0},null,null,null,null,null,null,null,null,null,null,null,null,null,null,null,null,null,null,null,null,null,null,null,null,null,null,null,null,null,{"$error":"#DIV/0!"},{"$error":"#DIV/0!"},{"$error":"#DIV/0!"},{"$error":"#DIV/0!"}]
[22,{"$f":"СпискиКлассы!D25","v":0},null,null,null,null,null,null,null,null,null,null,null,null,null,null,null,null,null,null,null,null,null,null,null,null,null,null,null,null,null,{"$error":"#DIV/0!"},{"$error":"#DIV/0!"},{"$error":"#DIV/0!"},{"$error":"#DIV/0!"}]
[23,{"$f":"СпискиКлассы!D26","v":0},null,null,null,null,null,null,null,null,null,null,null,null,null,null,null,null,null,null,null,null,null,null,null,null,null,null,null,null,null,{"$error":"#DIV/0!"},{"$error":"#DIV/0!"},{"$error":"#DIV/0!"},{"$error":"#DIV/0!"}]
[24,{"$f":"СпискиКлассы!D27","v":0},null,null,null,null,null,null,null,null,null,null,null,null,null,null,null,null,null,null,null,null,null,null,null,null,null,null,null,null,null,{"$error":"#DIV/0!"},{"$error":"#DIV/0!"},{"$error":"#DIV/0!"},{"$error":"#DIV/0!"}]
[25,{"$f":"СпискиКлассы!D28","v":0},null,null,null,null,null,null,null,null,null,null,null,null,null,null,null,null,null,null,null,null,null,null,null,null,null,null,null,null,null,{"$error":"#DIV/0!"},{"$error":"#DIV/0!"},{"$error":"#DIV/0!"},{"$error":"#DIV/0!"}]
[26,{"$f":"СпискиКлассы!D29","v":0},null,null,null,null,null,null,null,null,null,null,null,null,null,null,null,null,null,null,null,null,null,null,null,null,null,null,null,null,null,{"$f":"AVERAGE(C31:AE31)","v":{"$error":"#DIV/0!"}},{"$f":"(COUNTIF(C31:AE31,\"5\")+COUNTIF(C31:AE31,\"4\")*0.64+COUNTIF(C31:AE31,\"3\")*0.36+COUNTIF(C31:AE31,\"2\")*0.16)/(COUNTIF(C31:AE31,\"5\")+COUNTIF(C31:AE31,\"4\")+COUNTIF(C31:AE31,\"3\")+COUNTIF(C31:AE31,\"2\")+COUNTIF(C31:AE31,\"0\"))","v":{"$error":"#DIV/0!"}},{"$error":"#DIV/0!"},{"$error":"#DIV/0!"}]
[27,{"$f":"СпискиКлассы!D30","v":0},null,null,null,null,null,null,null,null,null,null,null,null,null,null,null,null,null,null,null,null,null,null,null,null,null,null,null,null,null,{"$error":"#DIV/0!"},{"$error":"#DIV/0!"},{"$error":"#DIV/0!"},{"$error":"#DIV/0!"}]
[28,{"$f":"СпискиКлассы!D31","v":0},null,null,null,null,null,null,null,null,null,null,null,null,null,null,null,null,null,null,null,null,null,null,null,null,null,null,null,null,null,{"$error":"#DIV/0!"},{"$error":"#DIV/0!"},{"$error":"#DIV/0!"},{"$error":"#DIV/0!"}]
[29,{"$f":"СпискиКлассы!D32","v":0},null,null,null,null,null,null,null,null,null,null,null,null,null,null,null,null,null,null,null,null,null,null,null,null,null,null,null,null,null,{"$error":"#DIV/0!"},{"$error":"#DIV/0!"},{"$error":"#DIV/0!"},{"$error":"#DIV/0!"}]
[30,{"$f":"СпискиКлассы!D43","v":0},null,null,null,null,null,null,null,null,null,null,null,null,null,null,null,null,null,null,null,null,null,null,null,null,null,null,null,null,null,{"$error":"#DIV/0!"},{"$error":"#DIV/0!"},{"$error":"#DIV/0!"},{"$f":"SUMIF(C130:AE130,\">0\",C130:AE130)/(COUNTIF(C35:AE35,\">0\")+COUNTIF(C35:AE35,\"=0\")+COUNTIF(C35:AE35,\"Н\"))","v":{"$error":"#DIV/0!"}}]
[" Фамилия и инициалы                                           учителя - предметника",null,{"$f":"Нагрузка!C7","v":"Цилина"},{"$f":"Нагрузка!D7","v":"Цилина"},{"$f":"Нагрузка!E7","v":0},{"$f":"Нагрузка!F7","v":"Цилина"},{"$f":"Нагрузка!G7","v":0},{"$f":"Нагрузка!H7","v":0},{"$f":"Нагрузка!I7","v":0},{"$f":"Нагрузка!J7","v":0},{"$f":"Нагрузка!K7","v":0},{"$f":"Нагрузка!L7","v":"Цилина"},{"$f":"Нагрузка!M7","v":"Цилина"},{"$f":"Нагрузка!N7","v":"Заворина"},{"$f":"Нагрузка!O7","v":"Цилина"},{"$f":"Нагрузка!P7","v":"Цилина"},{"$f":"Нагрузка!Q7","v":"Ермакова"},{"$f":"Нагрузка!R7","v":0},{"$f":"Нагрузка!S7","v":0},{"$f":"Нагрузка!T7","v":0},{"$f":"Нагрузка!U7","v":0},{"$f":"Нагрузка!V7","v":0},{"$f":"Нагрузка!W7","v":0},{"$f":"Нагрузка!X7","v":0},{"$f":"Нагрузка!Y7","v":0},{"$f":"Нагрузка!Z7","v":0},{"$f":"Нагрузка!AA7","v":0},{"$f":"Нагрузка!AB7","v":0},{"$f":"Нагрузка!AC7","v":0},{"$f":"Нагрузка!AD7","v":0},{"$f":"Нагрузка!AE7","v":0},"Показатели результатов учебной деятельности в  целом по классу:"]
["Результаты учебной деятельности класса","Количество  \"5\":",{"$f":"COUNTIF(C6:C35,5)","v":0},0,0,0,0,0,0,0,0,0,0,0,0,0,0,0,0,0,0,0,0,0,0,0,0,0,0,0,0,{"$f":"SUM(C37:AE37)","v":0}]
[null,"Количество  \"4\":",{"$f":"COUNTIF(C6:C35,4)","v":0},0,0,0,0,0,0,0,0,0,0,0,0,0,0,0,0,0,0,0,0,0,0,0,0,0,0,0,0,0]
[null,"Количество  \"3\":",{"$f":"COUNTIF(C6:C35,3)","v":0},0,0,0,0,0,0,0,0,0,0,0,0,0,0,0,0,0,0,0,0,0,0,0,0,0,0,0,0,0]
[null,"Количество  \"2\":",{"$f":"COUNTIF(C6:C35,2)","v":0},0,0,0,0,0,0,0,0,0,0,0,0,0,0,0,0,0,0,0,0,0,0,0,0,0,0,0,0,0]
[null,"Не аттестовано:",{"$f":"COUNTIF(C6:C35,0)","v":0},0,0,0,0,0,0,0,0,0,0,0,0,0,0,0,0,0,0,0,0,0,0,0,0,0,0,0,0,0]
[null,"Освобождено:",{"$f":"COUNTIF(C6:C35,\"н\")","v":0},0,0,0,0,0,0,0,0,0,0,0,0,0,0,0,0,0,0,0,0,0,0,0,0,0,0,0,0,0]
[null,"Успеваемость:",{"$f":"(C37+C38+C39)/(C37+C38+C39+C40+C41)","v":{"$error":"#DIV/0!"}},{"$f":"(D37+D38+D39)/(D37+D38+D39+D40+D41)","v":{"$error":"#DIV/0!"}},{"$error":"#DIV/0!"},{"$error":"#DIV/0!"},{"$error":"#DIV/0!"},{"$error":"#DIV/0!"},{"$error":"#DIV/0!"},{"$error":"#DIV/0!"},{"$error":"#DIV/0!"},{"$error":"#DIV/0!"},{"$error":"#DIV/0!"},{"$error":"#DIV/0!"},{"$error":"#DIV/0!"},{"$error":"#DIV/0!"},{"$error":"#DIV/0!"},{"$error":"#DIV/0!"},{"$error":"#DIV/0!"},{"$error":"#DIV/0!"},{"$error":"#DIV/0!"},{"$error":"#DIV/0!"},{"$error":"#DIV/0!"},{"$error":"#DIV/0!"},{"$error":"#DIV/0!"},{"$error":"#DIV/0!"},{"$error":"#DIV/0!"},{"$error":"#DIV/0!"},{"$error":"#DIV/0!"},{"$error":"#DIV/0!"},{"$error":"#DIV/0!"},{"$f":"('2 В(2)'!D2-'2 В(2)'!C43-'2 В(2)'!C53)/'2 В(2)'!D2","v":1}]
[null,"Качество знаний:",{"$f":"(C37+C38)/(C37+C38+C39+C40+C41)","v":{"$error":"#DIV/0!"}},{"$f":"(D37+D38)/(D37+D38+D39+D40+D41)","v":{"$error":"#DIV/0!"}},{"$error":"#DIV/0!"},{"$error":"#DIV/0!"},{"$error":"#DIV/0!"},{"$error":"#DIV/0!"},{"$error":"#DIV/0!"},{"$error":"#DIV/0!"},{"$error":"#DIV/0!"},{"$error":"#DIV/0!"},{"$error":"#DIV/0!"},{"$error":"#DIV/0!"},{"$error":"#DIV/0!"},{"$error":"#DIV/0!"},{"$error":"#DIV/0!"},{"$error":"#DIV/0!"},{"$error":"#DIV/0!"},{"$error":"#DIV/0!"},{"$error":"#DIV/0!"},{"$error":"#DIV/0!"},{"$error":"#DIV/0!"},{"$error":"#DIV/0!"},{"$error":"#DIV/0!"},{"$error":"#DIV/0!"},{"$error":"#DIV/0!"},{"$error":"#DIV/0!"},{"$error":"#DIV/0!"},{"$error":"#DIV/0!"},{"$error":"#DIV/0!"},{"$f":"('2 В(2)'!C3+'2 В(2)'!C18)/'2 В(2)'!D2","v":0}]
[null,"Степень обученности:",{"$f":"(C37+C38*0.64+C39*0.36+C40*0.16)/(C37+C38+C39+C40+C41)","v":{"$error":"#DIV/0!"}},{"$f":"(D37+D38*0.64+D39*0.36+D40*0.16)/(D37+D38+D39+D40+D41)","v":{"$error":"#DIV/0!"}},{"$error":"#DIV/0!"},{"$error":"#DIV/0!"},{"$error":"#DIV/0!"},{"$error":"#DIV/0!"},{"$error":"#DIV/0!"},{"$error":"#DIV/0!"},{"$error":"#DIV/0!"},{"$error":"#DIV/0!"},{"$error":"#DIV/0!"},{"$error":"#DIV/0!"},{"$error":"#DIV/0!"},{"$error":"#DIV/0!"},{"$error":"#DIV/0!"},{"$error":"#DIV/0!"},{"$error":"#DIV/0!"},{"$error":"#DIV/0!"},{"$error":"#DIV/0!"},{"$error":"#DIV/0!"},{"$error":"#DIV/0!"},{"$error":"#DIV/0!"},{"$error":"#DIV/0!"},{"$error":"#DIV/0!"},{"$error":"#DIV/0!"},{"$error":"#DIV/0!"},{"$error":"#DIV/0!"},{"$error":"#DIV/0!"},{"$error":"#DIV/0!"},{"$f":"(AF37+AF38*0.64+AF39*0.36+AF40*0.16)/(AF37+AF38+AF39+AF40+AF41)","v":{"$error":"#DIV/0!"}}]
[null,"Средний балл:              ",{"$f":"(C37*5+C38*4+C39*3+C40*2)/(C37+C38+C39+C40+C41)","v":{"$error":"#DIV/0!"}},{"$f":"(D37*5+D38*4+D39*3+D40*2)/(D37+D38+D39+D40+D41)","v":{"$error":"#DIV/0!"}},{"$error":"#DIV/0!"},{"$error":"#DIV/0!"},{"$error":"#DIV/0!"},{"$error":"#DIV/0!"},{"$error":"#DIV/0!"},{"$error":"#DIV/0!"},{"$error":"#DIV/0!"},{"$error":"#DIV/0!"},{"$error":"#DIV/0!"},{"$error":"#DIV/0!"},{"$error":"#DIV/0!"},{"$error":"#DIV/0!"},{"$error":"#DIV/0!"},{"$error":"#DIV/0!"},{"$error":"#DIV/0!"},{"$error":"#DIV/0!"},{"$error":"#DIV/0!"},{"$error":"#DIV/0!"},{"$error":"#DIV/0!"},{"$error":"#DIV/0!"},{"$error":"#DIV/0!"},{"$error":"#DIV/0!"},{"$error":"#DIV/0!"},{"$error":"#DIV/0!"},{"$error":"#DIV/0!"},{"$error":"#DIV/0!"},{"$error":"#DIV/0!"},{"$f":"(AF37*5+AF38*4+AF39*3+AF40*2)/(AF37+AF38+AF39+AF40+AF41)","v":{"$error":"#DIV/0!"}}]
[null,"Качество успеваемости:",{"$f":"(5*C37+4*C38)*0.2/(SUM(C37+C38+C39+C40+C41))","v":{"$error":"#DIV/0!"}},{"$f":"(5*COUNTIF(D6:D35,5)+4*COUNTIF(D6:D35,4))*0.2/(COUNTA(D6:D35)-COUNTIF(D6:D35,\"н\"))","v":{"$error":"#DIV/0!"}},{"$error":"#DIV/0!"},{"$error":"#DIV/0!"},{"$error":"#DIV/0!"},{"$error":"#DIV/0!"},{"$error":"#DIV/0!"},{"$error":"#DIV/0!"},{"$error":"#DIV/0!"},{"$error":"#DIV/0!"},{"$error":"#DIV/0!"},{"$error":"#DIV/0!"},{"$error":"#DIV/0!"},{"$error":"#DIV/0!"},{"$error":"#DIV/0!"},{"$error":"#DIV/0!"},{"$error":"#DIV/0!"},{"$error":"#DIV/0!"},{"$error":"#DIV/0!"},{"$error":"#DIV/0!"},{"$error":"#DIV/0!"},{"$error":"#DIV/0!"},{"$error":"#DIV/0!"},{"$error":"#DIV/0!"},{"$error":"#DIV/0!"},{"$error":"#DIV/0!"},{"$error":"#DIV/0!"},{"$error":"#DIV/0!"},{"$error":"#DIV/0!"},{"$f":"(5*COUNTIF(C6:AE35,5)+4*COUNTIF(C6:AE35,4))*0.2/(COUNTA(C6:AE35)-COUNTIF(C6:AE35,\"н\"))","v":{"$error":"#DIV/0!"}}]
["Выполнено с помощью программы статистического анализа результатов учебной деятельности",null,null,null,null,null,null,null,null,null,null,null,null,null,null,null,null,null,null,null,null,null,null,null,null,null,null,null,{"$f":"Титул!G31","v":"PSORUD-Klass.v.04.11.demo"},null,null,null,null,null,"3+"]
[]
[]
[]
[]
[]
[]
[]
[]
[]
[]
[]
[]
[]
[]
[]
[]
[]
[]
[]
[]
[]
[]
[]
[]
[]
[]
[]
[]
[]
[]
[]
[]
[]
[]
[]
[]
[]
[]
[]
[]
[]
[null,"Коэф.трудн.предмета",{"$f":"VLOOKUP(C$5,ШкалаТрудн!$C$5:$N$34,LEFT($Z$2,2)+1,0)","v":7},{"$f":"VLOOKUP(D$5,ШкалаТрудн!$C$5:$N$34,LEFT($Z$2,2)+1,0)","v":5},{"$f":"VLOOKUP(E$5,ШкалаТрудн!$C$5:$N$34,LEFT($Z$2,2)+1,0)","v":5},{"$f":"VLOOKUP(F$5,ШкалаТрудн!$C$5:$N$34,LEFT($Z$2,2)+1,0)","v":8},{"$f":"VLOOKUP(G$5,ШкалаТрудн!$C$5:$N$34,LEFT($Z$2,2)+1,0)","v":0},{"$f":"VLOOKUP(H$5,ШкалаТрудн!$C$5:$N$34,LEFT($Z$2,2)+1,0)","v":0},{"$f":"VLOOKUP(I$5,ШкалаТрудн!$C$5:$N$34,LEFT($Z$2,2)+1,0)","v":6},{"$f":"VLOOKUP(J$5,ШкалаТрудн!$C$5:$N$34,LEFT($Z$2,2)+1,0)","v":4},{"$f":"VLOOKUP(K$5,ШкалаТрудн!$C$5:$N$34,LEFT($Z$2,2)+1,0)","v":0},{"$f":"VLOOKUP(L$5,ШкалаТрудн!$C$5:$N$34,LEFT($Z$2,2)+1,0)","v":{"$error":"#N/A"}},{"$f":"VLOOKUP(M$5,ШкалаТрудн!$C$5:$N$34,LEFT($Z$2,2)+1,0)","v":3},{"$f":"VLOOKUP(N$5,ШкалаТрудн!$C$5:$N$34,LEFT($Z$2,2)+1,0)","v":3},{"$f":"VLOOKUP(O$5,ШкалаТрудн!$C$5:$N$34,LEFT($Z$2,2)+1,0)","v":2},{"$f":"VLOOKUP(P$5,ШкалаТрудн!$C$5:$N$34,LEFT($Z$2,2)+1,0)","v":2},{"$f":"VLOOKUP(Q$5,ШкалаТрудн!$C$5:$N$34,LEFT($Z$2,2)+1,0)","v":1},{"$f":"VLOOKUP(R$5,ШкалаТрудн!$C$5:$N$34,LEFT($Z$2,2)+1,0)","v":5},{"$f":"VLOOKUP(S$5,ШкалаТрудн!$C$5:$N$34,LEFT($Z$2,2)+1,0)","v":5},{"$f":"VLOOKUP(T$5,ШкалаТрудн!$C$5:$N$34,LEFT($Z$2,2)+1,0)","v":0},{"$f":"VLOOKUP(U$5,ШкалаТрудн!$C$5:$N$34,LEFT($Z$2,2)+1,0)","v":0},{"$f":"VLOOKUP(V$5,ШкалаТрудн!$C$5:$N$34,LEFT($Z$2,2)+1,0)","v":0},{"$f":"VLOOKUP(W$5,ШкалаТрудн!$C$5:$N$34,LEFT($Z$2,2)+1,0)","v":0},{"$f":"VLOOKUP(X$5,ШкалаТрудн!$C$5:$N$34,LEFT($Z$2,2)+1,0)","v":0},{"$f":"VLOOKUP(Y$5,ШкалаТрудн!$C$5:$N$34,LEFT($Z$2,2)+1,0)","v":1},{"$f":"VLOOKUP(Z$5,ШкалаТрудн!$C$5:$N$34,LEFT($Z$2,2)+1,0)","v":0},{"$f":"VLOOKUP(AA$5,ШкалаТрудн!$C$5:$N$34,LEFT($Z$2,2)+1,0)","v":0},{"$f":"VLOOKUP(AB$5,ШкалаТрудн!$C$5:$N$34,LEFT($Z$2,2)+1,0)","v":{"$error":"#N/A"}},{"$f":"VLOOKUP(AC$5,ШкалаТрудн!$C$5:$N$34,LEFT($Z$2,2)+1,0)","v":{"$error":"#N/A"}},{"$f":"VLOOKUP(AD$5,ШкалаТрудн!$C$5:$N$34,LEFT($Z$2,2)+1,0)","v":{"$error":"#N/A"}},{"$f":"VLOOKUP(AE$5,ШкалаТрудн!$C$5:$N$34,LEFT($Z$2,2)+1,0)","v":{"$error":"#N/A"}}]
[null,null,{"$f":"C6*C$90","v":0},0,0,0,0,0,0,0,0,{"$error":"#N/A"},0,0,0,0,0,0,0,0,0,0,0,0,0,0,0,{"$error":"#N/A"},{"$error":"#N/A"},{"$error":"#N/A"},{"$error":"#N/A"}]
[null,null,{"$f":"C7*C$90","v":0},0,0,0,0,0,0,0,0,{"$error":"#N/A"},0,0,0,0,0,0,0,0,0,0,0,0,0,0,0,{"$error":"#N/A"},{"$error":"#N/A"},{"$error":"#N/A"},{"$error":"#N/A"}]
[null,null,{"$f":"C8*C$90","v":0},0,0,0,0,0,0,0,0,{"$error":"#N/A"},0,0,0,0,0,0,0,0,0,0,0,0,0,0,0,{"$error":"#N/A"},{"$error":"#N/A"},{"$error":"#N/A"},{"$error":"#N/A"}]
[null,null,{"$f":"C9*C$90","v":0},0,0,0,0,0,0,0,0,{"$error":"#N/A"},0,0,0,0,0,0,0,0,0,0,0,0,0,0,0,{"$error":"#N/A"},{"$error":"#N/A"},{"$error":"#N/A"},{"$error":"#N/A"}]
[null,null,{"$f":"C10*C$90","v":0},0,0,0,0,0,0,0,0,{"$error":"#N/A"},0,0,0,0,0,0,0,0,0,0,0,0,0,0,0,{"$error":"#N/A"},{"$error":"#N/A"},{"$error":"#N/A"},{"$error":"#N/A"}]
[null,null,{"$f":"C11*C$90","v":0},0,0,0,0,0,0,0,0,{"$error":"#N/A"},0,0,0,0,0,0,0,0,0,0,0,0,0,0,0,{"$error":"#N/A"},{"$error":"#N/A"},{"$error":"#N/A"},{"$error":"#N/A"}]
[null,null,{"$f":"C12*C$90","v":0},0,0,0,0,0,0,0,0,{"$error":"#N/A"},0,0,0,0,0,0,0,0,0,0,0,0,0,0,0,{"$error":"#N/A"},{"$error":"#N/A"},{"$error":"#N/A"},{"$error":"#N/A"}]
[null,null,{"$f":"C13*C$90","v":0},0,0,0,0,0,0,0,0,{"$error":"#N/A"},0,0,0,0,0,0,0,0,0,0,0,0,0,0,0,{"$error":"#N/A"},{"$error":"#N/A"},{"$error":"#N/A"},{"$error":"#N/A"}]
[null,null,{"$f":"C14*C$90","v":0},0,0,0,0,0,0,0,0,{"$error":"#N/A"},0,0,0,0,0,0,0,0,0,0,0,0,0,0,0,{"$error":"#N/A"},{"$error":"#N/A"},{"$error":"#N/A"},{"$error":"#N/A"}]
[null,null,{"$f":"C15*C$90","v":0},0,0,0,0,0,0,0,0,{"$error":"#N/A"},0,0,0,0,0,0,0,0,0,0,0,0,0,0,0,{"$error":"#N/A"},{"$error":"#N/A"},{"$error":"#N/A"},{"$error":"#N/A"}]
[null,null,{"$f":"C16*C$90","v":0},0,0,0,0,0,0,0,0,{"$error":"#N/A"},0,0,0,0,0,0,0,0,0,0,0,0,0,0,0,{"$error":"#N/A"},{"$error":"#N/A"},{"$error":"#N/A"},{"$error":"#N/A"}]
[null,null,{"$f":"C17*C$90","v":0},0,0,0,0,0,0,0,0,{"$error":"#N/A"},0,0,0,0,0,0,0,0,0,0,0,0,0,0,0,{"$error":"#N/A"},{"$error":"#N/A"},{"$error":"#N/A"},{"$error":"#N/A"}]
[null,null,{"$f":"C18*C$90","v":0},0,0,0,0,0,0,0,0,{"$error":"#N/A"},0,0,0,0,0,0,0,0,0,0,0,0,0,0,0,{"$error":"#N/A"},{"$error":"#N/A"},{"$error":"#N/A"},{"$error":"#N/A"}]
[null,null,{"$f":"C19*C$90","v":0},0,0,0,0,0,0,0,0,{"$error":"#N/A"},0,0,0,0,0,0,0,0,0,0,0,0,0,0,0,{"$error":"#N/A"},{"$error":"#N/A"},{"$error":"#N/A"},{"$error":"#N/A"}]
[null,null,{"$f":"C20*C$90","v":0},0,0,0,0,0,0,0,0,{"$error":"#N/A"},0,0,0,0,0,0,0,0,0,0,0,0,0,0,0,{"$error":"#N/A"},{"$error":"#N/A"},{"$error":"#N/A"},{"$error":"#N/A"}]
[null,null,{"$f":"C21*C$90","v":0},0,0,0,0,0,0,0,0,{"$error":"#N/A"},0,0,0,0,0,0,0,0,0,0,0,0,0,0,0,{"$error":"#N/A"},{"$error":"#N/A"},{"$error":"#N/A"},{"$error":"#N/A"}]
[null,null,{"$f":"C22*C$90","v":0},0,0,0,0,0,0,0,0,{"$error":"#N/A"},0,0,0,0,0,0,0,0,0,0,0,0,0,0,0,{"$error":"#N/A"},{"$error":"#N/A"},{"$error":"#N/A"},{"$error":"#N/A"}]
[null,null,{"$f":"C23*C$90","v":0},0,0,0,0,0,0,0,0,{"$error":"#N/A"},0,0,0,0,0,0,0,0,0,0,0,0,0,0,0,{"$error":"#N/A"},{"$error":"#N/A"},{"$error":"#N/A"},{"$error":"#N/A"}]
[null,null,{"$f":"C24*C$90","v":0},0,0,0,0,0,0,0,0,{"$error":"#N/A"},0,0,0,0,0,0,0,0,0,0,0,0,0,0,0,{"$error":"#N/A"},{"$error":"#N/A"},{"$error":"#N/A"},{"$error":"#N/A"}]
[null,null,{"$f":"C25*C$90","v":0},0,0,0,0,0,0,0,0,{"$error":"#N/A"},0,0,0,0,0,0,0,0,0,0,0,0,0,0,0,{"$error":"#N/A"},{"$error":"#N/A"},{"$error":"#N/A"},{"$error":"#N/A"}]
[null,null,{"$f":"C26*C$90","v":0},0,0,0,0,0,0,0,0,{"$error":"#N/A"},0,0,0,0,0,0,0,0,0,0,0,0,0,0,0,{"$error":"#N/A"},{"$error":"#N/A"},{"$error":"#N/A"},{"$error":"#N/A"}]
[null,null,{"$f":"C27*C$90","v":0},0,0,0,0,0,0,0,0,{"$error":"#N/A"},0,0,0,0,0,0,0,0,0,0,0,0,0,0,0,{"$error":"#N/A"},{"$error":"#N/A"},{"$error":"#N/A"},{"$error":"#N/A"}]
[null,null,{"$f":"C28*C$90","v":0},0,0,0,0,0,0,0,0,{"$error":"#N/A"},0,0,0,0,0,0,0,0,0,0,0,0,0,0,0,{"$error":"#N/A"},{"$error":"#N/A"},{"$error":"#N/A"},{"$error":"#N/A"}]
[null,null,{"$f":"C29*C$90","v":0},0,0,0,0,0,0,0,0,{"$error":"#N/A"},0,0,0,0,0,0,0,0,0,0,0,0,0,0,0,{"$error":"#N/A"},{"$error":"#N/A"},{"$error":"#N/A"},{"$error":"#N/A"}]
[null,null,{"$f":"C30*C$90","v":0},0,0,0,0,0,0,0,0,{"$error":"#N/A"},0,0,0,0,0,0,0,0,0,0,0,0,0,0,0,{"$error":"#N/A"},{"$error":"#N/A"},{"$error":"#N/A"},{"$error":"#N/A"}]
[null,null,{"$f":"C31*C$90","v":0},0,0,0,0,0,0,0,0,{"$error":"#N/A"},0,0,0,0,0,0,0,0,0,0,0,0,0,0,0,{"$error":"#N/A"},{"$error":"#N/A"},{"$error":"#N/A"},{"$error":"#N/A"}]
[null,null,{"$f":"C32*C$90","v":0},0,0,0,0,0,0,0,0,{"$error":"#N/A"},0,0,0,0,0,0,0,0,0,0,0,0,0,0,0,{"$error":"#N/A"},{"$error":"#N/A"},{"$error":"#N/A"},{"$error":"#N/A"}]
[null,null,{"$f":"C33*C$90","v":0},0,0,0,0,0,0,0,0,{"$error":"#N/A"},0,0,0,0,0,0,0,0,0,0,0,0,0,0,0,{"$error":"#N/A"},{"$error":"#N/A"},{"$error":"#N/A"},{"$error":"#N/A"}]
[null,null,{"$f":"C34*C$90","v":0},0,0,0,0,0,0,0,0,{"$error":"#N/A"},0,0,0,0,0,0,0,0,0,0,0,0,0,0,0,{"$error":"#N/A"},{"$error":"#N/A"},{"$error":"#N/A"},{"$error":"#N/A"}]
[null,null,{"$f":"#REF!*C$90","v":{"$error":"#REF!"}},{"$f":"#REF!*D$90","v":{"$error":"#REF!"}},{"$f":"#REF!*E$90","v":{"$error":"#REF!"}},{"$f":"#REF!*F$90","v":{"$error":"#REF!"}},{"$f":"#REF!*G$90","v":{"$error":"#REF!"}},{"$f":"#REF!*H$90","v":{"$error":"#REF!"}},{"$f":"#REF!*I$90","v":{"$error":"#REF!"}},{"$f":"#REF!*J$90","v":{"$error":"#REF!"}},{"$f":"#REF!*K$90","v":{"$error":"#REF!"}},{"$f":"#REF!*L$90","v":{"$error":"#REF!"}},{"$f":"#REF!*M$90","v":{"$error":"#REF!"}},{"$f":"#REF!*N$90","v":{"$error":"#REF!"}},{"$f":"#REF!*O$90","v":{"$error":"#REF!"}},{"$f":"#REF!*P$90","v":{"$error":"#REF!"}},{"$f":"#REF!*Q$90","v":{"$error":"#REF!"}},{"$f":"#REF!*R$90","v":{"$error":"#REF!"}},{"$f":"#REF!*S$90","v":{"$error":"#REF!"}},{"$f":"#REF!*T$90","v":{"$error":"#REF!"}},{"$f":"#REF!*U$90","v":{"$error":"#REF!"}},{"$f":"#REF!*V$90","v":{"$error":"#REF!"}},{"$f":"#REF!*W$90","v":{"$error":"#REF!"}},{"$f":"#REF!*X$90","v":{"$error":"#REF!"}},{"$f":"#REF!*Y$90","v":{"$error":"#REF!"}},{"$f":"#REF!*Z$90","v":{"$error":"#REF!"}},{"$f":"#REF!*AA$90","v":{"$error":"#REF!"}},{"$f":"#REF!*AB$90","v":{"$error":"#REF!"}},{"$f":"#REF!*AC$90","v":{"$error":"#REF!"}},{"$f":"#REF!*AD$90","v":{"$error":"#REF!"}},{"$f":"#REF!*AE$90","v":{"$error":"#REF!"}}]
[null,null,{"$f":"#REF!*C$90","v":{"$error":"#REF!"}},{"$f":"#REF!*D$90","v":{"$error":"#REF!"}},{"$f":"#REF!*E$90","v":{"$error":"#REF!"}},{"$f":"#REF!*F$90","v":{"$error":"#REF!"}},{"$f":"#REF!*G$90","v":{"$error":"#REF!"}},{"$f":"#REF!*H$90","v":{"$error":"#REF!"}},{"$f":"#REF!*I$90","v":{"$error":"#REF!"}},{"$f":"#REF!*J$90","v":{"$error":"#REF!"}},{"$f":"#REF!*K$90","v":{"$error":"#REF!"}},{"$f":"#REF!*L$90","v":{"$error":"#REF!"}},{"$f":"#REF!*M$90","v":{"$error":"#REF!"}},{"$f":"#REF!*N$90","v":{"$error":"#REF!"}},{"$f":"#REF!*O$90","v":{"$error":"#REF!"}},{"$f":"#REF!*P$90","v":{"$error":"#REF!"}},{"$f":"#REF!*Q$90","v":{"$error":"#REF!"}},{"$f":"#REF!*R$90","v":{"$error":"#REF!"}},{"$f":"#REF!*S$90","v":{"$error":"#REF!"}},{"$f":"#REF!*T$90","v":{"$error":"#REF!"}},{"$f":"#REF!*U$90","v":{"$error":"#REF!"}},{"$f":"#REF!*V$90","v":{"$error":"#REF!"}},{"$f":"#REF!*W$90","v":{"$error":"#REF!"}},{"$f":"#REF!*X$90","v":{"$error":"#REF!"}},{"$f":"#REF!*Y$90","v":{"$error":"#REF!"}},{"$f":"#REF!*Z$90","v":{"$error":"#REF!"}},{"$f":"#REF!*AA$90","v":{"$error":"#REF!"}},{"$f":"#REF!*AB$90","v":{"$error":"#REF!"}},{"$f":"#REF!*AC$90","v":{"$error":"#REF!"}},{"$f":"#REF!*AD$90","v":{"$error":"#REF!"}},{"$f":"#REF!*AE$90","v":{"$error":"#REF!"}}]
[null,null,{"$f":"#REF!*C$90","v":{"$error":"#REF!"}},{"$f":"#REF!*D$90","v":{"$error":"#REF!"}},{"$f":"#REF!*E$90","v":{"$error":"#REF!"}},{"$f":"#REF!*F$90","v":{"$error":"#REF!"}},{"$f":"#REF!*G$90","v":{"$error":"#REF!"}},{"$f":"#REF!*H$90","v":{"$error":"#REF!"}},{"$f":"#REF!*I$90","v":{"$error":"#REF!"}},{"$f":"#REF!*J$90","v":{"$error":"#REF!"}},{"$f":"#REF!*K$90","v":{"$error":"#REF!"}},{"$f":"#REF!*L$90","v":{"$error":"#REF!"}},{"$f":"#REF!*M$90","v":{"$error":"#REF!"}},{"$f":"#REF!*N$90","v":{"$error":"#REF!"}},{"$f":"#REF!*O$90","v":{"$error":"#REF!"}},{"$f":"#REF!*P$90","v":{"$error":"#REF!"}},{"$f":"#REF!*Q$90","v":{"$error":"#REF!"}},{"$f":"#REF!*R$90","v":{"$error":"#REF!"}},{"$f":"#REF!*S$90","v":{"$error":"#REF!"}},{"$f":"#REF!*T$90","v":{"$error":"#REF!"}},{"$f":"#REF!*U$90","v":{"$error":"#REF!"}},{"$f":"#REF!*V$90","v":{"$error":"#REF!"}},{"$f":"#REF!*W$90","v":{"$error":"#REF!"}},{"$f":"#REF!*X$90","v":{"$error":"#REF!"}},{"$f":"#REF!*Y$90","v":{"$error":"#REF!"}},{"$f":"#REF!*Z$90","v":{"$error":"#REF!"}},{"$f":"#REF!*AA$90","v":{"$error":"#REF!"}},{"$f":"#REF!*AB$90","v":{"$error":"#REF!"}},{"$f":"#REF!*AC$90","v":{"$error":"#REF!"}},{"$f":"#REF!*AD$90","v":{"$error":"#REF!"}},{"$f":"#REF!*AE$90","v":{"$error":"#REF!"}}]
[null,null,{"$f":"#REF!*C$90","v":{"$error":"#REF!"}},{"$f":"#REF!*D$90","v":{"$error":"#REF!"}},{"$f":"#REF!*E$90","v":{"$error":"#REF!"}},{"$f":"#REF!*F$90","v":{"$error":"#REF!"}},{"$f":"#REF!*G$90","v":{"$error":"#REF!"}},{"$f":"#REF!*H$90","v":{"$error":"#REF!"}},{"$f":"#REF!*I$90","v":{"$error":"#REF!"}},{"$f":"#REF!*J$90","v":{"$error":"#REF!"}},{"$f":"#REF!*K$90","v":{"$error":"#REF!"}},{"$f":"#REF!*L$90","v":{"$error":"#REF!"}},{"$f":"#REF!*M$90","v":{"$error":"#REF!"}},{"$f":"#REF!*N$90","v":{"$error":"#REF!"}},{"$f":"#REF!*O$90","v":{"$error":"#REF!"}},{"$f":"#REF!*P$90","v":{"$error":"#REF!"}},{"$f":"#REF!*Q$90","v":{"$error":"#REF!"}},{"$f":"#REF!*R$90","v":{"$error":"#REF!"}},{"$f":"#REF!*S$90","v":{"$error":"#REF!"}},{"$f":"#REF!*T$90","v":{"$error":"#REF!"}},{"$f":"#REF!*U$90","v":{"$error":"#REF!"}},{"$f":"#REF!*V$90","v":{"$error":"#REF!"}},{"$f":"#REF!*W$90","v":{"$error":"#REF!"}},{"$f":"#REF!*X$90","v":{"$error":"#REF!"}},{"$f":"#REF!*Y$90","v":{"$error":"#REF!"}},{"$f":"#REF!*Z$90","v":{"$error":"#REF!"}},{"$f":"#REF!*AA$90","v":{"$error":"#REF!"}},{"$f":"#REF!*AB$90","v":{"$error":"#REF!"}},{"$f":"#REF!*AC$90","v":{"$error":"#REF!"}},{"$f":"#REF!*AD$90","v":{"$error":"#REF!"}},{"$f":"#REF!*AE$90","v":{"$error":"#REF!"}}]
[null,null,{"$f":"#REF!*C$90","v":{"$error":"#REF!"}},{"$f":"#REF!*D$90","v":{"$error":"#REF!"}},{"$f":"#REF!*E$90","v":{"$error":"#REF!"}},{"$f":"#REF!*F$90","v":{"$error":"#REF!"}},{"$f":"#REF!*G$90","v":{"$error":"#REF!"}},{"$f":"#REF!*H$90","v":{"$error":"#REF!"}},{"$f":"#REF!*I$90","v":{"$error":"#REF!"}},{"$f":"#REF!*J$90","v":{"$error":"#REF!"}},{"$f":"#REF!*K$90","v":{"$error":"#REF!"}},{"$f":"#REF!*L$90","v":{"$error":"#REF!"}},{"$f":"#REF!*M$90","v":{"$error":"#REF!"}},{"$f":"#REF!*N$90","v":{"$error":"#REF!"}},{"$f":"#REF!*O$90","v":{"$error":"#REF!"}},{"$f":"#REF!*P$90","v":{"$error":"#REF!"}},{"$f":"#REF!*Q$90","v":{"$error":"#REF!"}},{"$f":"#REF!*R$90","v":{"$error":"#REF!"}},{"$f":"#REF!*S$90","v":{"$error":"#REF!"}},{"$f":"#REF!*T$90","v":{"$error":"#REF!"}},{"$f":"#REF!*U$90","v":{"$error":"#REF!"}},{"$f":"#REF!*V$90","v":{"$error":"#REF!"}},{"$f":"#REF!*W$90","v":{"$error":"#REF!"}},{"$f":"#REF!*X$90","v":{"$error":"#REF!"}},{"$f":"#REF!*Y$90","v":{"$error":"#REF!"}},{"$f":"#REF!*Z$90","v":{"$error":"#REF!"}},{"$f":"#REF!*AA$90","v":{"$error":"#REF!"}},{"$f":"#REF!*AB$90","v":{"$error":"#REF!"}},{"$f":"#REF!*AC$90","v":{"$error":"#REF!"}},{"$f":"#REF!*AD$90","v":{"$error":"#REF!"}},{"$f":"#REF!*AE$90","v":{"$error":"#REF!"}}]
[null,null,{"$f":"#REF!*C$90","v":{"$error":"#REF!"}},{"$f":"#REF!*D$90","v":{"$error":"#REF!"}},{"$f":"#REF!*E$90","v":{"$error":"#REF!"}},{"$f":"#REF!*F$90","v":{"$error":"#REF!"}},{"$f":"#REF!*G$90","v":{"$error":"#REF!"}},{"$f":"#REF!*H$90","v":{"$error":"#REF!"}},{"$f":"#REF!*I$90","v":{"$error":"#REF!"}},{"$f":"#REF!*J$90","v":{"$error":"#REF!"}},{"$f":"#REF!*K$90","v":{"$error":"#REF!"}},{"$f":"#REF!*L$90","v":{"$error":"#REF!"}},{"$f":"#REF!*M$90","v":{"$error":"#REF!"}},{"$f":"#REF!*N$90","v":{"$error":"#REF!"}},{"$f":"#REF!*O$90","v":{"$error":"#REF!"}},{"$f":"#REF!*P$90","v":{"$error":"#REF!"}},{"$f":"#REF!*Q$90","v":{"$error":"#REF!"}},{"$f":"#REF!*R$90","v":{"$error":"#REF!"}},{"$f":"#REF!*S$90","v":{"$error":"#REF!"}},{"$f":"#REF!*T$90","v":{"$error":"#REF!"}},{"$f":"#REF!*U$90","v":{"$error":"#REF!"}},{"$f":"#REF!*V$90","v":{"$error":"#REF!"}},{"$f":"#REF!*W$90","v":{"$error":"#REF!"}},{"$f":"#REF!*X$90","v":{"$error":"#REF!"}},{"$f":"#REF!*Y$90","v":{"$error":"#REF!"}},{"$f":"#REF!*Z$90","v":{"$error":"#REF!"}},{"$f":"#REF!*AA$90","v":{"$error":"#REF!"}},{"$f":"#REF!*AB$90","v":{"$error":"#REF!"}},{"$f":"#REF!*AC$90","v":{"$error":"#REF!"}},{"$f":"#REF!*AD$90","v":{"$error":"#REF!"}},{"$f":"#REF!*AE$90","v":{"$error":"#REF!"}}]
[null,null,{"$f":"#REF!*C$90","v":{"$error":"#REF!"}},{"$f":"#REF!*D$90","v":{"$error":"#REF!"}},{"$f":"#REF!*E$90","v":{"$error":"#REF!"}},{"$f":"#REF!*F$90","v":{"$error":"#REF!"}},{"$f":"#REF!*G$90","v":{"$error":"#REF!"}},{"$f":"#REF!*H$90","v":{"$error":"#REF!"}},{"$f":"#REF!*I$90","v":{"$error":"#REF!"}},{"$f":"#REF!*J$90","v":{"$error":"#REF!"}},{"$f":"#REF!*K$90","v":{"$error":"#REF!"}},{"$f":"#REF!*L$90","v":{"$error":"#REF!"}},{"$f":"#REF!*M$90","v":{"$error":"#REF!"}},{"$f":"#REF!*N$90","v":{"$error":"#REF!"}},{"$f":"#REF!*O$90","v":{"$error":"#REF!"}},{"$f":"#REF!*P$90","v":{"$error":"#REF!"}},{"$f":"#REF!*Q$90","v":{"$error":"#REF!"}},{"$f":"#REF!*R$90","v":{"$error":"#REF!"}},{"$f":"#REF!*S$90","v":{"$error":"#REF!"}},{"$f":"#REF!*T$90","v":{"$error":"#REF!"}},{"$f":"#REF!*U$90","v":{"$error":"#REF!"}},{"$f":"#REF!*V$90","v":{"$error":"#REF!"}},{"$f":"#REF!*W$90","v":{"$error":"#REF!"}},{"$f":"#REF!*X$90","v":{"$error":"#REF!"}},{"$f":"#REF!*Y$90","v":{"$error":"#REF!"}},{"$f":"#REF!*Z$90","v":{"$error":"#REF!"}},{"$f":"#REF!*AA$90","v":{"$error":"#REF!"}},{"$f":"#REF!*AB$90","v":{"$error":"#REF!"}},{"$f":"#REF!*AC$90","v":{"$error":"#REF!"}},{"$f":"#REF!*AD$90","v":{"$error":"#REF!"}},{"$f":"#REF!*AE$90","v":{"$error":"#REF!"}}]
[null,null,{"$f":"#REF!*C$90","v":{"$error":"#REF!"}},{"$f":"#REF!*D$90","v":{"$error":"#REF!"}},{"$f":"#REF!*E$90","v":{"$error":"#REF!"}},{"$f":"#REF!*F$90","v":{"$error":"#REF!"}},{"$f":"#REF!*G$90","v":{"$error":"#REF!"}},{"$f":"#REF!*H$90","v":{"$error":"#REF!"}},{"$f":"#REF!*I$90","v":{"$error":"#REF!"}},{"$f":"#REF!*J$90","v":{"$error":"#REF!"}},{"$f":"#REF!*K$90","v":{"$error":"#REF!"}},{"$f":"#REF!*L$90","v":{"$error":"#REF!"}},{"$f":"#REF!*M$90","v":{"$error":"#REF!"}},{"$f":"#REF!*N$90","v":{"$error":"#REF!"}},{"$f":"#REF!*O$90","v":{"$error":"#REF!"}},{"$f":"#REF!*P$90","v":{"$error":"#REF!"}},{"$f":"#REF!*Q$90","v":{"$error":"#REF!"}},{"$f":"#REF!*R$90","v":{"$error":"#REF!"}},{"$f":"#REF!*S$90","v":{"$error":"#REF!"}},{"$f":"#REF!*T$90","v":{"$error":"#REF!"}},{"$f":"#REF!*U$90","v":{"$error":"#REF!"}},{"$f":"#REF!*V$90","v":{"$error":"#REF!"}},{"$f":"#REF!*W$90","v":{"$error":"#REF!"}},{"$f":"#REF!*X$90","v":{"$error":"#REF!"}},{"$f":"#REF!*Y$90","v":{"$error":"#REF!"}},{"$f":"#REF!*Z$90","v":{"$error":"#REF!"}},{"$f":"#REF!*AA$90","v":{"$error":"#REF!"}},{"$f":"#REF!*AB$90","v":{"$error":"#REF!"}},{"$f":"#REF!*AC$90","v":{"$error":"#REF!"}},{"$f":"#REF!*AD$90","v":{"$error":"#REF!"}},{"$f":"#REF!*AE$90","v":{"$error":"#REF!"}}]
[null,null,{"$f":"#REF!*C$90","v":{"$error":"#REF!"}},{"$f":"#REF!*D$90","v":{"$error":"#REF!"}},{"$f":"#REF!*E$90","v":{"$error":"#REF!"}},{"$f":"#REF!*F$90","v":{"$error":"#REF!"}},{"$f":"#REF!*G$90","v":{"$error":"#REF!"}},{"$f":"#REF!*H$90","v":{"$error":"#REF!"}},{"$f":"#REF!*I$90","v":{"$error":"#REF!"}},{"$f":"#REF!*J$90","v":{"$error":"#REF!"}},{"$f":"#REF!*K$90","v":{"$error":"#REF!"}},{"$f":"#REF!*L$90","v":{"$error":"#REF!"}},{"$f":"#REF!*M$90","v":{"$error":"#REF!"}},{"$f":"#REF!*N$90","v":{"$error":"#REF!"}},{"$f":"#REF!*O$90","v":{"$error":"#REF!"}},{"$f":"#REF!*P$90","v":{"$error":"#REF!"}},{"$f":"#REF!*Q$90","v":{"$error":"#REF!"}},{"$f":"#REF!*R$90","v":{"$error":"#REF!"}},{"$f":"#REF!*S$90","v":{"$error":"#REF!"}},{"$f":"#REF!*T$90","v":{"$error":"#REF!"}},{"$f":"#REF!*U$90","v":{"$error":"#REF!"}},{"$f":"#REF!*V$90","v":{"$error":"#REF!"}},{"$f":"#REF!*W$90","v":{"$error":"#REF!"}},{"$f":"#REF!*X$90","v":{"$error":"#REF!"}},{"$f":"#REF!*Y$90","v":{"$error":"#REF!"}},{"$f":"#REF!*Z$90","v":{"$error":"#REF!"}},{"$f":"#REF!*AA$90","v":{"$error":"#REF!"}},{"$f":"#REF!*AB$90","v":{"$error":"#REF!"}},{"$f":"#REF!*AC$90","v":{"$error":"#REF!"}},{"$f":"#REF!*AD$90","v":{"$error":"#REF!"}},{"$f":"#REF!*AE$90","v":{"$error":"#REF!"}}]
[null,null,{"$f":"#REF!*C$90","v":{"$error":"#REF!"}},{"$f":"#REF!*D$90","v":{"$error":"#REF!"}},{"$f":"#REF!*E$90","v":{"$error":"#REF!"}},{"$f":"#REF!*F$90","v":{"$error":"#REF!"}},{"$f":"#REF!*G$90","v":{"$error":"#REF!"}},{"$f":"#REF!*H$90","v":{"$error":"#REF!"}},{"$f":"#REF!*I$90","v":{"$error":"#REF!"}},{"$f":"#REF!*J$90","v":{"$error":"#REF!"}},{"$f":"#REF!*K$90","v":{"$error":"#REF!"}},{"$f":"#REF!*L$90","v":{"$error":"#REF!"}},{"$f":"#REF!*M$90","v":{"$error":"#REF!"}},{"$f":"#REF!*N$90","v":{"$error":"#REF!"}},{"$f":"#REF!*O$90","v":{"$error":"#REF!"}},{"$f":"#REF!*P$90","v":{"$error":"#REF!"}},{"$f":"#REF!*Q$90","v":{"$error":"#REF!"}},{"$f":"#REF!*R$90","v":{"$error":"#REF!"}},{"$f":"#REF!*S$90","v":{"$error":"#REF!"}},{"$f":"#REF!*T$90","v":{"$error":"#REF!"}},{"$f":"#REF!*U$90","v":{"$error":"#REF!"}},{"$f":"#REF!*V$90","v":{"$error":"#REF!"}},{"$f":"#REF!*W$90","v":{"$error":"#REF!"}},{"$f":"#REF!*X$90","v":{"$error":"#REF!"}},{"$f":"#REF!*Y$90","v":{"$error":"#REF!"}},{"$f":"#REF!*Z$90","v":{"$error":"#REF!"}},{"$f":"#REF!*AA$90","v":{"$error":"#REF!"}},{"$f":"#REF!*AB$90","v":{"$error":"#REF!"}},{"$f":"#REF!*AC$90","v":{"$error":"#REF!"}},{"$f":"#REF!*AD$90","v":{"$error":"#REF!"}},{"$f":"#REF!*AE$90","v":{"$error":"#REF!"}}]
[null,null,{"$f":"C35*C$90","v":0},0,0,0,0,0,0,0,0,{"$error":"#N/A"},0,0,0,0,0,0,0,0,0,0,0,0,0,0,0,{"$error":"#N/A"},{"$error":"#N/A"},{"$error":"#N/A"},{"$error":"#N/A"}]

{"sheet":"2 В(2)","index":10,"n_rows":82,"n_cols":8,"rows_kept":82,"cut":false,"hidden":true,"merged":[[0,4,0,7],[0,0,0,3],[3,0,15,0],[67,0,67,1],[52,0,52,1],[42,0,42,1],[17,0,17,1],[1,0,1,2],[2,0,2,1]]}
[{"$f":"Титул!B11","v":"2 В"},null,null,null,"Страница заполняется автоматически, без участия оператора!!!"]
["Всего учащихся в классе:",null,null,{"$f":"Титул!C11","v":13},"Фамилии, имена               учащихся","Учебные предметы","Фамилии и инициалы учителей","Пояснения, примечания, причины"]
["Учатся на  \"5\":",null,{"$f":"COUNTA(E3:E17)","v":0},1]
[null,null,null,2]
[null,null,null,3]
[null,null,null,4]
[null,null,null,5]
[null,null,null,6]
[null,null,null,7]
[null,null,null,8]
[null,null,null,9]
[null,null,null,10]
[null,null,null,11]
[null,null,null,12]
[null,null,null,13]
[null,null,null,14]
[null,null,null,15]
["Учатся  на \"4\"и\"5\"",null,{"$f":"COUNTA(E18:E42)","v":0},1]
[null," ",null,2]
[null,null,null,3]
[null,null,null,4]
[null,null,null,5]
[null,null,null,6]
[null,null,null,7]
[null,null,null,8]
[null,null,null,9]
[null,null,null,10]
[null,null,null,11]
[null,null,null,12]
[null,null,null,13]
[null,null,null,14]
[null,null,null,15]
[null,null,null,16]
[null,null,null,17]
[null,null,null,18]
[null,null,null,19]
[null,null,null,20]
[null,null,null,21]
[null,null,null,22]
[null,null,null,23]
[null,null,null,24]
[null,null,null,25]
["Не аттестованы:",null,{"$f":"COUNTA(E43:E52)","v":0},1]
[null," ",null,2]
[null,null,null,3]
[null,null,null,4]
[null,null,null,5]
[null,null,null,6]
[null,null,null,7]
[null,null,null,8]
[null,null,null,9]
[null,null,null,10]
["Не успевают:",null,{"$f":"COUNTA(E53:E67)","v":0},1]
[null," ",null,2]
[null,null,null,3]
[null,null,null,4]
[null,null,null,5]
[null,null,null,6]
[null,null,null,7]
[null,null,null,8]
[null,null,null,9]
[null,null,null,10]
[null,null,null,11]
[null,null,null,12]
[null,null,null,13]
[null,null,null,14]
[null,null,null,15]
["Освобождены:",null,{"$f":"COUNTA(E68:E82)","v":0},1]
[null," ",null,2]
[null,null,null,3]
[null,null,null,4]
[null,null,null,5]
[null,null,null,6]
[null,null,null,7]
[null,null,null,8]
[null,null,null,9]
[null,null,null,10]
[null,null,null,11]
[null,null,null,12]
[null,null,null,13]
[null,null,null,14]
[null,null,null,15]

{"sheet":"3 А","index":11,"n_rows":130,"n_cols":35,"rows_kept":130,"cut":false,"hidden":true,"merged":[[0,26,0,32],[3,2,3,30],[0,0,0,2],[0,3,0,25],[2,4,2,17],[3,31,3,34],[2,23,2,34],[2,18,2,22],[1,29,1,31],[1,25,1,28],[1,0,1,24],[2,0,2,3],[47,0,47,26],[46,31,46,34],[45,31,45,34],[44,31,44,34],[43,31,43,34],[47,28,47,33],[35,31,35,34],[38,31,38,34],[37,31,37,34],[36,31,36,34],[3,0,4,1],[35,0,35,1],[36,0,46,0],[42,31,42,34],[41,31,41,34],[40,31,40,34],[39,31,39,34]]}
[{"$f":"Титул!B5","v":"2014/15 учебный год"},null,null,{"$f":"Титул!B4","v":"МОУ СОШ  № 15"},null,null,null,null,null,null,null,null,null,null,null,null,null,null,null,null,null,null,null,null,null,null,{"$f":"Титул!B6","v":"4 четверть"},null,null,null,null,null,null,null,"3+"]
["ВЕДОМОСТЬ  РЕЗУЛЬТАТОВ  УЧЕБНОЙ  ДЕЯТЕЛЬНОСТИ",null,null,null,null,null,null,null,null,null,null,null,null,null,null,null,null,null,null,null,null,null,null,null,null,{"$f":"Титул!B12","v":"3 А"},null,null,null,"класса"]
["Классный руководитель:",null,null,null,{"$f":"Титул!D12","v":"Литвиненко И.В."},null,null,null,null,null,null,null,null,null,null,null,null,null,"Программа:",null,null,null,null,{"$f":"Титул!G12","v":"УМК \"Школа 2100\""}]
["Вручную вносятся только оценки \"5\", \"4\", \"3\", \"2\", \"1\". \nНе аттестованным проставляется \"0\", освобожденным - \"Н\".  ",null,"У  ч  е  б  н  ы  е      п  р  е  д  м  е  т  ы",null,null,null,null,null,null,null,null,null,null,null,null,null,null,null,null,null,null,null,null,null,null,null,null,null,null,null,null,"Результаты ученика:"]
[null,null,{"$f":"Нагрузка!C3","v":"Русский язык"},{"$f":"Нагрузка!D3","v":"Литература"},{"$f":"Нагрузка!E3","v":"Иностранный язык"},{"$f":"Нагрузка!F3","v":"Математика"},{"$f":"Нагрузка!G3","v":"Алгебра"},{"$f":"Нагрузка!H3","v":"Геометрия"},{"$f":"Нагрузка!I3","v":"Информатика"},{"$f":"Нагрузка!J3","v":"История"},{"$f":"Нагрузка!K3","v":"Обществознание"},{"$f":"Нагрузка!L3","v":"Окружающий мир"},{"$f":"Нагрузка!M3","v":"ИЗО"},{"$f":"Нагрузка!N3","v":"Музыка"},{"$f":"Нагрузка!O3","v":"Технология"},{"$f":"Нагрузка!P3","v":"Технология"},{"$f":"Нагрузка!Q3","v":"ФЗК"},{"$f":"Нагрузка!R3","v":"Иностранный язык"},{"$f":"Нагрузка!S3","v":"Иностранный язык"},{"$f":"Нагрузка!T3","v":"География"},{"$f":"Нагрузка!U3","v":"Физика"},{"$f":"Нагрузка!V3","v":"Химия"},{"$f":"Нагрузка!W3","v":"Биология"},{"$f":"Нагрузка!X3","v":"МХК"},{"$f":"Нагрузка!Y3","v":"ФЗК"},{"$f":"Нагрузка!Z3","v":"ОБЖ"},{"$f":"Нагрузка!AA3","v":"Природоведение"},{"$f":"Нагрузка!AB3","v":0},{"$f":"Нагрузка!AC3","v":0},{"$f":"Нагрузка!AD3","v":0},{"$f":"Нагрузка!AE3","v":0},"Средний балл:","Степень обученности (СОУ):","Качество успеваемости:","Рейтинговый учебный балл:"]
[1,{"$f":"СпискиКлассы!E4","v":"Бабаев Вячеслав"},3,3,3,3,null,null,null,null,null,3,5,4,5,null,5,null,null,null,null,null,null,null,null,null,null,null,null,null,null,{"$f":"AVERAGE(C6:AE6)","v":3.7777777777777777},{"$f":"(COUNTIF(C6:AE6,\"5\")+COUNTIF(C6:AE6,\"4\")*0.64+COUNTIF(C6:AE6,\"3\")*0.36+COUNTIF(C6:AE6,\"2\")*0.16)/(COUNTIF(C6:AE6,\"5\")+COUNTIF(C6:AE6,\"4\")+COUNTIF(C6:AE6,\"3\")+COUNTIF(C6:AE6,\"2\")+COUNTIF(C6:AE6,\"0\"))","v":0.60444444444444434},{"$f":"((5*COUNTIF(C6:AE6,\"5\"))+(4*COUNTIF(C6:AE6,\"4\")))/(5*(COUNTA(C6:AE6)-COUNTIF(C6:AE6,\"н\")))","v":0.42222222222222222},{"$f":"SUMIF(C91:AE91,\">0\",C91:AE91)/(COUNTIF(C6:AE6,\">0\")+COUNTIF(C6:AE6,\"=0\")+COUNTIF(C6:AE6,\"Н\"))","v":13}]
[{"$f":"A6+1","v":2},{"$f":"СпискиКлассы!E5","v":"Бочкарева Дарья"},4,4,null,4,null,null,null,null,null,4,5,5,5,null,5,5,null,null,null,null,null,null,null,null,null,null,null,null,null,{"$f":"AVERAGE(C7:AE7)","v":4.5555555555555554},{"$f":"(COUNTIF(C7:AE7,\"5\")+COUNTIF(C7:AE7,\"4\")*0.64+COUNTIF(C7:AE7,\"3\")*0.36+COUNTIF(C7:AE7,\"2\")*0.16)/(COUNTIF(C7:AE7,\"5\")+COUNTIF(C7:AE7,\"4\")+COUNTIF(C7:AE7,\"3\")+COUNTIF(C7:AE7,\"2\")+COUNTIF(C7:AE7,\"0\"))","v":0.84000000000000008},{"$f":"((5*COUNTIF(C7:AE7,\"5\"))+(4*COUNTIF(C7:AE7,\"4\")))/(5*(COUNTA(C7:AE7)-COUNTIF(C7:AE7,\"н\")))","v":0.91111111111111109},16.666666666666668]
[3,{"$f":"СпискиКлассы!E6","v":"Васильеву Алису"},3,4,4,4,null,null,null,null,null,4,5,5,5,null,4,null,null,null,null,null,null,null,null,null,null,null,null,null,null,{"$f":"AVERAGE(C8:AE8)","v":4.2222222222222223},0.72888888888888892,0.77777777777777779,15.222222222222221]
[4,{"$f":"СпискиКлассы!E7","v":"Власенко Данил"},5,5,null,5,null,null,null,null,null,5,5,5,5,null,5,5,null,null,null,null,null,null,null,null,null,null,null,null,null,5,1,1,18.888888888888889]
[5,{"$f":"СпискиКлассы!E8","v":"Воронков Игорь"},3,4,5,3,null,null,null,null,null,4,5,5,5,null,5,null,null,null,null,null,null,null,null,null,null,null,null,null,null,4.333333333333333,0.77777777777777779,0.73333333333333328,15]
[6,{"$f":"СпискиКлассы!E9","v":"Зудин Владислав"},3,4,4,4,null,null,null,null,null,4,5,5,5,null,5,null,null,null,null,null,null,null,null,null,null,null,null,null,null,4.333333333333333,0.76888888888888896,0.8,15.333333333333334]
[7,{"$f":"СпискиКлассы!E10","v":"Капустин Никита"},3,5,5,4,null,null,null,null,null,5,5,5,5,null,5,null,null,null,null,null,null,null,null,null,null,null,null,null,null,4.666666666666667,0.88888888888888884,0.8666666666666667,16.444444444444443]
[8,{"$f":"СпискиКлассы!E11","v":"Морозков Иван"},3,4,4,4,null,null,null,null,null,5,5,5,5,null,5,null,null,null,null,null,null,null,null,null,null,null,null,null,null,4.4444444444444446,0.80888888888888888,0.82222222222222219,15.333333333333334]
[9,{"$f":"СпискиКлассы!E12","v":"Наумова Софья"},5,5,4,4,null,null,null,null,null,5,5,5,5,null,null,null,null,null,null,null,null,null,null,null,null,null,null,null,null,4.75,0.91,0.95,19]
[10,{"$f":"СпискиКлассы!E13","v":"Плесовских Наталья"},3,4,3,3,null,null,null,null,null,4,5,5,5,null,5,null,null,null,null,null,null,null,null,null,null,null,null,null,null,4.1111111111111107,0.70666666666666667,0.62222222222222223,13.888888888888889]
[11,{"$f":"СпискиКлассы!E14","v":"Посталова Любовь"},3,4,4,3,null,null,null,null,null,5,5,5,5,null,5,null,null,null,null,null,null,null,null,null,null,null,null,null,null,4.333333333333333,0.77777777777777779,0.73333333333333328,14.444444444444445]
[12,{"$f":"СпискиКлассы!E15","v":"Ромашина Стелла"},3,4,3,3,null,null,null,null,null,4,5,5,5,null,5,null,null,null,null,null,null,null,null,null,null,null,null,null,null,4.1111111111111107,0.70666666666666667,0.62222222222222223,13.888888888888889]
[13,{"$f":"СпискиКлассы!E16","v":"Салимгореева Кристина"},5,5,4,4,null,null,null,null,null,5,5,5,5,null,4,null,null,null,null,null,null,null,null,null,null,null,null,null,null,4.666666666666667,0.88,0.93333333333333335,17.333333333333332]
[14,{"$f":"СпискиКлассы!E17","v":"Сатановский Максим"},3,4,4,3,null,null,null,null,null,4,5,4,5,null,5,null,null,null,null,null,null,null,null,null,null,null,null,null,null,4.1111111111111107,0.69777777777777783,0.68888888888888888,14.111111111111111]
[15,{"$f":"СпискиКлассы!E18","v":"Сергеева Ксения"},5,5,4,4,null,null,null,null,null,5,5,5,5,null,5,null,null,null,null,null,null,null,null,null,null,null,null,null,null,4.7777777777777777,0.91999999999999993,0.9555555555555556,17.444444444444443]
[16,{"$f":"СпискиКлассы!E19","v":"Сердюк Алена"},5,5,5,5,null,null,null,null,null,5,5,5,5,null,5,null,null,null,null,null,null,null,null,null,null,null,null,null,null,5,1,1,18.888888888888889]
[17,{"$f":"СпискиКлассы!E20","v":"Сердюк Алиса"},5,5,5,5,null,null,null,null,null,5,5,5,5,null,5,null,null,null,null,null,null,null,null,null,null,null,null,null,null,5,1,1,18.888888888888889]
[18,{"$f":"СпискиКлассы!E21","v":"Солодкову Дарью"},4,5,4,5,null,null,null,null,null,5,5,5,5,null,5,null,null,null,null,null,null,null,null,null,null,null,null,null,null,4.7777777777777777,0.91999999999999993,0.9555555555555556,17.555555555555557]
[19,{"$f":"СпискиКлассы!E22","v":"Сударева Анжелика"},4,4,3,4,null,null,null,null,null,4,5,5,5,null,5,null,null,null,null,null,null,null,null,null,null,null,null,null,null,4.333333333333333,0.76888888888888896,0.8,15.555555555555555]
[20,{"$f":"СпискиКлассы!E23","v":"Таскина Валерия"},4,4,4,4,null,null,null,null,null,4,5,5,5,null,4,null,null,null,null,null,null,null,null,null,null,null,null,null,null,4.333333333333333,0.76,0.8666666666666667,16]
[21,{"$f":"СпискиКлассы!E24","v":"Тимофи Карина"},4,4,4,4,null,null,null,null,null,4,5,5,5,null,5,null,null,null,null,null,null,null,null,null,null,null,null,null,null,4.4444444444444446,0.8,0.88888888888888884,16.111111111111111]
[22,{"$f":"СпискиКлассы!E25","v":"Хайрулин Артур"},4,4,4,4,null,null,null,null,null,4,5,5,5,null,4,null,null,null,null,null,null,null,null,null,null,null,null,null,null,4.333333333333333,0.76,0.8666666666666667,16]
[23,{"$f":"СпискиКлассы!E26","v":"Харченко Валерия"},3,3,3,3,null,null,null,null,null,3,5,5,5,null,4,null,null,null,null,null,null,null,null,null,null,null,null,null,null,3.7777777777777777,0.60444444444444434,0.42222222222222222,13.222222222222221]
[24,{"$f":"СпискиКлассы!E27","v":"Шишкин Никита"},3,4,4,4,null,null,null,null,null,4,5,5,5,null,5,null,null,null,null,null,null,null,null,null,null,null,null,null,null,4.333333333333333,0.76888888888888896,0.8,15.333333333333334]
[25,{"$f":"СпискиКлассы!E28","v":"Яремей Виктория"},5,5,5,5,null,null,null,null,null,5,5,5,5,null,null,null,null,null,null,null,null,null,null,null,null,null,null,null,null,5,1,1,20.625]
[26,{"$f":"СпискиКлассы!E29","v":"Заикин Андрей"},3,4,4,4,null,null,null,null,null,5,5,5,5,null,4,null,null,null,null,null,null,null,null,null,null,null,null,null,null,{"$f":"AVERAGE(C31:AE31)","v":4.333333333333333},{"$f":"(COUNTIF(C31:AE31,\"5\")+COUNTIF(C31:AE31,\"4\")*0.64+COUNTIF(C31:AE31,\"3\")*0.36+COUNTIF(C31:AE31,\"2\")*0.16)/(COUNTIF(C31:AE31,\"5\")+COUNTIF(C31:AE31,\"4\")+COUNTIF(C31:AE31,\"3\")+COUNTIF(C31:AE31,\"2\")+COUNTIF(C31:AE31,\"0\"))","v":0.76888888888888896},0.8,15.222222222222221]
[27,{"$f":"СпискиКлассы!E30","v":0},4,4,4,4,null,null,null,null,null,5,5,5,5,null,5,null,null,null,null,null,null,null,null,null,null,null,null,null,null,4.5555555555555554,0.84000000000000008,0.91111111111111109,16.111111111111111]
[28,{"$f":"СпискиКлассы!E31","v":0},null,null,null,null,null,null,null,null,null,null,null,null,null,null,null,null,null,null,null,null,null,null,null,null,null,null,null,null,null,{"$error":"#DIV/0!"},{"$error":"#DIV/0!"},{"$error":"#DIV/0!"},{"$error":"#DIV/0!"}]
[29,{"$f":"СпискиКлассы!E32","v":0},null,null,null,null,null,null,null,null,null,null,null,null,null,null,null,null,null,null,null,null,null,null,null,null,null,null,null,null,null,{"$error":"#DIV/0!"},{"$error":"#DIV/0!"},{"$error":"#DIV/0!"},{"$error":"#DIV/0!"}]
[30,{"$f":"СпискиКлассы!E43","v":0},null,null,null,null,null,null,null,null,null,null,null,null,null,null,null,null,null,null,null,null,null,null,null,null,null,null,null,null,null,{"$error":"#DIV/0!"},{"$error":"#DIV/0!"},{"$error":"#DIV/0!"},{"$f":"SUMIF(C130:AE130,\">0\",C130:AE130)/(COUNTIF(C35:AE35,\">0\")+COUNTIF(C35:AE35,\"=0\")+COUNTIF(C35:AE35,\"Н\"))","v":{"$error":"#DIV/0!"}}]
[" Фамилия и инициалы                                           учителя - предметника",null,{"$f":"Нагрузка!C8","v":"Литвиненко"},{"$f":"Нагрузка!D8","v":"Литвиненко"},{"$f":"Нагрузка!E8","v":0},{"$f":"Нагрузка!F8","v":"Литвиненко"},{"$f":"Нагрузка!G8","v":0},{"$f":"Нагрузка!H8","v":0},{"$f":"Нагрузка!I8","v":0},{"$f":"Нагрузка!J8","v":0},{"$f":"Нагрузка!K8","v":0},{"$f":"Нагрузка!L8","v":"Литвиненко"},{"$f":"Нагрузка!M8","v":"Литвиненко"},{"$f":"Нагрузка!N8","v":"Заворина"},{"$f":"Нагрузка!O8","v":"Литвиненко"},{"$f":"Нагрузка!P8","v":"Литвиненко"},{"$f":"Нагрузка!Q8","v":"Ермакова"},{"$f":"Нагрузка!R8","v":"Калугина"},{"$f":"Нагрузка!S8","v":"Каплан"},{"$f":"Нагрузка!T8","v":0},{"$f":"Нагрузка!U8","v":0},{"$f":"Нагрузка!V8","v":0},{"$f":"Нагрузка!W8","v":0},{"$f":"Нагрузка!X8","v":0},{"$f":"Нагрузка!Y8","v":0},{"$f":"Нагрузка!Z8","v":0},{"$f":"Нагрузка!AA8","v":0},{"$f":"Нагрузка!AB8","v":0},{"$f":"Нагрузка!AC8","v":0},{"$f":"Нагрузка!AD8","v":0},{"$f":"Нагрузка!AE8","v":0},"Показатели результатов учебной деятельности в  целом по классу:"]
["Результаты учебной деятельности класса","Количество  \"5\":",{"$f":"COUNTIF(C6:C35,5)","v":7},9,5,5,0,0,0,0,0,13,27,25,27,0,19,2,0,0,0,0,0,0,0,0,0,0,0,0,0,{"$f":"SUM(C37:AE37)","v":139}]
[null,"Количество  \"4\":",{"$f":"COUNTIF(C6:C35,4)","v":7},16,15,15,0,0,0,0,0,12,0,2,0,0,6,0,0,0,0,0,0,0,0,0,0,0,0,0,0,73]
[null,"Количество  \"3\":",{"$f":"COUNTIF(C6:C35,3)","v":13},2,5,7,0,0,0,0,0,2,0,0,0,0,0,0,0,0,0,0,0,0,0,0,0,0,0,0,0,29]
[null,"Количество  \"2\":",{"$f":"COUNTIF(C6:C35,2)","v":0},0,0,0,0,0,0,0,0,0,0,0,0,0,0,0,0,0,0,0,0,0,0,0,0,0,0,0,0,0]
[null,"Не аттестовано:",{"$f":"COUNTIF(C6:C35,0)","v":0},0,0,0,0,0,0,0,0,0,0,0,0,0,0,0,0,0,0,0,0,0,0,0,0,0,0,0,0,0]
[null,"Освобождено:",{"$f":"COUNTIF(C6:C35,\"н\")","v":0},0,0,0,0,0,0,0,0,0,0,0,0,0,0,0,0,0,0,0,0,0,0,0,0,0,0,0,0,0]
[null,"Успеваемость:",{"$f":"(C37+C38+C39)/(C37+C38+C39+C40+C41)","v":1},{"$f":"(D37+D38+D39)/(D37+D38+D39+D40+D41)","v":1},1,1,{"$error":"#DIV/0!"},{"$error":"#DIV/0!"},{"$error":"#DIV/0!"},{"$error":"#DIV/0!"},{"$error":"#DIV/0!"},1,1,1,1,{"$error":"#DIV/0!"},1,1,{"$error":"#DIV/0!"},{"$error":"#DIV/0!"},{"$error":"#DIV/0!"},{"$error":"#DIV/0!"},{"$error":"#DIV/0!"},{"$error":"#DIV/0!"},{"$error":"#DIV/0!"},{"$error":"#DIV/0!"},{"$error":"#DIV/0!"},{"$error":"#DIV/0!"},{"$error":"#DIV/0!"},{"$error":"#DIV/0!"},{"$error":"#DIV/0!"},{"$f":"('3 А(2)'!D2-'3 А(2)'!C43-'3 А(2)'!C53)/'3 А(2)'!D2","v":1}]
[null,"Качество знаний:",{"$f":"(C37+C38)/(C37+C38+C39+C40+C41)","v":0.51851851851851849},{"$f":"(D37+D38)/(D37+D38+D39+D40+D41)","v":0.92592592592592593},0.8,0.7407407407407407,{"$error":"#DIV/0!"},{"$error":"#DIV/0!"},{"$error":"#DIV/0!"},{"$error":"#DIV/0!"},{"$error":"#DIV/0!"},0.92592592592592593,1,1,1,{"$error":"#DIV/0!"},1,1,{"$error":"#DIV/0!"},{"$error":"#DIV/0!"},{"$error":"#DIV/0!"},{"$error":"#DIV/0!"},{"$error":"#DIV/0!"},{"$error":"#DIV/0!"},{"$error":"#DIV/0!"},{"$error":"#DIV/0!"},{"$error":"#DIV/0!"},{"$error":"#DIV/0!"},{"$error":"#DIV/0!"},{"$error":"#DIV/0!"},{"$error":"#DIV/0!"},{"$f":"('3 А(2)'!C3+'3 А(2)'!C18)/'3 А(2)'!D2","v":0.46153846153846156}]
[null,"Степень обученности:",{"$f":"(C37+C38*0.64+C39*0.36+C40*0.16)/(C37+C38+C39+C40+C41)","v":0.59851851851851856},{"$f":"(D37+D38*0.64+D39*0.36+D40*0.16)/(D37+D38+D39+D40+D41)","v":0.73925925925925928},0.65599999999999992,0.63407407407407412,{"$error":"#DIV/0!"},{"$error":"#DIV/0!"},{"$error":"#DIV/0!"},{"$error":"#DIV/0!"},{"$error":"#DIV/0!"},0.79259259259259252,1,0.97333333333333338,1,{"$error":"#DIV/0!"},0.91359999999999997,1,{"$error":"#DIV/0!"},{"$error":"#DIV/0!"},{"$error":"#DIV/0!"},{"$error":"#DIV/0!"},{"$error":"#DIV/0!"},{"$error":"#DIV/0!"},{"$error":"#DIV/0!"},{"$error":"#DIV/0!"},{"$error":"#DIV/0!"},{"$error":"#DIV/0!"},{"$error":"#DIV/0!"},{"$error":"#DIV/0!"},{"$error":"#DIV/0!"},{"$f":"(AF37+AF38*0.64+AF39*0.36+AF40*0.16)/(AF37+AF38+AF39+AF40+AF41)","v":0.81394190871369299}]
[null,"Средний балл:              ",{"$f":"(C37*5+C38*4+C39*3+C40*2)/(C37+C38+C39+C40+C41)","v":3.7777777777777777},{"$f":"(D37*5+D38*4+D39*3+D40*2)/(D37+D38+D39+D40+D41)","v":4.2592592592592595},4,3.925925925925926,{"$error":"#DIV/0!"},{"$error":"#DIV/0!"},{"$error":"#DIV/0!"},{"$error":"#DIV/0!"},{"$error":"#DIV/0!"},4.4074074074074074,5,4.9259259259259256,5,{"$error":"#DIV/0!"},4.76,5,{"$error":"#DIV/0!"},{"$error":"#DIV/0!"},{"$error":"#DIV/0!"},{"$error":"#DIV/0!"},{"$error":"#DIV/0!"},{"$error":"#DIV/0!"},{"$error":"#DIV/0!"},{"$error":"#DIV/0!"},{"$error":"#DIV/0!"},{"$error":"#DIV/0!"},{"$error":"#DIV/0!"},{"$error":"#DIV/0!"},{"$error":"#DIV/0!"},{"$f":"(AF37*5+AF38*4+AF39*3+AF40*2)/(AF37+AF38+AF39+AF40+AF41)","v":4.4564315352697097}]
[null,"Качество успеваемости:",{"$f":"(5*C37+4*C38)*0.2/(SUM(C37+C38+C39+C40+C41))","v":0.46666666666666673},{"$f":"(5*COUNTIF(D6:D35,5)+4*COUNTIF(D6:D35,4))*0.2/(COUNTA(D6:D35)-COUNTIF(D6:D35,\"н\"))","v":0.80740740740740746},0.68,0.62962962962962965,{"$error":"#DIV/0!"},{"$error":"#DIV/0!"},{"$error":"#DIV/0!"},{"$error":"#DIV/0!"},{"$error":"#DIV/0!"},0.83703703703703713,1,0.98518518518518527,1,{"$error":"#DIV/0!"},0.95200000000000007,1,{"$error":"#DIV/0!"},{"$error":"#DIV/0!"},{"$error":"#DIV/0!"},{"$error":"#DIV/0!"},{"$error":"#DIV/0!"},{"$error":"#DIV/0!"},{"$error":"#DIV/0!"},{"$error":"#DIV/0!"},{"$error":"#DIV/0!"},{"$error":"#DIV/0!"},{"$error":"#DIV/0!"},{"$error":"#DIV/0!"},{"$error":"#DIV/0!"},{"$f":"(5*COUNTIF(C6:AE35,5)+4*COUNTIF(C6:AE35,4))*0.2/(COUNTA(C6:AE35)-COUNTIF(C6:AE35,\"н\"))","v":0.81908713692946056}]
["Выполнено с помощью программы статистического анализа результатов учебной деятельности",null,null,null,null,null,null,null,null,null,null,null,null,null,null,null,null,null,null,null,null,null,null,null,null,null,null,null,{"$f":"Титул!G31","v":"PSORUD-Klass.v.04.11.demo"},null,null,null,null,null,"3+"]
[]
[]
[]
[]
[]
[]
[]
[]
[]
[]
[]
[]
[]
[]
[]
[]
[]
[]
[]
[]
[]
[]
[]
[]
[]
[]
[]
[]
[]
[]
[]
[]
[]
[]
[]
[]
[]
[]
[]
[]
[]
[null,"Коэф.трудн.предмета",{"$f":"VLOOKUP(C$5,ШкалаТрудн!$C$5:$N$34,LEFT($Z$2,2)+1,0)","v":7},{"$f":"VLOOKUP(D$5,ШкалаТрудн!$C$5:$N$34,LEFT($Z$2,2)+1,0)","v":5},{"$f":"VLOOKUP(E$5,ШкалаТрудн!$C$5:$N$34,LEFT($Z$2,2)+1,0)","v":5},{"$f":"VLOOKUP(F$5,ШкалаТрудн!$C$5:$N$34,LEFT($Z$2,2)+1,0)","v":8},{"$f":"VLOOKUP(G$5,ШкалаТрудн!$C$5:$N$34,LEFT($Z$2,2)+1,0)","v":0},{"$f":"VLOOKUP(H$5,ШкалаТрудн!$C$5:$N$34,LEFT($Z$2,2)+1,0)","v":0},{"$f":"VLOOKUP(I$5,ШкалаТрудн!$C$5:$N$34,LEFT($Z$2,2)+1,0)","v":6},{"$f":"VLOOKUP(J$5,ШкалаТрудн!$C$5:$N$34,LEFT($Z$2,2)+1,0)","v":4},{"$f":"VLOOKUP(K$5,ШкалаТрудн!$C$5:$N$34,LEFT($Z$2,2)+1,0)","v":0},{"$f":"VLOOKUP(L$5,ШкалаТрудн!$C$5:$N$34,LEFT($Z$2,2)+1,0)","v":{"$error":"#N/A"}},{"$f":"VLOOKUP(M$5,ШкалаТрудн!$C$5:$N$34,LEFT($Z$2,2)+1,0)","v":3},{"$f":"VLOOKUP(N$5,ШкалаТрудн!$C$5:$N$34,LEFT($Z$2,2)+1,0)","v":3},{"$f":"VLOOKUP(O$5,ШкалаТрудн!$C$5:$N$34,LEFT($Z$2,2)+1,0)","v":2},{"$f":"VLOOKUP(P$5,ШкалаТрудн!$C$5:$N$34,LEFT($Z$2,2)+1,0)","v":2},{"$f":"VLOOKUP(Q$5,ШкалаТрудн!$C$5:$N$34,LEFT($Z$2,2)+1,0)","v":1},{"$f":"VLOOKUP(R$5,ШкалаТрудн!$C$5:$N$34,LEFT($Z$2,2)+1,0)","v":5},{"$f":"VLOOKUP(S$5,ШкалаТрудн!$C$5:$N$34,LEFT($Z$2,2)+1,0)","v":5},{"$f":"VLOOKUP(T$5,ШкалаТрудн!$C$5:$N$34,LEFT($Z$2,2)+1,0)","v":0},{"$f":"VLOOKUP(U$5,ШкалаТрудн!$C$5:$N$34,LEFT($Z$2,2)+1,0)","v":0},{"$f":"VLOOKUP(V$5,ШкалаТрудн!$C$5:$N$34,LEFT($Z$2,2)+1,0)","v":0},{"$f":"VLOOKUP(W$5,ШкалаТрудн!$C$5:$N$34,LEFT($Z$2,2)+1,0)","v":0},{"$f":"VLOOKUP(X$5,ШкалаТрудн!$C$5:$N$34,LEFT($Z$2,2)+1,0)","v":0},{"$f":"VLOOKUP(Y$5,ШкалаТрудн!$C$5:$N$34,LEFT($Z$2,2)+1,0)","v":1},{"$f":"VLOOKUP(Z$5,ШкалаТрудн!$C$5:$N$34,LEFT($Z$2,2)+1,0)","v":0},{"$f":"VLOOKUP(AA$5,ШкалаТрудн!$C$5:$N$34,LEFT($Z$2,2)+1,0)","v":0},{"$f":"VLOOKUP(AB$5,ШкалаТрудн!$C$5:$N$34,LEFT($Z$2,2)+1,0)","v":{"$error":"#N/A"}},{"$f":"VLOOKUP(AC$5,ШкалаТрудн!$C$5:$N$34,LEFT($Z$2,2)+1,0)","v":{"$error":"#N/A"}},{"$f":"VLOOKUP(AD$5,ШкалаТрудн!$C$5:$N$34,LEFT($Z$2,2)+1,0)","v":{"$error":"#N/A"}},{"$f":"VLOOKUP(AE$5,ШкалаТрудн!$C$5:$N$34,LEFT($Z$2,2)+1,0)","v":{"$error":"#N/A"}}]
[null,null,{"$f":"C6*C$90","v":21},15,15,24,0,0,0,0,0,{"$error":"#N/A"},15,12,10,0,5,0,0,0,0,0,0,0,0,0,0,{"$error":"#N/A"},{"$error":"#N/A"},{"$error":"#N/A"},{"$error":"#N/A"}]
[null,null,{"$f":"C7*C$90","v":28},20,0,32,0,0,0,0,0,{"$error":"#N/A"},15,15,10,0,5,25,0,0,0,0,0,0,0,0,0,{"$error":"#N/A"},{"$error":"#N/A"},{"$error":"#N/A"},{"$error":"#N/A"}]
[null,null,{"$f":"C8*C$90","v":21},20,20,32,0,0,0,0,0,{"$error":"#N/A"},15,15,10,0,4,0,0,0,0,0,0,0,0,0,0,{"$error":"#N/A"},{"$error":"#N/A"},{"$error":"#N/A"},{"$error":"#N/A"}]
[null,null,{"$f":"C9*C$90","v":35},25,0,40,0,0,0,0,0,{"$error":"#N/A"},15,15,10,0,5,25,0,0,0,0,0,0,0,0,0,{"$error":"#N/A"},{"$error":"#N/A"},{"$error":"#N/A"},{"$error":"#N/A"}]
[null,null,{"$f":"C10*C$90","v":21},20,25,24,0,0,0,0,0,{"$error":"#N/A"},15,15,10,0,5,0,0,0,0,0,0,0,0,0,0,{"$error":"#N/A"},{"$error":"#N/A"},{"$error":"#N/A"},{"$error":"#N/A"}]
[null,null,{"$f":"C11*C$90","v":21},20,20,32,0,0,0,0,0,{"$error":"#N/A"},15,15,10,0,5,0,0,0,0,0,0,0,0,0,0,{"$error":"#N/A"},{"$error":"#N/A"},{"$error":"#N/A"},{"$error":"#N/A"}]
[null,null,{"$f":"C12*C$90","v":21},25,25,32,0,0,0,0,0,{"$error":"#N/A"},15,15,10,0,5,0,0,0,0,0,0,0,0,0,0,{"$error":"#N/A"},{"$error":"#N/A"},{"$error":"#N/A"},{"$error":"#N/A"}]
[null,null,{"$f":"C13*C$90","v":21},20,20,32,0,0,0,0,0,{"$error":"#N/A"},15,15,10,0,5,0,0,0,0,0,0,0,0,0,0,{"$error":"#N/A"},{"$error":"#N/A"},{"$error":"#N/A"},{"$error":"#N/A"}]
[null,null,{"$f":"C14*C$90","v":35},25,20,32,0,0,0,0,0,{"$error":"#N/A"},15,15,10,0,0,0,0,0,0,0,0,0,0,0,0,{"$error":"#N/A"},{"$error":"#N/A"},{"$error":"#N/A"},{"$error":"#N/A"}]
[null,null,{"$f":"C15*C$90","v":21},20,15,24,0,0,0,0,0,{"$error":"#N/A"},15,15,10,0,5,0,0,0,0,0,0,0,0,0,0,{"$error":"#N/A"},{"$error":"#N/A"},{"$error":"#N/A"},{"$error":"#N/A"}]
[null,null,{"$f":"C16*C$90","v":21},20,20,24,0,0,0,0,0,{"$error":"#N/A"},15,15,10,0,5,0,0,0,0,0,0,0,0,0,0,{"$error":"#N/A"},{"$error":"#N/A"},{"$error":"#N/A"},{"$error":"#N/A"}]
[null,null,{"$f":"C17*C$90","v":21},20,15,24,0,0,0,0,0,{"$error":"#N/A"},15,15,10,0,5,0,0,0,0,0,0,0,0,0,0,{"$error":"#N/A"},{"$error":"#N/A"},{"$error":"#N/A"},{"$error":"#N/A"}]
[null,null,{"$f":"C18*C$90","v":35},25,20,32,0,0,0,0,0,{"$error":"#N/A"},15,15,10,0,4,0,0,0,0,0,0,0,0,0,0,{"$error":"#N/A"},{"$error":"#N/A"},{"$error":"#N/A"},{"$error":"#N/A"}]
[null,null,{"$f":"C19*C$90","v":21},20,20,24,0,0,0,0,0,{"$error":"#N/A"},15,12,10,0,5,0,0,0,0,0,0,0,0,0,0,{"$error":"#N/A"},{"$error":"#N/A"},{"$error":"#N/A"},{"$error":"#N/A"}]
[null,null,{"$f":"C20*C$90","v":35},25,20,32,0,0,0,0,0,{"$error":"#N/A"},15,15,10,0,5,0,0,0,0,0,0,0,0,0,0,{"$error":"#N/A"},{"$error":"#N/A"},{"$error":"#N/A"},{"$error":"#N/A"}]
[null,null,{"$f":"C21*C$90","v":35},25,25,40,0,0,0,0,0,{"$error":"#N/A"},15,15,10,0,5,0,0,0,0,0,0,0,0,0,0,{"$error":"#N/A"},{"$error":"#N/A"},{"$error":"#N/A"},{"$error":"#N/A"}]
[null,null,{"$f":"C22*C$90","v":35},25,25,40,0,0,0,0,0,{"$error":"#N/A"},15,15,10,0,5,0,0,0,0,0,0,0,0,0,0,{"$error":"#N/A"},{"$error":"#N/A"},{"$error":"#N/A"},{"$error":"#N/A"}]
[null,null,{"$f":"C23*C$90","v":28},25,20,40,0,0,0,0,0,{"$error":"#N/A"},15,15,10,0,5,0,0,0,0,0,0,0,0,0,0,{"$error":"#N/A"},{"$error":"#N/A"},{"$error":"#N/A"},{"$error":"#N/A"}]
[null,null,{"$f":"C24*C$90","v":28},20,15,32,0,0,0,0,0,{"$error":"#N/A"},15,15,10,0,5,0,0,0,0,0,0,0,0,0,0,{"$error":"#N/A"},{"$error":"#N/A"},{"$error":"#N/A"},{"$error":"#N/A"}]
[null,null,{"$f":"C25*C$90","v":28},20,20,32,0,0,0,0,0,{"$error":"#N/A"},15,15,10,0,4,0,0,0,0,0,0,0,0,0,0,{"$error":"#N/A"},{"$error":"#N/A"},{"$error":"#N/A"},{"$error":"#N/A"}]
[null,null,{"$f":"C26*C$90","v":28},20,20,32,0,0,0,0,0,{"$error":"#N/A"},15,15,10,0,5,0,0,0,0,0,0,0,0,0,0,{"$error":"#N/A"},{"$error":"#N/A"},{"$error":"#N/A"},{"$error":"#N/A"}]
[null,null,{"$f":"C27*C$90","v":28},20,20,32,0,0,0,0,0,{"$error":"#N/A"},15,15,10,0,4,0,0,0,0,0,0,0,0,0,0,{"$error":"#N/A"},{"$error":"#N/A"},{"$error":"#N/A"},{"$error":"#N/A"}]
[null,null,{"$f":"C28*C$90","v":21},15,15,24,0,0,0,0,0,{"$error":"#N/A"},15,15,10,0,4,0,0,0,0,0,0,0,0,0,0,{"$error":"#N/A"},{"$error":"#N/A"},{"$error":"#N/A"},{"$error":"#N/A"}]
[null,null,{"$f":"C29*C$90","v":21},20,20,32,0,0,0,0,0,{"$error":"#N/A"},15,15,10,0,5,0,0,0,0,0,0,0,0,0,0,{"$error":"#N/A"},{"$error":"#N/A"},{"$error":"#N/A"},{"$error":"#N/A"}]
[null,null,{"$f":"C30*C$90","v":35},25,25,40,0,0,0,0,0,{"$error":"#N/A"},15,15,10,0,0,0,0,0,0,0,0,0,0,0,0,{"$error":"#N/A"},{"$error":"#N/A"},{"$error":"#N/A"},{"$error":"#N/A"}]
[null,null,{"$f":"C31*C$90","v":21},20,20,32,0,0,0,0,0,{"$error":"#N/A"},15,15,10,0,4,0,0,0,0,0,0,0,0,0,0,{"$error":"#N/A"},{"$error":"#N/A"},{"$error":"#N/A"},{"$error":"#N/A"}]
[null,null,{"$f":"C32*C$90","v":28},20,20,32,0,0,0,0,0,{"$error":"#N/A"},15,15,10,0,5,0,0,0,0,0,0,0,0,0,0,{"$error":"#N/A"},{"$error":"#N/A"},{"$error":"#N/A"},{"$error":"#N/A"}]
[null,null,{"$f":"C33*C$90","v":0},0,0,0,0,0,0,0,0,{"$error":"#N/A"},0,0,0,0,0,0,0,0,0,0,0,0,0,0,0,{"$error":"#N/A"},{"$error":"#N/A"},{"$error":"#N/A"},{"$error":"#N/A"}]
[null,null,{"$f":"C34*C$90","v":0},0,0,0,0,0,0,0,0,{"$error":"#N/A"},0,0,0,0,0,0,0,0,0,0,0,0,0,0,0,{"$error":"#N/A"},{"$error":"#N/A"},{"$error":"#N/A"},{"$error":"#N/A"}]
[null,null,{"$f":"#REF!*C$90","v":{"$error":"#REF!"}},{"$f":"#REF!*D$90","v":{"$error":"#REF!"}},{"$f":"#REF!*E$90","v":{"$error":"#REF!"}},{"$f":"#REF!*F$90","v":{"$error":"#REF!"}},{"$f":"#REF!*G$90","v":{"$error":"#REF!"}},{"$f":"#REF!*H$90","v":{"$error":"#REF!"}},{"$f":"#REF!*I$90","v":{"$error":"#REF!"}},{"$f":"#REF!*J$90","v":{"$error":"#REF!"}},{"$f":"#REF!*K$90","v":{"$error":"#REF!"}},{"$f":"#REF!*L$90","v":{"$error":"#REF!"}},{"$f":"#REF!*M$90","v":{"$error":"#REF!"}},{"$f":"#REF!*N$90","v":{"$error":"#REF!"}},{"$f":"#REF!*O$90","v":{"$error":"#REF!"}},{"$f":"#REF!*P$90","v":{"$error":"#REF!"}},{"$f":"#REF!*Q$90","v":{"$error":"#REF!"}},{"$f":"#REF!*R$90","v":{"$error":"#REF!"}},{"$f":"#REF!*S$90","v":{"$error":"#REF!"}},{"$f":"#REF!*T$90","v":{"$error":"#REF!"}},{"$f":"#REF!*U$90","v":{"$error":"#REF!"}},{"$f":"#REF!*V$90","v":{"$error":"#REF!"}},{"$f":"#REF!*W$90","v":{"$error":"#REF!"}},{"$f":"#REF!*X$90","v":{"$error":"#REF!"}},{"$f":"#REF!*Y$90","v":{"$error":"#REF!"}},{"$f":"#REF!*Z$90","v":{"$error":"#REF!"}},{"$f":"#REF!*AA$90","v":{"$error":"#REF!"}},{"$f":"#REF!*AB$90","v":{"$error":"#REF!"}},{"$f":"#REF!*AC$90","v":{"$error":"#REF!"}},{"$f":"#REF!*AD$90","v":{"$error":"#REF!"}},{"$f":"#REF!*AE$90","v":{"$error":"#REF!"}}]
[null,null,{"$f":"#REF!*C$90","v":{"$error":"#REF!"}},{"$f":"#REF!*D$90","v":{"$error":"#REF!"}},{"$f":"#REF!*E$90","v":{"$error":"#REF!"}},{"$f":"#REF!*F$90","v":{"$error":"#REF!"}},{"$f":"#REF!*G$90","v":{"$error":"#REF!"}},{"$f":"#REF!*H$90","v":{"$error":"#REF!"}},{"$f":"#REF!*I$90","v":{"$error":"#REF!"}},{"$f":"#REF!*J$90","v":{"$error":"#REF!"}},{"$f":"#REF!*K$90","v":{"$error":"#REF!"}},{"$f":"#REF!*L$90","v":{"$error":"#REF!"}},{"$f":"#REF!*M$90","v":{"$error":"#REF!"}},{"$f":"#REF!*N$90","v":{"$error":"#REF!"}},{"$f":"#REF!*O$90","v":{"$error":"#REF!"}},{"$f":"#REF!*P$90","v":{"$error":"#REF!"}},{"$f":"#REF!*Q$90","v":{"$error":"#REF!"}},{"$f":"#REF!*R$90","v":{"$error":"#REF!"}},{"$f":"#REF!*S$90","v":{"$error":"#REF!"}},{"$f":"#REF!*T$90","v":{"$error":"#REF!"}},{"$f":"#REF!*U$90","v":{"$error":"#REF!"}},{"$f":"#REF!*V$90","v":{"$error":"#REF!"}},{"$f":"#REF!*W$90","v":{"$error":"#REF!"}},{"$f":"#REF!*X$90","v":{"$error":"#REF!"}},{"$f":"#REF!*Y$90","v":{"$error":"#REF!"}},{"$f":"#REF!*Z$90","v":{"$error":"#REF!"}},{"$f":"#REF!*AA$90","v":{"$error":"#REF!"}},{"$f":"#REF!*AB$90","v":{"$error":"#REF!"}},{"$f":"#REF!*AC$90","v":{"$error":"#REF!"}},{"$f":"#REF!*AD$90","v":{"$error":"#REF!"}},{"$f":"#REF!*AE$90","v":{"$error":"#REF!"}}]
[null,null,{"$f":"#REF!*C$90","v":{"$error":"#REF!"}},{"$f":"#REF!*D$90","v":{"$error":"#REF!"}},{"$f":"#REF!*E$90","v":{"$error":"#REF!"}},{"$f":"#REF!*F$90","v":{"$error":"#REF!"}},{"$f":"#REF!*G$90","v":{"$error":"#REF!"}},{"$f":"#REF!*H$90","v":{"$error":"#REF!"}},{"$f":"#REF!*I$90","v":{"$error":"#REF!"}},{"$f":"#REF!*J$90","v":{"$error":"#REF!"}},{"$f":"#REF!*K$90","v":{"$error":"#REF!"}},{"$f":"#REF!*L$90","v":{"$error":"#REF!"}},{"$f":"#REF!*M$90","v":{"$error":"#REF!"}},{"$f":"#REF!*N$90","v":{"$error":"#REF!"}},{"$f":"#REF!*O$90","v":{"$error":"#REF!"}},{"$f":"#REF!*P$90","v":{"$error":"#REF!"}},{"$f":"#REF!*Q$90","v":{"$error":"#REF!"}},{"$f":"#REF!*R$90","v":{"$error":"#REF!"}},{"$f":"#REF!*S$90","v":{"$error":"#REF!"}},{"$f":"#REF!*T$90","v":{"$error":"#REF!"}},{"$f":"#REF!*U$90","v":{"$error":"#REF!"}},{"$f":"#REF!*V$90","v":{"$error":"#REF!"}},{"$f":"#REF!*W$90","v":{"$error":"#REF!"}},{"$f":"#REF!*X$90","v":{"$error":"#REF!"}},{"$f":"#REF!*Y$90","v":{"$error":"#REF!"}},{"$f":"#REF!*Z$90","v":{"$error":"#REF!"}},{"$f":"#REF!*AA$90","v":{"$error":"#REF!"}},{"$f":"#REF!*AB$90","v":{"$error":"#REF!"}},{"$f":"#REF!*AC$90","v":{"$error":"#REF!"}},{"$f":"#REF!*AD$90","v":{"$error":"#REF!"}},{"$f":"#REF!*AE$90","v":{"$error":"#REF!"}}]
[null,null,{"$f":"#REF!*C$90","v":{"$error":"#REF!"}},{"$f":"#REF!*D$90","v":{"$error":"#REF!"}},{"$f":"#REF!*E$90","v":{"$error":"#REF!"}},{"$f":"#REF!*F$90","v":{"$error":"#REF!"}},{"$f":"#REF!*G$90","v":{"$error":"#REF!"}},{"$f":"#REF!*H$90","v":{"$error":"#REF!"}},{"$f":"#REF!*I$90","v":{"$error":"#REF!"}},{"$f":"#REF!*J$90","v":{"$error":"#REF!"}},{"$f":"#REF!*K$90","v":{"$error":"#REF!"}},{"$f":"#REF!*L$90","v":{"$error":"#REF!"}},{"$f":"#REF!*M$90","v":{"$error":"#REF!"}},{"$f":"#REF!*N$90","v":{"$error":"#REF!"}},{"$f":"#REF!*O$90","v":{"$error":"#REF!"}},{"$f":"#REF!*P$90","v":{"$error":"#REF!"}},{"$f":"#REF!*Q$90","v":{"$error":"#REF!"}},{"$f":"#REF!*R$90","v":{"$error":"#REF!"}},{"$f":"#REF!*S$90","v":{"$error":"#REF!"}},{"$f":"#REF!*T$90","v":{"$error":"#REF!"}},{"$f":"#REF!*U$90","v":{"$error":"#REF!"}},{"$f":"#REF!*V$90","v":{"$error":"#REF!"}},{"$f":"#REF!*W$90","v":{"$error":"#REF!"}},{"$f":"#REF!*X$90","v":{"$error":"#REF!"}},{"$f":"#REF!*Y$90","v":{"$error":"#REF!"}},{"$f":"#REF!*Z$90","v":{"$error":"#REF!"}},{"$f":"#REF!*AA$90","v":{"$error":"#REF!"}},{"$f":"#REF!*AB$90","v":{"$error":"#REF!"}},{"$f":"#REF!*AC$90","v":{"$error":"#REF!"}},{"$f":"#REF!*AD$90","v":{"$error":"#REF!"}},{"$f":"#REF!*AE$90","v":{"$error":"#REF!"}}]
[null,null,{"$f":"#REF!*C$90","v":{"$error":"#REF!"}},{"$f":"#REF!*D$90","v":{"$error":"#REF!"}},{"$f":"#REF!*E$90","v":{"$error":"#REF!"}},{"$f":"#REF!*F$90","v":{"$error":"#REF!"}},{"$f":"#REF!*G$90","v":{"$error":"#REF!"}},{"$f":"#REF!*H$90","v":{"$error":"#REF!"}},{"$f":"#REF!*I$90","v":{"$error":"#REF!"}},{"$f":"#REF!*J$90","v":{"$error":"#REF!"}},{"$f":"#REF!*K$90","v":{"$error":"#REF!"}},{"$f":"#REF!*L$90","v":{"$error":"#REF!"}},{"$f":"#REF!*M$90","v":{"$error":"#REF!"}},{"$f":"#REF!*N$90","v":{"$error":"#REF!"}},{"$f":"#REF!*O$90","v":{"$error":"#REF!"}},{"$f":"#REF!*P$90","v":{"$error":"#REF!"}},{"$f":"#REF!*Q$90","v":{"$error":"#REF!"}},{"$f":"#REF!*R$90","v":{"$error":"#REF!"}},{"$f":"#REF!*S$90","v":{"$error":"#REF!"}},{"$f":"#REF!*T$90","v":{"$error":"#REF!"}},{"$f":"#REF!*U$90","v":{"$error":"#REF!"}},{"$f":"#REF!*V$90","v":{"$error":"#REF!"}},{"$f":"#REF!*W$90","v":{"$error":"#REF!"}},{"$f":"#REF!*X$90","v":{"$error":"#REF!"}},{"$f":"#REF!*Y$90","v":{"$error":"#REF!"}},{"$f":"#REF!*Z$90","v":{"$error":"#REF!"}},{"$f":"#REF!*AA$90","v":{"$error":"#REF!"}},{"$f":"#REF!*AB$90","v":{"$error":"#REF!"}},{"$f":"#REF!*AC$90","v":{"$error":"#REF!"}},{"$f":"#REF!*AD$90","v":{"$error":"#REF!"}},{"$f":"#REF!*AE$90","v":{"$error":"#REF!"}}]
[null,null,{"$f":"#REF!*C$90","v":{"$error":"#REF!"}},{"$f":"#REF!*D$90","v":{"$error":"#REF!"}},{"$f":"#REF!*E$90","v":{"$error":"#REF!"}},{"$f":"#REF!*F$90","v":{"$error":"#REF!"}},{"$f":"#REF!*G$90","v":{"$error":"#REF!"}},{"$f":"#REF!*H$90","v":{"$error":"#REF!"}},{"$f":"#REF!*I$90","v":{"$error":"#REF!"}},{"$f":"#REF!*J$90","v":{"$error":"#REF!"}},{"$f":"#REF!*K$90","v":{"$error":"#REF!"}},{"$f":"#REF!*L$90","v":{"$error":"#REF!"}},{"$f":"#REF!*M$90","v":{"$error":"#REF!"}},{"$f":"#REF!*N$90","v":{"$error":"#REF!"}},{"$f":"#REF!*O$90","v":{"$error":"#REF!"}},{"$f":"#REF!*P$90","v":{"$error":"#REF!"}},{"$f":"#REF!*Q$90","v":{"$error":"#REF!"}},{"$f":"#REF!*R$90","v":{"$error":"#REF!"}},{"$f":"#REF!*S$90","v":{"$error":"#REF!"}},{"$f":"#REF!*T$90","v":{"$error":"#REF!"}},{"$f":"#REF!*U$90","v":{"$error":"#REF!"}},{"$f":"#REF!*V$90","v":{"$error":"#REF!"}},{"$f":"#REF!*W$90","v":{"$error":"#REF!"}},{"$f":"#REF!*X$90","v":{"$error":"#REF!"}},{"$f":"#REF!*Y$90","v":{"$error":"#REF!"}},{"$f":"#REF!*Z$90","v":{"$error":"#REF!"}},{"$f":"#REF!*AA$90","v":{"$error":"#REF!"}},{"$f":"#REF!*AB$90","v":{"$error":"#REF!"}},{"$f":"#REF!*AC$90","v":{"$error":"#REF!"}},{"$f":"#REF!*AD$90","v":{"$error":"#REF!"}},{"$f":"#REF!*AE$90","v":{"$error":"#REF!"}}]
[null,null,{"$f":"#REF!*C$90","v":{"$error":"#REF!"}},{"$f":"#REF!*D$90","v":{"$error":"#REF!"}},{"$f":"#REF!*E$90","v":{"$error":"#REF!"}},{"$f":"#REF!*F$90","v":{"$error":"#REF!"}},{"$f":"#REF!*G$90","v":{"$error":"#REF!"}},{"$f":"#REF!*H$90","v":{"$error":"#REF!"}},{"$f":"#REF!*I$90","v":{"$error":"#REF!"}},{"$f":"#REF!*J$90","v":{"$error":"#REF!"}},{"$f":"#REF!*K$90","v":{"$error":"#REF!"}},{"$f":"#REF!*L$90","v":{"$error":"#REF!"}},{"$f":"#REF!*M$90","v":{"$error":"#REF!"}},{"$f":"#REF!*N$90","v":{"$error":"#REF!"}},{"$f":"#REF!*O$90","v":{"$error":"#REF!"}},{"$f":"#REF!*P$90","v":{"$error":"#REF!"}},{"$f":"#REF!*Q$90","v":{"$error":"#REF!"}},{"$f":"#REF!*R$90","v":{"$error":"#REF!"}},{"$f":"#REF!*S$90","v":{"$error":"#REF!"}},{"$f":"#REF!*T$90","v":{"$error":"#REF!"}},{"$f":"#REF!*U$90","v":{"$error":"#REF!"}},{"$f":"#REF!*V$90","v":{"$error":"#REF!"}},{"$f":"#REF!*W$90","v":{"$error":"#REF!"}},{"$f":"#REF!*X$90","v":{"$error":"#REF!"}},{"$f":"#REF!*Y$90","v":{"$error":"#REF!"}},{"$f":"#REF!*Z$90","v":{"$error":"#REF!"}},{"$f":"#REF!*AA$90","v":{"$error":"#REF!"}},{"$f":"#REF!*AB$90","v":{"$error":"#REF!"}},{"$f":"#REF!*AC$90","v":{"$error":"#REF!"}},{"$f":"#REF!*AD$90","v":{"$error":"#REF!"}},{"$f":"#REF!*AE$90","v":{"$error":"#REF!"}}]
[null,null,{"$f":"#REF!*C$90","v":{"$error":"#REF!"}},{"$f":"#REF!*D$90","v":{"$error":"#REF!"}},{"$f":"#REF!*E$90","v":{"$error":"#REF!"}},{"$f":"#REF!*F$90","v":{"$error":"#REF!"}},{"$f":"#REF!*G$90","v":{"$error":"#REF!"}},{"$f":"#REF!*H$90","v":{"$error":"#REF!"}},{"$f":"#REF!*I$90","v":{"$error":"#REF!"}},{"$f":"#REF!*J$90","v":{"$error":"#REF!"}},{"$f":"#REF!*K$90","v":{"$error":"#REF!"}},{"$f":"#REF!*L$90","v":{"$error":"#REF!"}},{"$f":"#REF!*M$90","v":{"$error":"#REF!"}},{"$f":"#REF!*N$90","v":{"$error":"#REF!"}},{"$f":"#REF!*O$90","v":{"$error":"#REF!"}},{"$f":"#REF!*P$90","v":{"$error":"#REF!"}},{"$f":"#REF!*Q$90","v":{"$error":"#REF!"}},{"$f":"#REF!*R$90","v":{"$error":"#REF!"}},{"$f":"#REF!*S$90","v":{"$error":"#REF!"}},{"$f":"#REF!*T$90","v":{"$error":"#REF!"}},{"$f":"#REF!*U$90","v":{"$error":"#REF!"}},{"$f":"#REF!*V$90","v":{"$error":"#REF!"}},{"$f":"#REF!*W$90","v":{"$error":"#REF!"}},{"$f":"#REF!*X$90","v":{"$error":"#REF!"}},{"$f":"#REF!*Y$90","v":{"$error":"#REF!"}},{"$f":"#REF!*Z$90","v":{"$error":"#REF!"}},{"$f":"#REF!*AA$90","v":{"$error":"#REF!"}},{"$f":"#REF!*AB$90","v":{"$error":"#REF!"}},{"$f":"#REF!*AC$90","v":{"$error":"#REF!"}},{"$f":"#REF!*AD$90","v":{"$error":"#REF!"}},{"$f":"#REF!*AE$90","v":{"$error":"#REF!"}}]
[null,null,{"$f":"#REF!*C$90","v":{"$error":"#REF!"}},{"$f":"#REF!*D$90","v":{"$error":"#REF!"}},{"$f":"#REF!*E$90","v":{"$error":"#REF!"}},{"$f":"#REF!*F$90","v":{"$error":"#REF!"}},{"$f":"#REF!*G$90","v":{"$error":"#REF!"}},{"$f":"#REF!*H$90","v":{"$error":"#REF!"}},{"$f":"#REF!*I$90","v":{"$error":"#REF!"}},{"$f":"#REF!*J$90","v":{"$error":"#REF!"}},{"$f":"#REF!*K$90","v":{"$error":"#REF!"}},{"$f":"#REF!*L$90","v":{"$error":"#REF!"}},{"$f":"#REF!*M$90","v":{"$error":"#REF!"}},{"$f":"#REF!*N$90","v":{"$error":"#REF!"}},{"$f":"#REF!*O$90","v":{"$error":"#REF!"}},{"$f":"#REF!*P$90","v":{"$error":"#REF!"}},{"$f":"#REF!*Q$90","v":{"$error":"#REF!"}},{"$f":"#REF!*R$90","v":{"$error":"#REF!"}},{"$f":"#REF!*S$90","v":{"$error":"#REF!"}},{"$f":"#REF!*T$90","v":{"$error":"#REF!"}},{"$f":"#REF!*U$90","v":{"$error":"#REF!"}},{"$f":"#REF!*V$90","v":{"$error":"#REF!"}},{"$f":"#REF!*W$90","v":{"$error":"#REF!"}},{"$f":"#REF!*X$90","v":{"$error":"#REF!"}},{"$f":"#REF!*Y$90","v":{"$error":"#REF!"}},{"$f":"#REF!*Z$90","v":{"$error":"#REF!"}},{"$f":"#REF!*AA$90","v":{"$error":"#REF!"}},{"$f":"#REF!*AB$90","v":{"$error":"#REF!"}},{"$f":"#REF!*AC$90","v":{"$error":"#REF!"}},{"$f":"#REF!*AD$90","v":{"$error":"#REF!"}},{"$f":"#REF!*AE$90","v":{"$error":"#REF!"}}]
[null,null,{"$f":"#REF!*C$90","v":{"$error":"#REF!"}},{"$f":"#REF!*D$90","v":{"$error":"#REF!"}},{"$f":"#REF!*E$90","v":{"$error":"#REF!"}},{"$f":"#REF!*F$90","v":{"$error":"#REF!"}},{"$f":"#REF!*G$90","v":{"$error":"#REF!"}},{"$f":"#REF!*H$90","v":{"$error":"#REF!"}},{"$f":"#REF!*I$90","v":{"$error":"#REF!"}},{"$f":"#REF!*J$90","v":{"$error":"#REF!"}},{"$f":"#REF!*K$90","v":{"$error":"#REF!"}},{"$f":"#REF!*L$90","v":{"$error":"#REF!"}},{"$f":"#REF!*M$90","v":{"$error":"#REF!"}},{"$f":"#REF!*N$90","v":{"$error":"#REF!"}},{"$f":"#REF!*O$90","v":{"$error":"#REF!"}},{"$f":"#REF!*P$90","v":{"$error":"#REF!"}},{"$f":"#REF!*Q$90","v":{"$error":"#REF!"}},{"$f":"#REF!*R$90","v":{"$error":"#REF!"}},{"$f":"#REF!*S$90","v":{"$error":"#REF!"}},{"$f":"#REF!*T$90","v":{"$error":"#REF!"}},{"$f":"#REF!*U$90","v":{"$error":"#REF!"}},{"$f":"#REF!*V$90","v":{"$error":"#REF!"}},{"$f":"#REF!*W$90","v":{"$error":"#REF!"}},{"$f":"#REF!*X$90","v":{"$error":"#REF!"}},{"$f":"#REF!*Y$90","v":{"$error":"#REF!"}},{"$f":"#REF!*Z$90","v":{"$error":"#REF!"}},{"$f":"#REF!*AA$90","v":{"$error":"#REF!"}},{"$f":"#REF!*AB$90","v":{"$error":"#REF!"}},{"$f":"#REF!*AC$90","v":{"$error":"#REF!"}},{"$f":"#REF!*AD$90","v":{"$error":"#REF!"}},{"$f":"#REF!*AE$90","v":{"$error":"#REF!"}}]
[null,null,{"$f":"C35*C$90","v":0},0,0,0,0,0,0,0,0,{"$error":"#N/A"},0,0,0,0,0,0,0,0,0,0,0,0,0,0,0,{"$error":"#N/A"},{"$error":"#N/A"},{"$error":"#N/A"},{"$error":"#N/A"}]

{"sheet":"3 А(2)","index":12,"n_rows":82,"n_cols":8,"rows_kept":82,"cut":false,"hidden":true,"merged":[[0,4,0,7],[0,0,0,3],[3,0,15,0],[67,0,67,1],[52,0,52,1],[42,0,42,1],[17,0,17,1],[1,0,1,2],[2,0,2,1]]}
[{"$f":"Титул!B12","v":"3 А"},null,null,null,"Страница заполняется автоматически, без участия оператора!!!"]
["Всего учащихся в классе:",null,null,{"$f":"Титул!C12","v":26},"Фамилии, имена               учащихся","Учебные предметы","Фамилии и инициалы учителей","Пояснения, примечания, причины"]
["Учатся на  \"5\":",null,{"$f":"COUNTA(E3:E17)","v":4},1,"Власенко Данил"]
[null,null,null,2,"Сердюк Алена"]
[null,null,null,3,"Сердюк Алиса"]
[null,null,null,4,"Яремей Виктория"]
[null,null,null,5]
[null,null,null,6]
[null,null,null,7]
[null,null,null,8]
[null,null,null,9]
[null,null,null,10]
[null,null,null,11]
[null,null,null,12]
[null,null,null,13]
[null,null,null,14]
[null,null,null,15]
["Учатся  на \"4\"и\"5\"",null,{"$f":"COUNTA(E18:E42)","v":8},1,"Бочкарева Дарья"]
[null," ",null,2,"Наумова Софья"]
[null,null,null,3,"Салимгореева Кристина"]
[null,null,null,4,"Сергеева Ксения"]
[null,null,null,5,"Солодкову Дарью"]
[null,null,null,6,"Таскина Валерия"]
[null,null,null,7,"Тимофи Карина"]
[null,null,null,8,"Хайрулин Артур"]
[null,null,null,9]
[null,null,null,10]
[null,null,null,11]
[null,null,null,12]
[null,null,null,13]
[null,null,null,14]
[null,null,null,15]
[null,null,null,16]
[null,null,null,17]
[null,null,null,18]
[null,null,null,19]
[null,null,null,20]
[null,null,null,21]
[null,null,null,22]
[null,null,null,23]
[null,null,null,24]
[null,null,null,25]
["Не аттестованы:",null,{"$f":"COUNTA(E43:E52)","v":0},1]
[null," ",null,2]
[null,null,null,3]
[null,null,null,4]
[null,null,null,5]
[null,null,null,6]
[null,null,null,7]
[null,null,null,8]
[null,null,null,9]
[null,null,null,10]
["Не успевают:",null,{"$f":"COUNTA(E53:E67)","v":0},1]
[null," ",null,2]
[null,null,null,3]
[null,null,null,4]
[null,null,null,5]
[null,null,null,6]
[null,null,null,7]
[null,null,null,8]
[null,null,null,9]
[null,null,null,10]
[null,null,null,11]
[null,null,null,12]
[null,null,null,13]
[null,null,null,14]
[null,null,null,15]
["Освобождены:",null,{"$f":"COUNTA(E68:E82)","v":0},1]
[null," ",null,2]
[null,null,null,3]
[null,null,null,4]
[null,null,null,5]
[null,null,null,6]
[null,null,null,7]
[null,null,null,8]
[null,null,null,9]
[null,null,null,10]
[null,null,null,11]
[null,null,null,12]
[null,null,null,13]
[null,null,null,14]
[null,null,null,15]

{"sheet":"4 А","index":13,"n_rows":130,"n_cols":35,"rows_kept":130,"cut":false,"hidden":true,"merged":[[0,26,0,32],[3,2,3,30],[0,0,0,2],[0,3,0,25],[2,4,2,17],[3,31,3,34],[2,23,2,34],[2,18,2,22],[1,29,1,31],[1,25,1,28],[1,0,1,24],[2,0,2,3],[47,0,47,26],[46,31,46,34],[45,31,45,34],[44,31,44,34],[43,31,43,34],[47,28,47,33],[35,31,35,34],[38,31,38,34],[37,31,37,34],[36,31,36,34],[3,0,4,1],[35,0,35,1],[36,0,46,0],[42,31,42,34],[41,31,41,34],[40,31,40,34],[39,31,39,34]]}
[{"$f":"Титул!B5","v":"2014/15 учебный год"},null,null,{"$f":"Титул!B4","v":"МОУ СОШ  № 15"},null,null,null,null,null,null,null,null,null,null,null,null,null,null,null,null,null,null,null,null,null,null,{"$f":"Титул!B6","v":"4 четверть"},null,null,null,null,null,null,null,"3+"]
["ВЕДОМОСТЬ  РЕЗУЛЬТАТОВ  УЧЕБНОЙ  ДЕЯТЕЛЬНОСТИ",null,null,null,null,null,null,null,null,null,null,null,null,null,null,null,null,null,null,null,null,null,null,null,null,{"$f":"Титул!B13","v":"4 А"},null,null,null,"класса"]
["Классный руководитель:",null,null,null,{"$f":"Титул!D13","v":"Сологуб Н.А."},null,null,null,null,null,null,null,null,null,null,null,null,null,"Программа:",null,null,null,null,{"$f":"Титул!G13","v":"УМК \"Школа России\""}]
["Вручную вносятся только оценки \"5\", \"4\", \"3\", \"2\", \"1\". \nНе аттестованным проставляется \"0\", освобожденным - \"Н\".  ",null,"У  ч  е  б  н  ы  е      п  р  е  д  м  е  т  ы",null,null,null,null,null,null,null,null,null,null,null,null,null,null,null,null,null,null,null,null,null,null,null,null,null,null,null,null,"Результаты ученика:"]
[null,null,{"$f":"Нагрузка!C3","v":"Русский язык"},{"$f":"Нагрузка!D3","v":"Литература"},{"$f":"Нагрузка!E3","v":"Иностранный язык"},{"$f":"Нагрузка!F3","v":"Математика"},{"$f":"Нагрузка!G3","v":"Алгебра"},{"$f":"Нагрузка!H3","v":"Геометрия"},{"$f":"Нагрузка!I3","v":"Информатика"},{"$f":"Нагрузка!J3","v":"История"},{"$f":"Нагрузка!K3","v":"Обществознание"},{"$f":"Нагрузка!L3","v":"Окружающий мир"},{"$f":"Нагрузка!M3","v":"ИЗО"},{"$f":"Нагрузка!N3","v":"Музыка"},{"$f":"Нагрузка!O3","v":"Технология"},{"$f":"Нагрузка!P3","v":"Технология"},{"$f":"Нагрузка!Q3","v":"ФЗК"},{"$f":"Нагрузка!R3","v":"Иностранный язык"},{"$f":"Нагрузка!S3","v":"Иностранный язык"},{"$f":"Нагрузка!T3","v":"География"},{"$f":"Нагрузка!U3","v":"Физика"},{"$f":"Нагрузка!V3","v":"Химия"},{"$f":"Нагрузка!W3","v":"Биология"},{"$f":"Нагрузка!X3","v":"МХК"},{"$f":"Нагрузка!Y3","v":"ФЗК"},{"$f":"Нагрузка!Z3","v":"ОБЖ"},{"$f":"Нагрузка!AA3","v":"Природоведение"},{"$f":"Нагрузка!AB3","v":0},{"$f":"Нагрузка!AC3","v":0},{"$f":"Нагрузка!AD3","v":0},{"$f":"Нагрузка!AE3","v":0},"Средний балл:","Степень обученности (СОУ):","Качество успеваемости:","Рейтинговый учебный балл:"]
[1,{"$f":"СпискиКлассы!F4","v":"Алябьев Владислав"},4,4,4,4,null,null,null,null,null,4,5,5,5,null,null,null,null,null,null,null,null,null,5,null,null,null,null,null,null,{"$f":"AVERAGE(C6:AE6)","v":4.4444444444444446},{"$f":"(COUNTIF(C6:AE6,\"5\")+COUNTIF(C6:AE6,\"4\")*0.64+COUNTIF(C6:AE6,\"3\")*0.36+COUNTIF(C6:AE6,\"2\")*0.16)/(COUNTIF(C6:AE6,\"5\")+COUNTIF(C6:AE6,\"4\")+COUNTIF(C6:AE6,\"3\")+COUNTIF(C6:AE6,\"2\")+COUNTIF(C6:AE6,\"0\"))","v":0.8},{"$f":"((5*COUNTIF(C6:AE6,\"5\"))+(4*COUNTIF(C6:AE6,\"4\")))/(5*(COUNTA(C6:AE6)-COUNTIF(C6:AE6,\"н\")))","v":0.88888888888888884},{"$f":"SUMIF(C91:AE91,\">0\",C91:AE91)/(COUNTIF(C6:AE6,\">0\")+COUNTIF(C6:AE6,\"=0\")+COUNTIF(C6:AE6,\"Н\"))","v":16.111111111111111}]
[{"$f":"A6+1","v":2},{"$f":"СпискиКлассы!F5","v":"Афанасьев Кирилл"},3,3,3,3,null,null,null,null,null,3,4,4,4,null,null,null,null,null,null,null,null,null,4,null,null,null,null,null,null,{"$f":"AVERAGE(C7:AE7)","v":3.4444444444444446},{"$f":"(COUNTIF(C7:AE7,\"5\")+COUNTIF(C7:AE7,\"4\")*0.64+COUNTIF(C7:AE7,\"3\")*0.36+COUNTIF(C7:AE7,\"2\")*0.16)/(COUNTIF(C7:AE7,\"5\")+COUNTIF(C7:AE7,\"4\")+COUNTIF(C7:AE7,\"3\")+COUNTIF(C7:AE7,\"2\")+COUNTIF(C7:AE7,\"0\"))","v":0.4844444444444444},{"$f":"((5*COUNTIF(C7:AE7,\"5\"))+(4*COUNTIF(C7:AE7,\"4\")))/(5*(COUNTA(C7:AE7)-COUNTIF(C7:AE7,\"н\")))","v":0.35555555555555557},12.333333333333334]
[3,{"$f":"СпискиКлассы!F6","v":"Бестужева Екатерина"},3,4,5,3,null,null,null,null,null,4,5,5,5,null,null,null,null,null,null,null,null,null,5,null,null,null,null,null,null,{"$f":"AVERAGE(C8:AE8)","v":4.333333333333333},0.77777777777777779,0.73333333333333328,15]
[4,{"$f":"СпискиКлассы!F7","v":"Буданцев Виталий"},4,4,4,3,null,null,null,null,null,4,5,5,4,null,null,null,null,null,null,null,null,null,5,null,null,null,null,null,null,4.2222222222222223,0.72888888888888892,0.77777777777777779,15]
[5,{"$f":"СпискиКлассы!F8","v":"Быков Иван"},3,3,3,3,null,null,null,null,null,3,5,5,4,null,null,null,null,null,null,null,null,null,4,null,null,null,null,null,null,3.6666666666666665,0.56444444444444442,0.4,13]
[6,{"$f":"СпискиКлассы!F9","v":"Вахрушев Никита"},4,4,5,4,null,null,null,null,null,5,5,5,5,null,null,null,null,null,null,null,null,null,5,null,null,null,null,null,null,4.666666666666667,0.88,0.93333333333333335,16.666666666666668]
[7,{"$f":"СпискиКлассы!F10","v":"Гладкова Ульяна"},3,4,5,3,null,null,null,null,null,4,5,5,5,null,null,null,null,null,null,null,null,null,4,null,null,null,null,null,null,4.2222222222222223,0.73777777777777775,0.71111111111111114,14.888888888888889]
[8,{"$f":"СпискиКлассы!F11","v":"Губенко София"},4,4,4,4,null,null,null,null,null,5,5,5,5,null,null,null,null,null,null,null,null,null,4,null,null,null,null,null,null,4.4444444444444446,0.8,0.88888888888888884,16]
[9,{"$f":"СпискиКлассы!F12","v":"Егоров Максим"},3,3,3,3,null,null,null,null,null,3,4,4,4,null,null,null,null,null,null,null,null,null,5,null,null,null,null,null,null,3.5555555555555554,0.52444444444444438,0.37777777777777777,12.444444444444445]
[10,{"$f":"СпискиКлассы!F13","v":"Жуков Денис"},3,3,3,3,null,null,null,null,null,3,4,4,4,null,null,null,null,null,null,null,null,null,4,null,null,null,null,null,null,3.4444444444444446,0.4844444444444444,0.35555555555555557,12.333333333333334]
[11,{"$f":"СпискиКлассы!F14","v":"Кравченко Ксения"},4,5,5,4,null,null,null,null,null,5,5,5,5,null,null,null,null,null,null,null,null,null,4,null,null,null,null,null,null,4.666666666666667,0.88,0.93333333333333335,17.111111111111111]
[12,{"$f":"СпискиКлассы!F15","v":"Кузина Алена"},4,5,4,4,null,null,null,null,null,5,5,5,5,null,null,null,null,null,null,null,null,null,5,null,null,null,null,null,null,4.666666666666667,0.88,0.93333333333333335,16.666666666666668]
[13,{"$f":"СпискиКлассы!F16","v":"Кулиев Артур"},4,4,4,4,null,null,null,null,null,5,5,5,4,null,null,null,null,null,null,null,null,null,4,null,null,null,null,null,null,4.333333333333333,0.76,0.8666666666666667,15.777777777777779]
[14,{"$f":"СпискиКлассы!F17","v":"Макаров Георгий"},3,4,3,4,null,null,null,null,null,4,4,4,4,null,null,null,null,null,null,null,null,null,4,null,null,null,null,null,null,3.7777777777777777,0.57777777777777783,0.62222222222222223,13.777777777777779]
[15,{"$f":"СпискиКлассы!F18","v":"Набиулина Лолита"},4,4,3,3,null,null,null,null,null,4,5,5,5,null,null,null,null,null,null,null,null,null,4,null,null,null,null,null,null,4.1111111111111107,0.69777777777777783,0.68888888888888888,14.555555555555555]
[16,{"$f":"СпискиКлассы!F19","v":"Позняк Анастасия"},4,5,5,4,null,null,null,null,null,5,5,5,5,null,null,null,null,null,null,null,null,null,5,null,null,null,null,null,null,4.7777777777777777,0.91999999999999993,0.9555555555555556,17.222222222222221]
[17,{"$f":"СпискиКлассы!F20","v":"Силиванов Илья"},4,4,5,4,null,null,null,null,null,4,4,4,4,null,null,null,null,null,null,null,null,null,4,null,null,null,null,null,null,4.1111111111111107,0.68,0.82222222222222219,15.666666666666666]
[18,{"$f":"СпискиКлассы!F21","v":"Стаскевич Анастасия"},4,4,5,4,null,null,null,null,null,5,5,5,5,null,null,null,null,null,null,null,null,null,4,null,null,null,null,null,null,4.5555555555555554,0.84000000000000008,0.91111111111111109,16.555555555555557]
[19,{"$f":"СпискиКлассы!F22","v":"Сушков Евгений"},4,4,4,4,null,null,null,null,null,4,5,4,5,null,null,null,null,null,null,null,null,null,5,null,null,null,null,null,null,4.333333333333333,0.76,0.8666666666666667,15.777777777777779]
[20,{"$f":"СпискиКлассы!F23","v":"Юрченко Дарина"},4,4,3,3,null,null,null,null,null,4,5,5,5,null,null,null,null,null,null,null,null,null,5,null,null,null,null,null,null,4.2222222222222223,0.73777777777777775,0.71111111111111114,14.666666666666666]
[21,{"$f":"СпискиКлассы!F24","v":"Кухоренко Алина"},3,3,3,3,null,null,null,null,null,3,4,5,4,null,null,null,null,null,null,null,null,null,5,null,null,null,null,null,null,3.6666666666666665,0.56444444444444442,0.4,12.777777777777779]
[22,{"$f":"СпискиКлассы!F25","v":"Лунев Владислав"},3,3,3,3,null,null,null,null,null,3,5,5,4,null,null,null,null,null,null,null,null,null,4,null,null,null,null,null,null,3.6666666666666665,0.56444444444444442,0.4,13]
[23,{"$f":"СпискиКлассы!F26","v":0},null,null,null,null,null,null,null,null,null,null,null,null,null,null,null,null,null,null,null,null,null,null,null,null,null,null,null,null,null,{"$error":"#DIV/0!"},{"$error":"#DIV/0!"},{"$error":"#DIV/0!"},{"$error":"#DIV/0!"}]
[24,{"$f":"СпискиКлассы!F27","v":0},null,null,null,null,null,null,null,null,null,null,null,null,null,null,null,null,null,null,null,null,null,null,null,null,null,null,null,null,null,{"$error":"#DIV/0!"},{"$error":"#DIV/0!"},{"$error":"#DIV/0!"},{"$error":"#DIV/0!"}]
[25,{"$f":"СпискиКлассы!F28","v":0},null,null,null,null,null,null,null,null,null,null,null,null,null,null,null,null,null,null,null,null,null,null,null,null,null,null,null,null,null,{"$error":"#DIV/0!"},{"$error":"#DIV/0!"},{"$error":"#DIV/0!"},{"$error":"#DIV/0!"}]
[26,{"$f":"СпискиКлассы!F29","v":0},null,null,null,null,null,null,null,null,null,null,null,null,null,null,null,null,null,null,null,null,null,null,null,null,null,null,null,null,null,{"$f":"AVERAGE(C31:AE31)","v":{"$error":"#DIV/0!"}},{"$f":"(COUNTIF(C31:AE31,\"5\")+COUNTIF(C31:AE31,\"4\")*0.64+COUNTIF(C31:AE31,\"3\")*0.36+COUNTIF(C31:AE31,\"2\")*0.16)/(COUNTIF(C31:AE31,\"5\")+COUNTIF(C31:AE31,\"4\")+COUNTIF(C31:AE31,\"3\")+COUNTIF(C31:AE31,\"2\")+COUNTIF(C31:AE31,\"0\"))","v":{"$error":"#DIV/0!"}},{"$error":"#DIV/0!"},{"$error":"#DIV/0!"}]
[27,{"$f":"СпискиКлассы!F30","v":0},null,null,null,null,null,null,null,null,null,null,null,null,null,null,null,null,null,null,null,null,null,null,null,null,null,null,null,null,null,{"$error":"#DIV/0!"},{"$error":"#DIV/0!"},{"$error":"#DIV/0!"},{"$error":"#DIV/0!"}]
[28,{"$f":"СпискиКлассы!F31","v":0},null,null,null,null,null,null,null,null,null,null,null,null,null,null,null,null,null,null,null,null,null,null,null,null,null,null,null,null,null,{"$error":"#DIV/0!"},{"$error":"#DIV/0!"},{"$error":"#DIV/0!"},{"$error":"#DIV/0!"}]
[29,{"$f":"СпискиКлассы!F32","v":0},null,null,null,null,null,null,null,null,null,null,null,null,null,null,null,null,null,null,null,null,null,null,null,null,null,null,null,null,null,{"$error":"#DIV/0!"},{"$error":"#DIV/0!"},{"$error":"#DIV/0!"},{"$error":"#DIV/0!"}]
[30,{"$f":"СпискиКлассы!F43","v":0},null,null,null,null,null,null,null,null,null,null,null,null,null,null,null,null,null,null,null,null,null,null,null,null,null,null,null,null,null,{"$error":"#DIV/0!"},{"$error":"#DIV/0!"},{"$error":"#DIV/0!"},{"$f":"SUMIF(C130:AE130,\">0\",C130:AE130)/(COUNTIF(C35:AE35,\">0\")+COUNTIF(C35:AE35,\"=0\")+COUNTIF(C35:AE35,\"Н\"))","v":{"$error":"#DIV/0!"}}]
[" Фамилия и инициалы                                           учителя - предметника",null,{"$f":"Нагрузка!C9","v":"Сологуб"},{"$f":"Нагрузка!D9","v":"Сологуб"},{"$f":"Нагрузка!E9","v":0},{"$f":"Нагрузка!F9","v":"Сологуб"},{"$f":"Нагрузка!G9","v":0},{"$f":"Нагрузка!H9","v":0},{"$f":"Нагрузка!I9","v":0},{"$f":"Нагрузка!J9","v":0},{"$f":"Нагрузка!K9","v":0},{"$f":"Нагрузка!L9","v":"Сологуб"},{"$f":"Нагрузка!M9","v":"Сологуб"},{"$f":"Нагрузка!N9","v":"Заворина"},{"$f":"Нагрузка!O9","v":"Сологуб"},{"$f":"Нагрузка!P9","v":"Сологуб"},{"$f":"Нагрузка!Q9","v":"Ермакова"},{"$f":"Нагрузка!R9","v":"Калугина"},{"$f":"Нагрузка!S9","v":"Каплан"},{"$f":"Нагрузка!T9","v":0},{"$f":"Нагрузка!U9","v":0},{"$f":"Нагрузка!V9","v":0},{"$f":"Нагрузка!W9","v":0},{"$f":"Нагрузка!X9","v":0},{"$f":"Нагрузка!Y9","v":0},{"$f":"Нагрузка!Z9","v":0},{"$f":"Нагрузка!AA9","v":0},{"$f":"Нагрузка!AB9","v":0},{"$f":"Нагрузка!AC9","v":0},{"$f":"Нагрузка!AD9","v":0},{"$f":"Нагрузка!AE9","v":0},"Показатели результатов учебной деятельности в  целом по классу:"]
["Результаты учебной деятельности класса","Количество  \"5\":",{"$f":"COUNTIF(C6:C35,5)","v":0},3,7,0,0,0,0,0,0,7,16,16,12,0,0,0,0,0,0,0,0,0,10,0,0,0,0,0,0,{"$f":"SUM(C37:AE37)","v":71}]
[null,"Количество  \"4\":",{"$f":"COUNTIF(C6:C35,4)","v":13},13,6,11,0,0,0,0,0,9,6,6,10,0,0,0,0,0,0,0,0,0,12,0,0,0,0,0,0,86]
[null,"Количество  \"3\":",{"$f":"COUNTIF(C6:C35,3)","v":9},6,9,11,0,0,0,0,0,6,0,0,0,0,0,0,0,0,0,0,0,0,0,0,0,0,0,0,0,41]
[null,"Количество  \"2\":",{"$f":"COUNTIF(C6:C35,2)","v":0},0,0,0,0,0,0,0,0,0,0,0,0,0,0,0,0,0,0,0,0,0,0,0,0,0,0,0,0,0]
[null,"Не аттестовано:",{"$f":"COUNTIF(C6:C35,0)","v":0},0,0,0,0,0,0,0,0,0,0,0,0,0,0,0,0,0,0,0,0,0,0,0,0,0,0,0,0,0]
[null,"Освобождено:",{"$f":"COUNTIF(C6:C35,\"н\")","v":0},0,0,0,0,0,0,0,0,0,0,0,0,0,0,0,0,0,0,0,0,0,0,0,0,0,0,0,0,0]
[null,"Успеваемость:",{"$f":"(C37+C38+C39)/(C37+C38+C39+C40+C41)","v":1},{"$f":"(D37+D38+D39)/(D37+D38+D39+D40+D41)","v":1},1,1,{"$error":"#DIV/0!"},{"$error":"#DIV/0!"},{"$error":"#DIV/0!"},{"$error":"#DIV/0!"},{"$error":"#DIV/0!"},1,1,1,1,{"$error":"#DIV/0!"},{"$error":"#DIV/0!"},{"$error":"#DIV/0!"},{"$error":"#DIV/0!"},{"$error":"#DIV/0!"},{"$error":"#DIV/0!"},{"$error":"#DIV/0!"},{"$error":"#DIV/0!"},{"$error":"#DIV/0!"},1,{"$error":"#DIV/0!"},{"$error":"#DIV/0!"},{"$error":"#DIV/0!"},{"$error":"#DIV/0!"},{"$error":"#DIV/0!"},{"$error":"#DIV/0!"},{"$f":"('4 А(2)'!D2-'4 А(2)'!C43-'4 А(2)'!C53)/'4 А(2)'!D2","v":1}]
[null,"Качество знаний:",{"$f":"(C37+C38)/(C37+C38+C39+C40+C41)","v":0.59090909090909094},{"$f":"(D37+D38)/(D37+D38+D39+D40+D41)","v":0.72727272727272729},0.59090909090909094,0.5,{"$error":"#DIV/0!"},{"$error":"#DIV/0!"},{"$error":"#DIV/0!"},{"$error":"#DIV/0!"},{"$error":"#DIV/0!"},0.72727272727272729,1,1,1,{"$error":"#DIV/0!"},{"$error":"#DIV/0!"},{"$error":"#DIV/0!"},{"$error":"#DIV/0!"},{"$error":"#DIV/0!"},{"$error":"#DIV/0!"},{"$error":"#DIV/0!"},{"$error":"#DIV/0!"},{"$error":"#DIV/0!"},1,{"$error":"#DIV/0!"},{"$error":"#DIV/0!"},{"$error":"#DIV/0!"},{"$error":"#DIV/0!"},{"$error":"#DIV/0!"},{"$error":"#DIV/0!"},{"$f":"('4 А(2)'!C3+'4 А(2)'!C18)/'4 А(2)'!D2","v":0.47619047619047616}]
[null,"Степень обученности:",{"$f":"(C37+C38*0.64+C39*0.36+C40*0.16)/(C37+C38+C39+C40+C41)","v":0.52545454545454551},{"$f":"(D37+D38*0.64+D39*0.36+D40*0.16)/(D37+D38+D39+D40+D41)","v":0.61272727272727279},0.64,0.5,{"$error":"#DIV/0!"},{"$error":"#DIV/0!"},{"$error":"#DIV/0!"},{"$error":"#DIV/0!"},{"$error":"#DIV/0!"},0.67818181818181822,0.90181818181818185,0.90181818181818185,0.83636363636363631,{"$error":"#DIV/0!"},{"$error":"#DIV/0!"},{"$error":"#DIV/0!"},{"$error":"#DIV/0!"},{"$error":"#DIV/0!"},{"$error":"#DIV/0!"},{"$error":"#DIV/0!"},{"$error":"#DIV/0!"},{"$error":"#DIV/0!"},0.80363636363636359,{"$error":"#DIV/0!"},{"$error":"#DIV/0!"},{"$error":"#DIV/0!"},{"$error":"#DIV/0!"},{"$error":"#DIV/0!"},{"$error":"#DIV/0!"},{"$f":"(AF37+AF38*0.64+AF39*0.36+AF40*0.16)/(AF37+AF38+AF39+AF40+AF41)","v":0.71111111111111103}]
[null,"Средний балл:              ",{"$f":"(C37*5+C38*4+C39*3+C40*2)/(C37+C38+C39+C40+C41)","v":3.5909090909090908},{"$f":"(D37*5+D38*4+D39*3+D40*2)/(D37+D38+D39+D40+D41)","v":3.8636363636363638},3.9090909090909092,3.5,{"$error":"#DIV/0!"},{"$error":"#DIV/0!"},{"$error":"#DIV/0!"},{"$error":"#DIV/0!"},{"$error":"#DIV/0!"},4.0454545454545459,4.7272727272727275,4.7272727272727275,4.5454545454545459,{"$error":"#DIV/0!"},{"$error":"#DIV/0!"},{"$error":"#DIV/0!"},{"$error":"#DIV/0!"},{"$error":"#DIV/0!"},{"$error":"#DIV/0!"},{"$error":"#DIV/0!"},{"$error":"#DIV/0!"},{"$error":"#DIV/0!"},4.4545454545454541,{"$error":"#DIV/0!"},{"$error":"#DIV/0!"},{"$error":"#DIV/0!"},{"$error":"#DIV/0!"},{"$error":"#DIV/0!"},{"$error":"#DIV/0!"},{"$f":"(AF37*5+AF38*4+AF39*3+AF40*2)/(AF37+AF38+AF39+AF40+AF41)","v":4.1515151515151514}]
[null,"Качество успеваемости:",{"$f":"(5*C37+4*C38)*0.2/(SUM(C37+C38+C39+C40+C41))","v":0.47272727272727272},{"$f":"(5*COUNTIF(D6:D35,5)+4*COUNTIF(D6:D35,4))*0.2/(COUNTA(D6:D35)-COUNTIF(D6:D35,\"н\"))","v":0.60909090909090913},0.53636363636363638,0.4,{"$error":"#DIV/0!"},{"$error":"#DIV/0!"},{"$error":"#DIV/0!"},{"$error":"#DIV/0!"},{"$error":"#DIV/0!"},0.6454545454545455,0.94545454545454544,0.94545454545454544,0.90909090909090906,{"$error":"#DIV/0!"},{"$error":"#DIV/0!"},{"$error":"#DIV/0!"},{"$error":"#DIV/0!"},{"$error":"#DIV/0!"},{"$error":"#DIV/0!"},{"$error":"#DIV/0!"},{"$error":"#DIV/0!"},{"$error":"#DIV/0!"},0.89090909090909098,{"$error":"#DIV/0!"},{"$error":"#DIV/0!"},{"$error":"#DIV/0!"},{"$error":"#DIV/0!"},{"$error":"#DIV/0!"},{"$error":"#DIV/0!"},{"$f":"(5*COUNTIF(C6:AE35,5)+4*COUNTIF(C6:AE35,4))*0.2/(COUNTA(C6:AE35)-COUNTIF(C6:AE35,\"н\"))","v":0.70606060606060617}]
["Выполнено с помощью программы статистического анализа результатов учебной деятельности",null,null,null,null,null,null,null,null,null,null,null,null,null,null,null,null,null,null,null,null,null,null,null,null,null,null,null,{"$f":"Титул!G31","v":"PSORUD-Klass.v.04.11.demo"},null,null,null,null,null,"3+"]
[]
[]
[]
[]
[]
[]
[]
[]
[]
[]
[]
[]
[]
[]
[]
[]
[]
[]
[]
[]
[]
[]
[]
[]
[]
[]
[]
[]
[]
[]
[]
[]
[]
[]
[]
[]
[]
[]
[]
[]
[]
[null,"Коэф.трудн.предмета",{"$f":"VLOOKUP(C$5,ШкалаТрудн!$C$5:$N$34,LEFT($Z$2,2)+1,0)","v":7},{"$f":"VLOOKUP(D$5,ШкалаТрудн!$C$5:$N$34,LEFT($Z$2,2)+1,0)","v":5},{"$f":"VLOOKUP(E$5,ШкалаТрудн!$C$5:$N$34,LEFT($Z$2,2)+1,0)","v":5},{"$f":"VLOOKUP(F$5,ШкалаТрудн!$C$5:$N$34,LEFT($Z$2,2)+1,0)","v":8},{"$f":"VLOOKUP(G$5,ШкалаТрудн!$C$5:$N$34,LEFT($Z$2,2)+1,0)","v":0},{"$f":"VLOOKUP(H$5,ШкалаТрудн!$C$5:$N$34,LEFT($Z$2,2)+1,0)","v":0},{"$f":"VLOOKUP(I$5,ШкалаТрудн!$C$5:$N$34,LEFT($Z$2,2)+1,0)","v":6},{"$f":"VLOOKUP(J$5,ШкалаТрудн!$C$5:$N$34,LEFT($Z$2,2)+1,0)","v":4},{"$f":"VLOOKUP(K$5,ШкалаТрудн!$C$5:$N$34,LEFT($Z$2,2)+1,0)","v":0},{"$f":"VLOOKUP(L$5,ШкалаТрудн!$C$5:$N$34,LEFT($Z$2,2)+1,0)","v":{"$error":"#N/A"}},{"$f":"VLOOKUP(M$5,ШкалаТрудн!$C$5:$N$34,LEFT($Z$2,2)+1,0)","v":3},{"$f":"VLOOKUP(N$5,ШкалаТрудн!$C$5:$N$34,LEFT($Z$2,2)+1,0)","v":3},{"$f":"VLOOKUP(O$5,ШкалаТрудн!$C$5:$N$34,LEFT($Z$2,2)+1,0)","v":2},{"$f":"VLOOKUP(P$5,ШкалаТрудн!$C$5:$N$34,LEFT($Z$2,2)+1,0)","v":2},{"$f":"VLOOKUP(Q$5,ШкалаТрудн!$C$5:$N$34,LEFT($Z$2,2)+1,0)","v":1},{"$f":"VLOOKUP(R$5,ШкалаТрудн!$C$5:$N$34,LEFT($Z$2,2)+1,0)","v":5},{"$f":"VLOOKUP(S$5,ШкалаТрудн!$C$5:$N$34,LEFT($Z$2,2)+1,0)","v":5},{"$f":"VLOOKUP(T$5,ШкалаТрудн!$C$5:$N$34,LEFT($Z$2,2)+1,0)","v":0},{"$f":"VLOOKUP(U$5,ШкалаТрудн!$C$5:$N$34,LEFT($Z$2,2)+1,0)","v":0},{"$f":"VLOOKUP(V$5,ШкалаТрудн!$C$5:$N$34,LEFT($Z$2,2)+1,0)","v":0},{"$f":"VLOOKUP(W$5,ШкалаТрудн!$C$5:$N$34,LEFT($Z$2,2)+1,0)","v":0},{"$f":"VLOOKUP(X$5,ШкалаТрудн!$C$5:$N$34,LEFT($Z$2,2)+1,0)","v":0},{"$f":"VLOOKUP(Y$5,ШкалаТрудн!$C$5:$N$34,LEFT($Z$2,2)+1,0)","v":1},{"$f":"VLOOKUP(Z$5,ШкалаТрудн!$C$5:$N$34,LEFT($Z$2,2)+1,0)","v":0},{"$f":"VLOOKUP(AA$5,ШкалаТрудн!$C$5:$N$34,LEFT($Z$2,2)+1,0)","v":0},{"$f":"VLOOKUP(AB$5,ШкалаТрудн!$C$5:$N$34,LEFT($Z$2,2)+1,0)","v":{"$error":"#N/A"}},{"$f":"VLOOKUP(AC$5,ШкалаТрудн!$C$5:$N$34,LEFT($Z$2,2)+1,0)","v":{"$error":"#N/A"}},{"$f":"VLOOKUP(AD$5,ШкалаТрудн!$C$5:$N$34,LEFT($Z$2,2)+1,0)","v":{"$error":"#N/A"}},{"$f":"VLOOKUP(AE$5,ШкалаТрудн!$C$5:$N$34,LEFT($Z$2,2)+1,0)","v":{"$error":"#N/A"}}]
[null,null,{"$f":"C6*C$90","v":28},20,20,32,0,0,0,0,0,{"$error":"#N/A"},15,15,10,0,0,0,0,0,0,0,0,0,5,0,0,{"$error":"#N/A"},{"$error":"#N/A"},{"$error":"#N/A"},{"$error":"#N/A"}]
[null,null,{"$f":"C7*C$90","v":21},15,15,24,0,0,0,0,0,{"$error":"#N/A"},12,12,8,0,0,0,0,0,0,0,0,0,4,0,0,{"$error":"#N/A"},{"$error":"#N/A"},{"$error":"#N/A"},{"$error":"#N/A"}]
[null,null,{"$f":"C8*C$90","v":21},20,25,24,0,0,0,0,0,{"$error":"#N/A"},15,15,10,0,0,0,0,0,0,0,0,0,5,0,0,{"$error":"#N/A"},{"$error":"#N/A"},{"$error":"#N/A"},{"$error":"#N/A"}]
[null,null,{"$f":"C9*C$90","v":28},20,20,24,0,0,0,0,0,{"$error":"#N/A"},15,15,8,0,0,0,0,0,0,0,0,0,5,0,0,{"$error":"#N/A"},{"$error":"#N/A"},{"$error":"#N/A"},{"$error":"#N/A"}]
[null,null,{"$f":"C10*C$90","v":21},15,15,24,0,0,0,0,0,{"$error":"#N/A"},15,15,8,0,0,0,0,0,0,0,0,0,4,0,0,{"$error":"#N/A"},{"$error":"#N/A"},{"$error":"#N/A"},{"$error":"#N/A"}]
[null,null,{"$f":"C11*C$90","v":28},20,25,32,0,0,0,0,0,{"$error":"#N/A"},15,15,10,0,0,0,0,0,0,0,0,0,5,0,0,{"$error":"#N/A"},{"$error":"#N/A"},{"$error":"#N/A"},{"$error":"#N/A"}]
[null,null,{"$f":"C12*C$90","v":21},20,25,24,0,0,0,0,0,{"$error":"#N/A"},15,15,10,0,0,0,0,0,0,0,0,0,4,0,0,{"$error":"#N/A"},{"$error":"#N/A"},{"$error":"#N/A"},{"$error":"#N/A"}]
[null,null,{"$f":"C13*C$90","v":28},20,20,32,0,0,0,0,0,{"$error":"#N/A"},15,15,10,0,0,0,0,0,0,0,0,0,4,0,0,{"$error":"#N/A"},{"$error":"#N/A"},{"$error":"#N/A"},{"$error":"#N/A"}]
[null,null,{"$f":"C14*C$90","v":21},15,15,24,0,0,0,0,0,{"$error":"#N/A"},12,12,8,0,0,0,0,0,0,0,0,0,5,0,0,{"$error":"#N/A"},{"$error":"#N/A"},{"$error":"#N/A"},{"$error":"#N/A"}]
[null,null,{"$f":"C15*C$90","v":21},15,15,24,0,0,0,0,0,{"$error":"#N/A"},12,12,8,0,0,0,0,0,0,0,0,0,4,0,0,{"$error":"#N/A"},{"$error":"#N/A"},{"$error":"#N/A"},{"$error":"#N/A"}]
[null,null,{"$f":"C16*C$90","v":28},25,25,32,0,0,0,0,0,{"$error":"#N/A"},15,15,10,0,0,0,0,0,0,0,0,0,4,0,0,{"$error":"#N/A"},{"$error":"#N/A"},{"$error":"#N/A"},{"$error":"#N/A"}]
[null,null,{"$f":"C17*C$90","v":28},25,20,32,0,0,0,0,0,{"$error":"#N/A"},15,15,10,0,0,0,0,0,0,0,0,0,5,0,0,{"$error":"#N/A"},{"$error":"#N/A"},{"$error":"#N/A"},{"$error":"#N/A"}]
[null,null,{"$f":"C18*C$90","v":28},20,20,32,0,0,0,0,0,{"$error":"#N/A"},15,15,8,0,0,0,0,0,0,0,0,0,4,0,0,{"$error":"#N/A"},{"$error":"#N/A"},{"$error":"#N/A"},{"$error":"#N/A"}]
[null,null,{"$f":"C19*C$90","v":21},20,15,32,0,0,0,0,0,{"$error":"#N/A"},12,12,8,0,0,0,0,0,0,0,0,0,4,0,0,{"$error":"#N/A"},{"$error":"#N/A"},{"$error":"#N/A"},{"$error":"#N/A"}]
[null,null,{"$f":"C20*C$90","v":28},20,15,24,0,0,0,0,0,{"$error":"#N/A"},15,15,10,0,0,0,0,0,0,0,0,0,4,0,0,{"$error":"#N/A"},{"$error":"#N/A"},{"$error":"#N/A"},{"$error":"#N/A"}]
[null,null,{"$f":"C21*C$90","v":28},25,25,32,0,0,0,0,0,{"$error":"#N/A"},15,15,10,0,0,0,0,0,0,0,0,0,5,0,0,{"$error":"#N/A"},{"$error":"#N/A"},{"$error":"#N/A"},{"$error":"#N/A"}]
[null,null,{"$f":"C22*C$90","v":28},20,25,32,0,0,0,0,0,{"$error":"#N/A"},12,12,8,0,0,0,0,0,0,0,0,0,4,0,0,{"$error":"#N/A"},{"$error":"#N/A"},{"$error":"#N/A"},{"$error":"#N/A"}]
[null,null,{"$f":"C23*C$90","v":28},20,25,32,0,0,0,0,0,{"$error":"#N/A"},15,15,10,0,0,0,0,0,0,0,0,0,4,0,0,{"$error":"#N/A"},{"$error":"#N/A"},{"$error":"#N/A"},{"$error":"#N/A"}]
[null,null,{"$f":"C24*C$90","v":28},20,20,32,0,0,0,0,0,{"$error":"#N/A"},15,12,10,0,0,0,0,0,0,0,0,0,5,0,0,{"$error":"#N/A"},{"$error":"#N/A"},{"$error":"#N/A"},{"$error":"#N/A"}]
[null,null,{"$f":"C25*C$90","v":28},20,15,24,0,0,0,0,0,{"$error":"#N/A"},15,15,10,0,0,0,0,0,0,0,0,0,5,0,0,{"$error":"#N/A"},{"$error":"#N/A"},{"$error":"#N/A"},{"$error":"#N/A"}]
[null,null,{"$f":"C26*C$90","v":21},15,15,24,0,0,0,0,0,{"$error":"#N/A"},12,15,8,0,0,0,0,0,0,0,0,0,5,0,0,{"$error":"#N/A"},{"$error":"#N/A"},{"$error":"#N/A"},{"$error":"#N/A"}]
[null,null,{"$f":"C27*C$90","v":21},15,15,24,0,0,0,0,0,{"$error":"#N/A"},15,15,8,0,0,0,0,0,0,0,0,0,4,0,0,{"$error":"#N/A"},{"$error":"#N/A"},{"$error":"#N/A"},{"$error":"#N/A"}]
[null,null,{"$f":"C28*C$90","v":0},0,0,0,0,0,0,0,0,{"$error":"#N/A"},0,0,0,0,0,0,0,0,0,0,0,0,0,0,0,{"$error":"#N/A"},{"$error":"#N/A"},{"$error":"#N/A"},{"$error":"#N/A"}]
[null,null,{"$f":"C29*C$90","v":0},0,0,0,0,0,0,0,0,{"$error":"#N/A"},0,0,0,0,0,0,0,0,0,0,0,0,0,0,0,{"$error":"#N/A"},{"$error":"#N/A"},{"$error":"#N/A"},{"$error":"#N/A"}]
[null,null,{"$f":"C30*C$90","v":0},0,0,0,0,0,0,0,0,{"$error":"#N/A"},0,0,0,0,0,0,0,0,0,0,0,0,0,0,0,{"$error":"#N/A"},{"$error":"#N/A"},{"$error":"#N/A"},{"$error":"#N/A"}]
[null,null,{"$f":"C31*C$90","v":0},0,0,0,0,0,0,0,0,{"$error":"#N/A"},0,0,0,0,0,0,0,0,0,0,0,0,0,0,0,{"$error":"#N/A"},{"$error":"#N/A"},{"$error":"#N/A"},{"$error":"#N/A"}]
[null,null,{"$f":"C32*C$90","v":0},0,0,0,0,0,0,0,0,{"$error":"#N/A"},0,0,0,0,0,0,0,0,0,0,0,0,0,0,0,{"$error":"#N/A"},{"$error":"#N/A"},{"$error":"#N/A"},{"$error":"#N/A"}]
[null,null,{"$f":"C33*C$90","v":0},0,0,0,0,0,0,0,0,{"$error":"#N/A"},0,0,0,0,0,0,0,0,0,0,0,0,0,0,0,{"$error":"#N/A"},{"$error":"#N/A"},{"$error":"#N/A"},{"$error":"#N/A"}]
[null,null,{"$f":"C34*C$90","v":0},0,0,0,0,0,0,0,0,{"$error":"#N/A"},0,0,0,0,0,0,0,0,0,0,0,0,0,0,0,{"$error":"#N/A"},{"$error":"#N/A"},{"$error":"#N/A"},{"$error":"#N/A"}]
[null,null,{"$f":"#REF!*C$90","v":{"$error":"#REF!"}},{"$f":"#REF!*D$90","v":{"$error":"#REF!"}},{"$f":"#REF!*E$90","v":{"$error":"#REF!"}},{"$f":"#REF!*F$90","v":{"$error":"#REF!"}},{"$f":"#REF!*G$90","v":{"$error":"#REF!"}},{"$f":"#REF!*H$90","v":{"$error":"#REF!"}},{"$f":"#REF!*I$90","v":{"$error":"#REF!"}},{"$f":"#REF!*J$90","v":{"$error":"#REF!"}},{"$f":"#REF!*K$90","v":{"$error":"#REF!"}},{"$f":"#REF!*L$90","v":{"$error":"#REF!"}},{"$f":"#REF!*M$90","v":{"$error":"#REF!"}},{"$f":"#REF!*N$90","v":{"$error":"#REF!"}},{"$f":"#REF!*O$90","v":{"$error":"#REF!"}},{"$f":"#REF!*P$90","v":{"$error":"#REF!"}},{"$f":"#REF!*Q$90","v":{"$error":"#REF!"}},{"$f":"#REF!*R$90","v":{"$error":"#REF!"}},{"$f":"#REF!*S$90","v":{"$error":"#REF!"}},{"$f":"#REF!*T$90","v":{"$error":"#REF!"}},{"$f":"#REF!*U$90","v":{"$error":"#REF!"}},{"$f":"#REF!*V$90","v":{"$error":"#REF!"}},{"$f":"#REF!*W$90","v":{"$error":"#REF!"}},{"$f":"#REF!*X$90","v":{"$error":"#REF!"}},{"$f":"#REF!*Y$90","v":{"$error":"#REF!"}},{"$f":"#REF!*Z$90","v":{"$error":"#REF!"}},{"$f":"#REF!*AA$90","v":{"$error":"#REF!"}},{"$f":"#REF!*AB$90","v":{"$error":"#REF!"}},{"$f":"#REF!*AC$90","v":{"$error":"#REF!"}},{"$f":"#REF!*AD$90","v":{"$error":"#REF!"}},{"$f":"#REF!*AE$90","v":{"$error":"#REF!"}}]
[null,null,{"$f":"#REF!*C$90","v":{"$error":"#REF!"}},{"$f":"#REF!*D$90","v":{"$error":"#REF!"}},{"$f":"#REF!*E$90","v":{"$error":"#REF!"}},{"$f":"#REF!*F$90","v":{"$error":"#REF!"}},{"$f":"#REF!*G$90","v":{"$error":"#REF!"}},{"$f":"#REF!*H$90","v":{"$error":"#REF!"}},{"$f":"#REF!*I$90","v":{"$error":"#REF!"}},{"$f":"#REF!*J$90","v":{"$error":"#REF!"}},{"$f":"#REF!*K$90","v":{"$error":"#REF!"}},{"$f":"#REF!*L$90","v":{"$error":"#REF!"}},{"$f":"#REF!*M$90","v":{"$error":"#REF!"}},{"$f":"#REF!*N$90","v":{"$error":"#REF!"}},{"$f":"#REF!*O$90","v":{"$error":"#REF!"}},{"$f":"#REF!*P$90","v":{"$error":"#REF!"}},{"$f":"#REF!*Q$90","v":{"$error":"#REF!"}},{"$f":"#REF!*R$90","v":{"$error":"#REF!"}},{"$f":"#REF!*S$90","v":{"$error":"#REF!"}},{"$f":"#REF!*T$90","v":{"$error":"#REF!"}},{"$f":"#REF!*U$90","v":{"$error":"#REF!"}},{"$f":"#REF!*V$90","v":{"$error":"#REF!"}},{"$f":"#REF!*W$90","v":{"$error":"#REF!"}},{"$f":"#REF!*X$90","v":{"$error":"#REF!"}},{"$f":"#REF!*Y$90","v":{"$error":"#REF!"}},{"$f":"#REF!*Z$90","v":{"$error":"#REF!"}},{"$f":"#REF!*AA$90","v":{"$error":"#REF!"}},{"$f":"#REF!*AB$90","v":{"$error":"#REF!"}},{"$f":"#REF!*AC$90","v":{"$error":"#REF!"}},{"$f":"#REF!*AD$90","v":{"$error":"#REF!"}},{"$f":"#REF!*AE$90","v":{"$error":"#REF!"}}]
[null,null,{"$f":"#REF!*C$90","v":{"$error":"#REF!"}},{"$f":"#REF!*D$90","v":{"$error":"#REF!"}},{"$f":"#REF!*E$90","v":{"$error":"#REF!"}},{"$f":"#REF!*F$90","v":{"$error":"#REF!"}},{"$f":"#REF!*G$90","v":{"$error":"#REF!"}},{"$f":"#REF!*H$90","v":{"$error":"#REF!"}},{"$f":"#REF!*I$90","v":{"$error":"#REF!"}},{"$f":"#REF!*J$90","v":{"$error":"#REF!"}},{"$f":"#REF!*K$90","v":{"$error":"#REF!"}},{"$f":"#REF!*L$90","v":{"$error":"#REF!"}},{"$f":"#REF!*M$90","v":{"$error":"#REF!"}},{"$f":"#REF!*N$90","v":{"$error":"#REF!"}},{"$f":"#REF!*O$90","v":{"$error":"#REF!"}},{"$f":"#REF!*P$90","v":{"$error":"#REF!"}},{"$f":"#REF!*Q$90","v":{"$error":"#REF!"}},{"$f":"#REF!*R$90","v":{"$error":"#REF!"}},{"$f":"#REF!*S$90","v":{"$error":"#REF!"}},{"$f":"#REF!*T$90","v":{"$error":"#REF!"}},{"$f":"#REF!*U$90","v":{"$error":"#REF!"}},{"$f":"#REF!*V$90","v":{"$error":"#REF!"}},{"$f":"#REF!*W$90","v":{"$error":"#REF!"}},{"$f":"#REF!*X$90","v":{"$error":"#REF!"}},{"$f":"#REF!*Y$90","v":{"$error":"#REF!"}},{"$f":"#REF!*Z$90","v":{"$error":"#REF!"}},{"$f":"#REF!*AA$90","v":{"$error":"#REF!"}},{"$f":"#REF!*AB$90","v":{"$error":"#REF!"}},{"$f":"#REF!*AC$90","v":{"$error":"#REF!"}},{"$f":"#REF!*AD$90","v":{"$error":"#REF!"}},{"$f":"#REF!*AE$90","v":{"$error":"#REF!"}}]
[null,null,{"$f":"#REF!*C$90","v":{"$error":"#REF!"}},{"$f":"#REF!*D$90","v":{"$error":"#REF!"}},{"$f":"#REF!*E$90","v":{"$error":"#REF!"}},{"$f":"#REF!*F$90","v":{"$error":"#REF!"}},{"$f":"#REF!*G$90","v":{"$error":"#REF!"}},{"$f":"#REF!*H$90","v":{"$error":"#REF!"}},{"$f":"#REF!*I$90","v":{"$error":"#REF!"}},{"$f":"#REF!*J$90","v":{"$error":"#REF!"}},{"$f":"#REF!*K$90","v":{"$error":"#REF!"}},{"$f":"#REF!*L$90","v":{"$error":"#REF!"}},{"$f":"#REF!*M$90","v":{"$error":"#REF!"}},{"$f":"#REF!*N$90","v":{"$error":"#REF!"}},{"$f":"#REF!*O$90","v":{"$error":"#REF!"}},{"$f":"#REF!*P$90","v":{"$error":"#REF!"}},{"$f":"#REF!*Q$90","v":{"$error":"#REF!"}},{"$f":"#REF!*R$90","v":{"$error":"#REF!"}},{"$f":"#REF!*S$90","v":{"$error":"#REF!"}},{"$f":"#REF!*T$90","v":{"$error":"#REF!"}},{"$f":"#REF!*U$90","v":{"$error":"#REF!"}},{"$f":"#REF!*V$90","v":{"$error":"#REF!"}},{"$f":"#REF!*W$90","v":{"$error":"#REF!"}},{"$f":"#REF!*X$90","v":{"$error":"#REF!"}},{"$f":"#REF!*Y$90","v":{"$error":"#REF!"}},{"$f":"#REF!*Z$90","v":{"$error":"#REF!"}},{"$f":"#REF!*AA$90","v":{"$error":"#REF!"}},{"$f":"#REF!*AB$90","v":{"$error":"#REF!"}},{"$f":"#REF!*AC$90","v":{"$error":"#REF!"}},{"$f":"#REF!*AD$90","v":{"$error":"#REF!"}},{"$f":"#REF!*AE$90","v":{"$error":"#REF!"}}]
[null,null,{"$f":"#REF!*C$90","v":{"$error":"#REF!"}},{"$f":"#REF!*D$90","v":{"$error":"#REF!"}},{"$f":"#REF!*E$90","v":{"$error":"#REF!"}},{"$f":"#REF!*F$90","v":{"$error":"#REF!"}},{"$f":"#REF!*G$90","v":{"$error":"#REF!"}},{"$f":"#REF!*H$90","v":{"$error":"#REF!"}},{"$f":"#REF!*I$90","v":{"$error":"#REF!"}},{"$f":"#REF!*J$90","v":{"$error":"#REF!"}},{"$f":"#REF!*K$90","v":{"$error":"#REF!"}},{"$f":"#REF!*L$90","v":{"$error":"#REF!"}},{"$f":"#REF!*M$90","v":{"$error":"#REF!"}},{"$f":"#REF!*N$90","v":{"$error":"#REF!"}},{"$f":"#REF!*O$90","v":{"$error":"#REF!"}},{"$f":"#REF!*P$90","v":{"$error":"#REF!"}},{"$f":"#REF!*Q$90","v":{"$error":"#REF!"}},{"$f":"#REF!*R$90","v":{"$error":"#REF!"}},{"$f":"#REF!*S$90","v":{"$error":"#REF!"}},{"$f":"#REF!*T$90","v":{"$error":"#REF!"}},{"$f":"#REF!*U$90","v":{"$error":"#REF!"}},{"$f":"#REF!*V$90","v":{"$error":"#REF!"}},{"$f":"#REF!*W$90","v":{"$error":"#REF!"}},{"$f":"#REF!*X$90","v":{"$error":"#REF!"}},{"$f":"#REF!*Y$90","v":{"$error":"#REF!"}},{"$f":"#REF!*Z$90","v":{"$error":"#REF!"}},{"$f":"#REF!*AA$90","v":{"$error":"#REF!"}},{"$f":"#REF!*AB$90","v":{"$error":"#REF!"}},{"$f":"#REF!*AC$90","v":{"$error":"#REF!"}},{"$f":"#REF!*AD$90","v":{"$error":"#REF!"}},{"$f":"#REF!*AE$90","v":{"$error":"#REF!"}}]
[null,null,{"$f":"#REF!*C$90","v":{"$error":"#REF!"}},{"$f":"#REF!*D$90","v":{"$error":"#REF!"}},{"$f":"#REF!*E$90","v":{"$error":"#REF!"}},{"$f":"#REF!*F$90","v":{"$error":"#REF!"}},{"$f":"#REF!*G$90","v":{"$error":"#REF!"}},{"$f":"#REF!*H$90","v":{"$error":"#REF!"}},{"$f":"#REF!*I$90","v":{"$error":"#REF!"}},{"$f":"#REF!*J$90","v":{"$error":"#REF!"}},{"$f":"#REF!*K$90","v":{"$error":"#REF!"}},{"$f":"#REF!*L$90","v":{"$error":"#REF!"}},{"$f":"#REF!*M$90","v":{"$error":"#REF!"}},{"$f":"#REF!*N$90","v":{"$error":"#REF!"}},{"$f":"#REF!*O$90","v":{"$error":"#REF!"}},{"$f":"#REF!*P$90","v":{"$error":"#REF!"}},{"$f":"#REF!*Q$90","v":{"$error":"#REF!"}},{"$f":"#REF!*R$90","v":{"$error":"#REF!"}},{"$f":"#REF!*S$90","v":{"$error":"#REF!"}},{"$f":"#REF!*T$90","v":{"$error":"#REF!"}},{"$f":"#REF!*U$90","v":{"$error":"#REF!"}},{"$f":"#REF!*V$90","v":{"$error":"#REF!"}},{"$f":"#REF!*W$90","v":{"$error":"#REF!"}},{"$f":"#REF!*X$90","v":{"$error":"#REF!"}},{"$f":"#REF!*Y$90","v":{"$error":"#REF!"}},{"$f":"#REF!*Z$90","v":{"$error":"#REF!"}},{"$f":"#REF!*AA$90","v":{"$error":"#REF!"}},{"$f":"#REF!*AB$90","v":{"$error":"#REF!"}},{"$f":"#REF!*AC$90","v":{"$error":"#REF!"}},{"$f":"#REF!*AD$90","v":{"$error":"#REF!"}},{"$f":"#REF!*AE$90","v":{"$error":"#REF!"}}]
[null,null,{"$f":"#REF!*C$90","v":{"$error":"#REF!"}},{"$f":"#REF!*D$90","v":{"$error":"#REF!"}},{"$f":"#REF!*E$90","v":{"$error":"#REF!"}},{"$f":"#REF!*F$90","v":{"$error":"#REF!"}},{"$f":"#REF!*G$90","v":{"$error":"#REF!"}},{"$f":"#REF!*H$90","v":{"$error":"#REF!"}},{"$f":"#REF!*I$90","v":{"$error":"#REF!"}},{"$f":"#REF!*J$90","v":{"$error":"#REF!"}},{"$f":"#REF!*K$90","v":{"$error":"#REF!"}},{"$f":"#REF!*L$90","v":{"$error":"#REF!"}},{"$f":"#REF!*M$90","v":{"$error":"#REF!"}},{"$f":"#REF!*N$90","v":{"$error":"#REF!"}},{"$f":"#REF!*O$90","v":{"$error":"#REF!"}},{"$f":"#REF!*P$90","v":{"$error":"#REF!"}},{"$f":"#REF!*Q$90","v":{"$error":"#REF!"}},{"$f":"#REF!*R$90","v":{"$error":"#REF!"}},{"$f":"#REF!*S$90","v":{"$error":"#REF!"}},{"$f":"#REF!*T$90","v":{"$error":"#REF!"}},{"$f":"#REF!*U$90","v":{"$error":"#REF!"}},{"$f":"#REF!*V$90","v":{"$error":"#REF!"}},{"$f":"#REF!*W$90","v":{"$error":"#REF!"}},{"$f":"#REF!*X$90","v":{"$error":"#REF!"}},{"$f":"#REF!*Y$90","v":{"$error":"#REF!"}},{"$f":"#REF!*Z$90","v":{"$error":"#REF!"}},{"$f":"#REF!*AA$90","v":{"$error":"#REF!"}},{"$f":"#REF!*AB$90","v":{"$error":"#REF!"}},{"$f":"#REF!*AC$90","v":{"$error":"#REF!"}},{"$f":"#REF!*AD$90","v":{"$error":"#REF!"}},{"$f":"#REF!*AE$90","v":{"$error":"#REF!"}}]
[null,null,{"$f":"#REF!*C$90","v":{"$error":"#REF!"}},{"$f":"#REF!*D$90","v":{"$error":"#REF!"}},{"$f":"#REF!*E$90","v":{"$error":"#REF!"}},{"$f":"#REF!*F$90","v":{"$error":"#REF!"}},{"$f":"#REF!*G$90","v":{"$error":"#REF!"}},{"$f":"#REF!*H$90","v":{"$error":"#REF!"}},{"$f":"#REF!*I$90","v":{"$error":"#REF!"}},{"$f":"#REF!*J$90","v":{"$error":"#REF!"}},{"$f":"#REF!*K$90","v":{"$error":"#REF!"}},{"$f":"#REF!*L$90","v":{"$error":"#REF!"}},{"$f":"#REF!*M$90","v":{"$error":"#REF!"}},{"$f":"#REF!*N$90","v":{"$error":"#REF!"}},{"$f":"#REF!*O$90","v":{"$error":"#REF!"}},{"$f":"#REF!*P$90","v":{"$error":"#REF!"}},{"$f":"#REF!*Q$90","v":{"$error":"#REF!"}},{"$f":"#REF!*R$90","v":{"$error":"#REF!"}},{"$f":"#REF!*S$90","v":{"$error":"#REF!"}},{"$f":"#REF!*T$90","v":{"$error":"#REF!"}},{"$f":"#REF!*U$90","v":{"$error":"#REF!"}},{"$f":"#REF!*V$90","v":{"$error":"#REF!"}},{"$f":"#REF!*W$90","v":{"$error":"#REF!"}},{"$f":"#REF!*X$90","v":{"$error":"#REF!"}},{"$f":"#REF!*Y$90","v":{"$error":"#REF!"}},{"$f":"#REF!*Z$90","v":{"$error":"#REF!"}},{"$f":"#REF!*AA$90","v":{"$error":"#REF!"}},{"$f":"#REF!*AB$90","v":{"$error":"#REF!"}},{"$f":"#REF!*AC$90","v":{"$error":"#REF!"}},{"$f":"#REF!*AD$90","v":{"$error":"#REF!"}},{"$f":"#REF!*AE$90","v":{"$error":"#REF!"}}]
[null,null,{"$f":"#REF!*C$90","v":{"$error":"#REF!"}},{"$f":"#REF!*D$90","v":{"$error":"#REF!"}},{"$f":"#REF!*E$90","v":{"$error":"#REF!"}},{"$f":"#REF!*F$90","v":{"$error":"#REF!"}},{"$f":"#REF!*G$90","v":{"$error":"#REF!"}},{"$f":"#REF!*H$90","v":{"$error":"#REF!"}},{"$f":"#REF!*I$90","v":{"$error":"#REF!"}},{"$f":"#REF!*J$90","v":{"$error":"#REF!"}},{"$f":"#REF!*K$90","v":{"$error":"#REF!"}},{"$f":"#REF!*L$90","v":{"$error":"#REF!"}},{"$f":"#REF!*M$90","v":{"$error":"#REF!"}},{"$f":"#REF!*N$90","v":{"$error":"#REF!"}},{"$f":"#REF!*O$90","v":{"$error":"#REF!"}},{"$f":"#REF!*P$90","v":{"$error":"#REF!"}},{"$f":"#REF!*Q$90","v":{"$error":"#REF!"}},{"$f":"#REF!*R$90","v":{"$error":"#REF!"}},{"$f":"#REF!*S$90","v":{"$error":"#REF!"}},{"$f":"#REF!*T$90","v":{"$error":"#REF!"}},{"$f":"#REF!*U$90","v":{"$error":"#REF!"}},{"$f":"#REF!*V$90","v":{"$error":"#REF!"}},{"$f":"#REF!*W$90","v":{"$error":"#REF!"}},{"$f":"#REF!*X$90","v":{"$error":"#REF!"}},{"$f":"#REF!*Y$90","v":{"$error":"#REF!"}},{"$f":"#REF!*Z$90","v":{"$error":"#REF!"}},{"$f":"#REF!*AA$90","v":{"$error":"#REF!"}},{"$f":"#REF!*AB$90","v":{"$error":"#REF!"}},{"$f":"#REF!*AC$90","v":{"$error":"#REF!"}},{"$f":"#REF!*AD$90","v":{"$error":"#REF!"}},{"$f":"#REF!*AE$90","v":{"$error":"#REF!"}}]
[null,null,{"$f":"#REF!*C$90","v":{"$error":"#REF!"}},{"$f":"#REF!*D$90","v":{"$error":"#REF!"}},{"$f":"#REF!*E$90","v":{"$error":"#REF!"}},{"$f":"#REF!*F$90","v":{"$error":"#REF!"}},{"$f":"#REF!*G$90","v":{"$error":"#REF!"}},{"$f":"#REF!*H$90","v":{"$error":"#REF!"}},{"$f":"#REF!*I$90","v":{"$error":"#REF!"}},{"$f":"#REF!*J$90","v":{"$error":"#REF!"}},{"$f":"#REF!*K$90","v":{"$error":"#REF!"}},{"$f":"#REF!*L$90","v":{"$error":"#REF!"}},{"$f":"#REF!*M$90","v":{"$error":"#REF!"}},{"$f":"#REF!*N$90","v":{"$error":"#REF!"}},{"$f":"#REF!*O$90","v":{"$error":"#REF!"}},{"$f":"#REF!*P$90","v":{"$error":"#REF!"}},{"$f":"#REF!*Q$90","v":{"$error":"#REF!"}},{"$f":"#REF!*R$90","v":{"$error":"#REF!"}},{"$f":"#REF!*S$90","v":{"$error":"#REF!"}},{"$f":"#REF!*T$90","v":{"$error":"#REF!"}},{"$f":"#REF!*U$90","v":{"$error":"#REF!"}},{"$f":"#REF!*V$90","v":{"$error":"#REF!"}},{"$f":"#REF!*W$90","v":{"$error":"#REF!"}},{"$f":"#REF!*X$90","v":{"$error":"#REF!"}},{"$f":"#REF!*Y$90","v":{"$error":"#REF!"}},{"$f":"#REF!*Z$90","v":{"$error":"#REF!"}},{"$f":"#REF!*AA$90","v":{"$error":"#REF!"}},{"$f":"#REF!*AB$90","v":{"$error":"#REF!"}},{"$f":"#REF!*AC$90","v":{"$error":"#REF!"}},{"$f":"#REF!*AD$90","v":{"$error":"#REF!"}},{"$f":"#REF!*AE$90","v":{"$error":"#REF!"}}]
[null,null,{"$f":"C35*C$90","v":0},0,0,0,0,0,0,0,0,{"$error":"#N/A"},0,0,0,0,0,0,0,0,0,0,0,0,0,0,0,{"$error":"#N/A"},{"$error":"#N/A"},{"$error":"#N/A"},{"$error":"#N/A"}]

{"sheet":"4 А(2)","index":14,"n_rows":82,"n_cols":8,"rows_kept":82,"cut":false,"hidden":true,"merged":[[0,4,0,7],[0,0,0,3],[3,0,15,0],[67,0,67,1],[52,0,52,1],[42,0,42,1],[17,0,17,1],[1,0,1,2],[2,0,2,1]]}
[{"$f":"Титул!B13","v":"4 А"},null,null,null,"Страница заполняется автоматически, без участия оператора!!!"]
["Всего учащихся в классе:",null,null,{"$f":"Титул!C13","v":21},"Фамилии, имена               учащихся","Учебные предметы","Фамилии и инициалы учителей","Пояснения, примечания, причины"]
["Учатся на  \"5\":",null,{"$f":"COUNTA(E3:E17)","v":0},1]
[null,null,null,2]
[null,null,null,3]
[null,null,null,4]
[null,null,null,5]
[null,null,null,6]
[null,null,null,7]
[null,null,null,8]
[null,null,null,9]
[null,null,null,10]
[null,null,null,11]
[null,null,null,12]
[null,null,null,13]
[null,null,null,14]
[null,null,null,15]
["Учатся  на \"4\"и\"5\"",null,{"$f":"COUNTA(E18:E42)","v":10},1,"Алябьев Владислав"]
[null," ",null,2,"Вахрушев Никита"]
[null,null,null,3,"Губенко София"]
[null,null,null,4,"Кравченко Ксения"]
[null,null,null,5,"Кузина Алена"]
[null,null,null,6,"Кулиев Артур"]
[null,null,null,7,"Позняк Анастасия"]
[null,null,null,8,"Силиванов Илья"]
[null,null,null,9,"Стаскевич Анастасия"]
[null,null,null,10,"Сушков Евгений"]
[null,null,null,11]
[null,null,null,12]
[null,null,null,13]
[null,null,null,14]
[null,null,null,15]
[null,null,null,16]
[null,null,null,17]
[null,null,null,18]
[null,null,null,19]
[null,null,null,20]
[null,null,null,21]
[null,null,null,22]
[null,null,null,23]
[null,null,null,24]
[null,null,null,25]
["Не аттестованы:",null,{"$f":"COUNTA(E43:E52)","v":0},1]
[null," ",null,2]
[null,null,null,3]
[null,null,null,4]
[null,null,null,5]
[null,null,null,6]
[null,null,null,7]
[null,null,null,8]
[null,null,null,9]
[null,null,null,10]
["Не успевают:",null,{"$f":"COUNTA(E53:E67)","v":0},1]
[null," ",null,2]
[null,null,null,3]
[null,null,null,4]
[null,null,null,5]
[null,null,null,6]
[null,null,null,7]
[null,null,null,8]
[null,null,null,9]
[null,null,null,10]
[null,null,null,11]
[null,null,null,12]
[null,null,null,13]
[null,null,null,14]
[null,null,null,15]
["Освобождены:",null,{"$f":"COUNTA(E68:E82)","v":0},1]
[null," ",null,2]
[null,null,null,3]
[null,null,null,4]
[null,null,null,5]
[null,null,null,6]
[null,null,null,7]
[null,null,null,8]
[null,null,null,9]
[null,null,null,10]
[null,null,null,11]
[null,null,null,12]
[null,null,null,13]
[null,null,null,14]
[null,null,null,15]

{"sheet":"4 Б","index":15,"n_rows":130,"n_cols":35,"rows_kept":130,"cut":false,"hidden":true,"merged":[[40,31,40,34],[47,0,47,26],[47,28,47,33],[43,31,43,34],[42,31,42,34],[41,31,41,34],[39,31,39,34],[38,31,38,34],[36,0,46,0],[0,26,0,32],[2,0,2,3],[2,4,2,17],[2,18,2,22],[0,0,0,2],[0,3,0,25],[2,23,2,34],[1,29,1,31],[1,25,1,28],[1,0,1,24],[46,31,46,34],[45,31,45,34],[44,31,44,34],[3,31,3,34],[37,31,37,34],[3,2,3,30],[35,0,35,1],[3,0,4,1],[36,31,36,34],[35,31,35,34]]}
[{"$f":"Титул!B5","v":"2014/15 учебный год"},null,null,{"$f":"Титул!B4","v":"МОУ СОШ  № 15"},null,null,null,null,null,null,null,null,null,null,null,null,null,null,null,null,null,null,null,null,null,null,{"$f":"Титул!B6","v":"4 четверть"},null,null,null,null,null,null,null,"3+"]
["ВЕДОМОСТЬ  РЕЗУЛЬТАТОВ  УЧЕБНОЙ  ДЕЯТЕЛЬНОСТИ",null,null,null,null,null,null,null,null,null,null,null,null,null,null,null,null,null,null,null,null,null,null,null,null,{"$f":"Титул!B14","v":"4 Б"},null,null,null,"класса"]
["Классный руководитель:",null,null,null,{"$f":"Титул!D14","v":"Варюшина И.В."},null,null,null,null,null,null,null,null,null,null,null,null,null,"Программа:",null,null,null,null,{"$f":"Титул!G14","v":"УМК \"Школа 2100\""}]
["Вручную вносятся только оценки \"5\", \"4\", \"3\", \"2\", \"1\". \nНе аттестованным проставляется \"0\", освобожденным - \"Н\".  ",null,"У  ч  е  б  н  ы  е      п  р  е  д  м  е  т  ы",null,null,null,null,null,null,null,null,null,null,null,null,null,null,null,null,null,null,null,null,null,null,null,null,null,null,null,null,"Результаты ученика:"]
[null,null,{"$f":"Нагрузка!C3","v":"Русский язык"},{"$f":"Нагрузка!D3","v":"Литература"},{"$f":"Нагрузка!E3","v":"Иностранный язык"},{"$f":"Нагрузка!F3","v":"Математика"},{"$f":"Нагрузка!G3","v":"Алгебра"},{"$f":"Нагрузка!H3","v":"Геометрия"},{"$f":"Нагрузка!I3","v":"Информатика"},{"$f":"Нагрузка!J3","v":"История"},{"$f":"Нагрузка!K3","v":"Обществознание"},{"$f":"Нагрузка!L3","v":"Окружающий мир"},{"$f":"Нагрузка!M3","v":"ИЗО"},{"$f":"Нагрузка!N3","v":"Музыка"},{"$f":"Нагрузка!O3","v":"Технология"},{"$f":"Нагрузка!P3","v":"Технология"},{"$f":"Нагрузка!Q3","v":"ФЗК"},{"$f":"Нагрузка!R3","v":"Иностранный язык"},{"$f":"Нагрузка!S3","v":"Иностранный язык"},{"$f":"Нагрузка!T3","v":"География"},{"$f":"Нагрузка!U3","v":"Физика"},{"$f":"Нагрузка!V3","v":"Химия"},{"$f":"Нагрузка!W3","v":"Биология"},{"$f":"Нагрузка!X3","v":"МХК"},{"$f":"Нагрузка!Y3","v":"ФЗК"},{"$f":"Нагрузка!Z3","v":"ОБЖ"},{"$f":"Нагрузка!AA3","v":"Природоведение"},{"$f":"Нагрузка!AB3","v":0},{"$f":"Нагрузка!AC3","v":0},{"$f":"Нагрузка!AD3","v":0},{"$f":"Нагрузка!AE3","v":0},"Средний балл:","Степень обученности (СОУ):","Качество успеваемости:","Рейтинговый учебный балл:"]
[1,{"$f":"СпискиКлассы!G4","v":"Барабаш Дана"},4,5,5,4,null,null,null,null,null,5,5,5,5,null,5,null,null,null,null,null,null,null,null,null,null,null,null,null,null,{"$f":"AVERAGE(C6:AE6)","v":4.7777777777777777},{"$f":"(COUNTIF(C6:AE6,\"5\")+COUNTIF(C6:AE6,\"4\")*0.64+COUNTIF(C6:AE6,\"3\")*0.36+COUNTIF(C6:AE6,\"2\")*0.16)/(COUNTIF(C6:AE6,\"5\")+COUNTIF(C6:AE6,\"4\")+COUNTIF(C6:AE6,\"3\")+COUNTIF(C6:AE6,\"2\")+COUNTIF(C6:AE6,\"0\"))","v":0.91999999999999993},{"$f":"((5*COUNTIF(C6:AE6,\"5\"))+(4*COUNTIF(C6:AE6,\"4\")))/(5*(COUNTA(C6:AE6)-COUNTIF(C6:AE6,\"н\")))","v":0.9555555555555556},{"$f":"SUMIF(C91:AE91,\">0\",C91:AE91)/(COUNTIF(C6:AE6,\">0\")+COUNTIF(C6:AE6,\"=0\")+COUNTIF(C6:AE6,\"Н\"))","v":17.222222222222221}]
[{"$f":"A6+1","v":2},{"$f":"СпискиКлассы!G5","v":"Барановская Диана"},4,5,5,5,null,null,null,null,null,4,5,5,5,null,4,null,null,null,null,null,null,null,null,null,null,null,null,null,null,{"$f":"AVERAGE(C7:AE7)","v":4.666666666666667},{"$f":"(COUNTIF(C7:AE7,\"5\")+COUNTIF(C7:AE7,\"4\")*0.64+COUNTIF(C7:AE7,\"3\")*0.36+COUNTIF(C7:AE7,\"2\")*0.16)/(COUNTIF(C7:AE7,\"5\")+COUNTIF(C7:AE7,\"4\")+COUNTIF(C7:AE7,\"3\")+COUNTIF(C7:AE7,\"2\")+COUNTIF(C7:AE7,\"0\"))","v":0.88},{"$f":"((5*COUNTIF(C7:AE7,\"5\"))+(4*COUNTIF(C7:AE7,\"4\")))/(5*(COUNTA(C7:AE7)-COUNTIF(C7:AE7,\"н\")))","v":0.93333333333333335},18]
[3,{"$f":"СпискиКлассы!G6","v":"Белан Татьяна"},4,4,4,4,null,null,null,null,null,4,5,5,5,null,4,null,null,null,null,null,null,null,null,null,null,null,null,null,null,{"$f":"AVERAGE(C8:AE8)","v":4.333333333333333},0.76,0.8666666666666667,16]
[4,{"$f":"СпискиКлассы!G7","v":"Белова Елизавета"},4,4,5,4,null,null,null,null,null,5,5,5,5,null,5,null,null,null,null,null,null,null,null,null,null,null,null,null,null,4.666666666666667,0.88,0.93333333333333335,16.666666666666668]
[5,{"$f":"СпискиКлассы!G8","v":"Бобылева Алена"},5,5,5,5,null,null,null,null,null,5,5,5,5,null,5,null,null,null,null,null,null,null,null,null,null,null,null,null,null,5,1,1,18.888888888888889]
[6,{"$f":"СпискиКлассы!G9","v":"Гречановский Дмитрий"},3,3,3,3,null,null,null,null,null,3,5,5,5,null,5,null,null,null,null,null,null,null,null,null,null,null,null,null,null,3.8888888888888888,0.64444444444444438,0.44444444444444442,13.333333333333334]
[7,{"$f":"СпискиКлассы!G10","v":"Денежкина Эмилия"},4,5,5,4,null,null,null,null,null,5,5,5,5,null,5,null,null,null,null,null,null,null,null,null,null,null,null,null,null,4.7777777777777777,0.91999999999999993,0.9555555555555556,17.222222222222221]
[8,{"$f":"СпискиКлассы!G11","v":"Дупик Артур"},3,3,3,3,null,null,null,null,null,3,5,5,5,null,5,null,null,null,null,null,null,null,null,null,null,null,null,null,null,3.8888888888888888,0.64444444444444438,0.44444444444444442,13.333333333333334]
[9,{"$f":"СпискиКлассы!G12","v":"Калекин Никита"},3,4,4,3,null,null,null,null,null,4,5,5,5,null,5,null,null,null,null,null,null,null,null,null,null,null,null,null,null,4.2222222222222223,0.73777777777777775,0.71111111111111114,14.444444444444445]
[10,{"$f":"СпискиКлассы!G13","v":"Козлова Софья"},4,4,4,4,null,null,null,null,null,4,5,5,5,null,5,null,null,null,null,null,null,null,null,null,null,null,null,null,null,4.4444444444444446,0.8,0.88888888888888884,16.111111111111111]
[11,{"$f":"СпискиКлассы!G14","v":"Липский Иван"},5,5,5,5,null,null,null,null,null,5,5,5,5,null,5,null,null,null,null,null,null,null,null,null,null,null,null,null,null,5,1,1,18.888888888888889]
[12,{"$f":"СпискиКлассы!G15","v":"Логачева Анастасия"},3,4,4,3,null,null,null,null,null,4,5,5,5,null,4,null,null,null,null,null,null,null,null,null,null,null,null,null,null,4.1111111111111107,0.69777777777777783,0.68888888888888888,14.333333333333334]
[13,{"$f":"СпискиКлассы!G16","v":"Нечай Дмитрий"},3,3,4,3,null,null,null,null,null,4,5,5,5,null,4,null,null,null,null,null,null,null,null,null,null,null,null,null,null,4,0.66666666666666663,0.6,13.777777777777779]
[14,{"$f":"СпискиКлассы!G17","v":"Першин Никита"},3,3,3,3,null,null,null,null,null,3,5,5,5,null,5,null,null,null,null,null,null,null,null,null,null,null,null,null,null,3.8888888888888888,0.64444444444444438,0.44444444444444442,13.333333333333334]
[15,{"$f":"СпискиКлассы!G18","v":"Полозов Матвей"},4,5,5,5,null,null,null,null,null,5,5,5,5,null,5,null,null,null,null,null,null,null,null,null,null,null,null,null,null,4.8888888888888893,0.96000000000000008,0.97777777777777775,18.111111111111111]
[16,{"$f":"СпискиКлассы!G19","v":"Репина Полина"},4,4,4,4,null,null,null,null,null,4,5,5,5,null,5,null,null,null,null,null,null,null,null,null,null,null,null,null,null,4.4444444444444446,0.8,0.88888888888888884,16.111111111111111]
[17,{"$f":"СпискиКлассы!G20","v":"Сейдахмедова Зарина"},5,5,5,4,null,null,null,null,null,5,5,5,5,null,5,null,null,null,null,null,null,null,null,null,null,null,null,null,null,4.8888888888888893,0.96000000000000008,0.97777777777777775,18]
[18,{"$f":"СпискиКлассы!G21","v":"Сероватова Елизавета"},3,3,3,3,null,null,null,null,null,4,5,5,5,null,5,null,null,null,null,null,null,null,null,null,null,null,null,null,null,4,0.67555555555555558,0.53333333333333333,13.333333333333334]
[19,{"$f":"СпискиКлассы!G22","v":"Храпкова Анастасия"},4,5,5,4,null,null,null,null,null,4,5,5,5,null,5,null,null,null,null,null,null,null,null,null,null,null,null,null,null,4.666666666666667,0.88,0.93333333333333335,17.222222222222221]
[20,{"$f":"СпискиКлассы!G23","v":"Циаменко Анастасия"},3,4,4,3,null,null,null,null,null,4,5,5,5,null,4,null,null,null,null,null,null,null,null,null,null,null,null,null,null,4.1111111111111107,0.69777777777777783,0.68888888888888888,14.333333333333334]
[21,{"$f":"СпискиКлассы!G24","v":"Шевцова Виктория"},3,4,4,3,null,null,null,null,null,4,5,5,5,null,5,null,null,null,null,null,null,null,null,null,null,null,null,null,null,4.2222222222222223,0.73777777777777775,0.71111111111111114,14.444444444444445]
[22,{"$f":"СпискиКлассы!G25","v":"Шинкоренко Анастасия"},3,4,4,3,null,null,null,null,null,4,5,5,5,null,5,null,null,null,null,null,null,null,null,null,null,null,null,null,null,4.2222222222222223,0.73777777777777775,0.71111111111111114,14.444444444444445]
[23,{"$f":"СпискиКлассы!G26","v":0},null,null,null,null,null,null,null,null,null,null,null,null,null,null,null,null,null,null,null,null,null,null,null,null,null,null,null,null,null,{"$error":"#DIV/0!"},{"$error":"#DIV/0!"},{"$error":"#DIV/0!"},{"$error":"#DIV/0!"}]
[24,{"$f":"СпискиКлассы!G27","v":0},null,null,null,null,null,null,null,null,null,null,null,null,null,null,null,null,null,null,null,null,null,null,null,null,null,null,null,null,null,{"$error":"#DIV/0!"},{"$error":"#DIV/0!"},{"$error":"#DIV/0!"},{"$error":"#DIV/0!"}]
[25,{"$f":"СпискиКлассы!G28","v":0},null,null,null,null,null,null,null,null,null,null,null,null,null,null,null,null,null,null,null,null,null,null,null,null,null,null,null,null,null,{"$error":"#DIV/0!"},{"$error":"#DIV/0!"},{"$error":"#DIV/0!"},{"$error":"#DIV/0!"}]
[26,{"$f":"СпискиКлассы!G29","v":0},null,null,null,null,null,null,null,null,null,null,null,null,null,null,null,null,null,null,null,null,null,null,null,null,null,null,null,null,null,{"$f":"AVERAGE(C31:AE31)","v":{"$error":"#DIV/0!"}},{"$f":"(COUNTIF(C31:AE31,\"5\")+COUNTIF(C31:AE31,\"4\")*0.64+COUNTIF(C31:AE31,\"3\")*0.36+COUNTIF(C31:AE31,\"2\")*0.16)/(COUNTIF(C31:AE31,\"5\")+COUNTIF(C31:AE31,\"4\")+COUNTIF(C31:AE31,\"3\")+COUNTIF(C31:AE31,\"2\")+COUNTIF(C31:AE31,\"0\"))","v":{"$error":"#DIV/0!"}},{"$error":"#DIV/0!"},{"$error":"#DIV/0!"}]
[27,{"$f":"СпискиКлассы!G30","v":0},null,null,null,null,null,null,null,null,null,null,null,null,null,null,null,null,null,null,null,null,null,null,null,null,null,null,null,null,null,{"$error":"#DIV/0!"},{"$error":"#DIV/0!"},{"$error":"#DIV/0!"},{"$error":"#DIV/0!"}]
[28,{"$f":"СпискиКлассы!G31","v":0},null,null,null,null,null,null,null,null,null,null,null,null,null,null,null,null,null,null,null,null,null,null,null,null,null,null,null,null,null,{"$error":"#DIV/0!"},{"$error":"#DIV/0!"},{"$error":"#DIV/0!"},{"$error":"#DIV/0!"}]
[29,{"$f":"СпискиКлассы!G32","v":0},null,null,null,null,null,null,null,null,null,null,null,null,null,null,null,null,null,null,null,null,null,null,null,null,null,null,null,null,null,{"$error":"#DIV/0!"},{"$error":"#DIV/0!"},{"$error":"#DIV/0!"},{"$error":"#DIV/0!"}]
[30,{"$f":"СпискиКлассы!G43","v":0},null,null,null,null,null,null,null,null,null,null,null,null,null,null,null,null,null,null,null,null,null,null,null,null,null,null,null,null,null,{"$error":"#DIV/0!"},{"$error":"#DIV/0!"},{"$error":"#DIV/0!"},{"$f":"SUMIF(C130:AE130,\">0\",C130:AE130)/(COUNTIF(C35:AE35,\">0\")+COUNTIF(C35:AE35,\"=0\")+COUNTIF(C35:AE35,\"Н\"))","v":{"$error":"#DIV/0!"}}]
[" Фамилия и инициалы                                           учителя - предметника",null,{"$f":"Нагрузка!C10","v":"Варюшина"},{"$f":"Нагрузка!D10","v":"Варюшина"},{"$f":"Нагрузка!E10","v":0},{"$f":"Нагрузка!F10","v":"Варюшина"},{"$f":"Нагрузка!G10","v":0},{"$f":"Нагрузка!H10","v":0},{"$f":"Нагрузка!I10","v":0},{"$f":"Нагрузка!J10","v":0},{"$f":"Нагрузка!K10","v":0},{"$f":"Нагрузка!L10","v":"Варюшина"},{"$f":"Нагрузка!M10","v":"Варюшина"},{"$f":"Нагрузка!N10","v":"Заворина"},{"$f":"Нагрузка!O10","v":"Варюшина"},{"$f":"Нагрузка!P10","v":"Варюшина"},{"$f":"Нагрузка!Q10","v":"Ермакова"},{"$f":"Нагрузка!R10","v":"Калугина"},{"$f":"Нагрузка!S10","v":"Пудренко"},{"$f":"Нагрузка!T10","v":0},{"$f":"Нагрузка!U10","v":0},{"$f":"Нагрузка!V10","v":0},{"$f":"Нагрузка!W10","v":0},{"$f":"Нагрузка!X10","v":0},{"$f":"Нагрузка!Y10","v":0},{"$f":"Нагрузка!Z10","v":0},{"$f":"Нагрузка!AA10","v":0},{"$f":"Нагрузка!AB10","v":0},{"$f":"Нагрузка!AC10","v":0},{"$f":"Нагрузка!AD10","v":0},{"$f":"Нагрузка!AE10","v":0},"Показатели результатов учебной деятельности в  целом по классу:"]
["Результаты учебной деятельности класса","Количество  \"5\":",{"$f":"COUNTIF(C6:C35,5)","v":3},8,9,4,0,0,0,0,0,7,22,22,22,0,17,0,0,0,0,0,0,0,0,0,0,0,0,0,0,{"$f":"SUM(C37:AE37)","v":114}]
[null,"Количество  \"4\":",{"$f":"COUNTIF(C6:C35,4)","v":9},9,9,8,0,0,0,0,0,12,0,0,0,0,5,0,0,0,0,0,0,0,0,0,0,0,0,0,0,52]
[null,"Количество  \"3\":",{"$f":"COUNTIF(C6:C35,3)","v":10},5,4,10,0,0,0,0,0,3,0,0,0,0,0,0,0,0,0,0,0,0,0,0,0,0,0,0,0,32]
[null,"Количество  \"2\":",{"$f":"COUNTIF(C6:C35,2)","v":0},0,0,0,0,0,0,0,0,0,0,0,0,0,0,0,0,0,0,0,0,0,0,0,0,0,0,0,0,0]
[null,"Не аттестовано:",{"$f":"COUNTIF(C6:C35,0)","v":0},0,0,0,0,0,0,0,0,0,0,0,0,0,0,0,0,0,0,0,0,0,0,0,0,0,0,0,0,0]
[null,"Освобождено:",{"$f":"COUNTIF(C6:C35,\"н\")","v":0},0,0,0,0,0,0,0,0,0,0,0,0,0,0,0,0,0,0,0,0,0,0,0,0,0,0,0,0,0]
[null,"Успеваемость:",{"$f":"(C37+C38+C39)/(C37+C38+C39+C40+C41)","v":1},{"$f":"(D37+D38+D39)/(D37+D38+D39+D40+D41)","v":1},1,1,{"$error":"#DIV/0!"},{"$error":"#DIV/0!"},{"$error":"#DIV/0!"},{"$error":"#DIV/0!"},{"$error":"#DIV/0!"},1,1,1,1,{"$error":"#DIV/0!"},1,{"$error":"#DIV/0!"},{"$error":"#DIV/0!"},{"$error":"#DIV/0!"},{"$error":"#DIV/0!"},{"$error":"#DIV/0!"},{"$error":"#DIV/0!"},{"$error":"#DIV/0!"},{"$error":"#DIV/0!"},{"$error":"#DIV/0!"},{"$error":"#DIV/0!"},{"$error":"#DIV/0!"},{"$error":"#DIV/0!"},{"$error":"#DIV/0!"},{"$error":"#DIV/0!"},{"$f":"('4 Б(2)'!D2-'4 Б(2)'!C43-'4 Б(2)'!C53)/'4 Б(2)'!D2","v":1}]
[null,"Качество знаний:",{"$f":"(C37+C38)/(C37+C38+C39+C40+C41)","v":0.54545454545454541},{"$f":"(D37+D38)/(D37+D38+D39+D40+D41)","v":0.77272727272727271},0.81818181818181823,0.54545454545454541,{"$error":"#DIV/0!"},{"$error":"#DIV/0!"},{"$error":"#DIV/0!"},{"$error":"#DIV/0!"},{"$error":"#DIV/0!"},0.86363636363636365,1,1,1,{"$error":"#DIV/0!"},1,{"$error":"#DIV/0!"},{"$error":"#DIV/0!"},{"$error":"#DIV/0!"},{"$error":"#DIV/0!"},{"$error":"#DIV/0!"},{"$error":"#DIV/0!"},{"$error":"#DIV/0!"},{"$error":"#DIV/0!"},{"$error":"#DIV/0!"},{"$error":"#DIV/0!"},{"$error":"#DIV/0!"},{"$error":"#DIV/0!"},{"$error":"#DIV/0!"},{"$error":"#DIV/0!"},{"$f":"('4 Б(2)'!C3+'4 Б(2)'!C18)/'4 Б(2)'!D2","v":0}]
[null,"Степень обученности:",{"$f":"(C37+C38*0.64+C39*0.36+C40*0.16)/(C37+C38+C39+C40+C41)","v":0.56181818181818177},{"$f":"(D37+D38*0.64+D39*0.36+D40*0.16)/(D37+D38+D39+D40+D41)","v":0.70727272727272716},0.73636363636363633,0.57818181818181824,{"$error":"#DIV/0!"},{"$error":"#DIV/0!"},{"$error":"#DIV/0!"},{"$error":"#DIV/0!"},{"$error":"#DIV/0!"},0.71636363636363631,1,1,1,{"$error":"#DIV/0!"},0.9181818181818181,{"$error":"#DIV/0!"},{"$error":"#DIV/0!"},{"$error":"#DIV/0!"},{"$error":"#DIV/0!"},{"$error":"#DIV/0!"},{"$error":"#DIV/0!"},{"$error":"#DIV/0!"},{"$error":"#DIV/0!"},{"$error":"#DIV/0!"},{"$error":"#DIV/0!"},{"$error":"#DIV/0!"},{"$error":"#DIV/0!"},{"$error":"#DIV/0!"},{"$error":"#DIV/0!"},{"$f":"(AF37+AF38*0.64+AF39*0.36+AF40*0.16)/(AF37+AF38+AF39+AF40+AF41)","v":0.80202020202020208}]
[null,"Средний балл:              ",{"$f":"(C37*5+C38*4+C39*3+C40*2)/(C37+C38+C39+C40+C41)","v":3.6818181818181817},{"$f":"(D37*5+D38*4+D39*3+D40*2)/(D37+D38+D39+D40+D41)","v":4.1363636363636367},4.2272727272727275,3.7272727272727271,{"$error":"#DIV/0!"},{"$error":"#DIV/0!"},{"$error":"#DIV/0!"},{"$error":"#DIV/0!"},{"$error":"#DIV/0!"},4.1818181818181817,5,5,5,{"$error":"#DIV/0!"},4.7727272727272725,{"$error":"#DIV/0!"},{"$error":"#DIV/0!"},{"$error":"#DIV/0!"},{"$error":"#DIV/0!"},{"$error":"#DIV/0!"},{"$error":"#DIV/0!"},{"$error":"#DIV/0!"},{"$error":"#DIV/0!"},{"$error":"#DIV/0!"},{"$error":"#DIV/0!"},{"$error":"#DIV/0!"},{"$error":"#DIV/0!"},{"$error":"#DIV/0!"},{"$error":"#DIV/0!"},{"$f":"(AF37*5+AF38*4+AF39*3+AF40*2)/(AF37+AF38+AF39+AF40+AF41)","v":4.4141414141414144}]
[null,"Качество успеваемости:",{"$f":"(5*C37+4*C38)*0.2/(SUM(C37+C38+C39+C40+C41))","v":0.46363636363636368},{"$f":"(5*COUNTIF(D6:D35,5)+4*COUNTIF(D6:D35,4))*0.2/(COUNTA(D6:D35)-COUNTIF(D6:D35,\"н\"))","v":0.69090909090909092},0.73636363636363633,0.47272727272727272,{"$error":"#DIV/0!"},{"$error":"#DIV/0!"},{"$error":"#DIV/0!"},{"$error":"#DIV/0!"},{"$error":"#DIV/0!"},0.75454545454545463,1,1,1,{"$error":"#DIV/0!"},0.95454545454545459,{"$error":"#DIV/0!"},{"$error":"#DIV/0!"},{"$error":"#DIV/0!"},{"$error":"#DIV/0!"},{"$error":"#DIV/0!"},{"$error":"#DIV/0!"},{"$error":"#DIV/0!"},{"$error":"#DIV/0!"},{"$error":"#DIV/0!"},{"$error":"#DIV/0!"},{"$error":"#DIV/0!"},{"$error":"#DIV/0!"},{"$error":"#DIV/0!"},{"$error":"#DIV/0!"},{"$f":"(5*COUNTIF(C6:AE35,5)+4*COUNTIF(C6:AE35,4))*0.2/(COUNTA(C6:AE35)-COUNTIF(C6:AE35,\"н\"))","v":0.78585858585858592}]
["Выполнено с помощью программы статистического анализа результатов учебной деятельности",null,null,null,null,null,null,null,null,null,null,null,null,null,null,null,null,null,null,null,null,null,null,null,null,null,null,null,{"$f":"Титул!G31","v":"PSORUD-Klass.v.04.11.demo"},null,null,null,null,null,"3+"]
[]
[]
[]
[]
[]
[]
[]
[]
[]
[]
[]
[]
[]
[]
[]
[]
[]
[]
[]
[]
[]
[]
[]
[]
[]
[]
[]
[]
[]
[]
[]
[]
[]
[]
[]
[]
[]
[]
[]
[]
[]
[null,"Коэф.трудн.предмета",{"$f":"VLOOKUP(C$5,ШкалаТрудн!$C$5:$N$34,LEFT($Z$2,2)+1,0)","v":7},{"$f":"VLOOKUP(D$5,ШкалаТрудн!$C$5:$N$34,LEFT($Z$2,2)+1,0)","v":5},{"$f":"VLOOKUP(E$5,ШкалаТрудн!$C$5:$N$34,LEFT($Z$2,2)+1,0)","v":5},{"$f":"VLOOKUP(F$5,ШкалаТрудн!$C$5:$N$34,LEFT($Z$2,2)+1,0)","v":8},{"$f":"VLOOKUP(G$5,ШкалаТрудн!$C$5:$N$34,LEFT($Z$2,2)+1,0)","v":0},{"$f":"VLOOKUP(H$5,ШкалаТрудн!$C$5:$N$34,LEFT($Z$2,2)+1,0)","v":0},{"$f":"VLOOKUP(I$5,ШкалаТрудн!$C$5:$N$34,LEFT($Z$2,2)+1,0)","v":6},{"$f":"VLOOKUP(J$5,ШкалаТрудн!$C$5:$N$34,LEFT($Z$2,2)+1,0)","v":4},{"$f":"VLOOKUP(K$5,ШкалаТрудн!$C$5:$N$34,LEFT($Z$2,2)+1,0)","v":0},{"$f":"VLOOKUP(L$5,ШкалаТрудн!$C$5:$N$34,LEFT($Z$2,2)+1,0)","v":{"$error":"#N/A"}},{"$f":"VLOOKUP(M$5,ШкалаТрудн!$C$5:$N$34,LEFT($Z$2,2)+1,0)","v":3},{"$f":"VLOOKUP(N$5,ШкалаТрудн!$C$5:$N$34,LEFT($Z$2,2)+1,0)","v":3},{"$f":"VLOOKUP(O$5,ШкалаТрудн!$C$5:$N$34,LEFT($Z$2,2)+1,0)","v":2},{"$f":"VLOOKUP(P$5,ШкалаТрудн!$C$5:$N$34,LEFT($Z$2,2)+1,0)","v":2},{"$f":"VLOOKUP(Q$5,ШкалаТрудн!$C$5:$N$34,LEFT($Z$2,2)+1,0)","v":1},{"$f":"VLOOKUP(R$5,ШкалаТрудн!$C$5:$N$34,LEFT($Z$2,2)+1,0)","v":5},{"$f":"VLOOKUP(S$5,ШкалаТрудн!$C$5:$N$34,LEFT($Z$2,2)+1,0)","v":5},{"$f":"VLOOKUP(T$5,ШкалаТрудн!$C$5:$N$34,LEFT($Z$2,2)+1,0)","v":0},{"$f":"VLOOKUP(U$5,ШкалаТрудн!$C$5:$N$34,LEFT($Z$2,2)+1,0)","v":0},{"$f":"VLOOKUP(V$5,ШкалаТрудн!$C$5:$N$34,LEFT($Z$2,2)+1,0)","v":0},{"$f":"VLOOKUP(W$5,ШкалаТрудн!$C$5:$N$34,LEFT($Z$2,2)+1,0)","v":0},{"$f":"VLOOKUP(X$5,ШкалаТрудн!$C$5:$N$34,LEFT($Z$2,2)+1,0)","v":0},{"$f":"VLOOKUP(Y$5,ШкалаТрудн!$C$5:$N$34,LEFT($Z$2,2)+1,0)","v":1},{"$f":"VLOOKUP(Z$5,ШкалаТрудн!$C$5:$N$34,LEFT($Z$2,2)+1,0)","v":0},{"$f":"VLOOKUP(AA$5,ШкалаТрудн!$C$5:$N$34,LEFT($Z$2,2)+1,0)","v":0},{"$f":"VLOOKUP(AB$5,ШкалаТрудн!$C$5:$N$34,LEFT($Z$2,2)+1,0)","v":{"$error":"#N/A"}},{"$f":"VLOOKUP(AC$5,ШкалаТрудн!$C$5:$N$34,LEFT($Z$2,2)+1,0)","v":{"$error":"#N/A"}},{"$f":"VLOOKUP(AD$5,ШкалаТрудн!$C$5:$N$34,LEFT($Z$2,2)+1,0)","v":{"$error":"#N/A"}},{"$f":"VLOOKUP(AE$5,ШкалаТрудн!$C$5:$N$34,LEFT($Z$2,2)+1,0)","v":{"$error":"#N/A"}}]
[null,null,{"$f":"C6*C$90","v":28},25,25,32,0,0,0,0,0,{"$error":"#N/A"},15,15,10,0,5,0,0,0,0,0,0,0,0,0,0,{"$error":"#N/A"},{"$error":"#N/A"},{"$error":"#N/A"},{"$error":"#N/A"}]
[null,null,{"$f":"C7*C$90","v":28},25,25,40,0,0,0,0,0,{"$error":"#N/A"},15,15,10,0,4,0,0,0,0,0,0,0,0,0,0,{"$error":"#N/A"},{"$error":"#N/A"},{"$error":"#N/A"},{"$error":"#N/A"}]
[null,null,{"$f":"C8*C$90","v":28},20,20,32,0,0,0,0,0,{"$error":"#N/A"},15,15,10,0,4,0,0,0,0,0,0,0,0,0,0,{"$error":"#N/A"},{"$error":"#N/A"},{"$error":"#N/A"},{"$error":"#N/A"}]
[null,null,{"$f":"C9*C$90","v":28},20,25,32,0,0,0,0,0,{"$error":"#N/A"},15,15,10,0,5,0,0,0,0,0,0,0,0,0,0,{"$error":"#N/A"},{"$error":"#N/A"},{"$error":"#N/A"},{"$error":"#N/A"}]
[null,null,{"$f":"C10*C$90","v":35},25,25,40,0,0,0,0,0,{"$error":"#N/A"},15,15,10,0,5,0,0,0,0,0,0,0,0,0,0,{"$error":"#N/A"},{"$error":"#N/A"},{"$error":"#N/A"},{"$error":"#N/A"}]
[null,null,{"$f":"C11*C$90","v":21},15,15,24,0,0,0,0,0,{"$error":"#N/A"},15,15,10,0,5,0,0,0,0,0,0,0,0,0,0,{"$error":"#N/A"},{"$error":"#N/A"},{"$error":"#N/A"},{"$error":"#N/A"}]
[null,null,{"$f":"C12*C$90","v":28},25,25,32,0,0,0,0,0,{"$error":"#N/A"},15,15,10,0,5,0,0,0,0,0,0,0,0,0,0,{"$error":"#N/A"},{"$error":"#N/A"},{"$error":"#N/A"},{"$error":"#N/A"}]
[null,null,{"$f":"C13*C$90","v":21},15,15,24,0,0,0,0,0,{"$error":"#N/A"},15,15,10,0,5,0,0,0,0,0,0,0,0,0,0,{"$error":"#N/A"},{"$error":"#N/A"},{"$error":"#N/A"},{"$error":"#N/A"}]
[null,null,{"$f":"C14*C$90","v":21},20,20,24,0,0,0,0,0,{"$error":"#N/A"},15,15,10,0,5,0,0,0,0,0,0,0,0,0,0,{"$error":"#N/A"},{"$error":"#N/A"},{"$error":"#N/A"},{"$error":"#N/A"}]
[null,null,{"$f":"C15*C$90","v":28},20,20,32,0,0,0,0,0,{"$error":"#N/A"},15,15,10,0,5,0,0,0,0,0,0,0,0,0,0,{"$error":"#N/A"},{"$error":"#N/A"},{"$error":"#N/A"},{"$error":"#N/A"}]
[null,null,{"$f":"C16*C$90","v":35},25,25,40,0,0,0,0,0,{"$error":"#N/A"},15,15,10,0,5,0,0,0,0,0,0,0,0,0,0,{"$error":"#N/A"},{"$error":"#N/A"},{"$error":"#N/A"},{"$error":"#N/A"}]
[null,null,{"$f":"C17*C$90","v":21},20,20,24,0,0,0,0,0,{"$error":"#N/A"},15,15,10,0,4,0,0,0,0,0,0,0,0,0,0,{"$error":"#N/A"},{"$error":"#N/A"},{"$error":"#N/A"},{"$error":"#N/A"}]
[null,null,{"$f":"C18*C$90","v":21},15,20,24,0,0,0,0,0,{"$error":"#N/A"},15,15,10,0,4,0,0,0,0,0,0,0,0,0,0,{"$error":"#N/A"},{"$error":"#N/A"},{"$error":"#N/A"},{"$error":"#N/A"}]
[null,null,{"$f":"C19*C$90","v":21},15,15,24,0,0,0,0,0,{"$error":"#N/A"},15,15,10,0,5,0,0,0,0,0,0,0,0,0,0,{"$error":"#N/A"},{"$error":"#N/A"},{"$error":"#N/A"},{"$error":"#N/A"}]
[null,null,{"$f":"C20*C$90","v":28},25,25,40,0,0,0,0,0,{"$error":"#N/A"},15,15,10,0,5,0,0,0,0,0,0,0,0,0,0,{"$error":"#N/A"},{"$error":"#N/A"},{"$error":"#N/A"},{"$error":"#N/A"}]
[null,null,{"$f":"C21*C$90","v":28},20,20,32,0,0,0,0,0,{"$error":"#N/A"},15,15,10,0,5,0,0,0,0,0,0,0,0,0,0,{"$error":"#N/A"},{"$error":"#N/A"},{"$error":"#N/A"},{"$error":"#N/A"}]
[null,null,{"$f":"C22*C$90","v":35},25,25,32,0,0,0,0,0,{"$error":"#N/A"},15,15,10,0,5,0,0,0,0,0,0,0,0,0,0,{"$error":"#N/A"},{"$error":"#N/A"},{"$error":"#N/A"},{"$error":"#N/A"}]
[null,null,{"$f":"C23*C$90","v":21},15,15,24,0,0,0,0,0,{"$error":"#N/A"},15,15,10,0,5,0,0,0,0,0,0,0,0,0,0,{"$error":"#N/A"},{"$error":"#N/A"},{"$error":"#N/A"},{"$error":"#N/A"}]
[null,null,{"$f":"C24*C$90","v":28},25,25,32,0,0,0,0,0,{"$error":"#N/A"},15,15,10,0,5,0,0,0,0,0,0,0,0,0,0,{"$error":"#N/A"},{"$error":"#N/A"},{"$error":"#N/A"},{"$error":"#N/A"}]
[null,null,{"$f":"C25*C$90","v":21},20,20,24,0,0,0,0,0,{"$error":"#N/A"},15,15,10,0,4,0,0,0,0,0,0,0,0,0,0,{"$error":"#N/A"},{"$error":"#N/A"},{"$error":"#N/A"},{"$error":"#N/A"}]
[null,null,{"$f":"C26*C$90","v":21},20,20,24,0,0,0,0,0,{"$error":"#N/A"},15,15,10,0,5,0,0,0,0,0,0,0,0,0,0,{"$error":"#N/A"},{"$error":"#N/A"},{"$error":"#N/A"},{"$error":"#N/A"}]
[null,null,{"$f":"C27*C$90","v":21},20,20,24,0,0,0,0,0,{"$error":"#N/A"},15,15,10,0,5,0,0,0,0,0,0,0,0,0,0,{"$error":"#N/A"},{"$error":"#N/A"},{"$error":"#N/A"},{"$error":"#N/A"}]
[null,null,{"$f":"C28*C$90","v":0},0,0,0,0,0,0,0,0,{"$error":"#N/A"},0,0,0,0,0,0,0,0,0,0,0,0,0,0,0,{"$error":"#N/A"},{"$error":"#N/A"},{"$error":"#N/A"},{"$error":"#N/A"}]
[null,null,{"$f":"C29*C$90","v":0},0,0,0,0,0,0,0,0,{"$error":"#N/A"},0,0,0,0,0,0,0,0,0,0,0,0,0,0,0,{"$error":"#N/A"},{"$error":"#N/A"},{"$error":"#N/A"},{"$error":"#N/A"}]
[null,null,{"$f":"C30*C$90","v":0},0,0,0,0,0,0,0,0,{"$error":"#N/A"},0,0,0,0,0,0,0,0,0,0,0,0,0,0,0,{"$error":"#N/A"},{"$error":"#N/A"},{"$error":"#N/A"},{"$error":"#N/A"}]
[null,null,{"$f":"C31*C$90","v":0},0,0,0,0,0,0,0,0,{"$error":"#N/A"},0,0,0,0,0,0,0,0,0,0,0,0,0,0,0,{"$error":"#N/A"},{"$error":"#N/A"},{"$error":"#N/A"},{"$error":"#N/A"}]
[null,null,{"$f":"C32*C$90","v":0},0,0,0,0,0,0,0,0,{"$error":"#N/A"},0,0,0,0,0,0,0,0,0,0,0,0,0,0,0,{"$error":"#N/A"},{"$error":"#N/A"},{"$error":"#N/A"},{"$error":"#N/A"}]
[null,null,{"$f":"C33*C$90","v":0},0,0,0,0,0,0,0,0,{"$error":"#N/A"},0,0,0,0,0,0,0,0,0,0,0,0,0,0,0,{"$error":"#N/A"},{"$error":"#N/A"},{"$error":"#N/A"},{"$error":"#N/A"}]
[null,null,{"$f":"C34*C$90","v":0},0,0,0,0,0,0,0,0,{"$error":"#N/A"},0,0,0,0,0,0,0,0,0,0,0,0,0,0,0,{"$error":"#N/A"},{"$error":"#N/A"},{"$error":"#N/A"},{"$error":"#N/A"}]
[null,null,{"$f":"#REF!*C$90","v":{"$error":"#REF!"}},{"$f":"#REF!*D$90","v":{"$error":"#REF!"}},{"$f":"#REF!*E$90","v":{"$error":"#REF!"}},{"$f":"#REF!*F$90","v":{"$error":"#REF!"}},{"$f":"#REF!*G$90","v":{"$error":"#REF!"}},{"$f":"#REF!*H$90","v":{"$error":"#REF!"}},{"$f":"#REF!*I$90","v":{"$error":"#REF!"}},{"$f":"#REF!*J$90","v":{"$error":"#REF!"}},{"$f":"#REF!*K$90","v":{"$error":"#REF!"}},{"$f":"#REF!*L$90","v":{"$error":"#REF!"}},{"$f":"#REF!*M$90","v":{"$error":"#REF!"}},{"$f":"#REF!*N$90","v":{"$error":"#REF!"}},{"$f":"#REF!*O$90","v":{"$error":"#REF!"}},{"$f":"#REF!*P$90","v":{"$error":"#REF!"}},{"$f":"#REF!*Q$90","v":{"$error":"#REF!"}},{"$f":"#REF!*R$90","v":{"$error":"#REF!"}},{"$f":"#REF!*S$90","v":{"$error":"#REF!"}},{"$f":"#REF!*T$90","v":{"$error":"#REF!"}},{"$f":"#REF!*U$90","v":{"$error":"#REF!"}},{"$f":"#REF!*V$90","v":{"$error":"#REF!"}},{"$f":"#REF!*W$90","v":{"$error":"#REF!"}},{"$f":"#REF!*X$90","v":{"$error":"#REF!"}},{"$f":"#REF!*Y$90","v":{"$error":"#REF!"}},{"$f":"#REF!*Z$90","v":{"$error":"#REF!"}},{"$f":"#REF!*AA$90","v":{"$error":"#REF!"}},{"$f":"#REF!*AB$90","v":{"$error":"#REF!"}},{"$f":"#REF!*AC$90","v":{"$error":"#REF!"}},{"$f":"#REF!*AD$90","v":{"$error":"#REF!"}},{"$f":"#REF!*AE$90","v":{"$error":"#REF!"}}]
[null,null,{"$f":"#REF!*C$90","v":{"$error":"#REF!"}},{"$f":"#REF!*D$90","v":{"$error":"#REF!"}},{"$f":"#REF!*E$90","v":{"$error":"#REF!"}},{"$f":"#REF!*F$90","v":{"$error":"#REF!"}},{"$f":"#REF!*G$90","v":{"$error":"#REF!"}},{"$f":"#REF!*H$90","v":{"$error":"#REF!"}},{"$f":"#REF!*I$90","v":{"$error":"#REF!"}},{"$f":"#REF!*J$90","v":{"$error":"#REF!"}},{"$f":"#REF!*K$90","v":{"$error":"#REF!"}},{"$f":"#REF!*L$90","v":{"$error":"#REF!"}},{"$f":"#REF!*M$90","v":{"$error":"#REF!"}},{"$f":"#REF!*N$90","v":{"$error":"#REF!"}},{"$f":"#REF!*O$90","v":{"$error":"#REF!"}},{"$f":"#REF!*P$90","v":{"$error":"#REF!"}},{"$f":"#REF!*Q$90","v":{"$error":"#REF!"}},{"$f":"#REF!*R$90","v":{"$error":"#REF!"}},{"$f":"#REF!*S$90","v":{"$error":"#REF!"}},{"$f":"#REF!*T$90","v":{"$error":"#REF!"}},{"$f":"#REF!*U$90","v":{"$error":"#REF!"}},{"$f":"#REF!*V$90","v":{"$error":"#REF!"}},{"$f":"#REF!*W$90","v":{"$error":"#REF!"}},{"$f":"#REF!*X$90","v":{"$error":"#REF!"}},{"$f":"#REF!*Y$90","v":{"$error":"#REF!"}},{"$f":"#REF!*Z$90","v":{"$error":"#REF!"}},{"$f":"#REF!*AA$90","v":{"$error":"#REF!"}},{"$f":"#REF!*AB$90","v":{"$error":"#REF!"}},{"$f":"#REF!*AC$90","v":{"$error":"#REF!"}},{"$f":"#REF!*AD$90","v":{"$error":"#REF!"}},{"$f":"#REF!*AE$90","v":{"$error":"#REF!"}}]
[null,null,{"$f":"#REF!*C$90","v":{"$error":"#REF!"}},{"$f":"#REF!*D$90","v":{"$error":"#REF!"}},{"$f":"#REF!*E$90","v":{"$error":"#REF!"}},{"$f":"#REF!*F$90","v":{"$error":"#REF!"}},{"$f":"#REF!*G$90","v":{"$error":"#REF!"}},{"$f":"#REF!*H$90","v":{"$error":"#REF!"}},{"$f":"#REF!*I$90","v":{"$error":"#REF!"}},{"$f":"#REF!*J$90","v":{"$error":"#REF!"}},{"$f":"#REF!*K$90","v":{"$error":"#REF!"}},{"$f":"#REF!*L$90","v":{"$error":"#REF!"}},{"$f":"#REF!*M$90","v":{"$error":"#REF!"}},{"$f":"#REF!*N$90","v":{"$error":"#REF!"}},{"$f":"#REF!*O$90","v":{"$error":"#REF!"}},{"$f":"#REF!*P$90","v":{"$error":"#REF!"}},{"$f":"#REF!*Q$90","v":{"$error":"#REF!"}},{"$f":"#REF!*R$90","v":{"$error":"#REF!"}},{"$f":"#REF!*S$90","v":{"$error":"#REF!"}},{"$f":"#REF!*T$90","v":{"$error":"#REF!"}},{"$f":"#REF!*U$90","v":{"$error":"#REF!"}},{"$f":"#REF!*V$90","v":{"$error":"#REF!"}},{"$f":"#REF!*W$90","v":{"$error":"#REF!"}},{"$f":"#REF!*X$90","v":{"$error":"#REF!"}},{"$f":"#REF!*Y$90","v":{"$error":"#REF!"}},{"$f":"#REF!*Z$90","v":{"$error":"#REF!"}},{"$f":"#REF!*AA$90","v":{"$error":"#REF!"}},{"$f":"#REF!*AB$90","v":{"$error":"#REF!"}},{"$f":"#REF!*AC$90","v":{"$error":"#REF!"}},{"$f":"#REF!*AD$90","v":{"$error":"#REF!"}},{"$f":"#REF!*AE$90","v":{"$error":"#REF!"}}]
[null,null,{"$f":"#REF!*C$90","v":{"$error":"#REF!"}},{"$f":"#REF!*D$90","v":{"$error":"#REF!"}},{"$f":"#REF!*E$90","v":{"$error":"#REF!"}},{"$f":"#REF!*F$90","v":{"$error":"#REF!"}},{"$f":"#REF!*G$90","v":{"$error":"#REF!"}},{"$f":"#REF!*H$90","v":{"$error":"#REF!"}},{"$f":"#REF!*I$90","v":{"$error":"#REF!"}},{"$f":"#REF!*J$90","v":{"$error":"#REF!"}},{"$f":"#REF!*K$90","v":{"$error":"#REF!"}},{"$f":"#REF!*L$90","v":{"$error":"#REF!"}},{"$f":"#REF!*M$90","v":{"$error":"#REF!"}},{"$f":"#REF!*N$90","v":{"$error":"#REF!"}},{"$f":"#REF!*O$90","v":{"$error":"#REF!"}},{"$f":"#REF!*P$90","v":{"$error":"#REF!"}},{"$f":"#REF!*Q$90","v":{"$error":"#REF!"}},{"$f":"#REF!*R$90","v":{"$error":"#REF!"}},{"$f":"#REF!*S$90","v":{"$error":"#REF!"}},{"$f":"#REF!*T$90","v":{"$error":"#REF!"}},{"$f":"#REF!*U$90","v":{"$error":"#REF!"}},{"$f":"#REF!*V$90","v":{"$error":"#REF!"}},{"$f":"#REF!*W$90","v":{"$error":"#REF!"}},{"$f":"#REF!*X$90","v":{"$error":"#REF!"}},{"$f":"#REF!*Y$90","v":{"$error":"#REF!"}},{"$f":"#REF!*Z$90","v":{"$error":"#REF!"}},{"$f":"#REF!*AA$90","v":{"$error":"#REF!"}},{"$f":"#REF!*AB$90","v":{"$error":"#REF!"}},{"$f":"#REF!*AC$90","v":{"$error":"#REF!"}},{"$f":"#REF!*AD$90","v":{"$error":"#REF!"}},{"$f":"#REF!*AE$90","v":{"$error":"#REF!"}}]
[null,null,{"$f":"#REF!*C$90","v":{"$error":"#REF!"}},{"$f":"#REF!*D$90","v":{"$error":"#REF!"}},{"$f":"#REF!*E$90","v":{"$error":"#REF!"}},{"$f":"#REF!*F$90","v":{"$error":"#REF!"}},{"$f":"#REF!*G$90","v":{"$error":"#REF!"}},{"$f":"#REF!*H$90","v":{"$error":"#REF!"}},{"$f":"#REF!*I$90","v":{"$error":"#REF!"}},{"$f":"#REF!*J$90","v":{"$error":"#REF!"}},{"$f":"#REF!*K$90","v":{"$error":"#REF!"}},{"$f":"#REF!*L$90","v":{"$error":"#REF!"}},{"$f":"#REF!*M$90","v":{"$error":"#REF!"}},{"$f":"#REF!*N$90","v":{"$error":"#REF!"}},{"$f":"#REF!*O$90","v":{"$error":"#REF!"}},{"$f":"#REF!*P$90","v":{"$error":"#REF!"}},{"$f":"#REF!*Q$90","v":{"$error":"#REF!"}},{"$f":"#REF!*R$90","v":{"$error":"#REF!"}},{"$f":"#REF!*S$90","v":{"$error":"#REF!"}},{"$f":"#REF!*T$90","v":{"$error":"#REF!"}},{"$f":"#REF!*U$90","v":{"$error":"#REF!"}},{"$f":"#REF!*V$90","v":{"$error":"#REF!"}},{"$f":"#REF!*W$90","v":{"$error":"#REF!"}},{"$f":"#REF!*X$90","v":{"$error":"#REF!"}},{"$f":"#REF!*Y$90","v":{"$error":"#REF!"}},{"$f":"#REF!*Z$90","v":{"$error":"#REF!"}},{"$f":"#REF!*AA$90","v":{"$error":"#REF!"}},{"$f":"#REF!*AB$90","v":{"$error":"#REF!"}},{"$f":"#REF!*AC$90","v":{"$error":"#REF!"}},{"$f":"#REF!*AD$90","v":{"$error":"#REF!"}},{"$f":"#REF!*AE$90","v":{"$error":"#REF!"}}]
[null,null,{"$f":"#REF!*C$90","v":{"$error":"#REF!"}},{"$f":"#REF!*D$90","v":{"$error":"#REF!"}},{"$f":"#REF!*E$90","v":{"$error":"#REF!"}},{"$f":"#REF!*F$90","v":{"$error":"#REF!"}},{"$f":"#REF!*G$90","v":{"$error":"#REF!"}},{"$f":"#REF!*H$90","v":{"$error":"#REF!"}},{"$f":"#REF!*I$90","v":{"$error":"#REF!"}},{"$f":"#REF!*J$90","v":{"$error":"#REF!"}},{"$f":"#REF!*K$90","v":{"$error":"#REF!"}},{"$f":"#REF!*L$90","v":{"$error":"#REF!"}},{"$f":"#REF!*M$90","v":{"$error":"#REF!"}},{"$f":"#REF!*N$90","v":{"$error":"#REF!"}},{"$f":"#REF!*O$90","v":{"$error":"#REF!"}},{"$f":"#REF!*P$90","v":{"$error":"#REF!"}},{"$f":"#REF!*Q$90","v":{"$error":"#REF!"}},{"$f":"#REF!*R$90","v":{"$error":"#REF!"}},{"$f":"#REF!*S$90","v":{"$error":"#REF!"}},{"$f":"#REF!*T$90","v":{"$error":"#REF!"}},{"$f":"#REF!*U$90","v":{"$error":"#REF!"}},{"$f":"#REF!*V$90","v":{"$error":"#REF!"}},{"$f":"#REF!*W$90","v":{"$error":"#REF!"}},{"$f":"#REF!*X$90","v":{"$error":"#REF!"}},{"$f":"#REF!*Y$90","v":{"$error":"#REF!"}},{"$f":"#REF!*Z$90","v":{"$error":"#REF!"}},{"$f":"#REF!*AA$90","v":{"$error":"#REF!"}},{"$f":"#REF!*AB$90","v":{"$error":"#REF!"}},{"$f":"#REF!*AC$90","v":{"$error":"#REF!"}},{"$f":"#REF!*AD$90","v":{"$error":"#REF!"}},{"$f":"#REF!*AE$90","v":{"$error":"#REF!"}}]
[null,null,{"$f":"#REF!*C$90","v":{"$error":"#REF!"}},{"$f":"#REF!*D$90","v":{"$error":"#REF!"}},{"$f":"#REF!*E$90","v":{"$error":"#REF!"}},{"$f":"#REF!*F$90","v":{"$error":"#REF!"}},{"$f":"#REF!*G$90","v":{"$error":"#REF!"}},{"$f":"#REF!*H$90","v":{"$error":"#REF!"}},{"$f":"#REF!*I$90","v":{"$error":"#REF!"}},{"$f":"#REF!*J$90","v":{"$error":"#REF!"}},{"$f":"#REF!*K$90","v":{"$error":"#REF!"}},{"$f":"#REF!*L$90","v":{"$error":"#REF!"}},{"$f":"#REF!*M$90","v":{"$error":"#REF!"}},{"$f":"#REF!*N$90","v":{"$error":"#REF!"}},{"$f":"#REF!*O$90","v":{"$error":"#REF!"}},{"$f":"#REF!*P$90","v":{"$error":"#REF!"}},{"$f":"#REF!*Q$90","v":{"$error":"#REF!"}},{"$f":"#REF!*R$90","v":{"$error":"#REF!"}},{"$f":"#REF!*S$90","v":{"$error":"#REF!"}},{"$f":"#REF!*T$90","v":{"$error":"#REF!"}},{"$f":"#REF!*U$90","v":{"$error":"#REF!"}},{"$f":"#REF!*V$90","v":{"$error":"#REF!"}},{"$f":"#REF!*W$90","v":{"$error":"#REF!"}},{"$f":"#REF!*X$90","v":{"$error":"#REF!"}},{"$f":"#REF!*Y$90","v":{"$error":"#REF!"}},{"$f":"#REF!*Z$90","v":{"$error":"#REF!"}},{"$f":"#REF!*AA$90","v":{"$error":"#REF!"}},{"$f":"#REF!*AB$90","v":{"$error":"#REF!"}},{"$f":"#REF!*AC$90","v":{"$error":"#REF!"}},{"$f":"#REF!*AD$90","v":{"$error":"#REF!"}},{"$f":"#REF!*AE$90","v":{"$error":"#REF!"}}]
[null,null,{"$f":"#REF!*C$90","v":{"$error":"#REF!"}},{"$f":"#REF!*D$90","v":{"$error":"#REF!"}},{"$f":"#REF!*E$90","v":{"$error":"#REF!"}},{"$f":"#REF!*F$90","v":{"$error":"#REF!"}},{"$f":"#REF!*G$90","v":{"$error":"#REF!"}},{"$f":"#REF!*H$90","v":{"$error":"#REF!"}},{"$f":"#REF!*I$90","v":{"$error":"#REF!"}},{"$f":"#REF!*J$90","v":{"$error":"#REF!"}},{"$f":"#REF!*K$90","v":{"$error":"#REF!"}},{"$f":"#REF!*L$90","v":{"$error":"#REF!"}},{"$f":"#REF!*M$90","v":{"$error":"#REF!"}},{"$f":"#REF!*N$90","v":{"$error":"#REF!"}},{"$f":"#REF!*O$90","v":{"$error":"#REF!"}},{"$f":"#REF!*P$90","v":{"$error":"#REF!"}},{"$f":"#REF!*Q$90","v":{"$error":"#REF!"}},{"$f":"#REF!*R$90","v":{"$error":"#REF!"}},{"$f":"#REF!*S$90","v":{"$error":"#REF!"}},{"$f":"#REF!*T$90","v":{"$error":"#REF!"}},{"$f":"#REF!*U$90","v":{"$error":"#REF!"}},{"$f":"#REF!*V$90","v":{"$error":"#REF!"}},{"$f":"#REF!*W$90","v":{"$error":"#REF!"}},{"$f":"#REF!*X$90","v":{"$error":"#REF!"}},{"$f":"#REF!*Y$90","v":{"$error":"#REF!"}},{"$f":"#REF!*Z$90","v":{"$error":"#REF!"}},{"$f":"#REF!*AA$90","v":{"$error":"#REF!"}},{"$f":"#REF!*AB$90","v":{"$error":"#REF!"}},{"$f":"#REF!*AC$90","v":{"$error":"#REF!"}},{"$f":"#REF!*AD$90","v":{"$error":"#REF!"}},{"$f":"#REF!*AE$90","v":{"$error":"#REF!"}}]
[null,null,{"$f":"#REF!*C$90","v":{"$error":"#REF!"}},{"$f":"#REF!*D$90","v":{"$error":"#REF!"}},{"$f":"#REF!*E$90","v":{"$error":"#REF!"}},{"$f":"#REF!*F$90","v":{"$error":"#REF!"}},{"$f":"#REF!*G$90","v":{"$error":"#REF!"}},{"$f":"#REF!*H$90","v":{"$error":"#REF!"}},{"$f":"#REF!*I$90","v":{"$error":"#REF!"}},{"$f":"#REF!*J$90","v":{"$error":"#REF!"}},{"$f":"#REF!*K$90","v":{"$error":"#REF!"}},{"$f":"#REF!*L$90","v":{"$error":"#REF!"}},{"$f":"#REF!*M$90","v":{"$error":"#REF!"}},{"$f":"#REF!*N$90","v":{"$error":"#REF!"}},{"$f":"#REF!*O$90","v":{"$error":"#REF!"}},{"$f":"#REF!*P$90","v":{"$error":"#REF!"}},{"$f":"#REF!*Q$90","v":{"$error":"#REF!"}},{"$f":"#REF!*R$90","v":{"$error":"#REF!"}},{"$f":"#REF!*S$90","v":{"$error":"#REF!"}},{"$f":"#REF!*T$90","v":{"$error":"#REF!"}},{"$f":"#REF!*U$90","v":{"$error":"#REF!"}},{"$f":"#REF!*V$90","v":{"$error":"#REF!"}},{"$f":"#REF!*W$90","v":{"$error":"#REF!"}},{"$f":"#REF!*X$90","v":{"$error":"#REF!"}},{"$f":"#REF!*Y$90","v":{"$error":"#REF!"}},{"$f":"#REF!*Z$90","v":{"$error":"#REF!"}},{"$f":"#REF!*AA$90","v":{"$error":"#REF!"}},{"$f":"#REF!*AB$90","v":{"$error":"#REF!"}},{"$f":"#REF!*AC$90","v":{"$error":"#REF!"}},{"$f":"#REF!*AD$90","v":{"$error":"#REF!"}},{"$f":"#REF!*AE$90","v":{"$error":"#REF!"}}]
[null,null,{"$f":"#REF!*C$90","v":{"$error":"#REF!"}},{"$f":"#REF!*D$90","v":{"$error":"#REF!"}},{"$f":"#REF!*E$90","v":{"$error":"#REF!"}},{"$f":"#REF!*F$90","v":{"$error":"#REF!"}},{"$f":"#REF!*G$90","v":{"$error":"#REF!"}},{"$f":"#REF!*H$90","v":{"$error":"#REF!"}},{"$f":"#REF!*I$90","v":{"$error":"#REF!"}},{"$f":"#REF!*J$90","v":{"$error":"#REF!"}},{"$f":"#REF!*K$90","v":{"$error":"#REF!"}},{"$f":"#REF!*L$90","v":{"$error":"#REF!"}},{"$f":"#REF!*M$90","v":{"$error":"#REF!"}},{"$f":"#REF!*N$90","v":{"$error":"#REF!"}},{"$f":"#REF!*O$90","v":{"$error":"#REF!"}},{"$f":"#REF!*P$90","v":{"$error":"#REF!"}},{"$f":"#REF!*Q$90","v":{"$error":"#REF!"}},{"$f":"#REF!*R$90","v":{"$error":"#REF!"}},{"$f":"#REF!*S$90","v":{"$error":"#REF!"}},{"$f":"#REF!*T$90","v":{"$error":"#REF!"}},{"$f":"#REF!*U$90","v":{"$error":"#REF!"}},{"$f":"#REF!*V$90","v":{"$error":"#REF!"}},{"$f":"#REF!*W$90","v":{"$error":"#REF!"}},{"$f":"#REF!*X$90","v":{"$error":"#REF!"}},{"$f":"#REF!*Y$90","v":{"$error":"#REF!"}},{"$f":"#REF!*Z$90","v":{"$error":"#REF!"}},{"$f":"#REF!*AA$90","v":{"$error":"#REF!"}},{"$f":"#REF!*AB$90","v":{"$error":"#REF!"}},{"$f":"#REF!*AC$90","v":{"$error":"#REF!"}},{"$f":"#REF!*AD$90","v":{"$error":"#REF!"}},{"$f":"#REF!*AE$90","v":{"$error":"#REF!"}}]
[null,null,{"$f":"C35*C$90","v":0},0,0,0,0,0,0,0,0,{"$error":"#N/A"},0,0,0,0,0,0,0,0,0,0,0,0,0,0,0,{"$error":"#N/A"},{"$error":"#N/A"},{"$error":"#N/A"},{"$error":"#N/A"}]

{"sheet":"4 Б(2)","index":16,"n_rows":82,"n_cols":8,"rows_kept":82,"cut":false,"hidden":true,"merged":[[0,4,0,7],[42,0,42,1],[52,0,52,1],[67,0,67,1],[0,0,0,3],[1,0,1,2],[2,0,2,1],[3,0,15,0],[17,0,17,1]]}
[{"$f":"Титул!B14","v":"4 Б"},null,null,null,"Страница заполняется автоматически, без участия оператора!!!"]
["Всего учащихся в классе:",null,null,{"$f":"Титул!C14","v":22},"Фамилии, имена               учащихся","Учебные предметы","Фамилии и инициалы учителей","Пояснения, примечания, причины"]
["Учатся на  \"5\":",null,{"$f":"COUNTA(E3:E17)","v":0},1]
[null,null,null,2]
[null,null,null,3]
[null,null,null,4]
[null,null,null,5]
[null,null,null,6]
[null,null,null,7]
[null,null,null,8]
[null,null,null,9]
[null,null,null,10]
[null,null,null,11]
[null,null,null,12]
[null,null,null,13]
[null,null,null,14]
[null,null,null,15]
["Учатся  на \"4\"и\"5\"",null,{"$f":"COUNTA(E18:E42)","v":0},1]
[null," ",null,2]
[null,null,null,3]
[null,null,null,4]
[null,null,null,5]
[null,null,null,6]
[null,null,null,7]
[null,null,null,8]
[null,null,null,9]
[null,null,null,10]
[null,null,null,11]
[null,null,null,12]
[null,null,null,13]
[null,null,null,14]
[null,null,null,15]
[null,null,null,16]
[null,null,null,17]
[null,null,null,18]
[null,null,null,19]
[null,null,null,20]
[null,null,null,21]
[null,null,null,22]
[null,null,null,23]
[null,null,null,24]
[null,null,null,25]
["Не аттестованы:",null,{"$f":"COUNTA(E43:E52)","v":0},1]
[null," ",null,2]
[null,null,null,3]
[null,null,null,4]
[null,null,null,5]
[null,null,null,6]
[null,null,null,7]
[null,null,null,8]
[null,null,null,9]
[null,null,null,10]
["Не успевают:",null,{"$f":"COUNTA(E53:E67)","v":0},1]
[null," ",null,2]
[null,null,null,3]
[null,null,null,4]
[null,null,null,5]
[null,null,null,6]
[null,null,null,7]
[null,null,null,8]
[null,null,null,9]
[null,null,null,10]
[null,null,null,11]
[null,null,null,12]
[null,null,null,13]
[null,null,null,14]
[null,null,null,15]
["Освобождены:",null,{"$f":"COUNTA(E68:E82)","v":0},1]
[null," ",null,2]
[null,null,null,3]
[null,null,null,4]
[null,null,null,5]
[null,null,null,6]
[null,null,null,7]
[null,null,null,8]
[null,null,null,9]
[null,null,null,10]
[null,null,null,11]
[null,null,null,12]
[null,null,null,13]
[null,null,null,14]
[null,null,null,15]

{"sheet":"4 В","index":17,"n_rows":130,"n_cols":35,"rows_kept":130,"cut":false,"hidden":true,"merged":[[0,26,0,32],[3,2,3,30],[0,0,0,2],[0,3,0,25],[2,4,2,17],[3,31,3,34],[2,23,2,34],[2,18,2,22],[1,29,1,31],[1,25,1,28],[1,0,1,24],[2,0,2,3],[47,0,47,26],[46,31,46,34],[45,31,45,34],[44,31,44,34],[43,31,43,34],[47,28,47,33],[35,31,35,34],[38,31,38,34],[37,31,37,34],[36,31,36,34],[3,0,4,1],[35,0,35,1],[36,0,46,0],[42,31,42,34],[41,31,41,34],[40,31,40,34],[39,31,39,34]]}
[{"$f":"Титул!B5","v":"2014/15 учебный год"},null,null,{"$f":"Титул!B4","v":"МОУ СОШ  № 15"},null,null,null,null,null,null,null,null,null,null,null,null,null,null,null,null,null,null,null,null,null,null,{"$f":"Титул!B6","v":"4 четверть"},null,null,null,null,null,null,null,"3+"]
["ВЕДОМОСТЬ  РЕЗУЛЬТАТОВ  УЧЕБНОЙ  ДЕЯТЕЛЬНОСТИ",null,null,null,null,null,null,null,null,null,null,null,null,null,null,null,null,null,null,null,null,null,null,null,null,{"$f":"Титул!B15","v":"4 В"},null,null,null,"класса"]
["Классный руководитель:",null,null,null,{"$f":"Титул!D15","v":"Ржанова О.В."},null,null,null,null,null,null,null,null,null,null,null,null,null,"Программа:",null,null,null,null,{"$f":"Титул!G15","v":"УМК \"Школа 2100\""}]
["Вручную вносятся только оценки \"5\", \"4\", \"3\", \"2\", \"1\". \nНе аттестованным проставляется \"0\", освобожденным - \"Н\".  ",null,"У  ч  е  б  н  ы  е      п  р  е  д  м  е  т  ы",null,null,null,null,null,null,null,null,null,null,null,null,null,null,null,null,null,null,null,null,null,null,null,null,null,null,null,null,"Результаты ученика:"]
[null,null,{"$f":"Нагрузка!C3","v":"Русский язык"},{"$f":"Нагрузка!D3","v":"Литература"},{"$f":"Нагрузка!E3","v":"Иностранный язык"},{"$f":"Нагрузка!F3","v":"Математика"},{"$f":"Нагрузка!G3","v":"Алгебра"},{"$f":"Нагрузка!H3","v":"Геометрия"},{"$f":"Нагрузка!I3","v":"Информатика"},{"$f":"Нагрузка!J3","v":"История"},{"$f":"Нагрузка!K3","v":"Обществознание"},{"$f":"Нагрузка!L3","v":"Окружающий мир"},{"$f":"Нагрузка!M3","v":"ИЗО"},{"$f":"Нагрузка!N3","v":"Музыка"},{"$f":"Нагрузка!O3","v":"Технология"},{"$f":"Нагрузка!P3","v":"Технология"},{"$f":"Нагрузка!Q3","v":"ФЗК"},{"$f":"Нагрузка!R3","v":"Иностранный язык"},{"$f":"Нагрузка!S3","v":"Иностранный язык"},{"$f":"Нагрузка!T3","v":"География"},{"$f":"Нагрузка!U3","v":"Физика"},{"$f":"Нагрузка!V3","v":"Химия"},{"$f":"Нагрузка!W3","v":"Биология"},{"$f":"Нагрузка!X3","v":"МХК"},{"$f":"Нагрузка!Y3","v":"ФЗК"},{"$f":"Нагрузка!Z3","v":"ОБЖ"},{"$f":"Нагрузка!AA3","v":"Природоведение"},{"$f":"Нагрузка!AB3","v":0},{"$f":"Нагрузка!AC3","v":0},{"$f":"Нагрузка!AD3","v":0},{"$f":"Нагрузка!AE3","v":0},"Средний балл:","Степень обученности (СОУ):","Качество успеваемости:","Рейтинговый учебный балл:"]
[1,{"$f":"СпискиКлассы!H4","v":"Адинкова Александра"},4,4,3,4,null,null,null,null,null,4,5,5,5,null,null,null,null,null,null,null,null,null,null,null,null,null,null,null,null,{"$f":"AVERAGE(C6:AE6)","v":4.25},{"$f":"(COUNTIF(C6:AE6,\"5\")+COUNTIF(C6:AE6,\"4\")*0.64+COUNTIF(C6:AE6,\"3\")*0.36+COUNTIF(C6:AE6,\"2\")*0.16)/(COUNTIF(C6:AE6,\"5\")+COUNTIF(C6:AE6,\"4\")+COUNTIF(C6:AE6,\"3\")+COUNTIF(C6:AE6,\"2\")+COUNTIF(C6:AE6,\"0\"))","v":0.7400000000000001},{"$f":"((5*COUNTIF(C6:AE6,\"5\"))+(4*COUNTIF(C6:AE6,\"4\")))/(5*(COUNTA(C6:AE6)-COUNTIF(C6:AE6,\"н\")))","v":0.77500000000000002},{"$f":"SUMIF(C91:AE91,\">0\",C91:AE91)/(COUNTIF(C6:AE6,\">0\")+COUNTIF(C6:AE6,\"=0\")+COUNTIF(C6:AE6,\"Н\"))","v":16.875}]
[{"$f":"A6+1","v":2},{"$f":"СпискиКлассы!H5","v":"Бельфер Дарина"},4,4,4,4,null,null,null,null,null,5,5,5,5,null,null,null,null,null,null,null,null,null,null,null,null,null,null,null,null,{"$f":"AVERAGE(C7:AE7)","v":4.5},{"$f":"(COUNTIF(C7:AE7,\"5\")+COUNTIF(C7:AE7,\"4\")*0.64+COUNTIF(C7:AE7,\"3\")*0.36+COUNTIF(C7:AE7,\"2\")*0.16)/(COUNTIF(C7:AE7,\"5\")+COUNTIF(C7:AE7,\"4\")+COUNTIF(C7:AE7,\"3\")+COUNTIF(C7:AE7,\"2\")+COUNTIF(C7:AE7,\"0\"))","v":0.82000000000000006},{"$f":"((5*COUNTIF(C7:AE7,\"5\"))+(4*COUNTIF(C7:AE7,\"4\")))/(5*(COUNTA(C7:AE7)-COUNTIF(C7:AE7,\"н\")))","v":0.9},17.5]
[3,{"$f":"СпискиКлассы!H6","v":"Берчанская Анна"},3,4,3,3,null,null,null,null,null,3,4,5,4,null,null,null,null,null,null,null,null,null,null,null,null,null,null,null,null,{"$f":"AVERAGE(C8:AE8)","v":3.625},0.54499999999999993,0.42499999999999999,14.375]
[4,{"$f":"СпискиКлассы!H7","v":"Велиев Анар"},4,5,4,5,null,null,null,null,null,5,4,5,4,null,null,null,null,null,null,null,null,null,null,null,null,null,null,null,null,4.5,0.82000000000000006,0.9,18.5]
[5,{"$f":"СпискиКлассы!H8","v":"Жмурко Лев"},4,4,4,4,null,null,null,null,null,4,4,4,4,null,null,null,null,null,null,null,null,null,null,null,null,null,null,null,null,4,0.64,0.8,16.5]
[6,{"$f":"СпискиКлассы!H9","v":"Зотов Александр"},3,3,3,3,null,null,null,null,null,3,4,4,4,null,null,null,null,null,null,null,null,null,null,null,null,null,null,null,null,3.375,0.46499999999999997,0.3,13.375]
[7,{"$f":"СпискиКлассы!H10","v":"Ивченко Михаил"},3,4,3,3,null,null,null,null,null,4,4,5,4,null,null,null,null,null,null,null,null,null,null,null,null,null,null,null,null,3.75,0.58000000000000007,0.52500000000000002,14.375]
[8,{"$f":"СпискиКлассы!H11","v":"Казаков Константин"},4,4,4,4,null,null,null,null,null,4,5,5,5,null,null,null,null,null,null,null,null,null,null,null,null,null,null,null,null,4.375,0.77500000000000002,0.875,17.5]
[9,{"$f":"СпискиКлассы!H12","v":"Ким Эмилия"},4,4,5,4,null,null,null,null,null,5,5,5,5,null,null,null,null,null,null,null,null,null,null,null,null,null,null,null,null,4.625,0.86499999999999999,0.92500000000000004,18.125]
[10,{"$f":"СпискиКлассы!H13","v":"Коновчук Анна"},3,4,3,3,null,null,null,null,null,3,4,5,5,null,null,null,null,null,null,null,null,null,null,null,null,null,null,null,null,3.75,0.59000000000000008,0.45,14.625]
[11,{"$f":"СпискиКлассы!H14","v":"Крюкова Дарья"},4,5,5,4,null,null,null,null,null,5,5,5,5,null,null,null,null,null,null,null,null,null,null,null,null,null,null,null,null,4.75,0.91,0.95,18.75]
[12,{"$f":"СпискиКлассы!H15","v":"Маслова Виктория"},3,3,3,3,null,null,null,null,null,3,4,4,4,null,null,null,null,null,null,null,null,null,null,null,null,null,null,null,null,3.375,0.46499999999999997,0.3,13.375]
[13,{"$f":"СпискиКлассы!H16","v":"Михеев Павел"},5,5,4,5,null,null,null,null,null,5,5,5,5,null,null,null,null,null,null,null,null,null,null,null,null,null,null,null,null,4.875,0.95499999999999996,0.97499999999999998,20]
[14,{"$f":"СпискиКлассы!H17","v":"Мухина Елизавета"},4,4,4,3,null,null,null,null,null,4,5,5,5,null,null,null,null,null,null,null,null,null,null,null,null,null,null,null,null,4.25,0.7400000000000001,0.77500000000000002,16.5]
[15,{"$f":"СпискиКлассы!H18","v":"Пельменев Сергей"},3,4,3,4,null,null,null,null,null,4,4,4,4,null,null,null,null,null,null,null,null,null,null,null,null,null,null,null,null,3.75,0.56999999999999995,0.6,15]
[16,{"$f":"СпискиКлассы!H19","v":"Платонов Дмитрий"},3,3,3,3,null,null,null,null,null,3,4,5,4,null,null,null,null,null,null,null,null,null,null,null,null,null,null,null,null,3.5,0.51,0.32500000000000001,13.75]
[17,{"$f":"СпискиКлассы!H20","v":"Потьканова Екатерина"},3,3,3,4,null,null,null,null,null,3,5,5,5,null,null,null,null,null,null,null,null,null,null,null,null,null,null,null,null,3.875,0.63500000000000001,0.47499999999999998,15.375]
[18,{"$f":"СпискиКлассы!H21","v":"Птухина Евгения"},3,3,3,3,null,null,null,null,null,3,4,5,5,null,null,null,null,null,null,null,null,null,null,null,null,null,null,null,null,3.625,0.55499999999999994,0.35,14]
[19,{"$f":"СпискиКлассы!H22","v":"Семенкова Диана"},3,3,3,3,null,null,null,null,null,3,3,4,4,null,null,null,null,null,null,null,null,null,null,null,null,null,null,null,null,3.25,0.43000000000000005,0.2,13]
[20,{"$f":"СпискиКлассы!H23","v":"Тищенко Диана"},4,4,4,4,null,null,null,null,null,4,5,5,5,null,null,null,null,null,null,null,null,null,null,null,null,null,null,null,null,4.375,0.77500000000000002,0.875,17.5]
[21,{"$f":"СпискиКлассы!H24","v":"Федоров Артем"},3,4,3,3,null,null,null,null,null,4,5,4,5,null,null,null,null,null,null,null,null,null,null,null,null,null,null,null,null,3.875,0.625,0.55000000000000004,14.625]
[22,{"$f":"СпискиКлассы!H25","v":"Широкова Карина"},4,5,5,4,null,null,null,null,null,5,5,5,5,null,null,null,null,null,null,null,null,null,null,null,null,null,null,null,null,4.75,0.91,0.95,18.75]
[23,{"$f":"СпискиКлассы!H26","v":"Игнатенко Всеволод"},4,5,4,4,null,null,null,null,null,5,4,5,5,null,null,null,null,null,null,null,null,null,null,null,null,null,null,null,null,4.5,0.82000000000000006,0.9,17.75]
[24,{"$f":"СпискиКлассы!H27","v":"Мазуренко Ярослав"},4,4,4,4,null,null,null,null,null,4,4,5,4,null,null,null,null,null,null,null,null,null,null,null,null,null,null,null,null,4.125,0.68500000000000005,0.82499999999999996,16.875]
[25,{"$f":"СпискиКлассы!H28","v":0},null,null,null,null,null,null,null,null,null,null,null,null,null,null,null,null,null,null,null,null,null,null,null,null,null,null,null,null,null,{"$error":"#DIV/0!"},{"$error":"#DIV/0!"},{"$error":"#DIV/0!"},{"$error":"#DIV/0!"}]
[26,{"$f":"СпискиКлассы!H29","v":0},null,null,null,null,null,null,null,null,null,null,null,null,null,null,null,null,null,null,null,null,null,null,null,null,null,null,null,null,null,{"$f":"AVERAGE(C31:AE31)","v":{"$error":"#DIV/0!"}},{"$f":"(COUNTIF(C31:AE31,\"5\")+COUNTIF(C31:AE31,\"4\")*0.64+COUNTIF(C31:AE31,\"3\")*0.36+COUNTIF(C31:AE31,\"2\")*0.16)/(COUNTIF(C31:AE31,\"5\")+COUNTIF(C31:AE31,\"4\")+COUNTIF(C31:AE31,\"3\")+COUNTIF(C31:AE31,\"2\")+COUNTIF(C31:AE31,\"0\"))","v":{"$error":"#DIV/0!"}},{"$error":"#DIV/0!"},{"$error":"#DIV/0!"}]
[27,{"$f":"СпискиКлассы!H30","v":0},null,null,null,null,null,null,null,null,null,null,null,null,null,null,null,null,null,null,null,null,null,null,null,null,null,null,null,null,null,{"$error":"#DIV/0!"},{"$error":"#DIV/0!"},{"$error":"#DIV/0!"},{"$error":"#DIV/0!"}]
[28,{"$f":"СпискиКлассы!H31","v":0},null,null,null,null,null,null,null,null,null,null,null,null,null,null,null,null,null,null,null,null,null,null,null,null,null,null,null,null,null,{"$error":"#DIV/0!"},{"$error":"#DIV/0!"},{"$error":"#DIV/0!"},{"$error":"#DIV/0!"}]
[29,{"$f":"СпискиКлассы!H32","v":0},null,null,null,null,null,null,null,null,null,null,null,null,null,null,null,null,null,null,null,null,null,null,null,null,null,null,null,null,null,{"$error":"#DIV/0!"},{"$error":"#DIV/0!"},{"$error":"#DIV/0!"},{"$error":"#DIV/0!"}]
[30,{"$f":"СпискиКлассы!H43","v":0},null,null,null,null,null,null,null,null,null,null,null,null,null,null,null,null,null,null,null,null,null,null,null,null,null,null,null,null,null,{"$error":"#DIV/0!"},{"$error":"#DIV/0!"},{"$error":"#DIV/0!"},{"$f":"SUMIF(C130:AE130,\">0\",C130:AE130)/(COUNTIF(C35:AE35,\">0\")+COUNTIF(C35:AE35,\"=0\")+COUNTIF(C35:AE35,\"Н\"))","v":{"$error":"#DIV/0!"}}]
[" Фамилия и инициалы                                           учителя - предметника",null,{"$f":"Нагрузка!C12","v":"Адова"},{"$f":"Нагрузка!D11","v":"Ржанова"},{"$f":"Нагрузка!E11","v":0},{"$f":"Нагрузка!F11","v":"Ржанова"},{"$f":"Нагрузка!G11","v":0},{"$f":"Нагрузка!H11","v":0},{"$f":"Нагрузка!I11","v":0},{"$f":"Нагрузка!J11","v":0},{"$f":"Нагрузка!K11","v":0},{"$f":"Нагрузка!L11","v":"Ржанова"},{"$f":"Нагрузка!M11","v":"Ржанова"},{"$f":"Нагрузка!N11","v":"Заворина"},{"$f":"Нагрузка!O11","v":"Ржанова"},{"$f":"Нагрузка!P11","v":"Ржанова"},{"$f":"Нагрузка!Q11","v":"Ермакова"},{"$f":"Нагрузка!R11","v":"Калугина"},{"$f":"Нагрузка!S11","v":"Гулевич"},{"$f":"Нагрузка!T11","v":0},{"$f":"Нагрузка!U11","v":0},{"$f":"Нагрузка!V11","v":0},{"$f":"Нагрузка!W11","v":0},{"$f":"Нагрузка!X11","v":0},{"$f":"Нагрузка!Y11","v":0},{"$f":"Нагрузка!Z11","v":0},{"$f":"Нагрузка!AA11","v":0},{"$f":"Нагрузка!AB11","v":0},{"$f":"Нагрузка!AC11","v":0},{"$f":"Нагрузка!AD11","v":0},{"$f":"Нагрузка!AE11","v":0},"Показатели результатов учебной деятельности в  целом по классу:"]
["Результаты учебной деятельности класса","Количество  \"5\":",{"$f":"COUNTIF(C6:C35,5)","v":1},5,3,2,0,0,0,0,0,7,11,18,14,0,0,0,0,0,0,0,0,0,0,0,0,0,0,0,0,{"$f":"SUM(C37:AE37)","v":61}]
[null,"Количество  \"4\":",{"$f":"COUNTIF(C6:C35,4)","v":12},13,9,12,0,0,0,0,0,9,12,6,10,0,0,0,0,0,0,0,0,0,0,0,0,0,0,0,0,83]
[null,"Количество  \"3\":",{"$f":"COUNTIF(C6:C35,3)","v":11},6,12,10,0,0,0,0,0,8,1,0,0,0,0,0,0,0,0,0,0,0,0,0,0,0,0,0,0,48]
[null,"Количество  \"2\":",{"$f":"COUNTIF(C6:C35,2)","v":0},0,0,0,0,0,0,0,0,0,0,0,0,0,0,0,0,0,0,0,0,0,0,0,0,0,0,0,0,0]
[null,"Не аттестовано:",{"$f":"COUNTIF(C6:C35,0)","v":0},0,0,0,0,0,0,0,0,0,0,0,0,0,0,0,0,0,0,0,0,0,0,0,0,0,0,0,0,0]
[null,"Освобождено:",{"$f":"COUNTIF(C6:C35,\"н\")","v":0},0,0,0,0,0,0,0,0,0,0,0,0,0,0,0,0,0,0,0,0,0,0,0,0,0,0,0,0,0]
[null,"Успеваемость:",{"$f":"(C37+C38+C39)/(C37+C38+C39+C40+C41)","v":1},{"$f":"(D37+D38+D39)/(D37+D38+D39+D40+D41)","v":1},1,1,{"$error":"#DIV/0!"},{"$error":"#DIV/0!"},{"$error":"#DIV/0!"},{"$error":"#DIV/0!"},{"$error":"#DIV/0!"},1,1,1,1,{"$error":"#DIV/0!"},{"$error":"#DIV/0!"},{"$error":"#DIV/0!"},{"$error":"#DIV/0!"},{"$error":"#DIV/0!"},{"$error":"#DIV/0!"},{"$error":"#DIV/0!"},{"$error":"#DIV/0!"},{"$error":"#DIV/0!"},{"$error":"#DIV/0!"},{"$error":"#DIV/0!"},{"$error":"#DIV/0!"},{"$error":"#DIV/0!"},{"$error":"#DIV/0!"},{"$error":"#DIV/0!"},{"$error":"#DIV/0!"},{"$f":"('4 В(2)'!D2-'4 В(2)'!C43-'4 В(2)'!C53)/'4 В(2)'!D2","v":1}]
[null,"Качество знаний:",{"$f":"(C37+C38)/(C37+C38+C39+C40+C41)","v":0.54166666666666663},{"$f":"(D37+D38)/(D37+D38+D39+D40+D41)","v":0.75},0.5,0.58333333333333337,{"$error":"#DIV/0!"},{"$error":"#DIV/0!"},{"$error":"#DIV/0!"},{"$error":"#DIV/0!"},{"$error":"#DIV/0!"},0.66666666666666663,0.95833333333333337,1,1,{"$error":"#DIV/0!"},{"$error":"#DIV/0!"},{"$error":"#DIV/0!"},{"$error":"#DIV/0!"},{"$error":"#DIV/0!"},{"$error":"#DIV/0!"},{"$error":"#DIV/0!"},{"$error":"#DIV/0!"},{"$error":"#DIV/0!"},{"$error":"#DIV/0!"},{"$error":"#DIV/0!"},{"$error":"#DIV/0!"},{"$error":"#DIV/0!"},{"$error":"#DIV/0!"},{"$error":"#DIV/0!"},{"$error":"#DIV/0!"},{"$f":"('4 В(2)'!C3+'4 В(2)'!C18)/'4 В(2)'!D2","v":0.45833333333333331}]
[null,"Степень обученности:",{"$f":"(C37+C38*0.64+C39*0.36+C40*0.16)/(C37+C38+C39+C40+C41)","v":0.52666666666666673},{"$f":"(D37+D38*0.64+D39*0.36+D40*0.16)/(D37+D38+D39+D40+D41)","v":0.64500000000000002},0.54500000000000004,0.55333333333333334,{"$error":"#DIV/0!"},{"$error":"#DIV/0!"},{"$error":"#DIV/0!"},{"$error":"#DIV/0!"},{"$error":"#DIV/0!"},0.65166666666666673,0.79333333333333333,0.91,0.85,{"$error":"#DIV/0!"},{"$error":"#DIV/0!"},{"$error":"#DIV/0!"},{"$error":"#DIV/0!"},{"$error":"#DIV/0!"},{"$error":"#DIV/0!"},{"$error":"#DIV/0!"},{"$error":"#DIV/0!"},{"$error":"#DIV/0!"},{"$error":"#DIV/0!"},{"$error":"#DIV/0!"},{"$error":"#DIV/0!"},{"$error":"#DIV/0!"},{"$error":"#DIV/0!"},{"$error":"#DIV/0!"},{"$error":"#DIV/0!"},{"$f":"(AF37+AF38*0.64+AF39*0.36+AF40*0.16)/(AF37+AF38+AF39+AF40+AF41)","v":0.68437500000000007}]
[null,"Средний балл:              ",{"$f":"(C37*5+C38*4+C39*3+C40*2)/(C37+C38+C39+C40+C41)","v":3.5833333333333335},{"$f":"(D37*5+D38*4+D39*3+D40*2)/(D37+D38+D39+D40+D41)","v":3.9583333333333335},3.625,3.6666666666666665,{"$error":"#DIV/0!"},{"$error":"#DIV/0!"},{"$error":"#DIV/0!"},{"$error":"#DIV/0!"},{"$error":"#DIV/0!"},3.9583333333333335,4.416666666666667,4.75,4.583333333333333,{"$error":"#DIV/0!"},{"$error":"#DIV/0!"},{"$error":"#DIV/0!"},{"$error":"#DIV/0!"},{"$error":"#DIV/0!"},{"$error":"#DIV/0!"},{"$error":"#DIV/0!"},{"$error":"#DIV/0!"},{"$error":"#DIV/0!"},{"$error":"#DIV/0!"},{"$error":"#DIV/0!"},{"$error":"#DIV/0!"},{"$error":"#DIV/0!"},{"$error":"#DIV/0!"},{"$error":"#DIV/0!"},{"$error":"#DIV/0!"},{"$f":"(AF37*5+AF38*4+AF39*3+AF40*2)/(AF37+AF38+AF39+AF40+AF41)","v":4.067708333333333}]
[null,"Качество успеваемости:",{"$f":"(5*C37+4*C38)*0.2/(SUM(C37+C38+C39+C40+C41))","v":0.44166666666666671},{"$f":"(5*COUNTIF(D6:D35,5)+4*COUNTIF(D6:D35,4))*0.2/(COUNTA(D6:D35)-COUNTIF(D6:D35,\"н\"))","v":0.64166666666666672},0.42500000000000004,0.48333333333333339,{"$error":"#DIV/0!"},{"$error":"#DIV/0!"},{"$error":"#DIV/0!"},{"$error":"#DIV/0!"},{"$error":"#DIV/0!"},0.59166666666666667,0.85833333333333339,0.95000000000000007,0.91666666666666663,{"$error":"#DIV/0!"},{"$error":"#DIV/0!"},{"$error":"#DIV/0!"},{"$error":"#DIV/0!"},{"$error":"#DIV/0!"},{"$error":"#DIV/0!"},{"$error":"#DIV/0!"},{"$error":"#DIV/0!"},{"$error":"#DIV/0!"},{"$error":"#DIV/0!"},{"$error":"#DIV/0!"},{"$error":"#DIV/0!"},{"$error":"#DIV/0!"},{"$error":"#DIV/0!"},{"$error":"#DIV/0!"},{"$error":"#DIV/0!"},{"$f":"(5*COUNTIF(C6:AE35,5)+4*COUNTIF(C6:AE35,4))*0.2/(COUNTA(C6:AE35)-COUNTIF(C6:AE35,\"н\"))","v":0.6635416666666667}]
["Выполнено с помощью программы статистического анализа результатов учебной деятельности",null,null,null,null,null,null,null,null,null,null,null,null,null,null,null,null,null,null,null,null,null,null,null,null,null,null,null,{"$f":"Титул!G31","v":"PSORUD-Klass.v.04.11.demo"},null,null,null,null,null,"3+"]
[]
[]
[]
[]
[]
[]
[]
[]
[]
[]
[]
[]
[]
[]
[]
[]
[]
[]
[]
[]
[]
[]
[]
[]
[]
[]
[]
[]
[]
[]
[]
[]
[]
[]
[]
[]
[]
[]
[]
[]
[]
[null,"Коэф.трудн.предмета",{"$f":"VLOOKUP(C$5,ШкалаТрудн!$C$5:$N$34,LEFT($Z$2,2)+1,0)","v":7},{"$f":"VLOOKUP(D$5,ШкалаТрудн!$C$5:$N$34,LEFT($Z$2,2)+1,0)","v":5},{"$f":"VLOOKUP(E$5,ШкалаТрудн!$C$5:$N$34,LEFT($Z$2,2)+1,0)","v":5},{"$f":"VLOOKUP(F$5,ШкалаТрудн!$C$5:$N$34,LEFT($Z$2,2)+1,0)","v":8},{"$f":"VLOOKUP(G$5,ШкалаТрудн!$C$5:$N$34,LEFT($Z$2,2)+1,0)","v":0},{"$f":"VLOOKUP(H$5,ШкалаТрудн!$C$5:$N$34,LEFT($Z$2,2)+1,0)","v":0},{"$f":"VLOOKUP(I$5,ШкалаТрудн!$C$5:$N$34,LEFT($Z$2,2)+1,0)","v":6},{"$f":"VLOOKUP(J$5,ШкалаТрудн!$C$5:$N$34,LEFT($Z$2,2)+1,0)","v":4},{"$f":"VLOOKUP(K$5,ШкалаТрудн!$C$5:$N$34,LEFT($Z$2,2)+1,0)","v":0},{"$f":"VLOOKUP(L$5,ШкалаТрудн!$C$5:$N$34,LEFT($Z$2,2)+1,0)","v":{"$error":"#N/A"}},{"$f":"VLOOKUP(M$5,ШкалаТрудн!$C$5:$N$34,LEFT($Z$2,2)+1,0)","v":3},{"$f":"VLOOKUP(N$5,ШкалаТрудн!$C$5:$N$34,LEFT($Z$2,2)+1,0)","v":3},{"$f":"VLOOKUP(O$5,ШкалаТрудн!$C$5:$N$34,LEFT($Z$2,2)+1,0)","v":2},{"$f":"VLOOKUP(P$5,ШкалаТрудн!$C$5:$N$34,LEFT($Z$2,2)+1,0)","v":2},{"$f":"VLOOKUP(Q$5,ШкалаТрудн!$C$5:$N$34,LEFT($Z$2,2)+1,0)","v":1},{"$f":"VLOOKUP(R$5,ШкалаТрудн!$C$5:$N$34,LEFT($Z$2,2)+1,0)","v":5},{"$f":"VLOOKUP(S$5,ШкалаТрудн!$C$5:$N$34,LEFT($Z$2,2)+1,0)","v":5},{"$f":"VLOOKUP(T$5,ШкалаТрудн!$C$5:$N$34,LEFT($Z$2,2)+1,0)","v":0},{"$f":"VLOOKUP(U$5,ШкалаТрудн!$C$5:$N$34,LEFT($Z$2,2)+1,0)","v":0},{"$f":"VLOOKUP(V$5,ШкалаТрудн!$C$5:$N$34,LEFT($Z$2,2)+1,0)","v":0},{"$f":"VLOOKUP(W$5,ШкалаТрудн!$C$5:$N$34,LEFT($Z$2,2)+1,0)","v":0},{"$f":"VLOOKUP(X$5,ШкалаТрудн!$C$5:$N$34,LEFT($Z$2,2)+1,0)","v":0},{"$f":"VLOOKUP(Y$5,ШкалаТрудн!$C$5:$N$34,LEFT($Z$2,2)+1,0)","v":1},{"$f":"VLOOKUP(Z$5,ШкалаТрудн!$C$5:$N$34,LEFT($Z$2,2)+1,0)","v":0},{"$f":"VLOOKUP(AA$5,ШкалаТрудн!$C$5:$N$34,LEFT($Z$2,2)+1,0)","v":0},{"$f":"VLOOKUP(AB$5,ШкалаТрудн!$C$5:$N$34,LEFT($Z$2,2)+1,0)","v":{"$error":"#N/A"}},{"$f":"VLOOKUP(AC$5,ШкалаТрудн!$C$5:$N$34,LEFT($Z$2,2)+1,0)","v":{"$error":"#N/A"}},{"$f":"VLOOKUP(AD$5,ШкалаТрудн!$C$5:$N$34,LEFT($Z$2,2)+1,0)","v":{"$error":"#N/A"}},{"$f":"VLOOKUP(AE$5,ШкалаТрудн!$C$5:$N$34,LEFT($Z$2,2)+1,0)","v":{"$error":"#N/A"}}]
[null,null,{"$f":"C6*C$90","v":28},20,15,32,0,0,0,0,0,{"$error":"#N/A"},15,15,10,0,0,0,0,0,0,0,0,0,0,0,0,{"$error":"#N/A"},{"$error":"#N/A"},{"$error":"#N/A"},{"$error":"#N/A"}]
[null,null,{"$f":"C7*C$90","v":28},20,20,32,0,0,0,0,0,{"$error":"#N/A"},15,15,10,0,0,0,0,0,0,0,0,0,0,0,0,{"$error":"#N/A"},{"$error":"#N/A"},{"$error":"#N/A"},{"$error":"#N/A"}]
[null,null,{"$f":"C8*C$90","v":21},20,15,24,0,0,0,0,0,{"$error":"#N/A"},12,15,8,0,0,0,0,0,0,0,0,0,0,0,0,{"$error":"#N/A"},{"$error":"#N/A"},{"$error":"#N/A"},{"$error":"#N/A"}]
[null,null,{"$f":"C9*C$90","v":28},25,20,40,0,0,0,0,0,{"$error":"#N/A"},12,15,8,0,0,0,0,0,0,0,0,0,0,0,0,{"$error":"#N/A"},{"$error":"#N/A"},{"$error":"#N/A"},{"$error":"#N/A"}]
[null,null,{"$f":"C10*C$90","v":28},20,20,32,0,0,0,0,0,{"$error":"#N/A"},12,12,8,0,0,0,0,0,0,0,0,0,0,0,0,{"$error":"#N/A"},{"$error":"#N/A"},{"$error":"#N/A"},{"$error":"#N/A"}]
[null,null,{"$f":"C11*C$90","v":21},15,15,24,0,0,0,0,0,{"$error":"#N/A"},12,12,8,0,0,0,0,0,0,0,0,0,0,0,0,{"$error":"#N/A"},{"$error":"#N/A"},{"$error":"#N/A"},{"$error":"#N/A"}]
[null,null,{"$f":"C12*C$90","v":21},20,15,24,0,0,0,0,0,{"$error":"#N/A"},12,15,8,0,0,0,0,0,0,0,0,0,0,0,0,{"$error":"#N/A"},{"$error":"#N/A"},{"$error":"#N/A"},{"$error":"#N/A"}]
[null,null,{"$f":"C13*C$90","v":28},20,20,32,0,0,0,0,0,{"$error":"#N/A"},15,15,10,0,0,0,0,0,0,0,0,0,0,0,0,{"$error":"#N/A"},{"$error":"#N/A"},{"$error":"#N/A"},{"$error":"#N/A"}]
[null,null,{"$f":"C14*C$90","v":28},20,25,32,0,0,0,0,0,{"$error":"#N/A"},15,15,10,0,0,0,0,0,0,0,0,0,0,0,0,{"$error":"#N/A"},{"$error":"#N/A"},{"$error":"#N/A"},{"$error":"#N/A"}]
[null,null,{"$f":"C15*C$90","v":21},20,15,24,0,0,0,0,0,{"$error":"#N/A"},12,15,10,0,0,0,0,0,0,0,0,0,0,0,0,{"$error":"#N/A"},{"$error":"#N/A"},{"$error":"#N/A"},{"$error":"#N/A"}]
[null,null,{"$f":"C16*C$90","v":28},25,25,32,0,0,0,0,0,{"$error":"#N/A"},15,15,10,0,0,0,0,0,0,0,0,0,0,0,0,{"$error":"#N/A"},{"$error":"#N/A"},{"$error":"#N/A"},{"$error":"#N/A"}]
[null,null,{"$f":"C17*C$90","v":21},15,15,24,0,0,0,0,0,{"$error":"#N/A"},12,12,8,0,0,0,0,0,0,0,0,0,0,0,0,{"$error":"#N/A"},{"$error":"#N/A"},{"$error":"#N/A"},{"$error":"#N/A"}]
[null,null,{"$f":"C18*C$90","v":35},25,20,40,0,0,0,0,0,{"$error":"#N/A"},15,15,10,0,0,0,0,0,0,0,0,0,0,0,0,{"$error":"#N/A"},{"$error":"#N/A"},{"$error":"#N/A"},{"$error":"#N/A"}]
[null,null,{"$f":"C19*C$90","v":28},20,20,24,0,0,0,0,0,{"$error":"#N/A"},15,15,10,0,0,0,0,0,0,0,0,0,0,0,0,{"$error":"#N/A"},{"$error":"#N/A"},{"$error":"#N/A"},{"$error":"#N/A"}]
[null,null,{"$f":"C20*C$90","v":21},20,15,32,0,0,0,0,0,{"$error":"#N/A"},12,12,8,0,0,0,0,0,0,0,0,0,0,0,0,{"$error":"#N/A"},{"$error":"#N/A"},{"$error":"#N/A"},{"$error":"#N/A"}]
[null,null,{"$f":"C21*C$90","v":21},15,15,24,0,0,0,0,0,{"$error":"#N/A"},12,15,8,0,0,0,0,0,0,0,0,0,0,0,0,{"$error":"#N/A"},{"$error":"#N/A"},{"$error":"#N/A"},{"$error":"#N/A"}]
[null,null,{"$f":"C22*C$90","v":21},15,15,32,0,0,0,0,0,{"$error":"#N/A"},15,15,10,0,0,0,0,0,0,0,0,0,0,0,0,{"$error":"#N/A"},{"$error":"#N/A"},{"$error":"#N/A"},{"$error":"#N/A"}]
[null,null,{"$f":"C23*C$90","v":21},15,15,24,0,0,0,0,0,{"$error":"#N/A"},12,15,10,0,0,0,0,0,0,0,0,0,0,0,0,{"$error":"#N/A"},{"$error":"#N/A"},{"$error":"#N/A"},{"$error":"#N/A"}]
[null,null,{"$f":"C24*C$90","v":21},15,15,24,0,0,0,0,0,{"$error":"#N/A"},9,12,8,0,0,0,0,0,0,0,0,0,0,0,0,{"$error":"#N/A"},{"$error":"#N/A"},{"$error":"#N/A"},{"$error":"#N/A"}]
[null,null,{"$f":"C25*C$90","v":28},20,20,32,0,0,0,0,0,{"$error":"#N/A"},15,15,10,0,0,0,0,0,0,0,0,0,0,0,0,{"$error":"#N/A"},{"$error":"#N/A"},{"$error":"#N/A"},{"$error":"#N/A"}]
[null,null,{"$f":"C26*C$90","v":21},20,15,24,0,0,0,0,0,{"$error":"#N/A"},15,12,10,0,0,0,0,0,0,0,0,0,0,0,0,{"$error":"#N/A"},{"$error":"#N/A"},{"$error":"#N/A"},{"$error":"#N/A"}]
[null,null,{"$f":"C27*C$90","v":28},25,25,32,0,0,0,0,0,{"$error":"#N/A"},15,15,10,0,0,0,0,0,0,0,0,0,0,0,0,{"$error":"#N/A"},{"$error":"#N/A"},{"$error":"#N/A"},{"$error":"#N/A"}]
[null,null,{"$f":"C28*C$90","v":28},25,20,32,0,0,0,0,0,{"$error":"#N/A"},12,15,10,0,0,0,0,0,0,0,0,0,0,0,0,{"$error":"#N/A"},{"$error":"#N/A"},{"$error":"#N/A"},{"$error":"#N/A"}]
[null,null,{"$f":"C29*C$90","v":28},20,20,32,0,0,0,0,0,{"$error":"#N/A"},12,15,8,0,0,0,0,0,0,0,0,0,0,0,0,{"$error":"#N/A"},{"$error":"#N/A"},{"$error":"#N/A"},{"$error":"#N/A"}]
[null,null,{"$f":"C30*C$90","v":0},0,0,0,0,0,0,0,0,{"$error":"#N/A"},0,0,0,0,0,0,0,0,0,0,0,0,0,0,0,{"$error":"#N/A"},{"$error":"#N/A"},{"$error":"#N/A"},{"$error":"#N/A"}]
[null,null,{"$f":"C31*C$90","v":0},0,0,0,0,0,0,0,0,{"$error":"#N/A"},0,0,0,0,0,0,0,0,0,0,0,0,0,0,0,{"$error":"#N/A"},{"$error":"#N/A"},{"$error":"#N/A"},{"$error":"#N/A"}]
[null,null,{"$f":"C32*C$90","v":0},0,0,0,0,0,0,0,0,{"$error":"#N/A"},0,0,0,0,0,0,0,0,0,0,0,0,0,0,0,{"$error":"#N/A"},{"$error":"#N/A"},{"$error":"#N/A"},{"$error":"#N/A"}]
[null,null,{"$f":"C33*C$90","v":0},0,0,0,0,0,0,0,0,{"$error":"#N/A"},0,0,0,0,0,0,0,0,0,0,0,0,0,0,0,{"$error":"#N/A"},{"$error":"#N/A"},{"$error":"#N/A"},{"$error":"#N/A"}]
[null,null,{"$f":"C34*C$90","v":0},0,0,0,0,0,0,0,0,{"$error":"#N/A"},0,0,0,0,0,0,0,0,0,0,0,0,0,0,0,{"$error":"#N/A"},{"$error":"#N/A"},{"$error":"#N/A"},{"$error":"#N/A"}]
[null,null,{"$f":"#REF!*C$90","v":{"$error":"#REF!"}},{"$f":"#REF!*D$90","v":{"$error":"#REF!"}},{"$f":"#REF!*E$90","v":{"$error":"#REF!"}},{"$f":"#REF!*F$90","v":{"$error":"#REF!"}},{"$f":"#REF!*G$90","v":{"$error":"#REF!"}},{"$f":"#REF!*H$90","v":{"$error":"#REF!"}},{"$f":"#REF!*I$90","v":{"$error":"#REF!"}},{"$f":"#REF!*J$90","v":{"$error":"#REF!"}},{"$f":"#REF!*K$90","v":{"$error":"#REF!"}},{"$f":"#REF!*L$90","v":{"$error":"#REF!"}},{"$f":"#REF!*M$90","v":{"$error":"#REF!"}},{"$f":"#REF!*N$90","v":{"$error":"#REF!"}},{"$f":"#REF!*O$90","v":{"$error":"#REF!"}},{"$f":"#REF!*P$90","v":{"$error":"#REF!"}},{"$f":"#REF!*Q$90","v":{"$error":"#REF!"}},{"$f":"#REF!*R$90","v":{"$error":"#REF!"}},{"$f":"#REF!*S$90","v":{"$error":"#REF!"}},{"$f":"#REF!*T$90","v":{"$error":"#REF!"}},{"$f":"#REF!*U$90","v":{"$error":"#REF!"}},{"$f":"#REF!*V$90","v":{"$error":"#REF!"}},{"$f":"#REF!*W$90","v":{"$error":"#REF!"}},{"$f":"#REF!*X$90","v":{"$error":"#REF!"}},{"$f":"#REF!*Y$90","v":{"$error":"#REF!"}},{"$f":"#REF!*Z$90","v":{"$error":"#REF!"}},{"$f":"#REF!*AA$90","v":{"$error":"#REF!"}},{"$f":"#REF!*AB$90","v":{"$error":"#REF!"}},{"$f":"#REF!*AC$90","v":{"$error":"#REF!"}},{"$f":"#REF!*AD$90","v":{"$error":"#REF!"}},{"$f":"#REF!*AE$90","v":{"$error":"#REF!"}}]
[null,null,{"$f":"#REF!*C$90","v":{"$error":"#REF!"}},{"$f":"#REF!*D$90","v":{"$error":"#REF!"}},{"$f":"#REF!*E$90","v":{"$error":"#REF!"}},{"$f":"#REF!*F$90","v":{"$error":"#REF!"}},{"$f":"#REF!*G$90","v":{"$error":"#REF!"}},{"$f":"#REF!*H$90","v":{"$error":"#REF!"}},{"$f":"#REF!*I$90","v":{"$error":"#REF!"}},{"$f":"#REF!*J$90","v":{"$error":"#REF!"}},{"$f":"#REF!*K$90","v":{"$error":"#REF!"}},{"$f":"#REF!*L$90","v":{"$error":"#REF!"}},{"$f":"#REF!*M$90","v":{"$error":"#REF!"}},{"$f":"#REF!*N$90","v":{"$error":"#REF!"}},{"$f":"#REF!*O$90","v":{"$error":"#REF!"}},{"$f":"#REF!*P$90","v":{"$error":"#REF!"}},{"$f":"#REF!*Q$90","v":{"$error":"#REF!"}},{"$f":"#REF!*R$90","v":{"$error":"#REF!"}},{"$f":"#REF!*S$90","v":{"$error":"#REF!"}},{"$f":"#REF!*T$90","v":{"$error":"#REF!"}},{"$f":"#REF!*U$90","v":{"$error":"#REF!"}},{"$f":"#REF!*V$90","v":{"$error":"#REF!"}},{"$f":"#REF!*W$90","v":{"$error":"#REF!"}},{"$f":"#REF!*X$90","v":{"$error":"#REF!"}},{"$f":"#REF!*Y$90","v":{"$error":"#REF!"}},{"$f":"#REF!*Z$90","v":{"$error":"#REF!"}},{"$f":"#REF!*AA$90","v":{"$error":"#REF!"}},{"$f":"#REF!*AB$90","v":{"$error":"#REF!"}},{"$f":"#REF!*AC$90","v":{"$error":"#REF!"}},{"$f":"#REF!*AD$90","v":{"$error":"#REF!"}},{"$f":"#REF!*AE$90","v":{"$error":"#REF!"}}]
[null,null,{"$f":"#REF!*C$90","v":{"$error":"#REF!"}},{"$f":"#REF!*D$90","v":{"$error":"#REF!"}},{"$f":"#REF!*E$90","v":{"$error":"#REF!"}},{"$f":"#REF!*F$90","v":{"$error":"#REF!"}},{"$f":"#REF!*G$90","v":{"$error":"#REF!"}},{"$f":"#REF!*H$90","v":{"$error":"#REF!"}},{"$f":"#REF!*I$90","v":{"$error":"#REF!"}},{"$f":"#REF!*J$90","v":{"$error":"#REF!"}},{"$f":"#REF!*K$90","v":{"$error":"#REF!"}},{"$f":"#REF!*L$90","v":{"$error":"#REF!"}},{"$f":"#REF!*M$90","v":{"$error":"#REF!"}},{"$f":"#REF!*N$90","v":{"$error":"#REF!"}},{"$f":"#REF!*O$90","v":{"$error":"#REF!"}},{"$f":"#REF!*P$90","v":{"$error":"#REF!"}},{"$f":"#REF!*Q$90","v":{"$error":"#REF!"}},{"$f":"#REF!*R$90","v":{"$error":"#REF!"}},{"$f":"#REF!*S$90","v":{"$error":"#REF!"}},{"$f":"#REF!*T$90","v":{"$error":"#REF!"}},{"$f":"#REF!*U$90","v":{"$error":"#REF!"}},{"$f":"#REF!*V$90","v":{"$error":"#REF!"}},{"$f":"#REF!*W$90","v":{"$error":"#REF!"}},{"$f":"#REF!*X$90","v":{"$error":"#REF!"}},{"$f":"#REF!*Y$90","v":{"$error":"#REF!"}},{"$f":"#REF!*Z$90","v":{"$error":"#REF!"}},{"$f":"#REF!*AA$90","v":{"$error":"#REF!"}},{"$f":"#REF!*AB$90","v":{"$error":"#REF!"}},{"$f":"#REF!*AC$90","v":{"$error":"#REF!"}},{"$f":"#REF!*AD$90","v":{"$error":"#REF!"}},{"$f":"#REF!*AE$90","v":{"$error":"#REF!"}}]
[null,null,{"$f":"#REF!*C$90","v":{"$error":"#REF!"}},{"$f":"#REF!*D$90","v":{"$error":"#REF!"}},{"$f":"#REF!*E$90","v":{"$error":"#REF!"}},{"$f":"#REF!*F$90","v":{"$error":"#REF!"}},{"$f":"#REF!*G$90","v":{"$error":"#REF!"}},{"$f":"#REF!*H$90","v":{"$error":"#REF!"}},{"$f":"#REF!*I$90","v":{"$error":"#REF!"}},{"$f":"#REF!*J$90","v":{"$error":"#REF!"}},{"$f":"#REF!*K$90","v":{"$error":"#REF!"}},{"$f":"#REF!*L$90","v":{"$error":"#REF!"}},{"$f":"#REF!*M$90","v":{"$error":"#REF!"}},{"$f":"#REF!*N$90","v":{"$error":"#REF!"}},{"$f":"#REF!*O$90","v":{"$error":"#REF!"}},{"$f":"#REF!*P$90","v":{"$error":"#REF!"}},{"$f":"#REF!*Q$90","v":{"$error":"#REF!"}},{"$f":"#REF!*R$90","v":{"$error":"#REF!"}},{"$f":"#REF!*S$90","v":{"$error":"#REF!"}},{"$f":"#REF!*T$90","v":{"$error":"#REF!"}},{"$f":"#REF!*U$90","v":{"$error":"#REF!"}},{"$f":"#REF!*V$90","v":{"$error":"#REF!"}},{"$f":"#REF!*W$90","v":{"$error":"#REF!"}},{"$f":"#REF!*X$90","v":{"$error":"#REF!"}},{"$f":"#REF!*Y$90","v":{"$error":"#REF!"}},{"$f":"#REF!*Z$90","v":{"$error":"#REF!"}},{"$f":"#REF!*AA$90","v":{"$error":"#REF!"}},{"$f":"#REF!*AB$90","v":{"$error":"#REF!"}},{"$f":"#REF!*AC$90","v":{"$error":"#REF!"}},{"$f":"#REF!*AD$90","v":{"$error":"#REF!"}},{"$f":"#REF!*AE$90","v":{"$error":"#REF!"}}]
[null,null,{"$f":"#REF!*C$90","v":{"$error":"#REF!"}},{"$f":"#REF!*D$90","v":{"$error":"#REF!"}},{"$f":"#REF!*E$90","v":{"$error":"#REF!"}},{"$f":"#REF!*F$90","v":{"$error":"#REF!"}},{"$f":"#REF!*G$90","v":{"$error":"#REF!"}},{"$f":"#REF!*H$90","v":{"$error":"#REF!"}},{"$f":"#REF!*I$90","v":{"$error":"#REF!"}},{"$f":"#REF!*J$90","v":{"$error":"#REF!"}},{"$f":"#REF!*K$90","v":{"$error":"#REF!"}},{"$f":"#REF!*L$90","v":{"$error":"#REF!"}},{"$f":"#REF!*M$90","v":{"$error":"#REF!"}},{"$f":"#REF!*N$90","v":{"$error":"#REF!"}},{"$f":"#REF!*O$90","v":{"$error":"#REF!"}},{"$f":"#REF!*P$90","v":{"$error":"#REF!"}},{"$f":"#REF!*Q$90","v":{"$error":"#REF!"}},{"$f":"#REF!*R$90","v":{"$error":"#REF!"}},{"$f":"#REF!*S$90","v":{"$error":"#REF!"}},{"$f":"#REF!*T$90","v":{"$error":"#REF!"}},{"$f":"#REF!*U$90","v":{"$error":"#REF!"}},{"$f":"#REF!*V$90","v":{"$error":"#REF!"}},{"$f":"#REF!*W$90","v":{"$error":"#REF!"}},{"$f":"#REF!*X$90","v":{"$error":"#REF!"}},{"$f":"#REF!*Y$90","v":{"$error":"#REF!"}},{"$f":"#REF!*Z$90","v":{"$error":"#REF!"}},{"$f":"#REF!*AA$90","v":{"$error":"#REF!"}},{"$f":"#REF!*AB$90","v":{"$error":"#REF!"}},{"$f":"#REF!*AC$90","v":{"$error":"#REF!"}},{"$f":"#REF!*AD$90","v":{"$error":"#REF!"}},{"$f":"#REF!*AE$90","v":{"$error":"#REF!"}}]
[null,null,{"$f":"#REF!*C$90","v":{"$error":"#REF!"}},{"$f":"#REF!*D$90","v":{"$error":"#REF!"}},{"$f":"#REF!*E$90","v":{"$error":"#REF!"}},{"$f":"#REF!*F$90","v":{"$error":"#REF!"}},{"$f":"#REF!*G$90","v":{"$error":"#REF!"}},{"$f":"#REF!*H$90","v":{"$error":"#REF!"}},{"$f":"#REF!*I$90","v":{"$error":"#REF!"}},{"$f":"#REF!*J$90","v":{"$error":"#REF!"}},{"$f":"#REF!*K$90","v":{"$error":"#REF!"}},{"$f":"#REF!*L$90","v":{"$error":"#REF!"}},{"$f":"#REF!*M$90","v":{"$error":"#REF!"}},{"$f":"#REF!*N$90","v":{"$error":"#REF!"}},{"$f":"#REF!*O$90","v":{"$error":"#REF!"}},{"$f":"#REF!*P$90","v":{"$error":"#REF!"}},{"$f":"#REF!*Q$90","v":{"$error":"#REF!"}},{"$f":"#REF!*R$90","v":{"$error":"#REF!"}},{"$f":"#REF!*S$90","v":{"$error":"#REF!"}},{"$f":"#REF!*T$90","v":{"$error":"#REF!"}},{"$f":"#REF!*U$90","v":{"$error":"#REF!"}},{"$f":"#REF!*V$90","v":{"$error":"#REF!"}},{"$f":"#REF!*W$90","v":{"$error":"#REF!"}},{"$f":"#REF!*X$90","v":{"$error":"#REF!"}},{"$f":"#REF!*Y$90","v":{"$error":"#REF!"}},{"$f":"#REF!*Z$90","v":{"$error":"#REF!"}},{"$f":"#REF!*AA$90","v":{"$error":"#REF!"}},{"$f":"#REF!*AB$90","v":{"$error":"#REF!"}},{"$f":"#REF!*AC$90","v":{"$error":"#REF!"}},{"$f":"#REF!*AD$90","v":{"$error":"#REF!"}},{"$f":"#REF!*AE$90","v":{"$error":"#REF!"}}]
[null,null,{"$f":"#REF!*C$90","v":{"$error":"#REF!"}},{"$f":"#REF!*D$90","v":{"$error":"#REF!"}},{"$f":"#REF!*E$90","v":{"$error":"#REF!"}},{"$f":"#REF!*F$90","v":{"$error":"#REF!"}},{"$f":"#REF!*G$90","v":{"$error":"#REF!"}},{"$f":"#REF!*H$90","v":{"$error":"#REF!"}},{"$f":"#REF!*I$90","v":{"$error":"#REF!"}},{"$f":"#REF!*J$90","v":{"$error":"#REF!"}},{"$f":"#REF!*K$90","v":{"$error":"#REF!"}},{"$f":"#REF!*L$90","v":{"$error":"#REF!"}},{"$f":"#REF!*M$90","v":{"$error":"#REF!"}},{"$f":"#REF!*N$90","v":{"$error":"#REF!"}},{"$f":"#REF!*O$90","v":{"$error":"#REF!"}},{"$f":"#REF!*P$90","v":{"$error":"#REF!"}},{"$f":"#REF!*Q$90","v":{"$error":"#REF!"}},{"$f":"#REF!*R$90","v":{"$error":"#REF!"}},{"$f":"#REF!*S$90","v":{"$error":"#REF!"}},{"$f":"#REF!*T$90","v":{"$error":"#REF!"}},{"$f":"#REF!*U$90","v":{"$error":"#REF!"}},{"$f":"#REF!*V$90","v":{"$error":"#REF!"}},{"$f":"#REF!*W$90","v":{"$error":"#REF!"}},{"$f":"#REF!*X$90","v":{"$error":"#REF!"}},{"$f":"#REF!*Y$90","v":{"$error":"#REF!"}},{"$f":"#REF!*Z$90","v":{"$error":"#REF!"}},{"$f":"#REF!*AA$90","v":{"$error":"#REF!"}},{"$f":"#REF!*AB$90","v":{"$error":"#REF!"}},{"$f":"#REF!*AC$90","v":{"$error":"#REF!"}},{"$f":"#REF!*AD$90","v":{"$error":"#REF!"}},{"$f":"#REF!*AE$90","v":{"$error":"#REF!"}}]
[null,null,{"$f":"#REF!*C$90","v":{"$error":"#REF!"}},{"$f":"#REF!*D$90","v":{"$error":"#REF!"}},{"$f":"#REF!*E$90","v":{"$error":"#REF!"}},{"$f":"#REF!*F$90","v":{"$error":"#REF!"}},{"$f":"#REF!*G$90","v":{"$error":"#REF!"}},{"$f":"#REF!*H$90","v":{"$error":"#REF!"}},{"$f":"#REF!*I$90","v":{"$error":"#REF!"}},{"$f":"#REF!*J$90","v":{"$error":"#REF!"}},{"$f":"#REF!*K$90","v":{"$error":"#REF!"}},{"$f":"#REF!*L$90","v":{"$error":"#REF!"}},{"$f":"#REF!*M$90","v":{"$error":"#REF!"}},{"$f":"#REF!*N$90","v":{"$error":"#REF!"}},{"$f":"#REF!*O$90","v":{"$error":"#REF!"}},{"$f":"#REF!*P$90","v":{"$error":"#REF!"}},{"$f":"#REF!*Q$90","v":{"$error":"#REF!"}},{"$f":"#REF!*R$90","v":{"$error":"#REF!"}},{"$f":"#REF!*S$90","v":{"$error":"#REF!"}},{"$f":"#REF!*T$90","v":{"$error":"#REF!"}},{"$f":"#REF!*U$90","v":{"$error":"#REF!"}},{"$f":"#REF!*V$90","v":{"$error":"#REF!"}},{"$f":"#REF!*W$90","v":{"$error":"#REF!"}},{"$f":"#REF!*X$90","v":{"$error":"#REF!"}},{"$f":"#REF!*Y$90","v":{"$error":"#REF!"}},{"$f":"#REF!*Z$90","v":{"$error":"#REF!"}},{"$f":"#REF!*AA$90","v":{"$error":"#REF!"}},{"$f":"#REF!*AB$90","v":{"$error":"#REF!"}},{"$f":"#REF!*AC$90","v":{"$error":"#REF!"}},{"$f":"#REF!*AD$90","v":{"$error":"#REF!"}},{"$f":"#REF!*AE$90","v":{"$error":"#REF!"}}]
[null,null,{"$f":"#REF!*C$90","v":{"$error":"#REF!"}},{"$f":"#REF!*D$90","v":{"$error":"#REF!"}},{"$f":"#REF!*E$90","v":{"$error":"#REF!"}},{"$f":"#REF!*F$90","v":{"$error":"#REF!"}},{"$f":"#REF!*G$90","v":{"$error":"#REF!"}},{"$f":"#REF!*H$90","v":{"$error":"#REF!"}},{"$f":"#REF!*I$90","v":{"$error":"#REF!"}},{"$f":"#REF!*J$90","v":{"$error":"#REF!"}},{"$f":"#REF!*K$90","v":{"$error":"#REF!"}},{"$f":"#REF!*L$90","v":{"$error":"#REF!"}},{"$f":"#REF!*M$90","v":{"$error":"#REF!"}},{"$f":"#REF!*N$90","v":{"$error":"#REF!"}},{"$f":"#REF!*O$90","v":{"$error":"#REF!"}},{"$f":"#REF!*P$90","v":{"$error":"#REF!"}},{"$f":"#REF!*Q$90","v":{"$error":"#REF!"}},{"$f":"#REF!*R$90","v":{"$error":"#REF!"}},{"$f":"#REF!*S$90","v":{"$error":"#REF!"}},{"$f":"#REF!*T$90","v":{"$error":"#REF!"}},{"$f":"#REF!*U$90","v":{"$error":"#REF!"}},{"$f":"#REF!*V$90","v":{"$error":"#REF!"}},{"$f":"#REF!*W$90","v":{"$error":"#REF!"}},{"$f":"#REF!*X$90","v":{"$error":"#REF!"}},{"$f":"#REF!*Y$90","v":{"$error":"#REF!"}},{"$f":"#REF!*Z$90","v":{"$error":"#REF!"}},{"$f":"#REF!*AA$90","v":{"$error":"#REF!"}},{"$f":"#REF!*AB$90","v":{"$error":"#REF!"}},{"$f":"#REF!*AC$90","v":{"$error":"#REF!"}},{"$f":"#REF!*AD$90","v":{"$error":"#REF!"}},{"$f":"#REF!*AE$90","v":{"$error":"#REF!"}}]
[null,null,{"$f":"#REF!*C$90","v":{"$error":"#REF!"}},{"$f":"#REF!*D$90","v":{"$error":"#REF!"}},{"$f":"#REF!*E$90","v":{"$error":"#REF!"}},{"$f":"#REF!*F$90","v":{"$error":"#REF!"}},{"$f":"#REF!*G$90","v":{"$error":"#REF!"}},{"$f":"#REF!*H$90","v":{"$error":"#REF!"}},{"$f":"#REF!*I$90","v":{"$error":"#REF!"}},{"$f":"#REF!*J$90","v":{"$error":"#REF!"}},{"$f":"#REF!*K$90","v":{"$error":"#REF!"}},{"$f":"#REF!*L$90","v":{"$error":"#REF!"}},{"$f":"#REF!*M$90","v":{"$error":"#REF!"}},{"$f":"#REF!*N$90","v":{"$error":"#REF!"}},{"$f":"#REF!*O$90","v":{"$error":"#REF!"}},{"$f":"#REF!*P$90","v":{"$error":"#REF!"}},{"$f":"#REF!*Q$90","v":{"$error":"#REF!"}},{"$f":"#REF!*R$90","v":{"$error":"#REF!"}},{"$f":"#REF!*S$90","v":{"$error":"#REF!"}},{"$f":"#REF!*T$90","v":{"$error":"#REF!"}},{"$f":"#REF!*U$90","v":{"$error":"#REF!"}},{"$f":"#REF!*V$90","v":{"$error":"#REF!"}},{"$f":"#REF!*W$90","v":{"$error":"#REF!"}},{"$f":"#REF!*X$90","v":{"$error":"#REF!"}},{"$f":"#REF!*Y$90","v":{"$error":"#REF!"}},{"$f":"#REF!*Z$90","v":{"$error":"#REF!"}},{"$f":"#REF!*AA$90","v":{"$error":"#REF!"}},{"$f":"#REF!*AB$90","v":{"$error":"#REF!"}},{"$f":"#REF!*AC$90","v":{"$error":"#REF!"}},{"$f":"#REF!*AD$90","v":{"$error":"#REF!"}},{"$f":"#REF!*AE$90","v":{"$error":"#REF!"}}]
[null,null,{"$f":"C35*C$90","v":0},0,0,0,0,0,0,0,0,{"$error":"#N/A"},0,0,0,0,0,0,0,0,0,0,0,0,0,0,0,{"$error":"#N/A"},{"$error":"#N/A"},{"$error":"#N/A"},{"$error":"#N/A"}]

{"sheet":"4 В(2)","index":18,"n_rows":82,"n_cols":8,"rows_kept":82,"cut":false,"hidden":true,"merged":[[0,4,0,7],[0,0,0,3],[3,0,15,0],[67,0,67,1],[52,0,52,1],[42,0,42,1],[17,0,17,1],[1,0,1,2],[2,0,2,1]]}
[{"$f":"Титул!B15","v":"4 В"},null,null,null,"Страница заполняется автоматически, без участия оператора!!!"]
["Всего учащихся в классе:",null,null,{"$f":"Титул!C15","v":24},"Фамилии, имена               учащихся","Учебные предметы","Фамилии и инициалы учителей","Пояснения, примечания, причины"]
["Учатся на  \"5\":",null,{"$f":"COUNTA(E3:E17)","v":0},1]
[null,null,null,2]
[null,null,null,3]
[null,null,null,4]
[null,null,null,5]
[null,null,null,6]
[null,null,null,7]
[null,null,null,8]
[null,null,null,9]
[null,null,null,10]
[null,null,null,11]
[null,null,null,12]
[null,null,null,13]
[null,null,null,14]
[null,null,null,15]
["Учатся  на \"4\"и\"5\"",null,{"$f":"COUNTA(E18:E42)","v":11},1,"Бельфер Дарина"]
[null," ",null,2,"Велиев Анар"]
[null,null,null,3,"Жмурко Лев"]
[null,null,null,4,"Казаков Константин"]
[null,null,null,5,"Ким Эмилия"]
[null,null,null,6,"Крюкова Дарья"]
[null,null,null,7,"Михеев Павел"]
[null,null,null,8,"Тищенко Диана"]
[null,null,null,9,"Широкова Карина"]
[null,null,null,10,"Игнатенко Всеволод"]
[null,null,null,11,"Мазуренко Ярослав"]
[null,null,null,12]
[null,null,null,13]
[null,null,null,14]
[null,null,null,15]
[null,null,null,16]
[null,null,null,17]
[null,null,null,18]
[null,null,null,19]
[null,null,null,20]
[null,null,null,21]
[null,null,null,22]
[null,null,null,23]
[null,null,null,24]
[null,null,null,25]
["Не аттестованы:",null,{"$f":"COUNTA(E43:E52)","v":0},1]
[null," ",null,2]
[null,null,null,3]
[null,null,null,4]
[null,null,null,5]
[null,null,null,6]
[null,null,null,7]
[null,null,null,8]
[null,null,null,9]
[null,null,null,10]
["Не успевают:",null,{"$f":"COUNTA(E53:E67)","v":0},1]
[null," ",null,2]
[null,null,null,3]
[null,null,null,4]
[null,null,null,5]
[null,null,null,6]
[null,null,null,7]
[null,null,null,8]
[null,null,null,9]
[null,null,null,10]
[null,null,null,11]
[null,null,null,12]
[null,null,null,13]
[null,null,null,14]
[null,null,null,15]
["Освобождены:",null,{"$f":"COUNTA(E68:E82)","v":0},1]
[null," ",null,2]
[null,null,null,3]
[null,null,null,4]
[null,null,null,5]
[null,null,null,6]
[null,null,null,7]
[null,null,null,8]
[null,null,null,9]
[null,null,null,10]
[null,null,null,11]
[null,null,null,12]
[null,null,null,13]
[null,null,null,14]
[null,null,null,15]

{"sheet":"5 А","index":19,"n_rows":130,"n_cols":35,"rows_kept":130,"cut":false,"hidden":true,"merged":[[0,26,0,32],[3,2,3,30],[0,0,0,2],[0,3,0,25],[2,4,2,17],[3,31,3,34],[2,23,2,34],[2,18,2,22],[1,29,1,31],[1,25,1,28],[1,0,1,24],[2,0,2,3],[47,0,47,26],[46,31,46,34],[45,31,45,34],[44,31,44,34],[43,31,43,34],[47,28,47,33],[35,31,35,34],[38,31,38,34],[37,31,37,34],[36,31,36,34],[3,0,4,1],[35,0,35,1],[36,0,46,0],[42,31,42,34],[41,31,41,34],[40,31,40,34],[39,31,39,34]]}
[{"$f":"Титул!B5","v":"2014/15 учебный год"},null,null,{"$f":"Титул!B4","v":"МОУ СОШ  № 15"},null,null,null,null,null,null,null,null,null,null,null,null,null,null,null,null,null,null,null,null,null,null,{"$f":"Титул!B6","v":"4 четверть"},null,null,null,null,null,null,null,"3+"]
["ВЕДОМОСТЬ  РЕЗУЛЬТАТОВ  УЧЕБНОЙ  ДЕЯТЕЛЬНОСТИ",null,null,null,null,null,null,null,null,null,null,null,null,null,null,null,null,null,null,null,null,null,null,null,null,{"$f":"Титул!B16","v":"5 А"},null,null,null,"класса"]
["Классный руководитель:",null,null,null,{"$f":"Титул!D16","v":"Астраханцева И.А."},null,null,null,null,null,null,null,null,null,null,null,null,null,"Программа:",null,null,null,null,{"$f":"Титул!G16","v":"общеобразовательный"}]
["Вручную вносятся только оценки \"5\", \"4\", \"3\", \"2\", \"1\". \nНе аттестованным проставляется \"0\", освобожденным - \"Н\".  ",null,"У  ч  е  б  н  ы  е      п  р  е  д  м  е  т  ы",null,null,null,null,null,null,null,null,null,null,null,null,null,null,null,null,null,null,null,null,null,null,null,null,null,null,null,null,"Результаты ученика:"]
[null,null,{"$f":"Нагрузка!C3","v":"Русский язык"},{"$f":"Нагрузка!D3","v":"Литература"},{"$f":"Нагрузка!E3","v":"Иностранный язык"},{"$f":"Нагрузка!F3","v":"Математика"},{"$f":"Нагрузка!G3","v":"Алгебра"},{"$f":"Нагрузка!H3","v":"Геометрия"},{"$f":"Нагрузка!I3","v":"Информатика"},{"$f":"Нагрузка!J3","v":"История"},{"$f":"Нагрузка!K3","v":"Обществознание"},{"$f":"Нагрузка!L3","v":"Окружающий мир"},{"$f":"Нагрузка!M3","v":"ИЗО"},{"$f":"Нагрузка!N3","v":"Музыка"},{"$f":"Нагрузка!O3","v":"Технология"},{"$f":"Нагрузка!P3","v":"Технология"},{"$f":"Нагрузка!Q3","v":"ФЗК"},{"$f":"Нагрузка!R3","v":"Иностранный язык"},{"$f":"Нагрузка!S3","v":"Иностранный язык"},{"$f":"Нагрузка!T3","v":"География"},{"$f":"Нагрузка!U3","v":"Физика"},{"$f":"Нагрузка!V3","v":"Химия"},{"$f":"Нагрузка!W3","v":"Биология"},{"$f":"Нагрузка!X3","v":"МХК"},{"$f":"Нагрузка!Y3","v":"ФЗК"},{"$f":"Нагрузка!Z3","v":"ОБЖ"},{"$f":"Нагрузка!AA3","v":"Природоведение"},{"$f":"Нагрузка!AB3","v":0},{"$f":"Нагрузка!AC3","v":0},{"$f":"Нагрузка!AD3","v":0},{"$f":"Нагрузка!AE3","v":0},"Средний балл:","Степень обученности (СОУ):","Качество успеваемости:","Рейтинговый учебный балл:"]
[1,{"$f":"СпискиКлассы!I4","v":"Александрова Полина"},4,4,3,3,null,null,null,4,null,null,5,5,4,null,4,null,null,null,null,null,null,null,null,null,4,null,null,null,null,{"$f":"AVERAGE(C6:AE6)","v":4},{"$f":"(COUNTIF(C6:AE6,\"5\")+COUNTIF(C6:AE6,\"4\")*0.64+COUNTIF(C6:AE6,\"3\")*0.36+COUNTIF(C6:AE6,\"2\")*0.16)/(COUNTIF(C6:AE6,\"5\")+COUNTIF(C6:AE6,\"4\")+COUNTIF(C6:AE6,\"3\")+COUNTIF(C6:AE6,\"2\")+COUNTIF(C6:AE6,\"0\"))","v":0.65599999999999992},{"$f":"((5*COUNTIF(C6:AE6,\"5\"))+(4*COUNTIF(C6:AE6,\"4\")))/(5*(COUNTA(C6:AE6)-COUNTIF(C6:AE6,\"н\")))","v":0.68},{"$f":"SUMIF(C91:AE91,\">0\",C91:AE91)/(COUNTIF(C6:AE6,\">0\")+COUNTIF(C6:AE6,\"=0\")+COUNTIF(C6:AE6,\"Н\"))","v":20.6}]
[{"$f":"A6+1","v":2},{"$f":"СпискиКлассы!I5","v":"Голостенова Екатерина"},4,5,5,5,null,null,null,4,null,null,5,5,5,null,5,null,null,null,null,null,null,null,null,null,5,null,null,null,null,{"$f":"AVERAGE(C7:AE7)","v":4.8},{"$f":"(COUNTIF(C7:AE7,\"5\")+COUNTIF(C7:AE7,\"4\")*0.64+COUNTIF(C7:AE7,\"3\")*0.36+COUNTIF(C7:AE7,\"2\")*0.16)/(COUNTIF(C7:AE7,\"5\")+COUNTIF(C7:AE7,\"4\")+COUNTIF(C7:AE7,\"3\")+COUNTIF(C7:AE7,\"2\")+COUNTIF(C7:AE7,\"0\"))","v":0.92799999999999994},{"$f":"((5*COUNTIF(C7:AE7,\"5\"))+(4*COUNTIF(C7:AE7,\"4\")))/(5*(COUNTA(C7:AE7)-COUNTIF(C7:AE7,\"н\")))","v":0.96},26.2]
[3,{"$f":"СпискиКлассы!I6","v":"Девицына Алиса"},3,4,4,5,null,null,null,4,null,null,5,5,5,null,5,null,null,null,null,null,null,null,null,null,5,null,null,null,null,{"$f":"AVERAGE(C8:AE8)","v":4.5},0.82799999999999996,0.84,24.1]
[4,{"$f":"СпискиКлассы!I7","v":"Дерюжков Сергей"},3,4,3,4,null,null,null,4,null,null,4,5,4,null,5,null,null,null,null,null,null,null,null,null,5,null,null,null,null,4.0999999999999996,0.69199999999999995,0.7,21.5]
[5,{"$f":"СпискиКлассы!I8","v":"Долгачева Полина"},4,4,4,4,null,null,null,4,null,null,5,5,5,null,5,null,null,null,null,null,null,null,null,null,4,null,null,null,null,4.4000000000000004,0.78400000000000003,0.88,23.2]
[6,{"$f":"СпискиКлассы!I9","v":"Елизаров Александр"},3,3,4,3,null,null,null,4,null,null,4,4,4,null,4,null,null,null,null,null,null,null,null,null,3,null,null,null,null,3.6,0.52799999999999991,0.48,19.100000000000001]
[7,{"$f":"СпискиКлассы!I10","v":"Еськова Ксения"},4,4,4,4,null,null,null,4,null,null,5,5,5,null,5,null,null,null,null,null,null,null,null,null,5,null,null,null,null,4.5,0.82,0.9,23.9]
[8,{"$f":"СпискиКлассы!I11","v":"Котельников Владислав"},3,3,3,3,null,null,null,3,null,null,4,4,4,null,5,null,null,null,null,null,null,null,null,null,4,null,null,null,null,3.6,0.53599999999999992,0.42,18.7]
[9,{"$f":"СпискиКлассы!I12","v":"Куличенко Мария"},4,4,4,4,null,null,null,4,null,null,5,5,5,null,4,null,null,null,null,null,null,null,null,null,5,null,null,null,null,4.4000000000000004,0.78400000000000003,0.88,23.6]
[10,{"$f":"СпискиКлассы!I13","v":"Левина Алена"},3,3,3,3,null,null,null,3,null,null,5,5,4,null,5,null,null,null,null,null,null,null,null,null,4,null,null,null,null,3.8,0.60799999999999998,0.46,19.2]
[11,{"$f":"СпискиКлассы!I14","v":"Лунева Полина"},4,5,4,4,null,null,null,4,null,null,5,5,5,null,4,null,null,null,null,null,null,null,null,null,5,null,null,null,null,4.5,0.82,0.9,24]
[12,{"$f":"СпискиКлассы!I15","v":"Лупарев Алексей"},3,3,3,3,null,null,null,3,null,null,4,4,4,null,5,null,null,null,null,null,null,null,null,null,4,null,null,null,null,3.6,0.53599999999999992,0.42,18.7]
[13,{"$f":"СпискиКлассы!I16","v":"Масличенко Владислав"},3,3,4,3,null,null,null,3,null,null,5,4,4,null,5,null,null,null,null,null,null,null,null,null,3,null,null,null,null,3.7,0.57199999999999995,0.44,19.2]
[14,{"$f":"СпискиКлассы!I17","v":"Монастыршина Вероника"},5,5,5,5,null,null,null,5,null,null,5,5,5,null,5,null,null,null,null,null,null,null,null,null,5,null,null,null,null,5,1,1,27.5]
[15,{"$f":"СпискиКлассы!I18","v":"Набок Данила"},3,3,3,4,null,null,null,3,null,null,4,5,4,null,3,null,null,null,null,null,null,null,null,null,3,null,null,null,null,3.5,0.50800000000000001,0.34,18.600000000000001]
[16,{"$f":"СпискиКлассы!I19","v":"Новикова Софья"},4,4,5,4,null,null,null,4,null,null,5,5,5,null,4,null,null,null,null,null,null,null,null,null,5,null,null,null,null,4.5,0.82,0.9,24.5]
[17,{"$f":"СпискиКлассы!I20","v":"Полякова Полина"},3,4,3,3,null,null,null,4,null,null,5,5,5,null,5,null,null,null,null,null,null,null,null,null,4,null,null,null,null,4.0999999999999996,0.7,0.64,20.5]
[18,{"$f":"СпискиКлассы!I21","v":"Пономарев Артем"},4,4,4,4,null,null,null,4,null,null,5,5,4,null,5,null,null,null,null,null,null,null,null,null,5,null,null,null,null,4.4000000000000004,0.78400000000000003,0.88,21.8]
[19,{"$f":"СпискиКлассы!I22","v":"Пяточков Михаил"},3,4,3,4,null,null,null,4,null,null,5,4,4,null,5,null,null,null,null,null,null,null,null,null,4,null,null,null,null,{"$f":"AVERAGE(C24:AE24)","v":4},{"$f":"(COUNTIF(C24:AE24,\"5\")+COUNTIF(C24:AE24,\"4\")*0.64+COUNTIF(C24:AE24,\"3\")*0.36+COUNTIF(C24:AE24,\"2\")*0.16)/(COUNTIF(C24:AE24,\"5\")+COUNTIF(C24:AE24,\"4\")+COUNTIF(C24:AE24,\"3\")+COUNTIF(C24:AE24,\"2\")+COUNTIF(C24:AE24,\"0\"))","v":0.65599999999999992},{"$f":"((5*COUNTIF(C24:AE24,\"5\"))+(4*COUNTIF(C24:AE24,\"4\")))/(5*(COUNTA(C24:AE24)-COUNTIF(C24:AE24,\"н\")))","v":0.68},{"$f":"SUMIF(C109:AE109,\">0\",C109:AE109)/(COUNTIF(C24:AE24,\">0\")+COUNTIF(C24:AE24,\"=0\")+COUNTIF(C24:AE24,\"Н\"))","v":10.199999999999999}]
[20,{"$f":"СпискиКлассы!I23","v":"Сизова Ксения"},3,3,3,3,null,null,null,3,null,null,4,5,5,null,4,null,null,null,null,null,null,null,null,null,3,null,null,null,null,3.6,0.54400000000000004,0.36,18.3]
[21,{"$f":"СпискиКлассы!I24","v":"Терещенко Николай"},4,4,5,4,null,null,null,4,null,null,5,5,4,null,5,null,null,null,null,null,null,null,null,null,5,null,null,null,null,4.5,0.82,0.9,24.4]
[22,{"$f":"СпискиКлассы!I25","v":"Толкачева Виктория"},4,5,4,5,null,null,null,5,null,null,5,5,4,null,4,null,null,null,null,null,null,null,null,null,5,null,null,null,null,4.5999999999999996,0.85600000000000009,0.92,25.1]
[23,{"$f":"СпискиКлассы!I26","v":"Тропина Виталия"},3,4,3,4,null,null,null,4,null,null,4,5,5,null,4,null,null,null,null,null,null,null,null,null,5,null,null,null,null,4.0999999999999996,0.69199999999999995,0.7,21.6]
[24,{"$f":"СпискиКлассы!I27","v":"Турченко Ирина"},4,4,4,4,null,null,null,4,null,null,5,5,4,null,4,null,null,null,null,null,null,null,null,null,4,null,null,null,null,4.2,0.71199999999999997,0.84,22.5]
[25,{"$f":"СпискиКлассы!I28","v":"Черниченко Ангелина"},3,3,3,3,null,null,null,3,null,null,5,4,5,null,4,null,null,null,null,null,null,null,null,null,4,null,null,null,null,3.7,0.57199999999999995,0.44,19.100000000000001]
[26,{"$f":"СпискиКлассы!I29","v":"Гиллазиев Владислав"},3,3,3,3,null,null,null,3,null,null,4,4,4,null,4,null,null,null,null,null,null,null,null,null,4,null,null,null,null,{"$f":"AVERAGE(C31:AE31)","v":3.5},{"$f":"(COUNTIF(C31:AE31,\"5\")+COUNTIF(C31:AE31,\"4\")*0.64+COUNTIF(C31:AE31,\"3\")*0.36+COUNTIF(C31:AE31,\"2\")*0.16)/(COUNTIF(C31:AE31,\"5\")+COUNTIF(C31:AE31,\"4\")+COUNTIF(C31:AE31,\"3\")+COUNTIF(C31:AE31,\"2\")+COUNTIF(C31:AE31,\"0\"))","v":0.5},0.4,18.399999999999999]
[27,{"$f":"СпискиКлассы!I30","v":"Ищенко Вячеслав"},3,3,3,3,null,null,null,3,null,null,4,4,4,null,5,null,null,null,null,null,null,null,null,null,5,null,null,null,null,3.7,0.57199999999999995,0.44,19.399999999999999]
[28,{"$f":"СпискиКлассы!I31","v":0},null,null,null,null,null,null,null,null,null,null,null,null,null,null,null,null,null,null,null,null,null,null,null,null,null,null,null,null,null,{"$error":"#DIV/0!"},{"$error":"#DIV/0!"},{"$error":"#DIV/0!"},{"$error":"#DIV/0!"}]
[29,{"$f":"СпискиКлассы!I32","v":0},null,null,null,null,null,null,null,null,null,null,null,null,null,null,null,null,null,null,null,null,null,null,null,null,null,null,null,null,null,{"$error":"#DIV/0!"},{"$error":"#DIV/0!"},{"$error":"#DIV/0!"},{"$error":"#DIV/0!"}]
[30,{"$f":"СпискиКлассы!I43","v":0},null,null,null,null,null,null,null,null,null,null,null,null,null,null,null,null,null,null,null,null,null,null,null,null,null,null,null,null,null,{"$error":"#DIV/0!"},{"$error":"#DIV/0!"},{"$error":"#DIV/0!"},{"$f":"SUMIF(C130:AE130,\">0\",C130:AE130)/(COUNTIF(C35:AE35,\">0\")+COUNTIF(C35:AE35,\"=0\")+COUNTIF(C35:AE35,\"Н\"))","v":{"$error":"#DIV/0!"}}]
[" Фамилия и инициалы                                           учителя - предметника",null,{"$f":"Нагрузка!C12","v":"Адова"},{"$f":"Нагрузка!D12","v":"Адова"},{"$f":"Нагрузка!E12","v":0},{"$f":"Нагрузка!F12","v":"Адова"},{"$f":"Нагрузка!G12","v":0},{"$f":"Нагрузка!H12","v":0},{"$f":"Нагрузка!I12","v":0},{"$f":"Нагрузка!J12","v":0},{"$f":"Нагрузка!K12","v":0},{"$f":"Нагрузка!L12","v":"Адова"},{"$f":"Нагрузка!M12","v":"Адова"},{"$f":"Нагрузка!N12","v":"Заворина"},{"$f":"Нагрузка!O12","v":"Адова"},{"$f":"Нагрузка!P12","v":"Адова"},{"$f":"Нагрузка!Q12","v":"Ермакова"},{"$f":"Нагрузка!R12","v":"Пудренко"},{"$f":"Нагрузка!S12","v":"Калугина"},{"$f":"Нагрузка!T12","v":0},{"$f":"Нагрузка!U12","v":0},{"$f":"Нагрузка!V12","v":0},{"$f":"Нагрузка!W12","v":0},{"$f":"Нагрузка!X12","v":0},{"$f":"Нагрузка!Y12","v":0},{"$f":"Нагрузка!Z12","v":0},{"$f":"Нагрузка!AA12","v":0},{"$f":"Нагрузка!AB12","v":0},{"$f":"Нагрузка!AC12","v":0},{"$f":"Нагрузка!AD12","v":0},{"$f":"Нагрузка!AE12","v":0},"Показатели результатов учебной деятельности в  целом по классу:"]
["Результаты учебной деятельности класса","Количество  \"5\":",{"$f":"COUNTIF(C6:C35,5)","v":1},4,4,4,0,0,0,2,0,0,18,19,12,0,15,0,0,0,0,0,0,0,0,0,13,0,0,0,0,{"$f":"SUM(C37:AE37)","v":92}]
[null,"Количество  \"4\":",{"$f":"COUNTIF(C6:C35,4)","v":11},13,10,12,0,0,0,16,0,0,9,8,15,0,11,0,0,0,0,0,0,0,0,0,10,0,0,0,0,115]
[null,"Количество  \"3\":",{"$f":"COUNTIF(C6:C35,3)","v":15},10,13,11,0,0,0,9,0,0,0,0,0,0,1,0,0,0,0,0,0,0,0,0,4,0,0,0,0,63]
[null,"Количество  \"2\":",{"$f":"COUNTIF(C6:C35,2)","v":0},0,0,0,0,0,0,0,0,0,0,0,0,0,0,0,0,0,0,0,0,0,0,0,0,0,0,0,0,0]
[null,"Не аттестовано:",{"$f":"COUNTIF(C6:C35,0)","v":0},0,0,0,0,0,0,0,0,0,0,0,0,0,0,0,0,0,0,0,0,0,0,0,0,0,0,0,0,0]
[null,"Освобождено:",{"$f":"COUNTIF(C6:C35,\"н\")","v":0},0,0,0,0,0,0,0,0,0,0,0,0,0,0,0,0,0,0,0,0,0,0,0,0,0,0,0,0,0]
[null,"Успеваемость:",{"$f":"(C37+C38+C39)/(C37+C38+C39+C40+C41)","v":1},{"$f":"(D37+D38+D39)/(D37+D38+D39+D40+D41)","v":1},1,1,{"$error":"#DIV/0!"},{"$error":"#DIV/0!"},{"$error":"#DIV/0!"},1,{"$error":"#DIV/0!"},{"$error":"#DIV/0!"},1,1,1,{"$error":"#DIV/0!"},1,{"$error":"#DIV/0!"},{"$error":"#DIV/0!"},{"$error":"#DIV/0!"},{"$error":"#DIV/0!"},{"$error":"#DIV/0!"},{"$error":"#DIV/0!"},{"$error":"#DIV/0!"},{"$error":"#DIV/0!"},{"$error":"#DIV/0!"},1,{"$error":"#DIV/0!"},{"$error":"#DIV/0!"},{"$error":"#DIV/0!"},{"$error":"#DIV/0!"},{"$f":"('5 А(2)'!D2-'5 А(2)'!C43-'5 А(2)'!C53)/'5 А(2)'!D2","v":1}]
[null,"Качество знаний:",{"$f":"(C37+C38)/(C37+C38+C39+C40+C41)","v":0.44444444444444442},{"$f":"(D37+D38)/(D37+D38+D39+D40+D41)","v":0.62962962962962965},0.51851851851851849,0.59259259259259256,{"$error":"#DIV/0!"},{"$error":"#DIV/0!"},{"$error":"#DIV/0!"},0.66666666666666663,{"$error":"#DIV/0!"},{"$error":"#DIV/0!"},1,1,1,{"$error":"#DIV/0!"},0.96296296296296291,{"$error":"#DIV/0!"},{"$error":"#DIV/0!"},{"$error":"#DIV/0!"},{"$error":"#DIV/0!"},{"$error":"#DIV/0!"},{"$error":"#DIV/0!"},{"$error":"#DIV/0!"},{"$error":"#DIV/0!"},{"$error":"#DIV/0!"},0.85185185185185186,{"$error":"#DIV/0!"},{"$error":"#DIV/0!"},{"$error":"#DIV/0!"},{"$error":"#DIV/0!"},{"$f":"('5 А(2)'!C3+'5 А(2)'!C18)/'5 А(2)'!D2","v":0.40740740740740738}]
[null,"Степень обученности:",{"$f":"(C37+C38*0.64+C39*0.36+C40*0.16)/(C37+C38+C39+C40+C41)","v":0.49777777777777771},{"$f":"(D37+D38*0.64+D39*0.36+D40*0.16)/(D37+D38+D39+D40+D41)","v":0.58962962962962961},0.55851851851851853,0.57925925925925925,{"$error":"#DIV/0!"},{"$error":"#DIV/0!"},{"$error":"#DIV/0!"},0.57333333333333336,{"$error":"#DIV/0!"},{"$error":"#DIV/0!"},0.87999999999999989,0.89333333333333342,0.8,{"$error":"#DIV/0!"},0.82962962962962961,{"$error":"#DIV/0!"},{"$error":"#DIV/0!"},{"$error":"#DIV/0!"},{"$error":"#DIV/0!"},{"$error":"#DIV/0!"},{"$error":"#DIV/0!"},{"$error":"#DIV/0!"},{"$error":"#DIV/0!"},{"$error":"#DIV/0!"},0.7718518518518519,{"$error":"#DIV/0!"},{"$error":"#DIV/0!"},{"$error":"#DIV/0!"},{"$error":"#DIV/0!"},{"$f":"(AF37+AF38*0.64+AF39*0.36+AF40*0.16)/(AF37+AF38+AF39+AF40+AF41)","v":0.69733333333333347}]
[null,"Средний балл:              ",{"$f":"(C37*5+C38*4+C39*3+C40*2)/(C37+C38+C39+C40+C41)","v":3.4814814814814814},{"$f":"(D37*5+D38*4+D39*3+D40*2)/(D37+D38+D39+D40+D41)","v":3.7777777777777777},3.6666666666666665,3.7407407407407409,{"$error":"#DIV/0!"},{"$error":"#DIV/0!"},{"$error":"#DIV/0!"},3.7407407407407409,{"$error":"#DIV/0!"},{"$error":"#DIV/0!"},4.666666666666667,4.7037037037037033,4.4444444444444446,{"$error":"#DIV/0!"},4.5185185185185182,{"$error":"#DIV/0!"},{"$error":"#DIV/0!"},{"$error":"#DIV/0!"},{"$error":"#DIV/0!"},{"$error":"#DIV/0!"},{"$error":"#DIV/0!"},{"$error":"#DIV/0!"},{"$error":"#DIV/0!"},{"$error":"#DIV/0!"},4.333333333333333,{"$error":"#DIV/0!"},{"$error":"#DIV/0!"},{"$error":"#DIV/0!"},{"$error":"#DIV/0!"},{"$f":"(AF37*5+AF38*4+AF39*3+AF40*2)/(AF37+AF38+AF39+AF40+AF41)","v":4.1074074074074076}]
[null,"Качество успеваемости:",{"$f":"(5*C37+4*C38)*0.2/(SUM(C37+C38+C39+C40+C41))","v":0.36296296296296299},{"$f":"(5*COUNTIF(D6:D35,5)+4*COUNTIF(D6:D35,4))*0.2/(COUNTA(D6:D35)-COUNTIF(D6:D35,\"н\"))","v":0.53333333333333333},0.44444444444444442,0.50370370370370376,{"$error":"#DIV/0!"},{"$error":"#DIV/0!"},{"$error":"#DIV/0!"},0.54814814814814816,{"$error":"#DIV/0!"},{"$error":"#DIV/0!"},0.93333333333333346,0.94074074074074077,0.88888888888888884,{"$error":"#DIV/0!"},0.88148148148148153,{"$error":"#DIV/0!"},{"$error":"#DIV/0!"},{"$error":"#DIV/0!"},{"$error":"#DIV/0!"},{"$error":"#DIV/0!"},{"$error":"#DIV/0!"},{"$error":"#DIV/0!"},{"$error":"#DIV/0!"},{"$error":"#DIV/0!"},0.77777777777777779,{"$error":"#DIV/0!"},{"$error":"#DIV/0!"},{"$error":"#DIV/0!"},{"$error":"#DIV/0!"},{"$f":"(5*COUNTIF(C6:AE35,5)+4*COUNTIF(C6:AE35,4))*0.2/(COUNTA(C6:AE35)-COUNTIF(C6:AE35,\"н\"))","v":0.68148148148148147}]
["Выполнено с помощью программы статистического анализа результатов учебной деятельности",null,null,null,null,null,null,null,null,null,null,null,null,null,null,null,null,null,null,null,null,null,null,null,null,null,null,null,{"$f":"Титул!G31","v":"PSORUD-Klass.v.04.11.demo"},null,null,null,null,null,"3+"]
[]
[]
[]
[]
[]
[]
[]
[]
[]
[]
[]
[]
[]
[]
[]
[]
[]
[]
[]
[]
[]
[]
[]
[]
[]
[]
[]
[]
[]
[]
[]
[]
[]
[]
[]
[]
[]
[]
[]
[]
[]
[null,"Коэф.трудн.предмета",{"$f":"VLOOKUP(C$5,ШкалаТрудн!$C$5:$N$34,LEFT($Z$2,2)+1,0)","v":8},{"$f":"VLOOKUP(D$5,ШкалаТрудн!$C$5:$N$34,LEFT($Z$2,2)+1,0)","v":4},{"$f":"VLOOKUP(E$5,ШкалаТрудн!$C$5:$N$34,LEFT($Z$2,2)+1,0)","v":9},{"$f":"VLOOKUP(F$5,ШкалаТрудн!$C$5:$N$34,LEFT($Z$2,2)+1,0)","v":10},{"$f":"VLOOKUP(G$5,ШкалаТрудн!$C$5:$N$34,LEFT($Z$2,2)+1,0)","v":0},{"$f":"VLOOKUP(H$5,ШкалаТрудн!$C$5:$N$34,LEFT($Z$2,2)+1,0)","v":0},{"$f":"VLOOKUP(I$5,ШкалаТрудн!$C$5:$N$34,LEFT($Z$2,2)+1,0)","v":4},{"$f":"VLOOKUP(J$5,ШкалаТрудн!$C$5:$N$34,LEFT($Z$2,2)+1,0)","v":5},{"$f":"VLOOKUP(K$5,ШкалаТрудн!$C$5:$N$34,LEFT($Z$2,2)+1,0)","v":0},{"$f":"VLOOKUP(L$5,ШкалаТрудн!$C$5:$N$34,LEFT($Z$2,2)+1,0)","v":{"$error":"#N/A"}},{"$f":"VLOOKUP(M$5,ШкалаТрудн!$C$5:$N$34,LEFT($Z$2,2)+1,0)","v":3},{"$f":"VLOOKUP(N$5,ШкалаТрудн!$C$5:$N$34,LEFT($Z$2,2)+1,0)","v":2},{"$f":"VLOOKUP(O$5,ШкалаТрудн!$C$5:$N$34,LEFT($Z$2,2)+1,0)","v":4},{"$f":"VLOOKUP(P$5,ШкалаТрудн!$C$5:$N$34,LEFT($Z$2,2)+1,0)","v":4},{"$f":"VLOOKUP(Q$5,ШкалаТрудн!$C$5:$N$34,LEFT($Z$2,2)+1,0)","v":3},{"$f":"VLOOKUP(R$5,ШкалаТрудн!$C$5:$N$34,LEFT($Z$2,2)+1,0)","v":9},{"$f":"VLOOKUP(S$5,ШкалаТрудн!$C$5:$N$34,LEFT($Z$2,2)+1,0)","v":9},{"$f":"VLOOKUP(T$5,ШкалаТрудн!$C$5:$N$34,LEFT($Z$2,2)+1,0)","v":0},{"$f":"VLOOKUP(U$5,ШкалаТрудн!$C$5:$N$34,LEFT($Z$2,2)+1,0)","v":0},{"$f":"VLOOKUP(V$5,ШкалаТрудн!$C$5:$N$34,LEFT($Z$2,2)+1,0)","v":0},{"$f":"VLOOKUP(W$5,ШкалаТрудн!$C$5:$N$34,LEFT($Z$2,2)+1,0)","v":10},{"$f":"VLOOKUP(X$5,ШкалаТрудн!$C$5:$N$34,LEFT($Z$2,2)+1,0)","v":0},{"$f":"VLOOKUP(Y$5,ШкалаТрудн!$C$5:$N$34,LEFT($Z$2,2)+1,0)","v":3},{"$f":"VLOOKUP(Z$5,ШкалаТрудн!$C$5:$N$34,LEFT($Z$2,2)+1,0)","v":1},{"$f":"VLOOKUP(AA$5,ШкалаТрудн!$C$5:$N$34,LEFT($Z$2,2)+1,0)","v":7},{"$f":"VLOOKUP(AB$5,ШкалаТрудн!$C$5:$N$34,LEFT($Z$2,2)+1,0)","v":{"$error":"#N/A"}},{"$f":"VLOOKUP(AC$5,ШкалаТрудн!$C$5:$N$34,LEFT($Z$2,2)+1,0)","v":{"$error":"#N/A"}},{"$f":"VLOOKUP(AD$5,ШкалаТрудн!$C$5:$N$34,LEFT($Z$2,2)+1,0)","v":{"$error":"#N/A"}},{"$f":"VLOOKUP(AE$5,ШкалаТрудн!$C$5:$N$34,LEFT($Z$2,2)+1,0)","v":{"$error":"#N/A"}}]
[null,null,{"$f":"C6*C$90","v":32},16,27,30,0,0,0,20,0,{"$error":"#N/A"},15,10,16,0,12,0,0,0,0,0,0,0,0,0,28,{"$error":"#N/A"},{"$error":"#N/A"},{"$error":"#N/A"},{"$error":"#N/A"}]
[null,null,{"$f":"C7*C$90","v":32},20,45,50,0,0,0,20,0,{"$error":"#N/A"},15,10,20,0,15,0,0,0,0,0,0,0,0,0,35,{"$error":"#N/A"},{"$error":"#N/A"},{"$error":"#N/A"},{"$error":"#N/A"}]
[null,null,{"$f":"C8*C$90","v":24},16,36,50,0,0,0,20,0,{"$error":"#N/A"},15,10,20,0,15,0,0,0,0,0,0,0,0,0,35,{"$error":"#N/A"},{"$error":"#N/A"},{"$error":"#N/A"},{"$error":"#N/A"}]
[null,null,{"$f":"C9*C$90","v":24},16,27,40,0,0,0,20,0,{"$error":"#N/A"},12,10,16,0,15,0,0,0,0,0,0,0,0,0,35,{"$error":"#N/A"},{"$error":"#N/A"},{"$error":"#N/A"},{"$error":"#N/A"}]
[null,null,{"$f":"C10*C$90","v":32},16,36,40,0,0,0,20,0,{"$error":"#N/A"},15,10,20,0,15,0,0,0,0,0,0,0,0,0,28,{"$error":"#N/A"},{"$error":"#N/A"},{"$error":"#N/A"},{"$error":"#N/A"}]
[null,null,{"$f":"C11*C$90","v":24},12,36,30,0,0,0,20,0,{"$error":"#N/A"},12,8,16,0,12,0,0,0,0,0,0,0,0,0,21,{"$error":"#N/A"},{"$error":"#N/A"},{"$error":"#N/A"},{"$error":"#N/A"}]
[null,null,{"$f":"C12*C$90","v":32},16,36,40,0,0,0,20,0,{"$error":"#N/A"},15,10,20,0,15,0,0,0,0,0,0,0,0,0,35,{"$error":"#N/A"},{"$error":"#N/A"},{"$error":"#N/A"},{"$error":"#N/A"}]
[null,null,{"$f":"C13*C$90","v":24},12,27,30,0,0,0,15,0,{"$error":"#N/A"},12,8,16,0,15,0,0,0,0,0,0,0,0,0,28,{"$error":"#N/A"},{"$error":"#N/A"},{"$error":"#N/A"},{"$error":"#N/A"}]
[null,null,{"$f":"C14*C$90","v":32},16,36,40,0,0,0,20,0,{"$error":"#N/A"},15,10,20,0,12,0,0,0,0,0,0,0,0,0,35,{"$error":"#N/A"},{"$error":"#N/A"},{"$error":"#N/A"},{"$error":"#N/A"}]
[null,null,{"$f":"C15*C$90","v":24},12,27,30,0,0,0,15,0,{"$error":"#N/A"},15,10,16,0,15,0,0,0,0,0,0,0,0,0,28,{"$error":"#N/A"},{"$error":"#N/A"},{"$error":"#N/A"},{"$error":"#N/A"}]
[null,null,{"$f":"C16*C$90","v":32},20,36,40,0,0,0,20,0,{"$error":"#N/A"},15,10,20,0,12,0,0,0,0,0,0,0,0,0,35,{"$error":"#N/A"},{"$error":"#N/A"},{"$error":"#N/A"},{"$error":"#N/A"}]
[null,null,{"$f":"C17*C$90","v":24},12,27,30,0,0,0,15,0,{"$error":"#N/A"},12,8,16,0,15,0,0,0,0,0,0,0,0,0,28,{"$error":"#N/A"},{"$error":"#N/A"},{"$error":"#N/A"},{"$error":"#N/A"}]
[null,null,{"$f":"C18*C$90","v":24},12,36,30,0,0,0,15,0,{"$error":"#N/A"},15,8,16,0,15,0,0,0,0,0,0,0,0,0,21,{"$error":"#N/A"},{"$error":"#N/A"},{"$error":"#N/A"},{"$error":"#N/A"}]
[null,null,{"$f":"C19*C$90","v":40},20,45,50,0,0,0,25,0,{"$error":"#N/A"},15,10,20,0,15,0,0,0,0,0,0,0,0,0,35,{"$error":"#N/A"},{"$error":"#N/A"},{"$error":"#N/A"},{"$error":"#N/A"}]
[null,null,{"$f":"C20*C$90","v":24},12,27,40,0,0,0,15,0,{"$error":"#N/A"},12,10,16,0,9,0,0,0,0,0,0,0,0,0,21,{"$error":"#N/A"},{"$error":"#N/A"},{"$error":"#N/A"},{"$error":"#N/A"}]
[null,null,{"$f":"C21*C$90","v":32},16,45,40,0,0,0,20,0,{"$error":"#N/A"},15,10,20,0,12,0,0,0,0,0,0,0,0,0,35,{"$error":"#N/A"},{"$error":"#N/A"},{"$error":"#N/A"},{"$error":"#N/A"}]
[null,null,{"$f":"C22*C$90","v":24},16,27,30,0,0,0,20,0,{"$error":"#N/A"},15,10,20,0,15,0,0,0,0,0,0,0,0,0,28,{"$error":"#N/A"},{"$error":"#N/A"},{"$error":"#N/A"},{"$error":"#N/A"}]
[null,null,{"$f":"C24*C$90","v":24},{"$f":"D24*D$90","v":16},{"$f":"E24*E$90","v":27},{"$f":"F24*F$90","v":40},{"$f":"G23*G$90","v":0},0,0,20,0,{"$error":"#N/A"},15,10,16,0,15,0,0,0,0,0,0,0,0,0,35,{"$error":"#N/A"},{"$error":"#N/A"},{"$error":"#N/A"},{"$error":"#N/A"}]
[null,null,{"$f":"#REF!*C$90","v":{"$error":"#REF!"}},{"$f":"#REF!*D$90","v":{"$error":"#REF!"}},{"$f":"#REF!*E$90","v":{"$error":"#REF!"}},{"$f":"#REF!*F$90","v":{"$error":"#REF!"}},{"$f":"G24*G$90","v":0},0,0,20,0,{"$error":"#N/A"},15,8,16,0,15,0,0,0,0,0,0,0,0,0,28,{"$error":"#N/A"},{"$error":"#N/A"},{"$error":"#N/A"},{"$error":"#N/A"}]
[null,null,{"$f":"C25*C$90","v":24},12,27,30,0,0,0,15,0,{"$error":"#N/A"},12,10,20,0,12,0,0,0,0,0,0,0,0,0,21,{"$error":"#N/A"},{"$error":"#N/A"},{"$error":"#N/A"},{"$error":"#N/A"}]
[null,null,{"$f":"C26*C$90","v":32},16,45,40,0,0,0,20,0,{"$error":"#N/A"},15,10,16,0,15,0,0,0,0,0,0,0,0,0,35,{"$error":"#N/A"},{"$error":"#N/A"},{"$error":"#N/A"},{"$error":"#N/A"}]
[null,null,{"$f":"C27*C$90","v":32},20,36,50,0,0,0,25,0,{"$error":"#N/A"},15,10,16,0,12,0,0,0,0,0,0,0,0,0,35,{"$error":"#N/A"},{"$error":"#N/A"},{"$error":"#N/A"},{"$error":"#N/A"}]
[null,null,{"$f":"C28*C$90","v":24},16,27,40,0,0,0,20,0,{"$error":"#N/A"},12,10,20,0,12,0,0,0,0,0,0,0,0,0,35,{"$error":"#N/A"},{"$error":"#N/A"},{"$error":"#N/A"},{"$error":"#N/A"}]
[null,null,{"$f":"C29*C$90","v":32},16,36,40,0,0,0,20,0,{"$error":"#N/A"},15,10,16,0,12,0,0,0,0,0,0,0,0,0,28,{"$error":"#N/A"},{"$error":"#N/A"},{"$error":"#N/A"},{"$error":"#N/A"}]
[null,null,{"$f":"C30*C$90","v":24},12,27,30,0,0,0,15,0,{"$error":"#N/A"},15,8,20,0,12,0,0,0,0,0,0,0,0,0,28,{"$error":"#N/A"},{"$error":"#N/A"},{"$error":"#N/A"},{"$error":"#N/A"}]
[null,null,{"$f":"C31*C$90","v":24},12,27,30,0,0,0,15,0,{"$error":"#N/A"},12,8,16,0,12,0,0,0,0,0,0,0,0,0,28,{"$error":"#N/A"},{"$error":"#N/A"},{"$error":"#N/A"},{"$error":"#N/A"}]
[null,null,{"$f":"C32*C$90","v":24},12,27,30,0,0,0,15,0,{"$error":"#N/A"},12,8,16,0,15,0,0,0,0,0,0,0,0,0,35,{"$error":"#N/A"},{"$error":"#N/A"},{"$error":"#N/A"},{"$error":"#N/A"}]
[null,null,{"$f":"C33*C$90","v":0},0,0,0,0,0,0,0,0,{"$error":"#N/A"},0,0,0,0,0,0,0,0,0,0,0,0,0,0,0,{"$error":"#N/A"},{"$error":"#N/A"},{"$error":"#N/A"},{"$error":"#N/A"}]
[null,null,{"$f":"C34*C$90","v":0},0,0,0,0,0,0,0,0,{"$error":"#N/A"},0,0,0,0,0,0,0,0,0,0,0,0,0,0,0,{"$error":"#N/A"},{"$error":"#N/A"},{"$error":"#N/A"},{"$error":"#N/A"}]
[null,null,{"$f":"#REF!*C$90","v":{"$error":"#REF!"}},{"$f":"#REF!*D$90","v":{"$error":"#REF!"}},{"$f":"#REF!*E$90","v":{"$error":"#REF!"}},{"$f":"#REF!*F$90","v":{"$error":"#REF!"}},{"$f":"#REF!*G$90","v":{"$error":"#REF!"}},{"$f":"#REF!*H$90","v":{"$error":"#REF!"}},{"$f":"#REF!*I$90","v":{"$error":"#REF!"}},{"$f":"#REF!*J$90","v":{"$error":"#REF!"}},{"$f":"#REF!*K$90","v":{"$error":"#REF!"}},{"$f":"#REF!*L$90","v":{"$error":"#REF!"}},{"$f":"#REF!*M$90","v":{"$error":"#REF!"}},{"$f":"#REF!*N$90","v":{"$error":"#REF!"}},{"$f":"#REF!*O$90","v":{"$error":"#REF!"}},{"$f":"#REF!*P$90","v":{"$error":"#REF!"}},{"$f":"#REF!*Q$90","v":{"$error":"#REF!"}},{"$f":"#REF!*R$90","v":{"$error":"#REF!"}},{"$f":"#REF!*S$90","v":{"$error":"#REF!"}},{"$f":"#REF!*T$90","v":{"$error":"#REF!"}},{"$f":"#REF!*U$90","v":{"$error":"#REF!"}},{"$f":"#REF!*V$90","v":{"$error":"#REF!"}},{"$f":"#REF!*W$90","v":{"$error":"#REF!"}},{"$f":"#REF!*X$90","v":{"$error":"#REF!"}},{"$f":"#REF!*Y$90","v":{"$error":"#REF!"}},{"$f":"#REF!*Z$90","v":{"$error":"#REF!"}},{"$f":"#REF!*AA$90","v":{"$error":"#REF!"}},{"$f":"#REF!*AB$90","v":{"$error":"#REF!"}},{"$f":"#REF!*AC$90","v":{"$error":"#REF!"}},{"$f":"#REF!*AD$90","v":{"$error":"#REF!"}},{"$f":"#REF!*AE$90","v":{"$error":"#REF!"}}]
[null,null,{"$f":"#REF!*C$90","v":{"$error":"#REF!"}},{"$f":"#REF!*D$90","v":{"$error":"#REF!"}},{"$f":"#REF!*E$90","v":{"$error":"#REF!"}},{"$f":"#REF!*F$90","v":{"$error":"#REF!"}},{"$f":"#REF!*G$90","v":{"$error":"#REF!"}},{"$f":"#REF!*H$90","v":{"$error":"#REF!"}},{"$f":"#REF!*I$90","v":{"$error":"#REF!"}},{"$f":"#REF!*J$90","v":{"$error":"#REF!"}},{"$f":"#REF!*K$90","v":{"$error":"#REF!"}},{"$f":"#REF!*L$90","v":{"$error":"#REF!"}},{"$f":"#REF!*M$90","v":{"$error":"#REF!"}},{"$f":"#REF!*N$90","v":{"$error":"#REF!"}},{"$f":"#REF!*O$90","v":{"$error":"#REF!"}},{"$f":"#REF!*P$90","v":{"$error":"#REF!"}},{"$f":"#REF!*Q$90","v":{"$error":"#REF!"}},{"$f":"#REF!*R$90","v":{"$error":"#REF!"}},{"$f":"#REF!*S$90","v":{"$error":"#REF!"}},{"$f":"#REF!*T$90","v":{"$error":"#REF!"}},{"$f":"#REF!*U$90","v":{"$error":"#REF!"}},{"$f":"#REF!*V$90","v":{"$error":"#REF!"}},{"$f":"#REF!*W$90","v":{"$error":"#REF!"}},{"$f":"#REF!*X$90","v":{"$error":"#REF!"}},{"$f":"#REF!*Y$90","v":{"$error":"#REF!"}},{"$f":"#REF!*Z$90","v":{"$error":"#REF!"}},{"$f":"#REF!*AA$90","v":{"$error":"#REF!"}},{"$f":"#REF!*AB$90","v":{"$error":"#REF!"}},{"$f":"#REF!*AC$90","v":{"$error":"#REF!"}},{"$f":"#REF!*AD$90","v":{"$error":"#REF!"}},{"$f":"#REF!*AE$90","v":{"$error":"#REF!"}}]
[null,null,{"$f":"#REF!*C$90","v":{"$error":"#REF!"}},{"$f":"#REF!*D$90","v":{"$error":"#REF!"}},{"$f":"#REF!*E$90","v":{"$error":"#REF!"}},{"$f":"#REF!*F$90","v":{"$error":"#REF!"}},{"$f":"#REF!*G$90","v":{"$error":"#REF!"}},{"$f":"#REF!*H$90","v":{"$error":"#REF!"}},{"$f":"#REF!*I$90","v":{"$error":"#REF!"}},{"$f":"#REF!*J$90","v":{"$error":"#REF!"}},{"$f":"#REF!*K$90","v":{"$error":"#REF!"}},{"$f":"#REF!*L$90","v":{"$error":"#REF!"}},{"$f":"#REF!*M$90","v":{"$error":"#REF!"}},{"$f":"#REF!*N$90","v":{"$error":"#REF!"}},{"$f":"#REF!*O$90","v":{"$error":"#REF!"}},{"$f":"#REF!*P$90","v":{"$error":"#REF!"}},{"$f":"#REF!*Q$90","v":{"$error":"#REF!"}},{"$f":"#REF!*R$90","v":{"$error":"#REF!"}},{"$f":"#REF!*S$90","v":{"$error":"#REF!"}},{"$f":"#REF!*T$90","v":{"$error":"#REF!"}},{"$f":"#REF!*U$90","v":{"$error":"#REF!"}},{"$f":"#REF!*V$90","v":{"$error":"#REF!"}},{"$f":"#REF!*W$90","v":{"$error":"#REF!"}},{"$f":"#REF!*X$90","v":{"$error":"#REF!"}},{"$f":"#REF!*Y$90","v":{"$error":"#REF!"}},{"$f":"#REF!*Z$90","v":{"$error":"#REF!"}},{"$f":"#REF!*AA$90","v":{"$error":"#REF!"}},{"$f":"#REF!*AB$90","v":{"$error":"#REF!"}},{"$f":"#REF!*AC$90","v":{"$error":"#REF!"}},{"$f":"#REF!*AD$90","v":{"$error":"#REF!"}},{"$f":"#REF!*AE$90","v":{"$error":"#REF!"}}]
[null,null,{"$f":"#REF!*C$90","v":{"$error":"#REF!"}},{"$f":"#REF!*D$90","v":{"$error":"#REF!"}},{"$f":"#REF!*E$90","v":{"$error":"#REF!"}},{"$f":"#REF!*F$90","v":{"$error":"#REF!"}},{"$f":"#REF!*G$90","v":{"$error":"#REF!"}},{"$f":"#REF!*H$90","v":{"$error":"#REF!"}},{"$f":"#REF!*I$90","v":{"$error":"#REF!"}},{"$f":"#REF!*J$90","v":{"$error":"#REF!"}},{"$f":"#REF!*K$90","v":{"$error":"#REF!"}},{"$f":"#REF!*L$90","v":{"$error":"#REF!"}},{"$f":"#REF!*M$90","v":{"$error":"#REF!"}},{"$f":"#REF!*N$90","v":{"$error":"#REF!"}},{"$f":"#REF!*O$90","v":{"$error":"#REF!"}},{"$f":"#REF!*P$90","v":{"$error":"#REF!"}},{"$f":"#REF!*Q$90","v":{"$error":"#REF!"}},{"$f":"#REF!*R$90","v":{"$error":"#REF!"}},{"$f":"#REF!*S$90","v":{"$error":"#REF!"}},{"$f":"#REF!*T$90","v":{"$error":"#REF!"}},{"$f":"#REF!*U$90","v":{"$error":"#REF!"}},{"$f":"#REF!*V$90","v":{"$error":"#REF!"}},{"$f":"#REF!*W$90","v":{"$error":"#REF!"}},{"$f":"#REF!*X$90","v":{"$error":"#REF!"}},{"$f":"#REF!*Y$90","v":{"$error":"#REF!"}},{"$f":"#REF!*Z$90","v":{"$error":"#REF!"}},{"$f":"#REF!*AA$90","v":{"$error":"#REF!"}},{"$f":"#REF!*AB$90","v":{"$error":"#REF!"}},{"$f":"#REF!*AC$90","v":{"$error":"#REF!"}},{"$f":"#REF!*AD$90","v":{"$error":"#REF!"}},{"$f":"#REF!*AE$90","v":{"$error":"#REF!"}}]
[null,null,{"$f":"#REF!*C$90","v":{"$error":"#REF!"}},{"$f":"#REF!*D$90","v":{"$error":"#REF!"}},{"$f":"#REF!*E$90","v":{"$error":"#REF!"}},{"$f":"#REF!*F$90","v":{"$error":"#REF!"}},{"$f":"#REF!*G$90","v":{"$error":"#REF!"}},{"$f":"#REF!*H$90","v":{"$error":"#REF!"}},{"$f":"#REF!*I$90","v":{"$error":"#REF!"}},{"$f":"#REF!*J$90","v":{"$error":"#REF!"}},{"$f":"#REF!*K$90","v":{"$error":"#REF!"}},{"$f":"#REF!*L$90","v":{"$error":"#REF!"}},{"$f":"#REF!*M$90","v":{"$error":"#REF!"}},{"$f":"#REF!*N$90","v":{"$error":"#REF!"}},{"$f":"#REF!*O$90","v":{"$error":"#REF!"}},{"$f":"#REF!*P$90","v":{"$error":"#REF!"}},{"$f":"#REF!*Q$90","v":{"$error":"#REF!"}},{"$f":"#REF!*R$90","v":{"$error":"#REF!"}},{"$f":"#REF!*S$90","v":{"$error":"#REF!"}},{"$f":"#REF!*T$90","v":{"$error":"#REF!"}},{"$f":"#REF!*U$90","v":{"$error":"#REF!"}},{"$f":"#REF!*V$90","v":{"$error":"#REF!"}},{"$f":"#REF!*W$90","v":{"$error":"#REF!"}},{"$f":"#REF!*X$90","v":{"$error":"#REF!"}},{"$f":"#REF!*Y$90","v":{"$error":"#REF!"}},{"$f":"#REF!*Z$90","v":{"$error":"#REF!"}},{"$f":"#REF!*AA$90","v":{"$error":"#REF!"}},{"$f":"#REF!*AB$90","v":{"$error":"#REF!"}},{"$f":"#REF!*AC$90","v":{"$error":"#REF!"}},{"$f":"#REF!*AD$90","v":{"$error":"#REF!"}},{"$f":"#REF!*AE$90","v":{"$error":"#REF!"}}]
[null,null,{"$f":"#REF!*C$90","v":{"$error":"#REF!"}},{"$f":"#REF!*D$90","v":{"$error":"#REF!"}},{"$f":"#REF!*E$90","v":{"$error":"#REF!"}},{"$f":"#REF!*F$90","v":{"$error":"#REF!"}},{"$f":"#REF!*G$90","v":{"$error":"#REF!"}},{"$f":"#REF!*H$90","v":{"$error":"#REF!"}},{"$f":"#REF!*I$90","v":{"$error":"#REF!"}},{"$f":"#REF!*J$90","v":{"$error":"#REF!"}},{"$f":"#REF!*K$90","v":{"$error":"#REF!"}},{"$f":"#REF!*L$90","v":{"$error":"#REF!"}},{"$f":"#REF!*M$90","v":{"$error":"#REF!"}},{"$f":"#REF!*N$90","v":{"$error":"#REF!"}},{"$f":"#REF!*O$90","v":{"$error":"#REF!"}},{"$f":"#REF!*P$90","v":{"$error":"#REF!"}},{"$f":"#REF!*Q$90","v":{"$error":"#REF!"}},{"$f":"#REF!*R$90","v":{"$error":"#REF!"}},{"$f":"#REF!*S$90","v":{"$error":"#REF!"}},{"$f":"#REF!*T$90","v":{"$error":"#REF!"}},{"$f":"#REF!*U$90","v":{"$error":"#REF!"}},{"$f":"#REF!*V$90","v":{"$error":"#REF!"}},{"$f":"#REF!*W$90","v":{"$error":"#REF!"}},{"$f":"#REF!*X$90","v":{"$error":"#REF!"}},{"$f":"#REF!*Y$90","v":{"$error":"#REF!"}},{"$f":"#REF!*Z$90","v":{"$error":"#REF!"}},{"$f":"#REF!*AA$90","v":{"$error":"#REF!"}},{"$f":"#REF!*AB$90","v":{"$error":"#REF!"}},{"$f":"#REF!*AC$90","v":{"$error":"#REF!"}},{"$f":"#REF!*AD$90","v":{"$error":"#REF!"}},{"$f":"#REF!*AE$90","v":{"$error":"#REF!"}}]
[null,null,{"$f":"#REF!*C$90","v":{"$error":"#REF!"}},{"$f":"#REF!*D$90","v":{"$error":"#REF!"}},{"$f":"#REF!*E$90","v":{"$error":"#REF!"}},{"$f":"#REF!*F$90","v":{"$error":"#REF!"}},{"$f":"#REF!*G$90","v":{"$error":"#REF!"}},{"$f":"#REF!*H$90","v":{"$error":"#REF!"}},{"$f":"#REF!*I$90","v":{"$error":"#REF!"}},{"$f":"#REF!*J$90","v":{"$error":"#REF!"}},{"$f":"#REF!*K$90","v":{"$error":"#REF!"}},{"$f":"#REF!*L$90","v":{"$error":"#REF!"}},{"$f":"#REF!*M$90","v":{"$error":"#REF!"}},{"$f":"#REF!*N$90","v":{"$error":"#REF!"}},{"$f":"#REF!*O$90","v":{"$error":"#REF!"}},{"$f":"#REF!*P$90","v":{"$error":"#REF!"}},{"$f":"#REF!*Q$90","v":{"$error":"#REF!"}},{"$f":"#REF!*R$90","v":{"$error":"#REF!"}},{"$f":"#REF!*S$90","v":{"$error":"#REF!"}},{"$f":"#REF!*T$90","v":{"$error":"#REF!"}},{"$f":"#REF!*U$90","v":{"$error":"#REF!"}},{"$f":"#REF!*V$90","v":{"$error":"#REF!"}},{"$f":"#REF!*W$90","v":{"$error":"#REF!"}},{"$f":"#REF!*X$90","v":{"$error":"#REF!"}},{"$f":"#REF!*Y$90","v":{"$error":"#REF!"}},{"$f":"#REF!*Z$90","v":{"$error":"#REF!"}},{"$f":"#REF!*AA$90","v":{"$error":"#REF!"}},{"$f":"#REF!*AB$90","v":{"$error":"#REF!"}},{"$f":"#REF!*AC$90","v":{"$error":"#REF!"}},{"$f":"#REF!*AD$90","v":{"$error":"#REF!"}},{"$f":"#REF!*AE$90","v":{"$error":"#REF!"}}]
[null,null,{"$f":"#REF!*C$90","v":{"$error":"#REF!"}},{"$f":"#REF!*D$90","v":{"$error":"#REF!"}},{"$f":"#REF!*E$90","v":{"$error":"#REF!"}},{"$f":"#REF!*F$90","v":{"$error":"#REF!"}},{"$f":"#REF!*G$90","v":{"$error":"#REF!"}},{"$f":"#REF!*H$90","v":{"$error":"#REF!"}},{"$f":"#REF!*I$90","v":{"$error":"#REF!"}},{"$f":"#REF!*J$90","v":{"$error":"#REF!"}},{"$f":"#REF!*K$90","v":{"$error":"#REF!"}},{"$f":"#REF!*L$90","v":{"$error":"#REF!"}},{"$f":"#REF!*M$90","v":{"$error":"#REF!"}},{"$f":"#REF!*N$90","v":{"$error":"#REF!"}},{"$f":"#REF!*O$90","v":{"$error":"#REF!"}},{"$f":"#REF!*P$90","v":{"$error":"#REF!"}},{"$f":"#REF!*Q$90","v":{"$error":"#REF!"}},{"$f":"#REF!*R$90","v":{"$error":"#REF!"}},{"$f":"#REF!*S$90","v":{"$error":"#REF!"}},{"$f":"#REF!*T$90","v":{"$error":"#REF!"}},{"$f":"#REF!*U$90","v":{"$error":"#REF!"}},{"$f":"#REF!*V$90","v":{"$error":"#REF!"}},{"$f":"#REF!*W$90","v":{"$error":"#REF!"}},{"$f":"#REF!*X$90","v":{"$error":"#REF!"}},{"$f":"#REF!*Y$90","v":{"$error":"#REF!"}},{"$f":"#REF!*Z$90","v":{"$error":"#REF!"}},{"$f":"#REF!*AA$90","v":{"$error":"#REF!"}},{"$f":"#REF!*AB$90","v":{"$error":"#REF!"}},{"$f":"#REF!*AC$90","v":{"$error":"#REF!"}},{"$f":"#REF!*AD$90","v":{"$error":"#REF!"}},{"$f":"#REF!*AE$90","v":{"$error":"#REF!"}}]
[null,null,{"$f":"#REF!*C$90","v":{"$error":"#REF!"}},{"$f":"#REF!*D$90","v":{"$error":"#REF!"}},{"$f":"#REF!*E$90","v":{"$error":"#REF!"}},{"$f":"#REF!*F$90","v":{"$error":"#REF!"}},{"$f":"#REF!*G$90","v":{"$error":"#REF!"}},{"$f":"#REF!*H$90","v":{"$error":"#REF!"}},{"$f":"#REF!*I$90","v":{"$error":"#REF!"}},{"$f":"#REF!*J$90","v":{"$error":"#REF!"}},{"$f":"#REF!*K$90","v":{"$error":"#REF!"}},{"$f":"#REF!*L$90","v":{"$error":"#REF!"}},{"$f":"#REF!*M$90","v":{"$error":"#REF!"}},{"$f":"#REF!*N$90","v":{"$error":"#REF!"}},{"$f":"#REF!*O$90","v":{"$error":"#REF!"}},{"$f":"#REF!*P$90","v":{"$error":"#REF!"}},{"$f":"#REF!*Q$90","v":{"$error":"#REF!"}},{"$f":"#REF!*R$90","v":{"$error":"#REF!"}},{"$f":"#REF!*S$90","v":{"$error":"#REF!"}},{"$f":"#REF!*T$90","v":{"$error":"#REF!"}},{"$f":"#REF!*U$90","v":{"$error":"#REF!"}},{"$f":"#REF!*V$90","v":{"$error":"#REF!"}},{"$f":"#REF!*W$90","v":{"$error":"#REF!"}},{"$f":"#REF!*X$90","v":{"$error":"#REF!"}},{"$f":"#REF!*Y$90","v":{"$error":"#REF!"}},{"$f":"#REF!*Z$90","v":{"$error":"#REF!"}},{"$f":"#REF!*AA$90","v":{"$error":"#REF!"}},{"$f":"#REF!*AB$90","v":{"$error":"#REF!"}},{"$f":"#REF!*AC$90","v":{"$error":"#REF!"}},{"$f":"#REF!*AD$90","v":{"$error":"#REF!"}},{"$f":"#REF!*AE$90","v":{"$error":"#REF!"}}]
[null,null,{"$f":"#REF!*C$90","v":{"$error":"#REF!"}},{"$f":"#REF!*D$90","v":{"$error":"#REF!"}},{"$f":"#REF!*E$90","v":{"$error":"#REF!"}},{"$f":"#REF!*F$90","v":{"$error":"#REF!"}},{"$f":"#REF!*G$90","v":{"$error":"#REF!"}},{"$f":"#REF!*H$90","v":{"$error":"#REF!"}},{"$f":"#REF!*I$90","v":{"$error":"#REF!"}},{"$f":"#REF!*J$90","v":{"$error":"#REF!"}},{"$f":"#REF!*K$90","v":{"$error":"#REF!"}},{"$f":"#REF!*L$90","v":{"$error":"#REF!"}},{"$f":"#REF!*M$90","v":{"$error":"#REF!"}},{"$f":"#REF!*N$90","v":{"$error":"#REF!"}},{"$f":"#REF!*O$90","v":{"$error":"#REF!"}},{"$f":"#REF!*P$90","v":{"$error":"#REF!"}},{"$f":"#REF!*Q$90","v":{"$error":"#REF!"}},{"$f":"#REF!*R$90","v":{"$error":"#REF!"}},{"$f":"#REF!*S$90","v":{"$error":"#REF!"}},{"$f":"#REF!*T$90","v":{"$error":"#REF!"}},{"$f":"#REF!*U$90","v":{"$error":"#REF!"}},{"$f":"#REF!*V$90","v":{"$error":"#REF!"}},{"$f":"#REF!*W$90","v":{"$error":"#REF!"}},{"$f":"#REF!*X$90","v":{"$error":"#REF!"}},{"$f":"#REF!*Y$90","v":{"$error":"#REF!"}},{"$f":"#REF!*Z$90","v":{"$error":"#REF!"}},{"$f":"#REF!*AA$90","v":{"$error":"#REF!"}},{"$f":"#REF!*AB$90","v":{"$error":"#REF!"}},{"$f":"#REF!*AC$90","v":{"$error":"#REF!"}},{"$f":"#REF!*AD$90","v":{"$error":"#REF!"}},{"$f":"#REF!*AE$90","v":{"$error":"#REF!"}}]
[null,null,{"$f":"C35*C$90","v":0},0,0,0,0,0,0,0,0,{"$error":"#N/A"},0,0,0,0,0,0,0,0,0,0,0,0,0,0,0,{"$error":"#N/A"},{"$error":"#N/A"},{"$error":"#N/A"},{"$error":"#N/A"}]

{"sheet":"5 А(2)","index":20,"n_rows":82,"n_cols":8,"rows_kept":82,"cut":false,"hidden":true,"merged":[[0,4,0,7],[0,0,0,3],[3,0,15,0],[67,0,67,1],[52,0,52,1],[42,0,42,1],[17,0,17,1],[1,0,1,2],[2,0,2,1]]}
[{"$f":"Титул!B16","v":"5 А"},null,null,null,"Страница заполняется автоматически, без участия оператора!!!"]
["Всего учащихся в классе:",null,null,{"$f":"Титул!C16","v":27},"Фамилии, имена               учащихся","Учебные предметы","Фамилии и инициалы учителей","Пояснения, примечания, причины"]
["Учатся на  \"5\":",null,{"$f":"COUNTA(E3:E17)","v":1},1,"Монастыршина Вероника"]
[null,null,null,2]
[null,null,null,3]
[null,null,null,4]
[null,null,null,5]
[null,null,null,6]
[null,null,null,7]
[null,null,null,8]
[null,null,null,9]
[null,null,null,10]
[null,null,null,11]
[null,null,null,12]
[null,null,null,13]
[null,null,null,14]
[null,null,null,15]
["Учатся  на \"4\"и\"5\"",null,{"$f":"COUNTA(E18:E42)","v":10},1,"Голостенова Екатерина"]
[null," ",null,2,"Долгачева Полина"]
[null,null,null,3,"Еськова Ксения"]
[null,null,null,4,"Куличенко Мария"]
[null,null,null,5,"Лунева Полина"]
[null,null,null,6,"Новикова Софья"]
[null,null,null,7,"Пономарев Артем"]
[null,null,null,8,"Терещенко Николай"]
[null,null,null,9,"Толкачева Виктория"]
[null,null,null,10,"Турченко Ирина"]
[null,null,null,11]
[null,null,null,12]
[null,null,null,13]
[null,null,null,14]
[null,null,null,15]
[null,null,null,16]
[null,null,null,17]
[null,null,null,18]
[null,null,null,19]
[null,null,null,20]
[null,null,null,21]
[null,null,null,22]
[null,null,null,23]
[null,null,null,24]
[null,null,null,25]
["Не аттестованы:",null,{"$f":"COUNTA(E43:E52)","v":0},1]
[null," ",null,2]
[null,null,null,3]
[null,null,null,4]
[null,null,null,5]
[null,null,null,6]
[null,null,null,7]
[null,null,null,8]
[null,null,null,9]
[null,null,null,10]
["Не успевают:",null,{"$f":"COUNTA(E53:E67)","v":0},1]
[null," ",null,2]
[null,null,null,3]
[null,null,null,4]
[null,null,null,5]
[null,null,null,6]
[null,null,null,7]
[null,null,null,8]
[null,null,null,9]
[null,null,null,10]
[null,null,null,11]
[null,null,null,12]
[null,null,null,13]
[null,null,null,14]
[null,null,null,15]
["Освобождены:",null,{"$f":"COUNTA(E68:E82)","v":0},1]
[null," ",null,2]
[null,null,null,3]
[null,null,null,4]
[null,null,null,5]
[null,null,null,6]
[null,null,null,7]
[null,null,null,8]
[null,null,null,9]
[null,null,null,10]
[null,null,null,11]
[null,null,null,12]
[null,null,null,13]
[null,null,null,14]
[null,null,null,15]

{"sheet":"5 Б","index":21,"n_rows":130,"n_cols":35,"rows_kept":130,"cut":false,"hidden":true,"merged":[[0,26,0,32],[3,2,3,30],[0,0,0,2],[0,3,0,25],[2,4,2,17],[3,31,3,34],[2,23,2,34],[2,18,2,22],[1,29,1,31],[1,25,1,28],[1,0,1,24],[2,0,2,3],[47,0,47,26],[46,31,46,34],[45,31,45,34],[44,31,44,34],[43,31,43,34],[47,28,47,33],[35,31,35,34],[38,31,38,34],[37,31,37,34],[36,31,36,34],[3,0,4,1],[35,0,35,1],[36,0,46,0],[42,31,42,34],[41,31,41,34],[40,31,40,34],[39,31,39,34]]}
[{"$f":"Титул!B5","v":"2014/15 учебный год"},null,null,{"$f":"Титул!B4","v":"МОУ СОШ  № 15"},null,null,null,null,null,null,null,null,null,null,null,null,null,null,null,null,null,null,null,null,null,null,{"$f":"Титул!B6","v":"4 четверть"},null,null,null,null,null,null,null,"3+"]
["ВЕДОМОСТЬ  РЕЗУЛЬТАТОВ  УЧЕБНОЙ  ДЕЯТЕЛЬНОСТИ",null,null,null,null,null,null,null,null,null,null,null,null,null,null,null,null,null,null,null,null,null,null,null,null,{"$f":"Титул!B17","v":"5 Б"},null,null,null,"класса"]
["Классный руководитель:",null,null,null,{"$f":"Титул!D17","v":"Желтова С.И."},null,null,null,null,null,null,null,null,null,null,null,null,null,"Программа:",null,null,null,null,{"$f":"Титул!G17","v":"общеобразовательный"}]
["Вручную вносятся только оценки \"5\", \"4\", \"3\", \"2\", \"1\". \nНе аттестованным проставляется \"0\", освобожденным - \"Н\".  ",null,"У  ч  е  б  н  ы  е      п  р  е  д  м  е  т  ы",null,null,null,null,null,null,null,null,null,null,null,null,null,null,null,null,null,null,null,null,null,null,null,null,null,null,null,null,"Результаты ученика:"]
[null,null,{"$f":"Нагрузка!C3","v":"Русский язык"},{"$f":"Нагрузка!D3","v":"Литература"},{"$f":"Нагрузка!E3","v":"Иностранный язык"},{"$f":"Нагрузка!F3","v":"Математика"},{"$f":"Нагрузка!G3","v":"Алгебра"},{"$f":"Нагрузка!H3","v":"Геометрия"},{"$f":"Нагрузка!I3","v":"Информатика"},{"$f":"Нагрузка!J3","v":"История"},{"$f":"Нагрузка!K3","v":"Обществознание"},{"$f":"Нагрузка!L3","v":"Окружающий мир"},{"$f":"Нагрузка!M3","v":"ИЗО"},{"$f":"Нагрузка!N3","v":"Музыка"},{"$f":"Нагрузка!O3","v":"Технология"},{"$f":"Нагрузка!P3","v":"Технология"},{"$f":"Нагрузка!Q3","v":"ФЗК"},{"$f":"Нагрузка!R3","v":"Иностранный язык"},{"$f":"Нагрузка!S3","v":"Иностранный язык"},{"$f":"Нагрузка!T3","v":"География"},{"$f":"Нагрузка!U3","v":"Физика"},{"$f":"Нагрузка!V3","v":"Химия"},{"$f":"Нагрузка!W3","v":"Биология"},{"$f":"Нагрузка!X3","v":"МХК"},{"$f":"Нагрузка!Y3","v":"ФЗК"},{"$f":"Нагрузка!Z3","v":"ОБЖ"},{"$f":"Нагрузка!AA3","v":"Природоведение"},{"$f":"Нагрузка!AB3","v":0},{"$f":"Нагрузка!AC3","v":0},{"$f":"Нагрузка!AD3","v":0},{"$f":"Нагрузка!AE3","v":0},"Средний балл:","Степень обученности (СОУ):","Качество успеваемости:","Рейтинговый учебный балл:"]
[1,{"$f":"СпискиКлассы!J4","v":"Ахмадеев Руслан"},4,5,4,4,null,null,null,5,null,null,5,5,4,null,5,null,null,null,null,null,null,null,null,null,5,null,null,null,null,{"$f":"AVERAGE(C6:AE6)","v":4.5999999999999996},{"$f":"(COUNTIF(C6:AE6,\"5\")+COUNTIF(C6:AE6,\"4\")*0.64+COUNTIF(C6:AE6,\"3\")*0.36+COUNTIF(C6:AE6,\"2\")*0.16)/(COUNTIF(C6:AE6,\"5\")+COUNTIF(C6:AE6,\"4\")+COUNTIF(C6:AE6,\"3\")+COUNTIF(C6:AE6,\"2\")+COUNTIF(C6:AE6,\"0\"))","v":0.85600000000000009},{"$f":"((5*COUNTIF(C6:AE6,\"5\"))+(4*COUNTIF(C6:AE6,\"4\")))/(5*(COUNTA(C6:AE6)-COUNTIF(C6:AE6,\"н\")))","v":0.92},{"$f":"SUMIF(C91:AE91,\">0\",C91:AE91)/(COUNTIF(C6:AE6,\">0\")+COUNTIF(C6:AE6,\"=0\")+COUNTIF(C6:AE6,\"Н\"))","v":24.4}]
[{"$f":"A6+1","v":2},{"$f":"СпискиКлассы!J5","v":"Беляева Дарья"},3,4,3,3,null,null,null,3,null,null,5,5,5,null,5,null,null,null,null,null,null,null,null,null,5,null,null,null,null,{"$f":"AVERAGE(C7:AE7)","v":4.0999999999999996},{"$f":"(COUNTIF(C7:AE7,\"5\")+COUNTIF(C7:AE7,\"4\")*0.64+COUNTIF(C7:AE7,\"3\")*0.36+COUNTIF(C7:AE7,\"2\")*0.16)/(COUNTIF(C7:AE7,\"5\")+COUNTIF(C7:AE7,\"4\")+COUNTIF(C7:AE7,\"3\")+COUNTIF(C7:AE7,\"2\")+COUNTIF(C7:AE7,\"0\"))","v":0.70799999999999996},{"$f":"((5*COUNTIF(C7:AE7,\"5\"))+(4*COUNTIF(C7:AE7,\"4\")))/(5*(COUNTA(C7:AE7)-COUNTIF(C7:AE7,\"н\")))","v":0.57999999999999996},20.7]
[3,{"$f":"СпискиКлассы!J6","v":"Вахмистрова Алина"},3,3,3,3,null,null,null,3,null,null,4,5,4,null,4,null,null,null,null,null,null,null,null,null,4,null,null,null,null,{"$f":"AVERAGE(C8:AE8)","v":3.6},0.53599999999999992,0.42,18.600000000000001]
[4,{"$f":"СпискиКлассы!J7","v":"Гуляева Кристина"},4,5,4,4,null,null,null,4,null,null,5,5,5,null,4,null,null,null,null,null,null,null,null,null,5,null,null,null,null,4.5,0.82,0.9,24]
[5,{"$f":"СпискиКлассы!J8","v":"Квецинская Евгения"},4,5,4,4,null,null,null,5,null,null,5,5,5,null,5,null,null,null,null,null,null,null,null,null,5,null,null,null,null,4.7,0.89200000000000002,0.94,24.8]
[6,{"$f":"СпискиКлассы!J9","v":"Кристалинская Виктория"},5,5,5,5,null,null,null,5,null,null,5,5,5,null,5,null,null,null,null,null,null,null,null,null,5,null,null,null,null,5,1,1,27.5]
[7,{"$f":"СпискиКлассы!J10","v":"Мирошниченко Иван"},3,3,3,3,null,null,null,3,null,null,4,4,4,null,5,null,null,null,null,null,null,null,null,null,4,null,null,null,null,3.6,0.53599999999999992,0.42,18.7]
[8,{"$f":"СпискиКлассы!J11","v":"Мишко Леонид"},3,3,3,3,null,null,null,3,null,null,3,4,3,null,5,null,null,null,null,null,null,null,null,null,4,null,null,null,null,3.4,0.48000000000000009,0.26,18]
[9,{"$f":"СпискиКлассы!J12","v":"Плаунова Юлия"},3,3,4,4,null,null,null,4,null,null,4,5,5,null,4,null,null,null,null,null,null,null,null,null,4,null,null,null,null,4,0.65599999999999992,0.68,21.4]
[10,{"$f":"СпискиКлассы!J13","v":"Полякова Наталья"},4,5,4,4,null,null,null,5,null,null,5,5,5,null,4,null,null,null,null,null,null,null,null,null,5,null,null,null,null,4.5999999999999996,0.85600000000000009,0.92,24.5]
[11,{"$f":"СпискиКлассы!J14","v":"Ракута Марина"},3,3,3,3,null,null,null,3,null,null,3,4,3,null,3,null,null,null,null,null,null,null,null,null,3,null,null,null,null,3.1,0.38800000000000001,0.08,16.7]
[12,{"$f":"СпискиКлассы!J15","v":"Рекин Даниил"},3,3,3,4,null,null,null,3,null,null,5,4,3,null,4,null,null,null,null,null,null,null,null,null,3,null,null,null,null,3.5,0.50800000000000001,0.34,18.600000000000001]
[13,{"$f":"СпискиКлассы!J16","v":"Смольников Максим"},3,3,3,3,null,null,null,3,null,null,4,4,3,null,5,null,null,null,null,null,null,null,null,null,3,null,null,null,null,3.4,0.48000000000000009,0.26,17.600000000000001]
[14,{"$f":"СпискиКлассы!J17","v":"Ступко Тимофей"},3,3,3,3,null,null,null,3,null,null,5,4,4,null,5,null,null,null,null,null,null,null,null,null,4,null,null,null,null,3.7,0.57199999999999995,0.44,19]
[15,{"$f":"СпискиКлассы!J18","v":"Фоминых Арина"},3,4,3,3,null,null,null,3,null,null,5,5,4,null,3,null,null,null,null,null,null,null,null,null,4,null,null,null,null,3.7,0.57199999999999995,0.44,19]
[16,{"$f":"СпискиКлассы!J19","v":"Яримей Анастасия"},4,5,4,5,null,null,null,5,null,null,5,5,5,null,5,null,null,null,null,null,null,null,null,null,5,null,null,null,null,4.8,0.92799999999999994,0.96,25.8]
[17,{"$f":"СпискиКлассы!J20","v":"Бабаев Владислав"},3,3,3,3,null,null,null,3,null,null,5,5,4,null,3,null,null,null,null,null,null,null,null,null,4,null,null,null,null,3.6,0.54400000000000004,0.36,18.600000000000001]
[18,{"$f":"СпискиКлассы!J21","v":"Балашова Анастасия"},4,4,4,4,null,null,null,4,null,null,5,5,5,null,5,null,null,null,null,null,null,null,null,null,5,null,null,null,null,4.5,0.82,0.9,23.9]
[19,{"$f":"СпискиКлассы!J22","v":"Докукина Виктория"},3,3,4,3,null,null,null,3,null,null,5,5,3,null,3,null,null,null,null,null,null,null,null,null,5,null,null,null,null,3.7,0.58000000000000007,0.38,19.8]
[20,{"$f":"СпискиКлассы!J23","v":"Киселев Евгений"},3,3,3,3,null,null,null,3,null,null,4,5,4,null,4,null,null,null,null,null,null,null,null,null,4,null,null,null,null,3.6,0.53599999999999992,0.42,18.600000000000001]
[21,{"$f":"СпискиКлассы!J24","v":"Косогор Всеволод"},3,3,3,3,null,null,null,3,null,null,4,5,4,null,5,null,null,null,null,null,null,null,null,null,4,null,null,null,null,3.7,0.57199999999999995,0.44,18.899999999999999]
[22,{"$f":"СпискиКлассы!J25","v":"Крючков Александр"},3,3,3,3,null,null,null,3,null,null,4,4,4,null,5,null,null,null,null,null,null,null,null,null,4,null,null,null,null,3.6,0.53599999999999992,0.42,18.7]
[23,{"$f":"СпискиКлассы!J26","v":"Михеев Иван"},3,4,3,3,null,null,null,3,null,null,5,5,4,null,5,null,null,null,null,null,null,null,null,null,3,null,null,null,null,3.8,0.60799999999999998,0.46,18.899999999999999]
[24,{"$f":"СпискиКлассы!J27","v":"Осипов Арсений"},4,5,5,4,null,null,null,5,null,null,4,5,4,null,5,null,null,null,null,null,null,null,null,null,5,null,null,null,null,4.5999999999999996,0.85600000000000009,0.92,25]
[25,{"$f":"СпискиКлассы!J28","v":"Очкин Кирилл"},3,3,3,3,null,null,null,3,null,null,5,5,4,null,4,null,null,null,null,null,null,null,null,null,5,null,null,null,null,3.8,0.60799999999999998,0.46,19.600000000000001]
[26,{"$f":"СпискиКлассы!J29","v":"Прушинский Сергей"},3,3,3,3,null,null,null,3,null,null,5,4,4,null,4,null,null,null,null,null,null,null,null,null,4,null,null,null,null,{"$f":"AVERAGE(C31:AE31)","v":3.6},{"$f":"(COUNTIF(C31:AE31,\"5\")+COUNTIF(C31:AE31,\"4\")*0.64+COUNTIF(C31:AE31,\"3\")*0.36+COUNTIF(C31:AE31,\"2\")*0.16)/(COUNTIF(C31:AE31,\"5\")+COUNTIF(C31:AE31,\"4\")+COUNTIF(C31:AE31,\"3\")+COUNTIF(C31:AE31,\"2\")+COUNTIF(C31:AE31,\"0\"))","v":0.53599999999999992},0.42,18.7]
[27,{"$f":"СпискиКлассы!J30","v":"Суржиков Михаил"},3,3,4,4,null,null,null,4,null,null,5,4,4,null,4,null,null,null,null,null,null,null,null,null,4,null,null,null,null,3.9,0.62,0.66,21.1]
[28,{"$f":"СпискиКлассы!J31","v":"Чернышова Валентина"},3,4,3,3,null,null,null,3,null,null,5,4,4,null,3,null,null,null,null,null,null,null,null,null,4,null,null,null,null,3.6,0.53599999999999992,0.42,18.8]
[29,{"$f":"СпискиКлассы!J32","v":"Энсс Александр"},3,4,3,3,null,null,null,3,null,null,5,5,4,null,5,null,null,null,null,null,null,null,null,null,5,null,null,null,null,4,0.67200000000000004,0.56000000000000005,20.3]
[30,{"$f":"СпискиКлассы!J43","v":0},null,null,null,null,null,null,null,null,null,null,null,null,null,null,null,null,null,null,null,null,null,null,null,null,null,null,null,null,null,{"$error":"#DIV/0!"},{"$error":"#DIV/0!"},{"$error":"#DIV/0!"},{"$f":"SUMIF(C130:AE130,\">0\",C130:AE130)/(COUNTIF(C35:AE35,\">0\")+COUNTIF(C35:AE35,\"=0\")+COUNTIF(C35:AE35,\"Н\"))","v":{"$error":"#DIV/0!"}}]
[" Фамилия и инициалы                                           учителя - предметника",null,{"$f":"Нагрузка!C13","v":"Есипова"},{"$f":"Нагрузка!D13","v":"Есипова"},{"$f":"Нагрузка!E13","v":"Калугина"},{"$f":"Нагрузка!F13","v":"Есипова"},{"$f":"Нагрузка!G13","v":0},{"$f":"Нагрузка!H13","v":0},{"$f":"Нагрузка!I13","v":0},{"$f":"Нагрузка!J13","v":0},{"$f":"Нагрузка!K13","v":0},{"$f":"Нагрузка!L13","v":"Есипова"},{"$f":"Нагрузка!M13","v":"Есипова"},{"$f":"Нагрузка!N13","v":"Заворина"},{"$f":"Нагрузка!O13","v":"Есипова"},{"$f":"Нагрузка!P13","v":"Есипова"},{"$f":"Нагрузка!Q13","v":"Ермакова"},{"$f":"Нагрузка!R13","v":"Калугина"},{"$f":"Нагрузка!S13","v":0},{"$f":"Нагрузка!T13","v":0},{"$f":"Нагрузка!U13","v":0},{"$f":"Нагрузка!V13","v":0},{"$f":"Нагрузка!W13","v":0},{"$f":"Нагрузка!X13","v":0},{"$f":"Нагрузка!Y13","v":0},{"$f":"Нагрузка!Z13","v":0},{"$f":"Нагрузка!AA13","v":0},{"$f":"Нагрузка!AB13","v":0},{"$f":"Нагрузка!AC13","v":0},{"$f":"Нагрузка!AD13","v":0},{"$f":"Нагрузка!AE13","v":0},"Показатели результатов учебной деятельности в  целом по классу:"]
["Результаты учебной деятельности класса","Количество  \"5\":",{"$f":"COUNTIF(C6:C35,5)","v":1},7,2,2,0,0,0,6,0,0,19,19,8,0,15,0,0,0,0,0,0,0,0,0,12,0,0,0,0,{"$f":"SUM(C37:AE37)","v":91}]
[null,"Количество  \"4\":",{"$f":"COUNTIF(C6:C35,4)","v":7},6,9,9,0,0,0,4,0,0,8,10,16,0,9,0,0,0,0,0,0,0,0,0,13,0,0,0,0,91]
[null,"Количество  \"3\":",{"$f":"COUNTIF(C6:C35,3)","v":21},16,18,18,0,0,0,19,0,0,2,0,5,0,5,0,0,0,0,0,0,0,0,0,4,0,0,0,0,108]
[null,"Количество  \"2\":",{"$f":"COUNTIF(C6:C35,2)","v":0},0,0,0,0,0,0,0,0,0,0,0,0,0,0,0,0,0,0,0,0,0,0,0,0,0,0,0,0,0]
[null,"Не аттестовано:",{"$f":"COUNTIF(C6:C35,0)","v":0},0,0,0,0,0,0,0,0,0,0,0,0,0,0,0,0,0,0,0,0,0,0,0,0,0,0,0,0,0]
[null,"Освобождено:",{"$f":"COUNTIF(C6:C35,\"н\")","v":0},0,0,0,0,0,0,0,0,0,0,0,0,0,0,0,0,0,0,0,0,0,0,0,0,0,0,0,0,0]
[null,"Успеваемость:",{"$f":"(C37+C38+C39)/(C37+C38+C39+C40+C41)","v":1},{"$f":"(D37+D38+D39)/(D37+D38+D39+D40+D41)","v":1},1,1,{"$error":"#DIV/0!"},{"$error":"#DIV/0!"},{"$error":"#DIV/0!"},1,{"$error":"#DIV/0!"},{"$error":"#DIV/0!"},1,1,1,{"$error":"#DIV/0!"},1,{"$error":"#DIV/0!"},{"$error":"#DIV/0!"},{"$error":"#DIV/0!"},{"$error":"#DIV/0!"},{"$error":"#DIV/0!"},{"$error":"#DIV/0!"},{"$error":"#DIV/0!"},{"$error":"#DIV/0!"},{"$error":"#DIV/0!"},1,{"$error":"#DIV/0!"},{"$error":"#DIV/0!"},{"$error":"#DIV/0!"},{"$error":"#DIV/0!"},{"$f":"('5 Б(2)'!D2-'5 Б(2)'!C43-'5 Б(2)'!C53)/'5 Б(2)'!D2","v":1}]
[null,"Качество знаний:",{"$f":"(C37+C38)/(C37+C38+C39+C40+C41)","v":0.27586206896551724},{"$f":"(D37+D38)/(D37+D38+D39+D40+D41)","v":0.44827586206896552},0.37931034482758619,0.37931034482758619,{"$error":"#DIV/0!"},{"$error":"#DIV/0!"},{"$error":"#DIV/0!"},0.34482758620689657,{"$error":"#DIV/0!"},{"$error":"#DIV/0!"},0.93103448275862066,1,0.82758620689655171,{"$error":"#DIV/0!"},0.82758620689655171,{"$error":"#DIV/0!"},{"$error":"#DIV/0!"},{"$error":"#DIV/0!"},{"$error":"#DIV/0!"},{"$error":"#DIV/0!"},{"$error":"#DIV/0!"},{"$error":"#DIV/0!"},{"$error":"#DIV/0!"},{"$error":"#DIV/0!"},0.86206896551724133,{"$error":"#DIV/0!"},{"$error":"#DIV/0!"},{"$error":"#DIV/0!"},{"$error":"#DIV/0!"},{"$f":"('5 Б(2)'!C3+'5 Б(2)'!C18)/'5 Б(2)'!D2","v":0.27586206896551724}]
[null,"Степень обученности:",{"$f":"(C37+C38*0.64+C39*0.36+C40*0.16)/(C37+C38+C39+C40+C41)","v":0.44965517241379305},{"$f":"(D37+D38*0.64+D39*0.36+D40*0.16)/(D37+D38+D39+D40+D41)","v":0.57241379310344831},0.49103448275862066,0.49103448275862066,{"$error":"#DIV/0!"},{"$error":"#DIV/0!"},{"$error":"#DIV/0!"},0.53103448275862075,{"$error":"#DIV/0!"},{"$error":"#DIV/0!"},0.85655172413793101,0.87586206896551722,0.69103448275862078,{"$error":"#DIV/0!"},0.77793103448275858,{"$error":"#DIV/0!"},{"$error":"#DIV/0!"},{"$error":"#DIV/0!"},{"$error":"#DIV/0!"},{"$error":"#DIV/0!"},{"$error":"#DIV/0!"},{"$error":"#DIV/0!"},{"$error":"#DIV/0!"},{"$error":"#DIV/0!"},0.75034482758620691,{"$error":"#DIV/0!"},{"$error":"#DIV/0!"},{"$error":"#DIV/0!"},{"$error":"#DIV/0!"},{"$f":"(AF37+AF38*0.64+AF39*0.36+AF40*0.16)/(AF37+AF38+AF39+AF40+AF41)","v":0.64868965517241384}]
[null,"Средний балл:              ",{"$f":"(C37*5+C38*4+C39*3+C40*2)/(C37+C38+C39+C40+C41)","v":3.3103448275862069},{"$f":"(D37*5+D38*4+D39*3+D40*2)/(D37+D38+D39+D40+D41)","v":3.6896551724137931},3.4482758620689653,3.4482758620689653,{"$error":"#DIV/0!"},{"$error":"#DIV/0!"},{"$error":"#DIV/0!"},3.5517241379310347,{"$error":"#DIV/0!"},{"$error":"#DIV/0!"},4.5862068965517242,4.6551724137931032,4.1034482758620694,{"$error":"#DIV/0!"},4.3448275862068968,{"$error":"#DIV/0!"},{"$error":"#DIV/0!"},{"$error":"#DIV/0!"},{"$error":"#DIV/0!"},{"$error":"#DIV/0!"},{"$error":"#DIV/0!"},{"$error":"#DIV/0!"},{"$error":"#DIV/0!"},{"$error":"#DIV/0!"},4.2758620689655169,{"$error":"#DIV/0!"},{"$error":"#DIV/0!"},{"$error":"#DIV/0!"},{"$error":"#DIV/0!"},{"$f":"(AF37*5+AF38*4+AF39*3+AF40*2)/(AF37+AF38+AF39+AF40+AF41)","v":3.9413793103448276}]
[null,"Качество успеваемости:",{"$f":"(5*C37+4*C38)*0.2/(SUM(C37+C38+C39+C40+C41))","v":0.22758620689655173},{"$f":"(5*COUNTIF(D6:D35,5)+4*COUNTIF(D6:D35,4))*0.2/(COUNTA(D6:D35)-COUNTIF(D6:D35,\"н\"))","v":0.40689655172413797},0.31724137931034485,0.31724137931034485,{"$error":"#DIV/0!"},{"$error":"#DIV/0!"},{"$error":"#DIV/0!"},0.31724137931034485,{"$error":"#DIV/0!"},{"$error":"#DIV/0!"},0.87586206896551733,0.93103448275862066,0.71724137931034482,{"$error":"#DIV/0!"},0.76551724137931043,{"$error":"#DIV/0!"},{"$error":"#DIV/0!"},{"$error":"#DIV/0!"},{"$error":"#DIV/0!"},{"$error":"#DIV/0!"},{"$error":"#DIV/0!"},{"$error":"#DIV/0!"},{"$error":"#DIV/0!"},{"$error":"#DIV/0!"},0.77241379310344838,{"$error":"#DIV/0!"},{"$error":"#DIV/0!"},{"$error":"#DIV/0!"},{"$error":"#DIV/0!"},{"$f":"(5*COUNTIF(C6:AE35,5)+4*COUNTIF(C6:AE35,4))*0.2/(COUNTA(C6:AE35)-COUNTIF(C6:AE35,\"н\"))","v":0.56482758620689655}]
["Выполнено с помощью программы статистического анализа результатов учебной деятельности",null,null,null,null,null,null,null,null,null,null,null,null,null,null,null,null,null,null,null,null,null,null,null,null,null,null,null,{"$f":"Титул!G31","v":"PSORUD-Klass.v.04.11.demo"},null,null,null,null,null,"3+"]
[]
[]
[]
[]
[]
[]
[]
[]
[]
[]
[]
[]
[]
[]
[]
[]
[]
[]
[]
[]
[]
[]
[]
[]
[]
[]
[]
[]
[]
[]
[]
[]
[]
[]
[]
[]
[]
[]
[]
[]
[]
[null,"Коэф.трудн.предмета",{"$f":"VLOOKUP(C$5,ШкалаТрудн!$C$5:$N$34,LEFT($Z$2,2)+1,0)","v":8},{"$f":"VLOOKUP(D$5,ШкалаТрудн!$C$5:$N$34,LEFT($Z$2,2)+1,0)","v":4},{"$f":"VLOOKUP(E$5,ШкалаТрудн!$C$5:$N$34,LEFT($Z$2,2)+1,0)","v":9},{"$f":"VLOOKUP(F$5,ШкалаТрудн!$C$5:$N$34,LEFT($Z$2,2)+1,0)","v":10},{"$f":"VLOOKUP(G$5,ШкалаТрудн!$C$5:$N$34,LEFT($Z$2,2)+1,0)","v":0},{"$f":"VLOOKUP(H$5,ШкалаТрудн!$C$5:$N$34,LEFT($Z$2,2)+1,0)","v":0},{"$f":"VLOOKUP(I$5,ШкалаТрудн!$C$5:$N$34,LEFT($Z$2,2)+1,0)","v":4},{"$f":"VLOOKUP(J$5,ШкалаТрудн!$C$5:$N$34,LEFT($Z$2,2)+1,0)","v":5},{"$f":"VLOOKUP(K$5,ШкалаТрудн!$C$5:$N$34,LEFT($Z$2,2)+1,0)","v":0},{"$f":"VLOOKUP(L$5,ШкалаТрудн!$C$5:$N$34,LEFT($Z$2,2)+1,0)","v":{"$error":"#N/A"}},{"$f":"VLOOKUP(M$5,ШкалаТрудн!$C$5:$N$34,LEFT($Z$2,2)+1,0)","v":3},{"$f":"VLOOKUP(N$5,ШкалаТрудн!$C$5:$N$34,LEFT($Z$2,2)+1,0)","v":2},{"$f":"VLOOKUP(O$5,ШкалаТрудн!$C$5:$N$34,LEFT($Z$2,2)+1,0)","v":4},{"$f":"VLOOKUP(P$5,ШкалаТрудн!$C$5:$N$34,LEFT($Z$2,2)+1,0)","v":4},{"$f":"VLOOKUP(Q$5,ШкалаТрудн!$C$5:$N$34,LEFT($Z$2,2)+1,0)","v":3},{"$f":"VLOOKUP(R$5,ШкалаТрудн!$C$5:$N$34,LEFT($Z$2,2)+1,0)","v":9},{"$f":"VLOOKUP(S$5,ШкалаТрудн!$C$5:$N$34,LEFT($Z$2,2)+1,0)","v":9},{"$f":"VLOOKUP(T$5,ШкалаТрудн!$C$5:$N$34,LEFT($Z$2,2)+1,0)","v":0},{"$f":"VLOOKUP(U$5,ШкалаТрудн!$C$5:$N$34,LEFT($Z$2,2)+1,0)","v":0},{"$f":"VLOOKUP(V$5,ШкалаТрудн!$C$5:$N$34,LEFT($Z$2,2)+1,0)","v":0},{"$f":"VLOOKUP(W$5,ШкалаТрудн!$C$5:$N$34,LEFT($Z$2,2)+1,0)","v":10},{"$f":"VLOOKUP(X$5,ШкалаТрудн!$C$5:$N$34,LEFT($Z$2,2)+1,0)","v":0},{"$f":"VLOOKUP(Y$5,ШкалаТрудн!$C$5:$N$34,LEFT($Z$2,2)+1,0)","v":3},{"$f":"VLOOKUP(Z$5,ШкалаТрудн!$C$5:$N$34,LEFT($Z$2,2)+1,0)","v":1},{"$f":"VLOOKUP(AA$5,ШкалаТрудн!$C$5:$N$34,LEFT($Z$2,2)+1,0)","v":7},{"$f":"VLOOKUP(AB$5,ШкалаТрудн!$C$5:$N$34,LEFT($Z$2,2)+1,0)","v":{"$error":"#N/A"}},{"$f":"VLOOKUP(AC$5,ШкалаТрудн!$C$5:$N$34,LEFT($Z$2,2)+1,0)","v":{"$error":"#N/A"}},{"$f":"VLOOKUP(AD$5,ШкалаТрудн!$C$5:$N$34,LEFT($Z$2,2)+1,0)","v":{"$error":"#N/A"}},{"$f":"VLOOKUP(AE$5,ШкалаТрудн!$C$5:$N$34,LEFT($Z$2,2)+1,0)","v":{"$error":"#N/A"}}]
[null,null,{"$f":"C6*C$90","v":32},20,36,40,0,0,0,25,0,{"$error":"#N/A"},15,10,16,0,15,0,0,0,0,0,0,0,0,0,35,{"$error":"#N/A"},{"$error":"#N/A"},{"$error":"#N/A"},{"$error":"#N/A"}]
[null,null,{"$f":"C7*C$90","v":24},16,27,30,0,0,0,15,0,{"$error":"#N/A"},15,10,20,0,15,0,0,0,0,0,0,0,0,0,35,{"$error":"#N/A"},{"$error":"#N/A"},{"$error":"#N/A"},{"$error":"#N/A"}]
[null,null,{"$f":"C8*C$90","v":24},12,27,30,0,0,0,15,0,{"$error":"#N/A"},12,10,16,0,12,0,0,0,0,0,0,0,0,0,28,{"$error":"#N/A"},{"$error":"#N/A"},{"$error":"#N/A"},{"$error":"#N/A"}]
[null,null,{"$f":"C9*C$90","v":32},20,36,40,0,0,0,20,0,{"$error":"#N/A"},15,10,20,0,12,0,0,0,0,0,0,0,0,0,35,{"$error":"#N/A"},{"$error":"#N/A"},{"$error":"#N/A"},{"$error":"#N/A"}]
[null,null,{"$f":"C10*C$90","v":32},20,36,40,0,0,0,25,0,{"$error":"#N/A"},15,10,20,0,15,0,0,0,0,0,0,0,0,0,35,{"$error":"#N/A"},{"$error":"#N/A"},{"$error":"#N/A"},{"$error":"#N/A"}]
[null,null,{"$f":"C11*C$90","v":40},20,45,50,0,0,0,25,0,{"$error":"#N/A"},15,10,20,0,15,0,0,0,0,0,0,0,0,0,35,{"$error":"#N/A"},{"$error":"#N/A"},{"$error":"#N/A"},{"$error":"#N/A"}]
[null,null,{"$f":"C12*C$90","v":24},12,27,30,0,0,0,15,0,{"$error":"#N/A"},12,8,16,0,15,0,0,0,0,0,0,0,0,0,28,{"$error":"#N/A"},{"$error":"#N/A"},{"$error":"#N/A"},{"$error":"#N/A"}]
[null,null,{"$f":"C13*C$90","v":24},12,27,30,0,0,0,15,0,{"$error":"#N/A"},9,8,12,0,15,0,0,0,0,0,0,0,0,0,28,{"$error":"#N/A"},{"$error":"#N/A"},{"$error":"#N/A"},{"$error":"#N/A"}]
[null,null,{"$f":"C14*C$90","v":24},12,36,40,0,0,0,20,0,{"$error":"#N/A"},12,10,20,0,12,0,0,0,0,0,0,0,0,0,28,{"$error":"#N/A"},{"$error":"#N/A"},{"$error":"#N/A"},{"$error":"#N/A"}]
[null,null,{"$f":"C15*C$90","v":32},20,36,40,0,0,0,25,0,{"$error":"#N/A"},15,10,20,0,12,0,0,0,0,0,0,0,0,0,35,{"$error":"#N/A"},{"$error":"#N/A"},{"$error":"#N/A"},{"$error":"#N/A"}]
[null,null,{"$f":"C16*C$90","v":24},12,27,30,0,0,0,15,0,{"$error":"#N/A"},9,8,12,0,9,0,0,0,0,0,0,0,0,0,21,{"$error":"#N/A"},{"$error":"#N/A"},{"$error":"#N/A"},{"$error":"#N/A"}]
[null,null,{"$f":"C17*C$90","v":24},12,27,40,0,0,0,15,0,{"$error":"#N/A"},15,8,12,0,12,0,0,0,0,0,0,0,0,0,21,{"$error":"#N/A"},{"$error":"#N/A"},{"$error":"#N/A"},{"$error":"#N/A"}]
[null,null,{"$f":"C18*C$90","v":24},12,27,30,0,0,0,15,0,{"$error":"#N/A"},12,8,12,0,15,0,0,0,0,0,0,0,0,0,21,{"$error":"#N/A"},{"$error":"#N/A"},{"$error":"#N/A"},{"$error":"#N/A"}]
[null,null,{"$f":"C19*C$90","v":24},12,27,30,0,0,0,15,0,{"$error":"#N/A"},15,8,16,0,15,0,0,0,0,0,0,0,0,0,28,{"$error":"#N/A"},{"$error":"#N/A"},{"$error":"#N/A"},{"$error":"#N/A"}]
[null,null,{"$f":"C20*C$90","v":24},16,27,30,0,0,0,15,0,{"$error":"#N/A"},15,10,16,0,9,0,0,0,0,0,0,0,0,0,28,{"$error":"#N/A"},{"$error":"#N/A"},{"$error":"#N/A"},{"$error":"#N/A"}]
[null,null,{"$f":"C21*C$90","v":32},20,36,50,0,0,0,25,0,{"$error":"#N/A"},15,10,20,0,15,0,0,0,0,0,0,0,0,0,35,{"$error":"#N/A"},{"$error":"#N/A"},{"$error":"#N/A"},{"$error":"#N/A"}]
[null,null,{"$f":"C22*C$90","v":24},12,27,30,0,0,0,15,0,{"$error":"#N/A"},15,10,16,0,9,0,0,0,0,0,0,0,0,0,28,{"$error":"#N/A"},{"$error":"#N/A"},{"$error":"#N/A"},{"$error":"#N/A"}]
[null,null,{"$f":"C23*C$90","v":32},16,36,40,0,0,0,20,0,{"$error":"#N/A"},15,10,20,0,15,0,0,0,0,0,0,0,0,0,35,{"$error":"#N/A"},{"$error":"#N/A"},{"$error":"#N/A"},{"$error":"#N/A"}]
[null,null,{"$f":"C24*C$90","v":24},12,36,30,0,0,0,15,0,{"$error":"#N/A"},15,10,12,0,9,0,0,0,0,0,0,0,0,0,35,{"$error":"#N/A"},{"$error":"#N/A"},{"$error":"#N/A"},{"$error":"#N/A"}]
[null,null,{"$f":"C25*C$90","v":24},12,27,30,0,0,0,15,0,{"$error":"#N/A"},12,10,16,0,12,0,0,0,0,0,0,0,0,0,28,{"$error":"#N/A"},{"$error":"#N/A"},{"$error":"#N/A"},{"$error":"#N/A"}]
[null,null,{"$f":"C26*C$90","v":24},12,27,30,0,0,0,15,0,{"$error":"#N/A"},12,10,16,0,15,0,0,0,0,0,0,0,0,0,28,{"$error":"#N/A"},{"$error":"#N/A"},{"$error":"#N/A"},{"$error":"#N/A"}]
[null,null,{"$f":"C27*C$90","v":24},12,27,30,0,0,0,15,0,{"$error":"#N/A"},12,8,16,0,15,0,0,0,0,0,0,0,0,0,28,{"$error":"#N/A"},{"$error":"#N/A"},{"$error":"#N/A"},{"$error":"#N/A"}]
[null,null,{"$f":"C28*C$90","v":24},16,27,30,0,0,0,15,0,{"$error":"#N/A"},15,10,16,0,15,0,0,0,0,0,0,0,0,0,21,{"$error":"#N/A"},{"$error":"#N/A"},{"$error":"#N/A"},{"$error":"#N/A"}]
[null,null,{"$f":"C29*C$90","v":32},20,45,40,0,0,0,25,0,{"$error":"#N/A"},12,10,16,0,15,0,0,0,0,0,0,0,0,0,35,{"$error":"#N/A"},{"$error":"#N/A"},{"$error":"#N/A"},{"$error":"#N/A"}]
[null,null,{"$f":"C30*C$90","v":24},12,27,30,0,0,0,15,0,{"$error":"#N/A"},15,10,16,0,12,0,0,0,0,0,0,0,0,0,35,{"$error":"#N/A"},{"$error":"#N/A"},{"$error":"#N/A"},{"$error":"#N/A"}]
[null,null,{"$f":"C31*C$90","v":24},12,27,30,0,0,0,15,0,{"$error":"#N/A"},15,8,16,0,12,0,0,0,0,0,0,0,0,0,28,{"$error":"#N/A"},{"$error":"#N/A"},{"$error":"#N/A"},{"$error":"#N/A"}]
[null,null,{"$f":"C32*C$90","v":24},12,36,40,0,0,0,20,0,{"$error":"#N/A"},15,8,16,0,12,0,0,0,0,0,0,0,0,0,28,{"$error":"#N/A"},{"$error":"#N/A"},{"$error":"#N/A"},{"$error":"#N/A"}]
[null,null,{"$f":"C33*C$90","v":24},16,27,30,0,0,0,15,0,{"$error":"#N/A"},15,8,16,0,9,0,0,0,0,0,0,0,0,0,28,{"$error":"#N/A"},{"$error":"#N/A"},{"$error":"#N/A"},{"$error":"#N/A"}]
[null,null,{"$f":"C34*C$90","v":24},16,27,30,0,0,0,15,0,{"$error":"#N/A"},15,10,16,0,15,0,0,0,0,0,0,0,0,0,35,{"$error":"#N/A"},{"$error":"#N/A"},{"$error":"#N/A"},{"$error":"#N/A"}]
[null,null,{"$f":"#REF!*C$90","v":{"$error":"#REF!"}},{"$f":"#REF!*D$90","v":{"$error":"#REF!"}},{"$f":"#REF!*E$90","v":{"$error":"#REF!"}},{"$f":"#REF!*F$90","v":{"$error":"#REF!"}},{"$f":"#REF!*G$90","v":{"$error":"#REF!"}},{"$f":"#REF!*H$90","v":{"$error":"#REF!"}},{"$f":"#REF!*I$90","v":{"$error":"#REF!"}},{"$f":"#REF!*J$90","v":{"$error":"#REF!"}},{"$f":"#REF!*K$90","v":{"$error":"#REF!"}},{"$f":"#REF!*L$90","v":{"$error":"#REF!"}},{"$f":"#REF!*M$90","v":{"$error":"#REF!"}},{"$f":"#REF!*N$90","v":{"$error":"#REF!"}},{"$f":"#REF!*O$90","v":{"$error":"#REF!"}},{"$f":"#REF!*P$90","v":{"$error":"#REF!"}},{"$f":"#REF!*Q$90","v":{"$error":"#REF!"}},{"$f":"#REF!*R$90","v":{"$error":"#REF!"}},{"$f":"#REF!*S$90","v":{"$error":"#REF!"}},{"$f":"#REF!*T$90","v":{"$error":"#REF!"}},{"$f":"#REF!*U$90","v":{"$error":"#REF!"}},{"$f":"#REF!*V$90","v":{"$error":"#REF!"}},{"$f":"#REF!*W$90","v":{"$error":"#REF!"}},{"$f":"#REF!*X$90","v":{"$error":"#REF!"}},{"$f":"#REF!*Y$90","v":{"$error":"#REF!"}},{"$f":"#REF!*Z$90","v":{"$error":"#REF!"}},{"$f":"#REF!*AA$90","v":{"$error":"#REF!"}},{"$f":"#REF!*AB$90","v":{"$error":"#REF!"}},{"$f":"#REF!*AC$90","v":{"$error":"#REF!"}},{"$f":"#REF!*AD$90","v":{"$error":"#REF!"}},{"$f":"#REF!*AE$90","v":{"$error":"#REF!"}}]
[null,null,{"$f":"#REF!*C$90","v":{"$error":"#REF!"}},{"$f":"#REF!*D$90","v":{"$error":"#REF!"}},{"$f":"#REF!*E$90","v":{"$error":"#REF!"}},{"$f":"#REF!*F$90","v":{"$error":"#REF!"}},{"$f":"#REF!*G$90","v":{"$error":"#REF!"}},{"$f":"#REF!*H$90","v":{"$error":"#REF!"}},{"$f":"#REF!*I$90","v":{"$error":"#REF!"}},{"$f":"#REF!*J$90","v":{"$error":"#REF!"}},{"$f":"#REF!*K$90","v":{"$error":"#REF!"}},{"$f":"#REF!*L$90","v":{"$error":"#REF!"}},{"$f":"#REF!*M$90","v":{"$error":"#REF!"}},{"$f":"#REF!*N$90","v":{"$error":"#REF!"}},{"$f":"#REF!*O$90","v":{"$error":"#REF!"}},{"$f":"#REF!*P$90","v":{"$error":"#REF!"}},{"$f":"#REF!*Q$90","v":{"$error":"#REF!"}},{"$f":"#REF!*R$90","v":{"$error":"#REF!"}},{"$f":"#REF!*S$90","v":{"$error":"#REF!"}},{"$f":"#REF!*T$90","v":{"$error":"#REF!"}},{"$f":"#REF!*U$90","v":{"$error":"#REF!"}},{"$f":"#REF!*V$90","v":{"$error":"#REF!"}},{"$f":"#REF!*W$90","v":{"$error":"#REF!"}},{"$f":"#REF!*X$90","v":{"$error":"#REF!"}},{"$f":"#REF!*Y$90","v":{"$error":"#REF!"}},{"$f":"#REF!*Z$90","v":{"$error":"#REF!"}},{"$f":"#REF!*AA$90","v":{"$error":"#REF!"}},{"$f":"#REF!*AB$90","v":{"$error":"#REF!"}},{"$f":"#REF!*AC$90","v":{"$error":"#REF!"}},{"$f":"#REF!*AD$90","v":{"$error":"#REF!"}},{"$f":"#REF!*AE$90","v":{"$error":"#REF!"}}]
[null,null,{"$f":"#REF!*C$90","v":{"$error":"#REF!"}},{"$f":"#REF!*D$90","v":{"$error":"#REF!"}},{"$f":"#REF!*E$90","v":{"$error":"#REF!"}},{"$f":"#REF!*F$90","v":{"$error":"#REF!"}},{"$f":"#REF!*G$90","v":{"$error":"#REF!"}},{"$f":"#REF!*H$90","v":{"$error":"#REF!"}},{"$f":"#REF!*I$90","v":{"$error":"#REF!"}},{"$f":"#REF!*J$90","v":{"$error":"#REF!"}},{"$f":"#REF!*K$90","v":{"$error":"#REF!"}},{"$f":"#REF!*L$90","v":{"$error":"#REF!"}},{"$f":"#REF!*M$90","v":{"$error":"#REF!"}},{"$f":"#REF!*N$90","v":{"$error":"#REF!"}},{"$f":"#REF!*O$90","v":{"$error":"#REF!"}},{"$f":"#REF!*P$90","v":{"$error":"#REF!"}},{"$f":"#REF!*Q$90","v":{"$error":"#REF!"}},{"$f":"#REF!*R$90","v":{"$error":"#REF!"}},{"$f":"#REF!*S$90","v":{"$error":"#REF!"}},{"$f":"#REF!*T$90","v":{"$error":"#REF!"}},{"$f":"#REF!*U$90","v":{"$error":"#REF!"}},{"$f":"#REF!*V$90","v":{"$error":"#REF!"}},{"$f":"#REF!*W$90","v":{"$error":"#REF!"}},{"$f":"#REF!*X$90","v":{"$error":"#REF!"}},{"$f":"#REF!*Y$90","v":{"$error":"#REF!"}},{"$f":"#REF!*Z$90","v":{"$error":"#REF!"}},{"$f":"#REF!*AA$90","v":{"$error":"#REF!"}},{"$f":"#REF!*AB$90","v":{"$error":"#REF!"}},{"$f":"#REF!*AC$90","v":{"$error":"#REF!"}},{"$f":"#REF!*AD$90","v":{"$error":"#REF!"}},{"$f":"#REF!*AE$90","v":{"$error":"#REF!"}}]
[null,null,{"$f":"#REF!*C$90","v":{"$error":"#REF!"}},{"$f":"#REF!*D$90","v":{"$error":"#REF!"}},{"$f":"#REF!*E$90","v":{"$error":"#REF!"}},{"$f":"#REF!*F$90","v":{"$error":"#REF!"}},{"$f":"#REF!*G$90","v":{"$error":"#REF!"}},{"$f":"#REF!*H$90","v":{"$error":"#REF!"}},{"$f":"#REF!*I$90","v":{"$error":"#REF!"}},{"$f":"#REF!*J$90","v":{"$error":"#REF!"}},{"$f":"#REF!*K$90","v":{"$error":"#REF!"}},{"$f":"#REF!*L$90","v":{"$error":"#REF!"}},{"$f":"#REF!*M$90","v":{"$error":"#REF!"}},{"$f":"#REF!*N$90","v":{"$error":"#REF!"}},{"$f":"#REF!*O$90","v":{"$error":"#REF!"}},{"$f":"#REF!*P$90","v":{"$error":"#REF!"}},{"$f":"#REF!*Q$90","v":{"$error":"#REF!"}},{"$f":"#REF!*R$90","v":{"$error":"#REF!"}},{"$f":"#REF!*S$90","v":{"$error":"#REF!"}},{"$f":"#REF!*T$90","v":{"$error":"#REF!"}},{"$f":"#REF!*U$90","v":{"$error":"#REF!"}},{"$f":"#REF!*V$90","v":{"$error":"#REF!"}},{"$f":"#REF!*W$90","v":{"$error":"#REF!"}},{"$f":"#REF!*X$90","v":{"$error":"#REF!"}},{"$f":"#REF!*Y$90","v":{"$error":"#REF!"}},{"$f":"#REF!*Z$90","v":{"$error":"#REF!"}},{"$f":"#REF!*AA$90","v":{"$error":"#REF!"}},{"$f":"#REF!*AB$90","v":{"$error":"#REF!"}},{"$f":"#REF!*AC$90","v":{"$error":"#REF!"}},{"$f":"#REF!*AD$90","v":{"$error":"#REF!"}},{"$f":"#REF!*AE$90","v":{"$error":"#REF!"}}]
[null,null,{"$f":"#REF!*C$90","v":{"$error":"#REF!"}},{"$f":"#REF!*D$90","v":{"$error":"#REF!"}},{"$f":"#REF!*E$90","v":{"$error":"#REF!"}},{"$f":"#REF!*F$90","v":{"$error":"#REF!"}},{"$f":"#REF!*G$90","v":{"$error":"#REF!"}},{"$f":"#REF!*H$90","v":{"$error":"#REF!"}},{"$f":"#REF!*I$90","v":{"$error":"#REF!"}},{"$f":"#REF!*J$90","v":{"$error":"#REF!"}},{"$f":"#REF!*K$90","v":{"$error":"#REF!"}},{"$f":"#REF!*L$90","v":{"$error":"#REF!"}},{"$f":"#REF!*M$90","v":{"$error":"#REF!"}},{"$f":"#REF!*N$90","v":{"$error":"#REF!"}},{"$f":"#REF!*O$90","v":{"$error":"#REF!"}},{"$f":"#REF!*P$90","v":{"$error":"#REF!"}},{"$f":"#REF!*Q$90","v":{"$error":"#REF!"}},{"$f":"#REF!*R$90","v":{"$error":"#REF!"}},{"$f":"#REF!*S$90","v":{"$error":"#REF!"}},{"$f":"#REF!*T$90","v":{"$error":"#REF!"}},{"$f":"#REF!*U$90","v":{"$error":"#REF!"}},{"$f":"#REF!*V$90","v":{"$error":"#REF!"}},{"$f":"#REF!*W$90","v":{"$error":"#REF!"}},{"$f":"#REF!*X$90","v":{"$error":"#REF!"}},{"$f":"#REF!*Y$90","v":{"$error":"#REF!"}},{"$f":"#REF!*Z$90","v":{"$error":"#REF!"}},{"$f":"#REF!*AA$90","v":{"$error":"#REF!"}},{"$f":"#REF!*AB$90","v":{"$error":"#REF!"}},{"$f":"#REF!*AC$90","v":{"$error":"#REF!"}},{"$f":"#REF!*AD$90","v":{"$error":"#REF!"}},{"$f":"#REF!*AE$90","v":{"$error":"#REF!"}}]
[null,null,{"$f":"#REF!*C$90","v":{"$error":"#REF!"}},{"$f":"#REF!*D$90","v":{"$error":"#REF!"}},{"$f":"#REF!*E$90","v":{"$error":"#REF!"}},{"$f":"#REF!*F$90","v":{"$error":"#REF!"}},{"$f":"#REF!*G$90","v":{"$error":"#REF!"}},{"$f":"#REF!*H$90","v":{"$error":"#REF!"}},{"$f":"#REF!*I$90","v":{"$error":"#REF!"}},{"$f":"#REF!*J$90","v":{"$error":"#REF!"}},{"$f":"#REF!*K$90","v":{"$error":"#REF!"}},{"$f":"#REF!*L$90","v":{"$error":"#REF!"}},{"$f":"#REF!*M$90","v":{"$error":"#REF!"}},{"$f":"#REF!*N$90","v":{"$error":"#REF!"}},{"$f":"#REF!*O$90","v":{"$error":"#REF!"}},{"$f":"#REF!*P$90","v":{"$error":"#REF!"}},{"$f":"#REF!*Q$90","v":{"$error":"#REF!"}},{"$f":"#REF!*R$90","v":{"$error":"#REF!"}},{"$f":"#REF!*S$90","v":{"$error":"#REF!"}},{"$f":"#REF!*T$90","v":{"$error":"#REF!"}},{"$f":"#REF!*U$90","v":{"$error":"#REF!"}},{"$f":"#REF!*V$90","v":{"$error":"#REF!"}},{"$f":"#REF!*W$90","v":{"$error":"#REF!"}},{"$f":"#REF!*X$90","v":{"$error":"#REF!"}},{"$f":"#REF!*Y$90","v":{"$error":"#REF!"}},{"$f":"#REF!*Z$90","v":{"$error":"#REF!"}},{"$f":"#REF!*AA$90","v":{"$error":"#REF!"}},{"$f":"#REF!*AB$90","v":{"$error":"#REF!"}},{"$f":"#REF!*AC$90","v":{"$error":"#REF!"}},{"$f":"#REF!*AD$90","v":{"$error":"#REF!"}},{"$f":"#REF!*AE$90","v":{"$error":"#REF!"}}]
[null,null,{"$f":"#REF!*C$90","v":{"$error":"#REF!"}},{"$f":"#REF!*D$90","v":{"$error":"#REF!"}},{"$f":"#REF!*E$90","v":{"$error":"#REF!"}},{"$f":"#REF!*F$90","v":{"$error":"#REF!"}},{"$f":"#REF!*G$90","v":{"$error":"#REF!"}},{"$f":"#REF!*H$90","v":{"$error":"#REF!"}},{"$f":"#REF!*I$90","v":{"$error":"#REF!"}},{"$f":"#REF!*J$90","v":{"$error":"#REF!"}},{"$f":"#REF!*K$90","v":{"$error":"#REF!"}},{"$f":"#REF!*L$90","v":{"$error":"#REF!"}},{"$f":"#REF!*M$90","v":{"$error":"#REF!"}},{"$f":"#REF!*N$90","v":{"$error":"#REF!"}},{"$f":"#REF!*O$90","v":{"$error":"#REF!"}},{"$f":"#REF!*P$90","v":{"$error":"#REF!"}},{"$f":"#REF!*Q$90","v":{"$error":"#REF!"}},{"$f":"#REF!*R$90","v":{"$error":"#REF!"}},{"$f":"#REF!*S$90","v":{"$error":"#REF!"}},{"$f":"#REF!*T$90","v":{"$error":"#REF!"}},{"$f":"#REF!*U$90","v":{"$error":"#REF!"}},{"$f":"#REF!*V$90","v":{"$error":"#REF!"}},{"$f":"#REF!*W$90","v":{"$error":"#REF!"}},{"$f":"#REF!*X$90","v":{"$error":"#REF!"}},{"$f":"#REF!*Y$90","v":{"$error":"#REF!"}},{"$f":"#REF!*Z$90","v":{"$error":"#REF!"}},{"$f":"#REF!*AA$90","v":{"$error":"#REF!"}},{"$f":"#REF!*AB$90","v":{"$error":"#REF!"}},{"$f":"#REF!*AC$90","v":{"$error":"#REF!"}},{"$f":"#REF!*AD$90","v":{"$error":"#REF!"}},{"$f":"#REF!*AE$90","v":{"$error":"#REF!"}}]
[null,null,{"$f":"#REF!*C$90","v":{"$error":"#REF!"}},{"$f":"#REF!*D$90","v":{"$error":"#REF!"}},{"$f":"#REF!*E$90","v":{"$error":"#REF!"}},{"$f":"#REF!*F$90","v":{"$error":"#REF!"}},{"$f":"#REF!*G$90","v":{"$error":"#REF!"}},{"$f":"#REF!*H$90","v":{"$error":"#REF!"}},{"$f":"#REF!*I$90","v":{"$error":"#REF!"}},{"$f":"#REF!*J$90","v":{"$error":"#REF!"}},{"$f":"#REF!*K$90","v":{"$error":"#REF!"}},{"$f":"#REF!*L$90","v":{"$error":"#REF!"}},{"$f":"#REF!*M$90","v":{"$error":"#REF!"}},{"$f":"#REF!*N$90","v":{"$error":"#REF!"}},{"$f":"#REF!*O$90","v":{"$error":"#REF!"}},{"$f":"#REF!*P$90","v":{"$error":"#REF!"}},{"$f":"#REF!*Q$90","v":{"$error":"#REF!"}},{"$f":"#REF!*R$90","v":{"$error":"#REF!"}},{"$f":"#REF!*S$90","v":{"$error":"#REF!"}},{"$f":"#REF!*T$90","v":{"$error":"#REF!"}},{"$f":"#REF!*U$90","v":{"$error":"#REF!"}},{"$f":"#REF!*V$90","v":{"$error":"#REF!"}},{"$f":"#REF!*W$90","v":{"$error":"#REF!"}},{"$f":"#REF!*X$90","v":{"$error":"#REF!"}},{"$f":"#REF!*Y$90","v":{"$error":"#REF!"}},{"$f":"#REF!*Z$90","v":{"$error":"#REF!"}},{"$f":"#REF!*AA$90","v":{"$error":"#REF!"}},{"$f":"#REF!*AB$90","v":{"$error":"#REF!"}},{"$f":"#REF!*AC$90","v":{"$error":"#REF!"}},{"$f":"#REF!*AD$90","v":{"$error":"#REF!"}},{"$f":"#REF!*AE$90","v":{"$error":"#REF!"}}]
[null,null,{"$f":"#REF!*C$90","v":{"$error":"#REF!"}},{"$f":"#REF!*D$90","v":{"$error":"#REF!"}},{"$f":"#REF!*E$90","v":{"$error":"#REF!"}},{"$f":"#REF!*F$90","v":{"$error":"#REF!"}},{"$f":"#REF!*G$90","v":{"$error":"#REF!"}},{"$f":"#REF!*H$90","v":{"$error":"#REF!"}},{"$f":"#REF!*I$90","v":{"$error":"#REF!"}},{"$f":"#REF!*J$90","v":{"$error":"#REF!"}},{"$f":"#REF!*K$90","v":{"$error":"#REF!"}},{"$f":"#REF!*L$90","v":{"$error":"#REF!"}},{"$f":"#REF!*M$90","v":{"$error":"#REF!"}},{"$f":"#REF!*N$90","v":{"$error":"#REF!"}},{"$f":"#REF!*O$90","v":{"$error":"#REF!"}},{"$f":"#REF!*P$90","v":{"$error":"#REF!"}},{"$f":"#REF!*Q$90","v":{"$error":"#REF!"}},{"$f":"#REF!*R$90","v":{"$error":"#REF!"}},{"$f":"#REF!*S$90","v":{"$error":"#REF!"}},{"$f":"#REF!*T$90","v":{"$error":"#REF!"}},{"$f":"#REF!*U$90","v":{"$error":"#REF!"}},{"$f":"#REF!*V$90","v":{"$error":"#REF!"}},{"$f":"#REF!*W$90","v":{"$error":"#REF!"}},{"$f":"#REF!*X$90","v":{"$error":"#REF!"}},{"$f":"#REF!*Y$90","v":{"$error":"#REF!"}},{"$f":"#REF!*Z$90","v":{"$error":"#REF!"}},{"$f":"#REF!*AA$90","v":{"$error":"#REF!"}},{"$f":"#REF!*AB$90","v":{"$error":"#REF!"}},{"$f":"#REF!*AC$90","v":{"$error":"#REF!"}},{"$f":"#REF!*AD$90","v":{"$error":"#REF!"}},{"$f":"#REF!*AE$90","v":{"$error":"#REF!"}}]
[null,null,{"$f":"#REF!*C$90","v":{"$error":"#REF!"}},{"$f":"#REF!*D$90","v":{"$error":"#REF!"}},{"$f":"#REF!*E$90","v":{"$error":"#REF!"}},{"$f":"#REF!*F$90","v":{"$error":"#REF!"}},{"$f":"#REF!*G$90","v":{"$error":"#REF!"}},{"$f":"#REF!*H$90","v":{"$error":"#REF!"}},{"$f":"#REF!*I$90","v":{"$error":"#REF!"}},{"$f":"#REF!*J$90","v":{"$error":"#REF!"}},{"$f":"#REF!*K$90","v":{"$error":"#REF!"}},{"$f":"#REF!*L$90","v":{"$error":"#REF!"}},{"$f":"#REF!*M$90","v":{"$error":"#REF!"}},{"$f":"#REF!*N$90","v":{"$error":"#REF!"}},{"$f":"#REF!*O$90","v":{"$error":"#REF!"}},{"$f":"#REF!*P$90","v":{"$error":"#REF!"}},{"$f":"#REF!*Q$90","v":{"$error":"#REF!"}},{"$f":"#REF!*R$90","v":{"$error":"#REF!"}},{"$f":"#REF!*S$90","v":{"$error":"#REF!"}},{"$f":"#REF!*T$90","v":{"$error":"#REF!"}},{"$f":"#REF!*U$90","v":{"$error":"#REF!"}},{"$f":"#REF!*V$90","v":{"$error":"#REF!"}},{"$f":"#REF!*W$90","v":{"$error":"#REF!"}},{"$f":"#REF!*X$90","v":{"$error":"#REF!"}},{"$f":"#REF!*Y$90","v":{"$error":"#REF!"}},{"$f":"#REF!*Z$90","v":{"$error":"#REF!"}},{"$f":"#REF!*AA$90","v":{"$error":"#REF!"}},{"$f":"#REF!*AB$90","v":{"$error":"#REF!"}},{"$f":"#REF!*AC$90","v":{"$error":"#REF!"}},{"$f":"#REF!*AD$90","v":{"$error":"#REF!"}},{"$f":"#REF!*AE$90","v":{"$error":"#REF!"}}]
[null,null,{"$f":"C35*C$90","v":0},0,0,0,0,0,0,0,0,{"$error":"#N/A"},0,0,0,0,0,0,0,0,0,0,0,0,0,0,0,{"$error":"#N/A"},{"$error":"#N/A"},{"$error":"#N/A"},{"$error":"#N/A"}]

{"sheet":"5 Б(2)","index":22,"n_rows":82,"n_cols":8,"rows_kept":82,"cut":false,"hidden":true,"merged":[[0,4,0,7],[0,0,0,3],[3,0,15,0],[67,0,67,1],[52,0,52,1],[42,0,42,1],[17,0,17,1],[1,0,1,2],[2,0,2,1]]}
[{"$f":"Титул!B17","v":"5 Б"},null,null,null,"Страница заполняется автоматически, без участия оператора!!!"]
["Всего учащихся в классе:",null,null,{"$f":"Титул!C17","v":29},"Фамилии, имена               учащихся","Учебные предметы","Фамилии и инициалы учителей","Пояснения, примечания, причины"]
[null,null,{"$f":"COUNTA(E3:E17)","v":1},null,"Кристалинская Виктория"]
[]
[]
[]
[]
[]
[]
[]
[]
[]
[]
[]
[]
[]
[]
[null,null,{"$f":"COUNTA(E18:E42)","v":7},null,"Ахмадеев Руслан"]
[null,null,null,null,"Гуляева Кристина"]
[null,null,null,null,"Квецинская Евгения"]
[null,null,null,null,"Полякова Наталья"]
[null,null,null,null,"Яримей Анастасия"]
[null,null,null,null,"Балашова Анастасия"]
[null,null,null,null,"Осипов Арсений"]
[]
[]
[]
[]
[]
[]
[null,null,null,14]
[null,null,null,15]
[null,null,null,16]
[null,null,null,17]
[null,null,null,18]
[null,null,null,19]
[null,null,null,20]
[null,null,null,21]
[null,null,null,22]
[null,null,null,23]
[null,null,null,24]
[null,null,null,25]
["Не аттестованы:",null,{"$f":"COUNTA(E43:E52)","v":0},1]
[null," ",null,2]
[null,null,null,3]
[null,null,null,4]
[null,null,null,5]
[null,null,null,6]
[null,null,null,7]
[null,null,null,8]
[null,null,null,9]
[null,null,null,10]
["Не успевают:",null,{"$f":"COUNTA(E53:E67)","v":0},1]
[null," ",null,2]
[null,null,null,3]
[null,null,null,4]
[null,null,null,5]
[null,null,null,6]
[null,null,null,7]
[null,null,null,8]
[null,null,null,9]
[null,null,null,10]
[null,null,null,11]
[null,null,null,12]
[null,null,null,13]
[null,null,null,14]
[null,null,null,15]
["Освобождены:",null,{"$f":"COUNTA(E68:E82)","v":0},1]
[null," ",null,2]
[null,null,null,3]
[null,null,null,4]
[null,null,null,5]
[null,null,null,6]
[null,null,null,7]
[null,null,null,8]
[null,null,null,9]
[null,null,null,10]
[null,null,null,11]
[null,null,null,12]
[null,null,null,13]
[null,null,null,14]
[null,null,null,15]

{"sheet":"6 А","index":23,"n_rows":130,"n_cols":35,"rows_kept":130,"cut":false,"hidden":true,"merged":[[0,0,0,2],[0,3,0,25],[0,26,0,32],[1,0,1,24],[1,25,1,28],[1,29,1,31],[2,0,2,3],[2,4,2,17],[2,18,2,22],[2,23,2,34],[3,0,4,1],[3,2,3,30],[3,31,3,34],[47,0,47,26],[47,28,47,33],[35,0,35,1],[35,31,35,34],[36,0,46,0],[36,31,36,34],[37,31,37,34],[38,31,38,34],[39,31,39,34],[40,31,40,34],[41,31,41,34],[42,31,42,34],[43,31,43,34],[44,31,44,34],[45,31,45,34],[46,31,46,34]]}
[{"$f":"[2]Титул!B5","v":"2013/14 учебный год"},null,null,{"$f":"[2]Титул!B4","v":"МОУ СОШ  № 15"},null,null,null,null,null,null,null,null,null,null,null,null,null,null,null,null,null,null,null,null,null,null,{"$f":"Титул!B6","v":"4 четверть"},null,null,null,null,null,null,null,"3+"]
["ВЕДОМОСТЬ  РЕЗУЛЬТАТОВ  УЧЕБНОЙ  ДЕЯТЕЛЬНОСТИ",null,null,null,null,null,null,null,null,null,null,null,null,null,null,null,null,null,null,null,null,null,null,null,null,{"$f":"Титул!B18","v":"6 А"},null,null,null,"класса"]
["Классный руководитель:",null,null,null,{"$f":"[2]Титул!D19","v":"Горнышкова Г.В."},null,null,null,null,null,null,null,null,null,null,null,null,null,"Программа:",null,null,null,null,{"$f":"[2]Титул!G19","v":"общеобразовательный"}]
["Вручную вносятся только оценки \"5\", \"4\", \"3\", \"2\", \"1\". \nНе аттестованным проставляется \"0\", освобожденным - \"Н\".  ",null,"У  ч  е  б  н  ы  е      п  р  е  д  м  е  т  ы",null,null,null,null,null,null,null,null,null,null,null,null,null,null,null,null,null,null,null,null,null,null,null,null,null,null,null,null,"Результаты ученика:"]
[null,null,{"$f":"Нагрузка!C3","v":"Русский язык"},{"$f":"Нагрузка!D3","v":"Литература"},{"$f":"Нагрузка!E3","v":"Иностранный язык"},{"$f":"Нагрузка!F3","v":"Математика"},{"$f":"Нагрузка!G3","v":"Алгебра"},{"$f":"Нагрузка!H3","v":"Геометрия"},{"$f":"Нагрузка!I3","v":"Информатика"},{"$f":"Нагрузка!J3","v":"История"},{"$f":"Нагрузка!K3","v":"Обществознание"},{"$f":"Нагрузка!L3","v":"Окружающий мир"},{"$f":"Нагрузка!M3","v":"ИЗО"},{"$f":"Нагрузка!N3","v":"Музыка"},{"$f":"Нагрузка!O3","v":"Технология"},{"$f":"Нагрузка!P3","v":"Технология"},{"$f":"Нагрузка!Q3","v":"ФЗК"},{"$f":"Нагрузка!R3","v":"Иностранный язык"},{"$f":"Нагрузка!S3","v":"Иностранный язык"},{"$f":"Нагрузка!T3","v":"География"},{"$f":"Нагрузка!U3","v":"Физика"},{"$f":"Нагрузка!V3","v":"Химия"},{"$f":"Нагрузка!W3","v":"Биология"},{"$f":"Нагрузка!X3","v":"МХК"},{"$f":"Нагрузка!Y3","v":"ФЗК"},{"$f":"Нагрузка!Z3","v":"ОБЖ"},{"$f":"Нагрузка!AA3","v":"Природоведение"},{"$f":"[2]Нагрузка!AB3","v":0},{"$f":"[2]Нагрузка!AC3","v":0},{"$f":"[2]Нагрузка!AD3","v":0},{"$f":"[2]Нагрузка!AE3","v":0},"Средний балл:","Степень обученности (СОУ):","Качество успеваемости:","Рейтинговый учебный балл:"]
[1,{"$f":"СпискиКлассы!K4","v":"Бобырева Татьяна"},4,4,4,4,null,null,null,4,4,null,4,5,5,null,4,null,null,4,null,null,4,null,null,null,null,null,null,null,null,{"$f":"AVERAGE(C6:AE6)","v":4.166666666666667},{"$f":"(COUNTIF(C6:AE6,\"5\")+COUNTIF(C6:AE6,\"4\")*0.64+COUNTIF(C6:AE6,\"3\")*0.36+COUNTIF(C6:AE6,\"2\")*0.16)/(COUNTIF(C6:AE6,\"5\")+COUNTIF(C6:AE6,\"4\")+COUNTIF(C6:AE6,\"3\")+COUNTIF(C6:AE6,\"2\")+COUNTIF(C6:AE6,\"0\"))","v":0.70000000000000007},{"$f":"((5*COUNTIF(C6:AE6,\"5\"))+(4*COUNTIF(C6:AE6,\"4\")))/(5*(COUNTA(C6:AE6)-COUNTIF(C6:AE6,\"н\")))","v":0.83333333333333337},{"$f":"SUMIF(C91:AE91,\">0\",C91:AE91)/(COUNTIF(C6:AE6,\">0\")+COUNTIF(C6:AE6,\"=0\")+COUNTIF(C6:AE6,\"Н\"))","v":25.666666666666668}]
[{"$f":"A6+1","v":2},{"$f":"СпискиКлассы!K5","v":"Бычкова Ирина"},4,4,4,4,null,null,null,4,5,null,5,5,5,null,4,null,null,4,null,null,4,null,null,null,null,null,null,null,null,{"$f":"AVERAGE(C7:AE7)","v":4.333333333333333},{"$f":"(COUNTIF(C7:AE7,\"5\")+COUNTIF(C7:AE7,\"4\")*0.64+COUNTIF(C7:AE7,\"3\")*0.36+COUNTIF(C7:AE7,\"2\")*0.16)/(COUNTIF(C7:AE7,\"5\")+COUNTIF(C7:AE7,\"4\")+COUNTIF(C7:AE7,\"3\")+COUNTIF(C7:AE7,\"2\")+COUNTIF(C7:AE7,\"0\"))","v":0.76000000000000012},{"$f":"((5*COUNTIF(C7:AE7,\"5\"))+(4*COUNTIF(C7:AE7,\"4\")))/(5*(COUNTA(C7:AE7)-COUNTIF(C7:AE7,\"н\")))","v":0.8666666666666667},25.916666666666668]
[3,{"$f":"СпискиКлассы!K6","v":"Волошинович Виктор"},3,3,3,3,null,null,null,3,3,null,4,4,4,null,3,null,null,3,null,null,3,null,null,null,null,null,null,null,null,{"$f":"AVERAGE(C8:AE8)","v":3.25},0.43,0.2,19.583333333333332]
[4,{"$f":"СпискиКлассы!K7","v":"Гурская Анна"},3,3,3,3,null,null,null,3,3,null,5,5,5,null,4,null,null,4,null,null,4,null,null,null,null,null,null,null,null,3.75,0.59,0.45,21.75]
[5,{"$f":"СпискиКлассы!K8","v":"Дерюгин Даниэль"},3,3,4,4,null,null,null,3,3,null,4,5,4,null,4,null,null,5,null,null,4,null,null,null,null,null,null,null,null,3.8333333333333335,0.60666666666666658,0.56666666666666665,23.833333333333332]
[6,{"$f":"СпискиКлассы!K9","v":"Зайко Роман"},3,3,4,3,null,null,null,3,3,null,4,4,4,null,5,null,null,3,null,null,3,null,null,null,null,null,null,null,null,3.5,0.50666666666666671,0.35,21.166666666666668]
[7,{"$f":"СпискиКлассы!K10","v":"Коновалова Ксения"},5,5,4,4,null,null,null,5,5,null,5,5,5,null,5,null,null,5,null,null,5,null,null,null,null,null,null,null,null,4.833333333333333,0.94,0.96666666666666667,29.666666666666668]
[8,{"$f":"СпискиКлассы!K11","v":"Короткин Семен"},4,4,4,4,null,null,null,3,4,null,5,5,4,null,4,null,null,4,null,null,4,null,null,null,null,null,null,null,null,4.083333333333333,0.67666666666666664,0.76666666666666672,25]
[9,{"$f":"СпискиКлассы!K12","v":"Латышев Артем"},4,4,4,4,null,null,null,4,4,null,4,5,4,null,4,null,null,5,null,null,4,null,null,null,null,null,null,null,null,4.166666666666667,0.70000000000000007,0.83333333333333337,26]
[10,{"$f":"СпискиКлассы!K13","v":"Левина Татьяна"},4,4,4,4,null,null,null,4,4,null,5,5,4,null,4,null,null,4,null,null,4,null,null,null,null,null,null,null,null,4.166666666666667,0.70000000000000007,0.83333333333333337,25.666666666666668]
[11,{"$f":"СпискиКлассы!K14","v":"Ливанова Анастасия"},4,4,4,4,null,null,null,4,5,null,5,5,4,null,5,null,null,5,null,null,5,null,null,null,null,null,null,null,null,4.5,0.82,0.9,27.25]
[12,{"$f":"СпискиКлассы!K15","v":"Мирошникова Полина"},4,5,4,4,null,null,null,5,null,null,5,5,5,null,4,null,null,5,null,null,4,null,null,null,null,null,null,null,null,4.5454545454545459,0.83636363636363631,0.90909090909090906,30.181818181818183]
[13,{"$f":"СпискиКлассы!K16","v":"Мухина Елена"},4,4,4,3,null,null,null,4,5,null,5,5,5,null,5,null,null,5,null,null,4,null,null,null,null,null,null,null,null,4.416666666666667,0.79666666666666652,0.83333333333333337,25.75]
[14,{"$f":"СпискиКлассы!K17","v":"Недренко Олег"},3,3,3,3,null,null,null,3,3,null,5,4,4,null,4,null,null,3,null,null,3,null,null,null,null,null,null,null,null,3.4166666666666665,0.48333333333333334,0.28333333333333333,20.166666666666668]
[15,{"$f":"СпискиКлассы!K18","v":"Новоклинова Полина"},4,4,3,3,null,null,null,3,3,null,5,5,5,null,4,null,null,4,null,null,4,null,null,null,null,null,null,null,null,3.9166666666666665,0.63666666666666671,0.58333333333333337,23.25]
[16,{"$f":"СпискиКлассы!K19","v":"Павлова Ксения"},5,5,5,5,null,null,null,5,5,null,5,5,5,null,5,null,null,5,null,null,5,null,null,null,null,null,null,null,null,5,1,1,31.666666666666668]
[17,{"$f":"СпискиКлассы!K20","v":"Потьканова Вероника"},5,5,5,5,null,null,null,5,5,null,5,5,5,null,5,null,null,5,null,null,5,null,null,null,null,null,null,null,null,5,1,1,31.666666666666668]
[18,{"$f":"СпискиКлассы!K21","v":"Пугачев Данил"},3,3,3,3,null,null,null,3,3,null,4,4,4,null,4,null,null,3,null,null,3,null,null,null,null,null,null,null,null,3.3333333333333335,0.45333333333333331,0.26666666666666666,19.916666666666668]
[19,{"$f":"СпискиКлассы!K22","v":"Рысина Дарья"},5,5,5,5,null,null,null,5,5,null,5,5,5,null,5,null,null,5,null,null,5,null,null,null,null,null,null,null,null,5,1,1,31.666666666666668]
[20,{"$f":"СпискиКлассы!K23","v":"Сафронова Анастасия"},4,5,5,4,null,null,null,5,5,null,5,5,5,null,5,null,null,4,null,null,4,null,null,null,null,null,null,null,null,4.666666666666667,0.88,0.93333333333333335,28.333333333333332]
[21,{"$f":"СпискиКлассы!K24","v":"Семенов Сергей"},3,3,3,4,null,null,null,3,3,null,3,4,4,null,4,null,null,4,null,null,3,null,null,null,null,null,null,null,null,3.4166666666666665,0.47666666666666674,0.33333333333333331,21.333333333333332]
[22,{"$f":"СпискиКлассы!K25","v":"Сергеев Владислав"},4,4,4,4,null,null,null,4,4,null,5,5,4,null,4,null,null,5,null,null,4,null,null,null,null,null,null,null,null,4.25,0.73,0.85,26.25]
[23,{"$f":"СпискиКлассы!K26","v":"Сулягина Екатерина"},4,4,4,4,null,null,null,4,4,null,5,5,5,null,4,null,null,4,null,null,4,null,null,null,null,null,null,null,null,4.25,0.73,0.85,25.916666666666668]
[24,{"$f":"СпискиКлассы!K27","v":"Тараканов Евгений"},4,4,4,3,null,null,null,3,4,null,4,4,4,null,4,null,null,3,null,null,4,null,null,null,null,null,null,null,null,3.75,0.56999999999999995,0.6,23]
[25,{"$f":"СпискиКлассы!K28","v":"Трошина Ангелина"},3,3,3,3,null,null,null,3,3,null,4,5,4,null,4,null,null,4,null,null,4,null,null,null,null,null,null,null,null,3.5833333333333335,0.53,0.41666666666666669,21.25]
[26,{"$f":"СпискиКлассы!K29","v":"Чечина Ксения"},4,5,5,4,null,null,null,5,5,null,4,5,5,null,4,null,null,4,null,null,4,null,null,null,null,null,null,null,null,4.5,0.82,0.9,27.75]
[27,{"$f":"СпискиКлассы!K30","v":"Чигрина Валерия"},5,5,5,4,null,null,null,5,5,null,4,5,5,null,4,null,null,5,null,null,5,null,null,null,null,null,null,null,null,4.75,0.91,0.95,30]
[28,{"$f":"СпискиКлассы!K31","v":"Шкварова Виолета"},5,5,5,5,null,null,null,5,5,null,5,5,5,null,5,null,null,5,null,null,5,null,null,null,null,null,null,null,null,5,1,1,31.666666666666668]
[29,{"$f":"СпискиКлассы!K32","v":"Винокурова Юлия"},5,5,4,4,null,null,null,4,5,null,5,5,4,null,5,null,null,5,null,null,4,null,null,null,null,null,null,null,null,4.583333333333333,0.85,0.91666666666666663,28.083333333333332]
[30,{"$f":"СпискиКлассы!K33","v":"Самар Кирилл"},3,3,3,3,null,null,null,3,3,null,4,4,4,null,5,null,null,4,null,null,4,null,null,null,null,null,null,null,null,3.5833333333333335,0.53,0.41666666666666669,{"$f":"SUMIF(C130:AE130,\">0\",C130:AE130)/(COUNTIF(C35:AE35,\">0\")+COUNTIF(C35:AE35,\"=0\")+COUNTIF(C35:AE35,\"Н\"))","v":21.5}]
[" Фамилия и инициалы                                           учителя - предметника",null,{"$f":"Нагрузка!C14","v":"Дышлевич"},{"$f":"Нагрузка!D14","v":"Дышлевич"},{"$f":"Нагрузка!E14","v":0},{"$f":"Нагрузка!F14","v":"Кочарова"},{"$f":"Нагрузка!G14","v":0},{"$f":"Нагрузка!H14","v":0},{"$f":"Нагрузка!I14","v":0},{"$f":"Нагрузка!J14","v":"Быкова"},{"$f":"Нагрузка!K14","v":0},{"$f":"Нагрузка!L14","v":0},{"$f":"Нагрузка!M14","v":"Терюшкова"},{"$f":"Нагрузка!N14","v":"Заворина"},{"$f":"Нагрузка!O14","v":"Девицын"},{"$f":"Нагрузка!P14","v":"Потьканова"},{"$f":"Нагрузка!Q14","v":"Перфильев"},{"$f":"Нагрузка!R14","v":"Каплан"},{"$f":"Нагрузка!S14","v":"Гулевич"},{"$f":"Нагрузка!T14","v":0},{"$f":"Нагрузка!U14","v":0},{"$f":"Нагрузка!V14","v":0},{"$f":"Нагрузка!W14","v":0},{"$f":"Нагрузка!X14","v":0},{"$f":"Нагрузка!Y14","v":0},{"$f":"Нагрузка!Z14","v":0},{"$f":"Нагрузка!AA14","v":"Сидоренко"},{"$f":"[2]Нагрузка!AB15","v":0},{"$f":"[2]Нагрузка!AC15","v":0},{"$f":"[2]Нагрузка!AD15","v":0},{"$f":"[2]Нагрузка!AE15","v":0},"Показатели результатов учебной деятельности в  целом по классу:"]
["Результаты учебной деятельности класса","Количество  \"5\":",{"$f":"COUNTIF(C6:C35,5)","v":7},10,7,4,0,0,0,9,12,0,18,23,15,0,11,0,0,13,0,0,7,0,0,0,0,0,0,0,0,{"$f":"SUM(C37:AE37)","v":136}]
[null,"Количество  \"4\":",{"$f":"COUNTIF(C6:C35,4)","v":14},11,15,16,0,0,0,9,7,0,11,7,15,0,18,0,0,12,0,0,18,0,0,0,0,0,0,0,0,153]
[null,"Количество  \"3\":",{"$f":"COUNTIF(C6:C35,3)","v":9},9,8,10,0,0,0,12,10,0,1,0,0,0,1,0,0,5,0,0,5,0,0,0,0,0,0,0,0,70]
[null,"Количество  \"2\":",{"$f":"COUNTIF(C6:C35,2)","v":0},0,0,0,0,0,0,0,0,0,0,0,0,0,0,0,0,0,0,0,0,0,0,0,0,0,0,0,0,0]
[null,"Не аттестовано:",{"$f":"COUNTIF(C6:C35,0)","v":0},0,0,0,0,0,0,0,0,0,0,0,0,0,0,0,0,0,0,0,0,0,0,0,0,0,0,0,0,0]
[null,"Освобождено:",{"$f":"COUNTIF(C6:C35,\"н\")","v":0},0,0,0,0,0,0,0,0,0,0,0,0,0,0,0,0,0,0,0,0,0,0,0,0,0,0,0,0,0]
[null,"Успеваемость:",{"$f":"(C37+C38+C39)/(C37+C38+C39+C40+C41)","v":1},{"$f":"(D37+D38+D39)/(D37+D38+D39+D40+D41)","v":1},1,1,{"$error":"#DIV/0!"},{"$error":"#DIV/0!"},{"$error":"#DIV/0!"},1,1,{"$error":"#DIV/0!"},1,1,1,{"$error":"#DIV/0!"},1,{"$error":"#DIV/0!"},{"$error":"#DIV/0!"},1,{"$error":"#DIV/0!"},{"$error":"#DIV/0!"},1,{"$error":"#DIV/0!"},{"$error":"#DIV/0!"},{"$error":"#DIV/0!"},{"$error":"#DIV/0!"},{"$error":"#DIV/0!"},{"$error":"#DIV/0!"},{"$error":"#DIV/0!"},{"$error":"#DIV/0!"},{"$f":"('6 А(2)'!D2-'6 А(2)'!C43-'6 А(2)'!C53)/'6 А(2)'!D2","v":1}]
[null,"Качество знаний:",{"$f":"(C37+C38)/(C37+C38+C39+C40+C41)","v":0.7},{"$f":"(D37+D38)/(D37+D38+D39+D40+D41)","v":0.7},0.73333333333333328,0.66666666666666663,{"$error":"#DIV/0!"},{"$error":"#DIV/0!"},{"$error":"#DIV/0!"},0.6,0.65517241379310343,{"$error":"#DIV/0!"},0.96666666666666667,1,1,{"$error":"#DIV/0!"},0.96666666666666667,{"$error":"#DIV/0!"},{"$error":"#DIV/0!"},0.83333333333333337,{"$error":"#DIV/0!"},{"$error":"#DIV/0!"},0.83333333333333337,{"$error":"#DIV/0!"},{"$error":"#DIV/0!"},{"$error":"#DIV/0!"},{"$error":"#DIV/0!"},{"$error":"#DIV/0!"},{"$error":"#DIV/0!"},{"$error":"#DIV/0!"},{"$error":"#DIV/0!"},{"$f":"('6 А(2)'!C3+'6 А(2)'!C18)/'6 А(2)'!D2","v":0.56666666666666665}]
[null,"Степень обученности:",{"$f":"(C37+C38*0.64+C39*0.36+C40*0.16)/(C37+C38+C39+C40+C41)","v":0.64},{"$f":"(D37+D38*0.64+D39*0.36+D40*0.16)/(D37+D38+D39+D40+D41)","v":0.67599999999999993},0.64933333333333332,0.59466666666666668,{"$error":"#DIV/0!"},{"$error":"#DIV/0!"},{"$error":"#DIV/0!"},0.6359999999999999,0.69241379310344819,{"$error":"#DIV/0!"},0.84666666666666657,0.91600000000000004,0.82000000000000006,{"$error":"#DIV/0!"},0.7626666666666666,{"$error":"#DIV/0!"},{"$error":"#DIV/0!"},0.7493333333333333,{"$error":"#DIV/0!"},{"$error":"#DIV/0!"},0.67733333333333334,{"$error":"#DIV/0!"},{"$error":"#DIV/0!"},{"$error":"#DIV/0!"},{"$error":"#DIV/0!"},{"$error":"#DIV/0!"},{"$error":"#DIV/0!"},{"$error":"#DIV/0!"},{"$error":"#DIV/0!"},{"$f":"(AF37+AF38*0.64+AF39*0.36+AF40*0.16)/(AF37+AF38+AF39+AF40+AF41)","v":0.7217827298050139}]
[null,"Средний балл:              ",{"$f":"(C37*5+C38*4+C39*3+C40*2)/(C37+C38+C39+C40+C41)","v":3.9333333333333331},{"$f":"(D37*5+D38*4+D39*3+D40*2)/(D37+D38+D39+D40+D41)","v":4.0333333333333332},3.9666666666666668,3.8,{"$error":"#DIV/0!"},{"$error":"#DIV/0!"},{"$error":"#DIV/0!"},3.9,4.068965517241379,{"$error":"#DIV/0!"},4.5666666666666664,4.7666666666666666,4.5,{"$error":"#DIV/0!"},4.333333333333333,{"$error":"#DIV/0!"},{"$error":"#DIV/0!"},4.2666666666666666,{"$error":"#DIV/0!"},{"$error":"#DIV/0!"},4.0666666666666664,{"$error":"#DIV/0!"},{"$error":"#DIV/0!"},{"$error":"#DIV/0!"},{"$error":"#DIV/0!"},{"$error":"#DIV/0!"},{"$error":"#DIV/0!"},{"$error":"#DIV/0!"},{"$error":"#DIV/0!"},{"$f":"(AF37*5+AF38*4+AF39*3+AF40*2)/(AF37+AF38+AF39+AF40+AF41)","v":4.1838440111420612}]
[null,"Качество успеваемости:",{"$f":"(5*C37+4*C38)*0.2/(SUM(C37+C38+C39+C40+C41))","v":0.60666666666666669},{"$f":"(5*COUNTIF(D6:D35,5)+4*COUNTIF(D6:D35,4))*0.2/(COUNTA(D6:D35)-COUNTIF(D6:D35,\"н\"))","v":0.62666666666666671},0.6333333333333333,0.56000000000000005,{"$error":"#DIV/0!"},{"$error":"#DIV/0!"},{"$error":"#DIV/0!"},0.53999999999999992,0.60689655172413803,{"$error":"#DIV/0!"},0.89333333333333331,0.95333333333333337,0.9,{"$error":"#DIV/0!"},0.84666666666666679,{"$error":"#DIV/0!"},{"$error":"#DIV/0!"},0.75333333333333341,{"$error":"#DIV/0!"},{"$error":"#DIV/0!"},0.71333333333333337,{"$error":"#DIV/0!"},{"$error":"#DIV/0!"},{"$error":"#DIV/0!"},{"$error":"#DIV/0!"},{"$error":"#DIV/0!"},{"$error":"#DIV/0!"},{"$error":"#DIV/0!"},{"$error":"#DIV/0!"},{"$f":"(5*COUNTIF(C6:AE35,5)+4*COUNTIF(C6:AE35,4))*0.2/(COUNTA(C6:AE35)-COUNTIF(C6:AE35,\"н\"))","v":0.71977715877437332}]
["Выполнено с помощью программы статистического анализа результатов учебной деятельности",null,null,null,null,null,null,null,null,null,null,null,null,null,null,null,null,null,null,null,null,null,null,null,null,null,null,null,{"$f":"[2]Титул!G36","v":"PSORUD-Klass.v.04.11.demo"},null,null,null,null,null,"3+"]
[]
[]
[]
[]
[]
[]
[]
[]
[]
[]
[]
[]
[]
[]
[]
[]
[]
[]
[]
[]
[]
[]
[]
[]
[]
[]
[]
[]
[]
[]
[]
[]
[]
[]
[]
[]
[]
[]
[]
[]
[]
[null,"Коэф.трудн.предмета",{"$f":"VLOOKUP(C$5,ШкалаТрудн!$C$5:$N$34,LEFT($Z$2,2)+1,0)","v":12},{"$f":"VLOOKUP(D$5,ШкалаТрудн!$C$5:$N$34,LEFT($Z$2,2)+1,0)","v":6},{"$f":"VLOOKUP(E$5,ШкалаТрудн!$C$5:$N$34,LEFT($Z$2,2)+1,0)","v":11},{"$f":"VLOOKUP(F$5,ШкалаТрудн!$C$5:$N$34,LEFT($Z$2,2)+1,0)","v":13},{"$f":"VLOOKUP(G$5,ШкалаТрудн!$C$5:$N$34,LEFT($Z$2,2)+1,0)","v":0},{"$f":"VLOOKUP(H$5,ШкалаТрудн!$C$5:$N$34,LEFT($Z$2,2)+1,0)","v":0},{"$f":"VLOOKUP(I$5,ШкалаТрудн!$C$5:$N$34,LEFT($Z$2,2)+1,0)","v":10},{"$f":"VLOOKUP(J$5,ШкалаТрудн!$C$5:$N$34,LEFT($Z$2,2)+1,0)","v":8},{"$f":"VLOOKUP(K$5,ШкалаТрудн!$C$5:$N$34,LEFT($Z$2,2)+1,0)","v":0},{"$f":"VLOOKUP(L$5,ШкалаТрудн!$C$5:$N$34,LEFT($Z$2,2)+1,0)","v":{"$error":"#N/A"}},{"$f":"VLOOKUP(M$5,ШкалаТрудн!$C$5:$N$34,LEFT($Z$2,2)+1,0)","v":3},{"$f":"VLOOKUP(N$5,ШкалаТрудн!$C$5:$N$34,LEFT($Z$2,2)+1,0)","v":1},{"$f":"VLOOKUP(O$5,ШкалаТрудн!$C$5:$N$34,LEFT($Z$2,2)+1,0)","v":3},{"$f":"VLOOKUP(P$5,ШкалаТрудн!$C$5:$N$34,LEFT($Z$2,2)+1,0)","v":3},{"$f":"VLOOKUP(Q$5,ШкалаТрудн!$C$5:$N$34,LEFT($Z$2,2)+1,0)","v":4},{"$f":"VLOOKUP(R$5,ШкалаТрудн!$C$5:$N$34,LEFT($Z$2,2)+1,0)","v":11},{"$f":"VLOOKUP(S$5,ШкалаТрудн!$C$5:$N$34,LEFT($Z$2,2)+1,0)","v":11},{"$f":"VLOOKUP(T$5,ШкалаТрудн!$C$5:$N$34,LEFT($Z$2,2)+1,0)","v":7},{"$f":"VLOOKUP(U$5,ШкалаТрудн!$C$5:$N$34,LEFT($Z$2,2)+1,0)","v":0},{"$f":"VLOOKUP(V$5,ШкалаТрудн!$C$5:$N$34,LEFT($Z$2,2)+1,0)","v":0},{"$f":"VLOOKUP(W$5,ШкалаТрудн!$C$5:$N$34,LEFT($Z$2,2)+1,0)","v":8},{"$f":"VLOOKUP(X$5,ШкалаТрудн!$C$5:$N$34,LEFT($Z$2,2)+1,0)","v":0},{"$f":"VLOOKUP(Y$5,ШкалаТрудн!$C$5:$N$34,LEFT($Z$2,2)+1,0)","v":4},{"$f":"VLOOKUP(Z$5,ШкалаТрудн!$C$5:$N$34,LEFT($Z$2,2)+1,0)","v":2},{"$f":"VLOOKUP(AA$5,ШкалаТрудн!$C$5:$N$34,LEFT($Z$2,2)+1,0)","v":0},{"$f":"VLOOKUP(AB$5,ШкалаТрудн!$C$5:$N$34,LEFT($Z$2,2)+1,0)","v":{"$error":"#N/A"}},{"$f":"VLOOKUP(AC$5,ШкалаТрудн!$C$5:$N$34,LEFT($Z$2,2)+1,0)","v":{"$error":"#N/A"}},{"$f":"VLOOKUP(AD$5,ШкалаТрудн!$C$5:$N$34,LEFT($Z$2,2)+1,0)","v":{"$error":"#N/A"}},{"$f":"VLOOKUP(AE$5,ШкалаТрудн!$C$5:$N$34,LEFT($Z$2,2)+1,0)","v":{"$error":"#N/A"}}]
[null,null,{"$f":"C6*C$90","v":48},24,44,52,0,0,0,32,0,{"$error":"#N/A"},12,5,15,0,16,0,0,28,0,0,32,0,0,0,0,{"$error":"#N/A"},{"$error":"#N/A"},{"$error":"#N/A"},{"$error":"#N/A"}]
[null,null,48,24,44,52,0,0,0,32,0,{"$error":"#N/A"},15,5,15,0,16,0,0,28,0,0,32,0,0,0,0,{"$error":"#N/A"},{"$error":"#N/A"},{"$error":"#N/A"},{"$error":"#N/A"}]
[null,null,36,18,33,39,0,0,0,24,0,{"$error":"#N/A"},12,4,12,0,12,0,0,21,0,0,24,0,0,0,0,{"$error":"#N/A"},{"$error":"#N/A"},{"$error":"#N/A"},{"$error":"#N/A"}]
[null,null,36,18,33,39,0,0,0,24,0,{"$error":"#N/A"},15,5,15,0,16,0,0,28,0,0,32,0,0,0,0,{"$error":"#N/A"},{"$error":"#N/A"},{"$error":"#N/A"},{"$error":"#N/A"}]
[null,null,36,18,44,52,0,0,0,24,0,{"$error":"#N/A"},12,5,12,0,16,0,0,35,0,0,32,0,0,0,0,{"$error":"#N/A"},{"$error":"#N/A"},{"$error":"#N/A"},{"$error":"#N/A"}]
[null,null,36,18,44,39,0,0,0,24,0,{"$error":"#N/A"},12,4,12,0,20,0,0,21,0,0,24,0,0,0,0,{"$error":"#N/A"},{"$error":"#N/A"},{"$error":"#N/A"},{"$error":"#N/A"}]
[null,null,60,30,44,52,0,0,0,40,0,{"$error":"#N/A"},15,5,15,0,20,0,0,35,0,0,40,0,0,0,0,{"$error":"#N/A"},{"$error":"#N/A"},{"$error":"#N/A"},{"$error":"#N/A"}]
[null,null,48,24,44,52,0,0,0,24,0,{"$error":"#N/A"},15,5,12,0,16,0,0,28,0,0,32,0,0,0,0,{"$error":"#N/A"},{"$error":"#N/A"},{"$error":"#N/A"},{"$error":"#N/A"}]
[null,null,48,24,44,52,0,0,0,32,0,{"$error":"#N/A"},12,5,12,0,16,0,0,35,0,0,32,0,0,{"$f":"Z14*Z$90","v":0},0,{"$error":"#N/A"},{"$error":"#N/A"},{"$error":"#N/A"},{"$error":"#N/A"}]
[null,null,{"$f":"C15*C$90","v":48},24,44,52,0,0,0,32,0,{"$error":"#N/A"},15,5,12,0,16,0,0,28,0,0,32,0,0,0,0,{"$error":"#N/A"},{"$error":"#N/A"},{"$error":"#N/A"},{"$error":"#N/A"}]
[null,null,48,24,44,52,0,0,0,32,0,{"$error":"#N/A"},15,5,12,0,20,0,0,35,0,0,40,0,0,0,0,{"$error":"#N/A"},{"$error":"#N/A"},{"$error":"#N/A"},{"$error":"#N/A"}]
[null,null,48,30,44,52,0,0,0,40,0,{"$error":"#N/A"},15,5,15,0,16,0,0,35,0,0,32,0,0,0,0,{"$error":"#N/A"},{"$error":"#N/A"},{"$error":"#N/A"},{"$error":"#N/A"}]
[null,null,48,24,44,39,0,0,0,32,0,{"$error":"#N/A"},15,5,15,0,20,0,0,35,0,0,32,0,0,0,0,{"$error":"#N/A"},{"$error":"#N/A"},{"$error":"#N/A"},{"$error":"#N/A"}]
[null,null,36,18,33,39,0,0,0,24,0,{"$error":"#N/A"},15,4,12,0,16,0,0,21,0,0,24,0,0,0,0,{"$error":"#N/A"},{"$error":"#N/A"},{"$error":"#N/A"},{"$error":"#N/A"}]
[null,null,48,24,33,39,0,0,0,24,0,{"$error":"#N/A"},15,5,15,0,16,0,0,28,0,0,32,0,0,0,0,{"$error":"#N/A"},{"$error":"#N/A"},{"$error":"#N/A"},{"$error":"#N/A"}]
[null,null,60,30,55,65,0,0,0,40,0,{"$error":"#N/A"},15,5,15,0,20,0,0,35,0,0,40,0,0,0,0,{"$error":"#N/A"},{"$error":"#N/A"},{"$error":"#N/A"},{"$error":"#N/A"}]
[null,null,60,30,55,65,0,0,0,40,0,{"$error":"#N/A"},15,5,15,0,20,0,0,35,0,0,40,0,0,0,0,{"$error":"#N/A"},{"$error":"#N/A"},{"$error":"#N/A"},{"$error":"#N/A"}]
[null,null,36,18,33,39,0,0,0,24,0,{"$error":"#N/A"},12,4,12,0,16,0,0,21,0,0,24,0,0,{"$f":"Z23*Z$90","v":0},0,{"$error":"#N/A"},{"$error":"#N/A"},{"$error":"#N/A"},{"$error":"#N/A"}]
[null,null,{"$f":"C24*C$90","v":60},30,55,65,0,0,0,40,0,{"$error":"#N/A"},15,5,15,0,20,0,0,35,0,0,40,0,0,0,0,{"$error":"#N/A"},{"$error":"#N/A"},{"$error":"#N/A"},{"$error":"#N/A"}]
[null,null,48,30,55,52,0,0,0,40,0,{"$error":"#N/A"},15,5,15,0,20,0,0,28,0,0,32,0,0,0,0,{"$error":"#N/A"},{"$error":"#N/A"},{"$error":"#N/A"},{"$error":"#N/A"}]
[null,null,36,18,33,52,0,0,0,24,0,{"$error":"#N/A"},9,4,12,0,16,0,0,28,0,0,24,0,0,0,0,{"$error":"#N/A"},{"$error":"#N/A"},{"$error":"#N/A"},{"$error":"#N/A"}]
[null,null,48,24,44,52,0,0,0,32,0,{"$error":"#N/A"},15,5,12,0,16,0,0,35,0,0,32,0,0,0,0,{"$error":"#N/A"},{"$error":"#N/A"},{"$error":"#N/A"},{"$error":"#N/A"}]
[null,null,48,24,44,52,0,0,0,32,0,{"$error":"#N/A"},15,5,15,0,16,0,0,28,0,0,32,0,0,0,0,{"$error":"#N/A"},{"$error":"#N/A"},{"$error":"#N/A"},{"$error":"#N/A"}]
[null,null,48,24,44,39,0,0,0,24,0,{"$error":"#N/A"},12,4,12,0,16,0,0,21,0,0,32,0,0,0,0,{"$error":"#N/A"},{"$error":"#N/A"},{"$error":"#N/A"},{"$error":"#N/A"}]
[null,null,36,18,33,39,0,0,0,24,0,{"$error":"#N/A"},12,5,12,0,16,0,0,28,0,0,32,0,0,0,0,{"$error":"#N/A"},{"$error":"#N/A"},{"$error":"#N/A"},{"$error":"#N/A"}]
[null,null,48,30,55,52,0,0,0,40,0,{"$error":"#N/A"},12,5,15,0,16,0,0,28,0,0,32,0,0,0,0,{"$error":"#N/A"},{"$error":"#N/A"},{"$error":"#N/A"},{"$error":"#N/A"}]
[null,null,60,30,55,52,0,0,0,40,0,{"$error":"#N/A"},12,5,15,0,16,0,0,35,0,0,40,0,0,{"$f":"Z32*Z$90","v":0},0,{"$error":"#N/A"},{"$error":"#N/A"},{"$error":"#N/A"},{"$error":"#N/A"}]
[null,null,{"$f":"C33*C$90","v":60},30,55,65,0,0,0,40,0,{"$error":"#N/A"},15,5,15,0,20,0,0,35,0,0,40,0,0,0,0,{"$error":"#N/A"},{"$error":"#N/A"},{"$error":"#N/A"},{"$error":"#N/A"}]
[null,null,60,30,44,52,0,0,0,32,0,{"$error":"#N/A"},15,5,12,0,20,0,0,35,0,0,32,0,0,0,0,{"$error":"#N/A"},{"$error":"#N/A"},{"$error":"#N/A"},{"$error":"#N/A"}]
[null,null,{"$f":"#REF!*C$90","v":{"$error":"#REF!"}},{"$f":"#REF!*D$90","v":{"$error":"#REF!"}},{"$f":"#REF!*E$90","v":{"$error":"#REF!"}},{"$f":"#REF!*F$90","v":{"$error":"#REF!"}},{"$f":"#REF!*G$90","v":{"$error":"#REF!"}},{"$f":"#REF!*H$90","v":{"$error":"#REF!"}},{"$f":"#REF!*I$90","v":{"$error":"#REF!"}},{"$f":"#REF!*J$90","v":{"$error":"#REF!"}},{"$f":"#REF!*K$90","v":{"$error":"#REF!"}},{"$f":"#REF!*L$90","v":{"$error":"#REF!"}},{"$f":"#REF!*M$90","v":{"$error":"#REF!"}},{"$f":"#REF!*N$90","v":{"$error":"#REF!"}},{"$f":"#REF!*O$90","v":{"$error":"#REF!"}},{"$f":"#REF!*P$90","v":{"$error":"#REF!"}},{"$f":"#REF!*Q$90","v":{"$error":"#REF!"}},{"$f":"#REF!*R$90","v":{"$error":"#REF!"}},{"$f":"#REF!*S$90","v":{"$error":"#REF!"}},{"$f":"#REF!*T$90","v":{"$error":"#REF!"}},{"$f":"#REF!*U$90","v":{"$error":"#REF!"}},{"$f":"#REF!*V$90","v":{"$error":"#REF!"}},{"$f":"#REF!*W$90","v":{"$error":"#REF!"}},{"$f":"#REF!*X$90","v":{"$error":"#REF!"}},{"$f":"#REF!*Y$90","v":{"$error":"#REF!"}},{"$f":"#REF!*Z$90","v":{"$error":"#REF!"}},{"$f":"#REF!*AA$90","v":{"$error":"#REF!"}},{"$f":"#REF!*AB$90","v":{"$error":"#REF!"}},{"$f":"#REF!*AC$90","v":{"$error":"#REF!"}},{"$f":"#REF!*AD$90","v":{"$error":"#REF!"}},{"$f":"#REF!*AE$90","v":{"$error":"#REF!"}}]
[null,null,{"$f":"#REF!*C$90","v":{"$error":"#REF!"}},{"$f":"#REF!*D$90","v":{"$error":"#REF!"}},{"$f":"#REF!*E$90","v":{"$error":"#REF!"}},{"$f":"#REF!*F$90","v":{"$error":"#REF!"}},{"$f":"#REF!*G$90","v":{"$error":"#REF!"}},{"$f":"#REF!*H$90","v":{"$error":"#REF!"}},{"$f":"#REF!*I$90","v":{"$error":"#REF!"}},{"$f":"#REF!*J$90","v":{"$error":"#REF!"}},{"$f":"#REF!*K$90","v":{"$error":"#REF!"}},{"$f":"#REF!*L$90","v":{"$error":"#REF!"}},{"$f":"#REF!*M$90","v":{"$error":"#REF!"}},{"$f":"#REF!*N$90","v":{"$error":"#REF!"}},{"$f":"#REF!*O$90","v":{"$error":"#REF!"}},{"$f":"#REF!*P$90","v":{"$error":"#REF!"}},{"$f":"#REF!*Q$90","v":{"$error":"#REF!"}},{"$f":"#REF!*R$90","v":{"$error":"#REF!"}},{"$f":"#REF!*S$90","v":{"$error":"#REF!"}},{"$f":"#REF!*T$90","v":{"$error":"#REF!"}},{"$f":"#REF!*U$90","v":{"$error":"#REF!"}},{"$f":"#REF!*V$90","v":{"$error":"#REF!"}},{"$f":"#REF!*W$90","v":{"$error":"#REF!"}},{"$f":"#REF!*X$90","v":{"$error":"#REF!"}},{"$f":"#REF!*Y$90","v":{"$error":"#REF!"}},{"$f":"#REF!*Z$90","v":{"$error":"#REF!"}},{"$f":"#REF!*AA$90","v":{"$error":"#REF!"}},{"$f":"#REF!*AB$90","v":{"$error":"#REF!"}},{"$f":"#REF!*AC$90","v":{"$error":"#REF!"}},{"$f":"#REF!*AD$90","v":{"$error":"#REF!"}},{"$f":"#REF!*AE$90","v":{"$error":"#REF!"}}]
[null,null,{"$f":"#REF!*C$90","v":{"$error":"#REF!"}},{"$f":"#REF!*D$90","v":{"$error":"#REF!"}},{"$f":"#REF!*E$90","v":{"$error":"#REF!"}},{"$f":"#REF!*F$90","v":{"$error":"#REF!"}},{"$f":"#REF!*G$90","v":{"$error":"#REF!"}},{"$f":"#REF!*H$90","v":{"$error":"#REF!"}},{"$f":"#REF!*I$90","v":{"$error":"#REF!"}},{"$f":"#REF!*J$90","v":{"$error":"#REF!"}},{"$f":"#REF!*K$90","v":{"$error":"#REF!"}},{"$f":"#REF!*L$90","v":{"$error":"#REF!"}},{"$f":"#REF!*M$90","v":{"$error":"#REF!"}},{"$f":"#REF!*N$90","v":{"$error":"#REF!"}},{"$f":"#REF!*O$90","v":{"$error":"#REF!"}},{"$f":"#REF!*P$90","v":{"$error":"#REF!"}},{"$f":"#REF!*Q$90","v":{"$error":"#REF!"}},{"$f":"#REF!*R$90","v":{"$error":"#REF!"}},{"$f":"#REF!*S$90","v":{"$error":"#REF!"}},{"$f":"#REF!*T$90","v":{"$error":"#REF!"}},{"$f":"#REF!*U$90","v":{"$error":"#REF!"}},{"$f":"#REF!*V$90","v":{"$error":"#REF!"}},{"$f":"#REF!*W$90","v":{"$error":"#REF!"}},{"$f":"#REF!*X$90","v":{"$error":"#REF!"}},{"$f":"#REF!*Y$90","v":{"$error":"#REF!"}},{"$f":"#REF!*Z$90","v":{"$error":"#REF!"}},{"$f":"#REF!*AA$90","v":{"$error":"#REF!"}},{"$f":"#REF!*AB$90","v":{"$error":"#REF!"}},{"$f":"#REF!*AC$90","v":{"$error":"#REF!"}},{"$f":"#REF!*AD$90","v":{"$error":"#REF!"}},{"$f":"#REF!*AE$90","v":{"$error":"#REF!"}}]
[null,null,{"$f":"#REF!*C$90","v":{"$error":"#REF!"}},{"$f":"#REF!*D$90","v":{"$error":"#REF!"}},{"$f":"#REF!*E$90","v":{"$error":"#REF!"}},{"$f":"#REF!*F$90","v":{"$error":"#REF!"}},{"$f":"#REF!*G$90","v":{"$error":"#REF!"}},{"$f":"#REF!*H$90","v":{"$error":"#REF!"}},{"$f":"#REF!*I$90","v":{"$error":"#REF!"}},{"$f":"#REF!*J$90","v":{"$error":"#REF!"}},{"$f":"#REF!*K$90","v":{"$error":"#REF!"}},{"$f":"#REF!*L$90","v":{"$error":"#REF!"}},{"$f":"#REF!*M$90","v":{"$error":"#REF!"}},{"$f":"#REF!*N$90","v":{"$error":"#REF!"}},{"$f":"#REF!*O$90","v":{"$error":"#REF!"}},{"$f":"#REF!*P$90","v":{"$error":"#REF!"}},{"$f":"#REF!*Q$90","v":{"$error":"#REF!"}},{"$f":"#REF!*R$90","v":{"$error":"#REF!"}},{"$f":"#REF!*S$90","v":{"$error":"#REF!"}},{"$f":"#REF!*T$90","v":{"$error":"#REF!"}},{"$f":"#REF!*U$90","v":{"$error":"#REF!"}},{"$f":"#REF!*V$90","v":{"$error":"#REF!"}},{"$f":"#REF!*W$90","v":{"$error":"#REF!"}},{"$f":"#REF!*X$90","v":{"$error":"#REF!"}},{"$f":"#REF!*Y$90","v":{"$error":"#REF!"}},{"$f":"#REF!*Z$90","v":{"$error":"#REF!"}},{"$f":"#REF!*AA$90","v":{"$error":"#REF!"}},{"$f":"#REF!*AB$90","v":{"$error":"#REF!"}},{"$f":"#REF!*AC$90","v":{"$error":"#REF!"}},{"$f":"#REF!*AD$90","v":{"$error":"#REF!"}},{"$f":"#REF!*AE$90","v":{"$error":"#REF!"}}]
[null,null,{"$f":"#REF!*C$90","v":{"$error":"#REF!"}},{"$f":"#REF!*D$90","v":{"$error":"#REF!"}},{"$f":"#REF!*E$90","v":{"$error":"#REF!"}},{"$f":"#REF!*F$90","v":{"$error":"#REF!"}},{"$f":"#REF!*G$90","v":{"$error":"#REF!"}},{"$f":"#REF!*H$90","v":{"$error":"#REF!"}},{"$f":"#REF!*I$90","v":{"$error":"#REF!"}},{"$f":"#REF!*J$90","v":{"$error":"#REF!"}},{"$f":"#REF!*K$90","v":{"$error":"#REF!"}},{"$f":"#REF!*L$90","v":{"$error":"#REF!"}},{"$f":"#REF!*M$90","v":{"$error":"#REF!"}},{"$f":"#REF!*N$90","v":{"$error":"#REF!"}},{"$f":"#REF!*O$90","v":{"$error":"#REF!"}},{"$f":"#REF!*P$90","v":{"$error":"#REF!"}},{"$f":"#REF!*Q$90","v":{"$error":"#REF!"}},{"$f":"#REF!*R$90","v":{"$error":"#REF!"}},{"$f":"#REF!*S$90","v":{"$error":"#REF!"}},{"$f":"#REF!*T$90","v":{"$error":"#REF!"}},{"$f":"#REF!*U$90","v":{"$error":"#REF!"}},{"$f":"#REF!*V$90","v":{"$error":"#REF!"}},{"$f":"#REF!*W$90","v":{"$error":"#REF!"}},{"$f":"#REF!*X$90","v":{"$error":"#REF!"}},{"$f":"#REF!*Y$90","v":{"$error":"#REF!"}},{"$f":"#REF!*Z$90","v":{"$error":"#REF!"}},{"$f":"#REF!*AA$90","v":{"$error":"#REF!"}},{"$f":"#REF!*AB$90","v":{"$error":"#REF!"}},{"$f":"#REF!*AC$90","v":{"$error":"#REF!"}},{"$f":"#REF!*AD$90","v":{"$error":"#REF!"}},{"$f":"#REF!*AE$90","v":{"$error":"#REF!"}}]
[null,null,{"$f":"#REF!*C$90","v":{"$error":"#REF!"}},{"$f":"#REF!*D$90","v":{"$error":"#REF!"}},{"$f":"#REF!*E$90","v":{"$error":"#REF!"}},{"$f":"#REF!*F$90","v":{"$error":"#REF!"}},{"$f":"#REF!*G$90","v":{"$error":"#REF!"}},{"$f":"#REF!*H$90","v":{"$error":"#REF!"}},{"$f":"#REF!*I$90","v":{"$error":"#REF!"}},{"$f":"#REF!*J$90","v":{"$error":"#REF!"}},{"$f":"#REF!*K$90","v":{"$error":"#REF!"}},{"$f":"#REF!*L$90","v":{"$error":"#REF!"}},{"$f":"#REF!*M$90","v":{"$error":"#REF!"}},{"$f":"#REF!*N$90","v":{"$error":"#REF!"}},{"$f":"#REF!*O$90","v":{"$error":"#REF!"}},{"$f":"#REF!*P$90","v":{"$error":"#REF!"}},{"$f":"#REF!*Q$90","v":{"$error":"#REF!"}},{"$f":"#REF!*R$90","v":{"$error":"#REF!"}},{"$f":"#REF!*S$90","v":{"$error":"#REF!"}},{"$f":"#REF!*T$90","v":{"$error":"#REF!"}},{"$f":"#REF!*U$90","v":{"$error":"#REF!"}},{"$f":"#REF!*V$90","v":{"$error":"#REF!"}},{"$f":"#REF!*W$90","v":{"$error":"#REF!"}},{"$f":"#REF!*X$90","v":{"$error":"#REF!"}},{"$f":"#REF!*Y$90","v":{"$error":"#REF!"}},{"$f":"#REF!*Z$90","v":{"$error":"#REF!"}},{"$f":"#REF!*AA$90","v":{"$error":"#REF!"}},{"$f":"#REF!*AB$90","v":{"$error":"#REF!"}},{"$f":"#REF!*AC$90","v":{"$error":"#REF!"}},{"$f":"#REF!*AD$90","v":{"$error":"#REF!"}},{"$f":"#REF!*AE$90","v":{"$error":"#REF!"}}]
[null,null,{"$f":"#REF!*C$90","v":{"$error":"#REF!"}},{"$f":"#REF!*D$90","v":{"$error":"#REF!"}},{"$f":"#REF!*E$90","v":{"$error":"#REF!"}},{"$f":"#REF!*F$90","v":{"$error":"#REF!"}},{"$f":"#REF!*G$90","v":{"$error":"#REF!"}},{"$f":"#REF!*H$90","v":{"$error":"#REF!"}},{"$f":"#REF!*I$90","v":{"$error":"#REF!"}},{"$f":"#REF!*J$90","v":{"$error":"#REF!"}},{"$f":"#REF!*K$90","v":{"$error":"#REF!"}},{"$f":"#REF!*L$90","v":{"$error":"#REF!"}},{"$f":"#REF!*M$90","v":{"$error":"#REF!"}},{"$f":"#REF!*N$90","v":{"$error":"#REF!"}},{"$f":"#REF!*O$90","v":{"$error":"#REF!"}},{"$f":"#REF!*P$90","v":{"$error":"#REF!"}},{"$f":"#REF!*Q$90","v":{"$error":"#REF!"}},{"$f":"#REF!*R$90","v":{"$error":"#REF!"}},{"$f":"#REF!*S$90","v":{"$error":"#REF!"}},{"$f":"#REF!*T$90","v":{"$error":"#REF!"}},{"$f":"#REF!*U$90","v":{"$error":"#REF!"}},{"$f":"#REF!*V$90","v":{"$error":"#REF!"}},{"$f":"#REF!*W$90","v":{"$error":"#REF!"}},{"$f":"#REF!*X$90","v":{"$error":"#REF!"}},{"$f":"#REF!*Y$90","v":{"$error":"#REF!"}},{"$f":"#REF!*Z$90","v":{"$error":"#REF!"}},{"$f":"#REF!*AA$90","v":{"$error":"#REF!"}},{"$f":"#REF!*AB$90","v":{"$error":"#REF!"}},{"$f":"#REF!*AC$90","v":{"$error":"#REF!"}},{"$f":"#REF!*AD$90","v":{"$error":"#REF!"}},{"$f":"#REF!*AE$90","v":{"$error":"#REF!"}}]
[null,null,{"$f":"#REF!*C$90","v":{"$error":"#REF!"}},{"$f":"#REF!*D$90","v":{"$error":"#REF!"}},{"$f":"#REF!*E$90","v":{"$error":"#REF!"}},{"$f":"#REF!*F$90","v":{"$error":"#REF!"}},{"$f":"#REF!*G$90","v":{"$error":"#REF!"}},{"$f":"#REF!*H$90","v":{"$error":"#REF!"}},{"$f":"#REF!*I$90","v":{"$error":"#REF!"}},{"$f":"#REF!*J$90","v":{"$error":"#REF!"}},{"$f":"#REF!*K$90","v":{"$error":"#REF!"}},{"$f":"#REF!*L$90","v":{"$error":"#REF!"}},{"$f":"#REF!*M$90","v":{"$error":"#REF!"}},{"$f":"#REF!*N$90","v":{"$error":"#REF!"}},{"$f":"#REF!*O$90","v":{"$error":"#REF!"}},{"$f":"#REF!*P$90","v":{"$error":"#REF!"}},{"$f":"#REF!*Q$90","v":{"$error":"#REF!"}},{"$f":"#REF!*R$90","v":{"$error":"#REF!"}},{"$f":"#REF!*S$90","v":{"$error":"#REF!"}},{"$f":"#REF!*T$90","v":{"$error":"#REF!"}},{"$f":"#REF!*U$90","v":{"$error":"#REF!"}},{"$f":"#REF!*V$90","v":{"$error":"#REF!"}},{"$f":"#REF!*W$90","v":{"$error":"#REF!"}},{"$f":"#REF!*X$90","v":{"$error":"#REF!"}},{"$f":"#REF!*Y$90","v":{"$error":"#REF!"}},{"$f":"#REF!*Z$90","v":{"$error":"#REF!"}},{"$f":"#REF!*AA$90","v":{"$error":"#REF!"}},{"$f":"#REF!*AB$90","v":{"$error":"#REF!"}},{"$f":"#REF!*AC$90","v":{"$error":"#REF!"}},{"$f":"#REF!*AD$90","v":{"$error":"#REF!"}},{"$f":"#REF!*AE$90","v":{"$error":"#REF!"}}]
[null,null,{"$f":"#REF!*C$90","v":{"$error":"#REF!"}},{"$f":"#REF!*D$90","v":{"$error":"#REF!"}},{"$f":"#REF!*E$90","v":{"$error":"#REF!"}},{"$f":"#REF!*F$90","v":{"$error":"#REF!"}},{"$f":"#REF!*G$90","v":{"$error":"#REF!"}},{"$f":"#REF!*H$90","v":{"$error":"#REF!"}},{"$f":"#REF!*I$90","v":{"$error":"#REF!"}},{"$f":"#REF!*J$90","v":{"$error":"#REF!"}},{"$f":"#REF!*K$90","v":{"$error":"#REF!"}},{"$f":"#REF!*L$90","v":{"$error":"#REF!"}},{"$f":"#REF!*M$90","v":{"$error":"#REF!"}},{"$f":"#REF!*N$90","v":{"$error":"#REF!"}},{"$f":"#REF!*O$90","v":{"$error":"#REF!"}},{"$f":"#REF!*P$90","v":{"$error":"#REF!"}},{"$f":"#REF!*Q$90","v":{"$error":"#REF!"}},{"$f":"#REF!*R$90","v":{"$error":"#REF!"}},{"$f":"#REF!*S$90","v":{"$error":"#REF!"}},{"$f":"#REF!*T$90","v":{"$error":"#REF!"}},{"$f":"#REF!*U$90","v":{"$error":"#REF!"}},{"$f":"#REF!*V$90","v":{"$error":"#REF!"}},{"$f":"#REF!*W$90","v":{"$error":"#REF!"}},{"$f":"#REF!*X$90","v":{"$error":"#REF!"}},{"$f":"#REF!*Y$90","v":{"$error":"#REF!"}},{"$f":"#REF!*Z$90","v":{"$error":"#REF!"}},{"$f":"#REF!*AA$90","v":{"$error":"#REF!"}},{"$f":"#REF!*AB$90","v":{"$error":"#REF!"}},{"$f":"#REF!*AC$90","v":{"$error":"#REF!"}},{"$f":"#REF!*AD$90","v":{"$error":"#REF!"}},{"$f":"#REF!*AE$90","v":{"$error":"#REF!"}}]
[null,null,{"$f":"#REF!*C$90","v":{"$error":"#REF!"}},{"$f":"#REF!*D$90","v":{"$error":"#REF!"}},{"$f":"#REF!*E$90","v":{"$error":"#REF!"}},{"$f":"#REF!*F$90","v":{"$error":"#REF!"}},{"$f":"#REF!*G$90","v":{"$error":"#REF!"}},{"$f":"#REF!*H$90","v":{"$error":"#REF!"}},{"$f":"#REF!*I$90","v":{"$error":"#REF!"}},{"$f":"#REF!*J$90","v":{"$error":"#REF!"}},{"$f":"#REF!*K$90","v":{"$error":"#REF!"}},{"$f":"#REF!*L$90","v":{"$error":"#REF!"}},{"$f":"#REF!*M$90","v":{"$error":"#REF!"}},{"$f":"#REF!*N$90","v":{"$error":"#REF!"}},{"$f":"#REF!*O$90","v":{"$error":"#REF!"}},{"$f":"#REF!*P$90","v":{"$error":"#REF!"}},{"$f":"#REF!*Q$90","v":{"$error":"#REF!"}},{"$f":"#REF!*R$90","v":{"$error":"#REF!"}},{"$f":"#REF!*S$90","v":{"$error":"#REF!"}},{"$f":"#REF!*T$90","v":{"$error":"#REF!"}},{"$f":"#REF!*U$90","v":{"$error":"#REF!"}},{"$f":"#REF!*V$90","v":{"$error":"#REF!"}},{"$f":"#REF!*W$90","v":{"$error":"#REF!"}},{"$f":"#REF!*X$90","v":{"$error":"#REF!"}},{"$f":"#REF!*Y$90","v":{"$error":"#REF!"}},{"$f":"#REF!*Z$90","v":{"$error":"#REF!"}},{"$f":"#REF!*AA$90","v":{"$error":"#REF!"}},{"$f":"#REF!*AB$90","v":{"$error":"#REF!"}},{"$f":"#REF!*AC$90","v":{"$error":"#REF!"}},{"$f":"#REF!*AD$90","v":{"$error":"#REF!"}},{"$f":"#REF!*AE$90","v":{"$error":"#REF!"}}]
[null,null,{"$f":"C35*C$90","v":36},18,33,39,0,0,0,24,0,{"$error":"#N/A"},12,4,12,0,20,0,0,28,0,0,32,0,0,0,0,{"$error":"#N/A"},{"$error":"#N/A"},{"$error":"#N/A"},{"$error":"#N/A"}]

{"sheet":"6 А(2)","index":24,"n_rows":82,"n_cols":8,"rows_kept":82,"cut":false,"hidden":true,"merged":[[42,0,42,1],[52,0,52,1],[67,0,67,1],[0,0,0,3],[0,4,0,7],[1,0,1,2],[2,0,2,1],[3,0,15,0],[17,0,17,1]]}
[{"$f":"Титул!B18","v":"6 А"},null,null,null,"Страница заполняется автоматически, без участия оператора!!!"]
["Всего учащихся в классе:",null,null,{"$f":"Титул!C18","v":30},"Фамилии, имена               учащихся","Учебные предметы","Фамилии и инициалы учителей","Пояснения, примечания, причины"]
["Учатся на  \"5\":",null,{"$f":"COUNTA(E3:E17)","v":4},1,"Павлова Ксения"]
[null,null,null,2,"Потьканова Вероника"]
[null,null,null,3,"Рысина Дарья"]
[null,null,null,4,"Шкварова Виолета"]
[null,null,null,5]
[null,null,null,6]
[null,null,null,7]
[null,null,null,8]
[null,null,null,9]
[null,null,null,10]
[null,null,null,11]
[null,null,null,12]
[null,null,null,13]
[null,null,null,14]
[null,null,null,15]
["Учатся  на \"4\"и\"5\"",null,{"$f":"COUNTA(E18:E42)","v":13},1,"Бобырева Татьяна"]
[null," ",null,2,"Бычкова Ирина"]
[null,null,null,3,"Коновалова Ксения"]
[null,null,null,4,"Латышев Артем"]
[null,null,null,5,"Левина Татьяна"]
[null,null,null,6,"Ливанова Анастасия"]
[null,null,null,7,"Мирошникова Полина"]
[null,null,null,8,"Сафронова Анастасия"]
[null,null,null,9,"Сергеев Владислав"]
[null,null,null,10,"Сулягина Екатерина"]
[null,null,null,11,"Чечина Ксения"]
[null,null,null,12,"Чигрина Валерия"]
[null,null,null,13,"Винокурова Юлия"]
[null,null,null,14]
[null,null,null,15]
[null,null,null,16]
[null,null,null,17]
[null,null,null,18]
[null,null,null,19]
[null,null,null,20]
[null,null,null,21]
[null,null,null,22]
[null,null,null,23]
[null,null,null,24]
[null,null,null,25]
["Не аттестованы:",null,{"$f":"COUNTA(E43:E52)","v":0},1]
[null," ",null,2]
[null,null,null,3]
[null,null,null,4]
[null,null,null,5]
[null,null,null,6]
[null,null,null,7]
[null,null,null,8]
[null,null,null,9]
[null,null,null,10]
["Не успевают:",null,{"$f":"COUNTA(E53:E67)","v":0},1]
[null," ",null,2]
[null,null,null,3]
[null,null,null,4]
[null,null,null,5]
[null,null,null,6]
[null,null,null,7]
[null,null,null,8]
[null,null,null,9]
[null,null,null,10]
[null,null,null,11]
[null,null,null,12]
[null,null,null,13]
[null,null,null,14]
[null,null,null,15]
["Освобождены:",null,{"$f":"COUNTA(E68:E82)","v":0},1]
[null," ",null,2]
[null,null,null,3]
[null,null,null,4]
[null,null,null,5]
[null,null,null,6]
[null,null,null,7]
[null,null,null,8]
[null,null,null,9]
[null,null,null,10]
[null,null,null,11]
[null,null,null,12]
[null,null,null,13]
[null,null,null,14]
[null,null,null,15]

{"sheet":"6 Б","index":25,"n_rows":130,"n_cols":35,"rows_kept":130,"cut":false,"hidden":true,"merged":[[0,0,0,2],[0,3,0,25],[0,26,0,32],[1,0,1,24],[1,25,1,28],[1,29,1,31],[2,0,2,3],[2,4,2,17],[2,18,2,22],[2,23,2,34],[3,0,4,1],[3,2,3,30],[3,31,3,34],[47,0,47,26],[47,28,47,33],[35,0,35,1],[35,31,35,34],[36,0,46,0],[36,31,36,34],[37,31,37,34],[38,31,38,34],[39,31,39,34],[40,31,40,34],[41,31,41,34],[42,31,42,34],[43,31,43,34],[44,31,44,34],[45,31,45,34],[46,31,46,34]]}
[{"$f":"Титул!B5","v":"2014/15 учебный год"},null,null,{"$f":"Титул!B4","v":"МОУ СОШ  № 15"},null,null,null,null,null,null,null,null,null,null,null,null,null,null,null,null,null,null,null,null,null,null,{"$f":"Титул!B6","v":"4 четверть"},null,null,null,null,null,null,null,"3+"]
["ВЕДОМОСТЬ  РЕЗУЛЬТАТОВ  УЧЕБНОЙ  ДЕЯТЕЛЬНОСТИ",null,null,null,null,null,null,null,null,null,null,null,null,null,null,null,null,null,null,null,null,null,null,null,null,{"$f":"Титул!B19","v":"6 Б"},null,null,null,"класса"]
["Классный руководитель:",null,null,null,{"$f":"Титул!D19","v":"Заплава А.В."},null,null,null,null,null,null,null,null,null,null,null,null,null,"Программа:",null,null,null,null,{"$f":"Титул!G18","v":"общеобразовательный"}]
["Вручную вносятся только оценки \"5\", \"4\", \"3\", \"2\", \"1\". \nНе аттестованным проставляется \"0\", освобожденным - \"Н\".  ",null,"У  ч  е  б  н  ы  е      п  р  е  д  м  е  т  ы",null,null,null,null,null,null,null,null,null,null,null,null,null,null,null,null,null,null,null,null,null,null,null,null,null,null,null,null,"Результаты ученика:"]
[null,null,{"$f":"Нагрузка!C3","v":"Русский язык"},{"$f":"Нагрузка!D3","v":"Литература"},{"$f":"Нагрузка!E3","v":"Иностранный язык"},{"$f":"Нагрузка!F3","v":"Математика"},{"$f":"Нагрузка!G3","v":"Алгебра"},{"$f":"Нагрузка!H3","v":"Геометрия"},{"$f":"Нагрузка!I3","v":"Информатика"},{"$f":"Нагрузка!J3","v":"История"},{"$f":"Нагрузка!K3","v":"Обществознание"},{"$f":"Нагрузка!L3","v":"Окружающий мир"},{"$f":"Нагрузка!M3","v":"ИЗО"},{"$f":"Нагрузка!N3","v":"Музыка"},{"$f":"Нагрузка!O3","v":"Технология"},{"$f":"Нагрузка!P3","v":"Технология"},{"$f":"Нагрузка!Q3","v":"ФЗК"},{"$f":"Нагрузка!R3","v":"Иностранный язык"},{"$f":"Нагрузка!S3","v":"Иностранный язык"},{"$f":"Нагрузка!T3","v":"География"},{"$f":"Нагрузка!U3","v":"Физика"},{"$f":"Нагрузка!V3","v":"Химия"},{"$f":"Нагрузка!W3","v":"Биология"},{"$f":"Нагрузка!X3","v":"МХК"},{"$f":"Нагрузка!Y3","v":"ФЗК"},{"$f":"Нагрузка!Z3","v":"ОБЖ"},{"$f":"Нагрузка!AA3","v":"Природоведение"},{"$f":"Нагрузка!AB3","v":0},{"$f":"Нагрузка!AC3","v":0},{"$f":"Нагрузка!AD3","v":0},{"$f":"Нагрузка!AE3","v":0},"Средний балл:","Степень обученности (СОУ):","Качество успеваемости:","Рейтинговый учебный балл:"]
[1,{"$f":"СпискиКлассы!L4","v":"Бирко Александра"},4,4,4,4,null,null,null,4,4,null,5,5,5,null,5,null,null,4,null,null,4,null,null,null,null,null,null,null,null,{"$f":"AVERAGE(C6:AE6)","v":4.333333333333333},{"$f":"(COUNTIF(C6:AE6,\"5\")+COUNTIF(C6:AE6,\"4\")*0.64+COUNTIF(C6:AE6,\"3\")*0.36+COUNTIF(C6:AE6,\"2\")*0.16)/(COUNTIF(C6:AE6,\"5\")+COUNTIF(C6:AE6,\"4\")+COUNTIF(C6:AE6,\"3\")+COUNTIF(C6:AE6,\"2\")+COUNTIF(C6:AE6,\"0\"))","v":0.76000000000000012},{"$f":"((5*COUNTIF(C6:AE6,\"5\"))+(4*COUNTIF(C6:AE6,\"4\")))/(5*(COUNTA(C6:AE6)-COUNTIF(C6:AE6,\"н\")))","v":0.8666666666666667},{"$f":"SUMIF(C91:AE91,\">0\",C91:AE91)/(COUNTIF(C6:AE6,\">0\")+COUNTIF(C6:AE6,\"=0\")+COUNTIF(C6:AE6,\"Н\"))","v":26.25}]
[{"$f":"A6+1","v":2},{"$f":"СпискиКлассы!L5","v":"Варданян Сурик"},3,3,3,3,null,null,null,3,3,null,5,4,3,null,4,null,null,4,null,null,3,null,null,null,null,null,null,null,null,{"$f":"AVERAGE(C7:AE7)","v":3.4166666666666665},{"$f":"(COUNTIF(C7:AE7,\"5\")+COUNTIF(C7:AE7,\"4\")*0.64+COUNTIF(C7:AE7,\"3\")*0.36+COUNTIF(C7:AE7,\"2\")*0.16)/(COUNTIF(C7:AE7,\"5\")+COUNTIF(C7:AE7,\"4\")+COUNTIF(C7:AE7,\"3\")+COUNTIF(C7:AE7,\"2\")+COUNTIF(C7:AE7,\"0\"))","v":0.48333333333333334},{"$f":"((5*COUNTIF(C7:AE7,\"5\"))+(4*COUNTIF(C7:AE7,\"4\")))/(5*(COUNTA(C7:AE7)-COUNTIF(C7:AE7,\"н\")))","v":0.28333333333333333},20.5]
[3,{"$f":"СпискиКлассы!L6","v":"Ворошилов Степан"},4,4,3,4,null,null,null,4,4,null,5,4,4,null,5,null,null,4,null,null,4,null,null,null,null,null,null,null,null,{"$f":"AVERAGE(C8:AE8)","v":4.083333333333333},0.67666666666666664,0.76666666666666672,25]
[4,{"$f":"СпискиКлассы!L7","v":"Герасимова Елена"},3,3,4,3,null,null,null,4,3,null,4,5,5,null,3,null,null,5,null,null,3,null,null,null,null,null,null,null,null,3.75,0.59,0.45,22.666666666666668]
[5,{"$f":"СпискиКлассы!L8","v":"Дышлевич Екатерина"},5,5,5,5,null,null,null,5,5,null,5,5,5,null,5,null,null,5,null,null,5,null,null,null,null,null,null,null,null,5,1,1,31.666666666666668]
[6,{"$f":"СпискиКлассы!L9","v":"Зубков Евгений"},3,3,3,3,null,null,null,3,3,null,5,4,3,null,3,null,null,3,null,null,3,null,null,null,null,null,null,null,null,3.25,0.4366666666666667,0.15,19.583333333333332]
[7,{"$f":"СпискиКлассы!L10","v":"Каплун Анастасия"},4,4,4,4,null,null,null,4,4,null,5,5,5,null,4,null,null,4,null,null,4,null,null,null,null,null,null,null,null,4.25,0.73,0.85,25.916666666666668]
[8,{"$f":"СпискиКлассы!L11","v":"Киян Максим"},3,5,4,3,null,null,null,4,4,null,4,5,4,null,4,null,null,4,null,null,5,null,null,null,null,null,null,null,null,4.083333333333333,0.68333333333333346,0.71666666666666667,24.5]
[9,{"$f":"СпискиКлассы!L12","v":"Колмогорцев Виктор"},3,3,3,3,null,null,null,3,3,null,4,4,4,null,3,null,null,3,null,null,3,null,null,null,null,null,null,null,null,3.25,0.43,0.2,19.583333333333332]
[10,{"$f":"СпискиКлассы!L13","v":"Кузнецов Егор"},4,4,4,4,null,null,null,4,4,null,5,4,3,null,4,null,null,4,null,null,4,null,null,null,null,null,null,null,null,4,0.64666666666666672,0.75,25.333333333333332]
[11,{"$f":"СпискиКлассы!L14","v":"Кузнецова Елизавета"},3,3,3,3,null,null,null,3,3,null,4,5,5,null,3,null,null,3,null,null,3,null,null,null,null,null,null,null,null,3.4166666666666665,0.49,0.23333333333333334,19.916666666666668]
[12,{"$f":"СпискиКлассы!L15","v":"Леонов Анатолий"},3,3,5,4,null,null,null,3,4,null,4,4,4,null,4,null,null,3,null,null,4,null,null,null,null,null,null,null,null,3.75,0.57666666666666666,0.55000000000000004,23.5]
[13,{"$f":"СпискиКлассы!L16","v":"Малкина Алена"},4,5,4,4,null,null,null,4,5,null,5,5,5,null,4,null,null,5,null,null,4,null,null,null,null,null,null,null,null,4.5,0.82,0.9,27]
[14,{"$f":"СпискиКлассы!L17","v":"Меркулов Дмитрий"},3,3,3,3,null,null,null,3,3,null,4,5,4,null,3,null,null,4,null,null,4,null,null,null,null,null,null,null,null,3.5,0.50666666666666671,0.35,20.916666666666668]
[15,{"$f":"СпискиКлассы!L18","v":"Олифер Владислав"},4,4,4,5,null,null,null,4,4,null,5,4,5,null,4,null,null,4,null,null,4,null,null,null,null,null,null,null,null,4.25,0.73,0.85,26.916666666666668]
[16,{"$f":"СпискиКлассы!L19","v":"Харьков Влад"},4,4,4,4,null,null,null,4,4,null,4,5,4,null,5,null,null,4,null,null,4,null,null,null,null,null,null,null,null,4.166666666666667,0.70000000000000007,0.83333333333333337,25.75]
[17,{"$f":"СпискиКлассы!L20","v":"Холов Владислав"},4,4,4,4,null,null,null,4,4,null,5,4,4,null,5,null,null,4,null,null,4,null,null,null,null,null,null,null,null,4.166666666666667,0.70000000000000007,0.83333333333333337,25.916666666666668]
[18,{"$f":"СпискиКлассы!L21","v":"Хорикова Анастасия"},4,5,5,4,null,null,null,4,4,null,5,5,5,null,4,null,null,5,null,null,4,null,null,null,null,null,null,null,null,4.5,0.82,0.9,27.916666666666668]
[19,{"$f":"СпискиКлассы!L22","v":"Шапкова Диана"},5,5,4,4,null,null,null,4,4,null,5,5,4,null,4,null,null,5,null,null,4,null,null,null,null,null,null,null,null,4.416666666666667,0.79,0.8833333333333333,27.75]
[20,{"$f":"СпискиКлассы!L23","v":"Шмелькова Екатерина"},3,3,3,3,null,null,null,3,3,null,4,4,5,null,3,null,null,3,null,null,3,null,null,null,null,null,null,null,null,3.3333333333333335,0.45999999999999996,0.21666666666666667,19.833333333333332]
[21,{"$f":"СпискиКлассы!L24","v":"Шокин Андрей"},4,4,4,4,null,null,null,4,4,null,5,4,5,null,4,null,null,5,null,null,4,null,null,null,null,null,null,null,null,4.25,0.73,0.85,26.416666666666668]
[22,{"$f":"СпискиКлассы!L25","v":"Цветкова Светлана"},3,3,3,4,null,null,null,3,3,null,5,5,5,null,4,null,null,4,null,null,3,null,null,null,null,null,null,null,null,3.75,0.59,0.45,22.166666666666668]
[23,{"$f":"СпискиКлассы!L26","v":"Васильева Регина"},3,5,5,4,null,null,null,4,5,null,5,5,5,null,4,null,null,5,null,null,4,null,null,null,null,null,null,null,null,4.5,0.82666666666666666,0.85,26.916666666666668]
[24,{"$f":"СпискиКлассы!L27","v":"Евлоева Анастасия"},4,4,4,3,null,null,null,3,3,null,5,5,5,null,4,null,null,4,null,null,4,null,null,null,null,null,null,null,null,4,0.66,0.65,24.166666666666668]
[25,{"$f":"СпискиКлассы!L28","v":"Шеповалова Маргарита"},3,5,4,3,null,null,null,4,5,null,5,5,5,null,4,null,null,4,null,null,4,null,null,null,null,null,null,null,null,4.25,0.74333333333333329,0.75,24.333333333333332]
[26,{"$f":"СпискиКлассы!L29","v":0},null,null,null,null,null,null,null,null,null,null,null,null,null,null,null,null,null,null,null,null,null,null,null,null,null,null,null,null,null,{"$error":"#DIV/0!"},{"$error":"#DIV/0!"},{"$error":"#DIV/0!"},{"$error":"#DIV/0!"}]
[27,{"$f":"СпискиКлассы!L30","v":0},null,null,null,null,null,null,null,null,null,null,null,null,null,null,null,null,null,null,null,null,null,null,null,null,null,null,null,null,null,{"$error":"#DIV/0!"},{"$error":"#DIV/0!"},{"$error":"#DIV/0!"},{"$error":"#DIV/0!"}]
[28,{"$f":"СпискиКлассы!L31","v":0},null,null,null,null,null,null,null,null,null,null,null,null,null,null,null,null,null,null,null,null,null,null,null,null,null,null,null,null,null,{"$error":"#DIV/0!"},{"$error":"#DIV/0!"},{"$error":"#DIV/0!"},{"$error":"#DIV/0!"}]
[29,{"$f":"СпискиКлассы!L32","v":0},null,null,null,null,null,null,null,null,null,null,null,null,null,null,null,null,null,null,null,null,null,null,null,null,null,null,null,null,null,{"$error":"#DIV/0!"},{"$error":"#DIV/0!"},{"$error":"#DIV/0!"},{"$error":"#DIV/0!"}]
[30,{"$f":"СпискиКлассы!L33","v":0},null,null,null,null,null,null,null,null,null,null,null,null,null,null,null,null,null,null,null,null,null,null,null,null,null,null,null,null,null,{"$error":"#DIV/0!"},{"$error":"#DIV/0!"},{"$error":"#DIV/0!"},{"$f":"SUMIF(C130:AE130,\">0\",C130:AE130)/(COUNTIF(C35:AE35,\">0\")+COUNTIF(C35:AE35,\"=0\")+COUNTIF(C35:AE35,\"Н\"))","v":{"$error":"#DIV/0!"}}]
[" Фамилия и инициалы                                           учителя - предметника",null,{"$f":"Нагрузка!C15","v":"Шипилова"},{"$f":"Нагрузка!D15","v":"Шипилова"},{"$f":"Нагрузка!E15","v":0},{"$f":"Нагрузка!F15","v":"Заплава"},{"$f":"Нагрузка!G15","v":0},{"$f":"Нагрузка!H15","v":0},{"$f":"Нагрузка!I15","v":0},{"$f":"Нагрузка!J15","v":"Быкова"},{"$f":"Нагрузка!K15","v":0},{"$f":"Нагрузка!L15","v":0},{"$f":"Нагрузка!M15","v":"Терюшкова"},{"$f":"Нагрузка!N15","v":"Заворина"},{"$f":"Нагрузка!O15","v":"Девицын"},{"$f":"Нагрузка!P15","v":"Баранчук"},{"$f":"Нагрузка!Q15","v":"Перфильев"},{"$f":"Нагрузка!R15","v":"Пудренко"},{"$f":"Нагрузка!S15","v":"Калугина"},{"$f":"Нагрузка!T15","v":0},{"$f":"Нагрузка!U15","v":0},{"$f":"Нагрузка!V15","v":0},{"$f":"Нагрузка!W15","v":0},{"$f":"Нагрузка!X15","v":0},{"$f":"Нагрузка!Y15","v":0},{"$f":"Нагрузка!Z15","v":0},{"$f":"Нагрузка!AA15","v":"Сидоренко"},{"$f":"Нагрузка!AB14","v":0},{"$f":"Нагрузка!AC14","v":0},{"$f":"Нагрузка!AD14","v":0},{"$f":"Нагрузка!AE14","v":0},"Показатели результатов учебной деятельности в  целом по классу:"]
["Результаты учебной деятельности класса","Количество  \"5\":",{"$f":"COUNTIF(C6:C35,5)","v":2},7,4,2,0,0,0,1,4,0,17,15,14,0,5,0,0,7,0,0,2,0,0,0,0,0,0,0,0,{"$f":"SUM(C37:AE37)","v":80}]
[null,"Количество  \"4\":",{"$f":"COUNTIF(C6:C35,4)","v":11},9,13,13,0,0,0,15,12,0,8,10,8,0,14,0,0,13,0,0,16,0,0,0,0,0,0,0,0,142]
[null,"Количество  \"3\":",{"$f":"COUNTIF(C6:C35,3)","v":12},9,8,10,0,0,0,9,9,0,0,0,3,0,6,0,0,5,0,0,7,0,0,0,0,0,0,0,0,78]
[null,"Количество  \"2\":",{"$f":"COUNTIF(C6:C35,2)","v":0},0,0,0,0,0,0,0,0,0,0,0,0,0,0,0,0,0,0,0,0,0,0,0,0,0,0,0,0,0]
[null,"Не аттестовано:",{"$f":"COUNTIF(C6:C35,0)","v":0},0,0,0,0,0,0,0,0,0,0,0,0,0,0,0,0,0,0,0,0,0,0,0,0,0,0,0,0,0]
[null,"Освобождено:",{"$f":"COUNTIF(C6:C35,\"н\")","v":0},0,0,0,0,0,0,0,0,0,0,0,0,0,0,0,0,0,0,0,0,0,0,0,0,0,0,0,0,0]
[null,"Успеваемость:",{"$f":"(C37+C38+C39)/(C37+C38+C39+C40+C41)","v":1},{"$f":"(D37+D38+D39)/(D37+D38+D39+D40+D41)","v":1},1,1,{"$error":"#DIV/0!"},{"$error":"#DIV/0!"},{"$error":"#DIV/0!"},1,1,{"$error":"#DIV/0!"},1,1,1,{"$error":"#DIV/0!"},1,{"$error":"#DIV/0!"},{"$error":"#DIV/0!"},1,{"$error":"#DIV/0!"},{"$error":"#DIV/0!"},1,{"$error":"#DIV/0!"},{"$error":"#DIV/0!"},{"$error":"#DIV/0!"},{"$error":"#DIV/0!"},{"$error":"#DIV/0!"},{"$error":"#DIV/0!"},{"$error":"#DIV/0!"},{"$error":"#DIV/0!"},{"$f":"('6 Б(2)'!D2-'6 Б(2)'!C43-'6 Б(2)'!C53)/'6 Б(2)'!D2","v":1}]
[null,"Качество знаний:",{"$f":"(C37+C38)/(C37+C38+C39+C40+C41)","v":0.52},{"$f":"(D37+D38)/(D37+D38+D39+D40+D41)","v":0.64},0.68,0.6,{"$error":"#DIV/0!"},{"$error":"#DIV/0!"},{"$error":"#DIV/0!"},0.64,0.64,{"$error":"#DIV/0!"},1,1,0.88,{"$error":"#DIV/0!"},0.76,{"$error":"#DIV/0!"},{"$error":"#DIV/0!"},0.8,{"$error":"#DIV/0!"},{"$error":"#DIV/0!"},0.72,{"$error":"#DIV/0!"},{"$error":"#DIV/0!"},{"$error":"#DIV/0!"},{"$error":"#DIV/0!"},{"$error":"#DIV/0!"},{"$error":"#DIV/0!"},{"$error":"#DIV/0!"},{"$error":"#DIV/0!"},{"$f":"('6 Б(2)'!C3+'6 Б(2)'!C18)/'6 Б(2)'!D2","v":0.4}]
[null,"Степень обученности:",{"$f":"(C37+C38*0.64+C39*0.36+C40*0.16)/(C37+C38+C39+C40+C41)","v":0.53439999999999999},{"$f":"(D37+D38*0.64+D39*0.36+D40*0.16)/(D37+D38+D39+D40+D41)","v":0.64},0.60799999999999998,0.55679999999999996,{"$error":"#DIV/0!"},{"$error":"#DIV/0!"},{"$error":"#DIV/0!"},0.55359999999999998,0.5968,{"$error":"#DIV/0!"},0.88480000000000003,0.85599999999999998,0.80800000000000016,{"$error":"#DIV/0!"},0.64480000000000004,{"$error":"#DIV/0!"},{"$error":"#DIV/0!"},0.68480000000000008,{"$error":"#DIV/0!"},{"$error":"#DIV/0!"},0.59040000000000004,{"$error":"#DIV/0!"},{"$error":"#DIV/0!"},{"$error":"#DIV/0!"},{"$error":"#DIV/0!"},{"$error":"#DIV/0!"},{"$error":"#DIV/0!"},{"$error":"#DIV/0!"},{"$error":"#DIV/0!"},{"$f":"(AF37+AF38*0.64+AF39*0.36+AF40*0.16)/(AF37+AF38+AF39+AF40+AF41)","v":0.6631999999999999}]
[null,"Средний балл:              ",{"$f":"(C37*5+C38*4+C39*3+C40*2)/(C37+C38+C39+C40+C41)","v":3.6},{"$f":"(D37*5+D38*4+D39*3+D40*2)/(D37+D38+D39+D40+D41)","v":3.92},3.84,3.68,{"$error":"#DIV/0!"},{"$error":"#DIV/0!"},{"$error":"#DIV/0!"},3.68,3.8,{"$error":"#DIV/0!"},4.68,4.5999999999999996,4.4400000000000004,{"$error":"#DIV/0!"},3.96,{"$error":"#DIV/0!"},{"$error":"#DIV/0!"},4.08,{"$error":"#DIV/0!"},{"$error":"#DIV/0!"},3.8,{"$error":"#DIV/0!"},{"$error":"#DIV/0!"},{"$error":"#DIV/0!"},{"$error":"#DIV/0!"},{"$error":"#DIV/0!"},{"$error":"#DIV/0!"},{"$error":"#DIV/0!"},{"$error":"#DIV/0!"},{"$f":"(AF37*5+AF38*4+AF39*3+AF40*2)/(AF37+AF38+AF39+AF40+AF41)","v":4.0066666666666668}]
[null,"Качество успеваемости:",{"$f":"(5*C37+4*C38)*0.2/(SUM(C37+C38+C39+C40+C41))","v":0.43200000000000005},{"$f":"(5*COUNTIF(D6:D35,5)+4*COUNTIF(D6:D35,4))*0.2/(COUNTA(D6:D35)-COUNTIF(D6:D35,\"н\"))","v":0.56800000000000006},0.57600000000000007,0.496,{"$error":"#DIV/0!"},{"$error":"#DIV/0!"},{"$error":"#DIV/0!"},0.52,0.54400000000000004,{"$error":"#DIV/0!"},0.93600000000000005,0.92,0.81600000000000006,{"$error":"#DIV/0!"},0.64800000000000002,{"$error":"#DIV/0!"},{"$error":"#DIV/0!"},0.69600000000000006,{"$error":"#DIV/0!"},{"$error":"#DIV/0!"},0.59200000000000008,{"$error":"#DIV/0!"},{"$error":"#DIV/0!"},{"$error":"#DIV/0!"},{"$error":"#DIV/0!"},{"$error":"#DIV/0!"},{"$error":"#DIV/0!"},{"$error":"#DIV/0!"},{"$error":"#DIV/0!"},{"$f":"(5*COUNTIF(C6:AE35,5)+4*COUNTIF(C6:AE35,4))*0.2/(COUNTA(C6:AE35)-COUNTIF(C6:AE35,\"н\"))","v":0.64533333333333343}]
["Выполнено с помощью программы статистического анализа результатов учебной деятельности",null,null,null,null,null,null,null,null,null,null,null,null,null,null,null,null,null,null,null,null,null,null,null,null,null,null,null,{"$f":"Титул!G31","v":"PSORUD-Klass.v.04.11.demo"},null,null,null,null,null,"3+"]
[]
[]
[]
[]
[]
[]
[]
[]
[]
[]
[]
[]
[]
[]
[]
[]
[]
[]
[]
[]
[]
[]
[]
[]
[]
[]
[]
[]
[]
[]
[]
[]
[]
[]
[]
[]
[]
[]
[]
[]
[]
[null,"Коэф.трудн.предмета",{"$f":"VLOOKUP(C$5,ШкалаТрудн!$C$5:$N$34,LEFT($Z$2,2)+1,0)","v":12},{"$f":"VLOOKUP(D$5,ШкалаТрудн!$C$5:$N$34,LEFT($Z$2,2)+1,0)","v":6},{"$f":"VLOOKUP(E$5,ШкалаТрудн!$C$5:$N$34,LEFT($Z$2,2)+1,0)","v":11},{"$f":"VLOOKUP(F$5,ШкалаТрудн!$C$5:$N$34,LEFT($Z$2,2)+1,0)","v":13},{"$f":"VLOOKUP(G$5,ШкалаТрудн!$C$5:$N$34,LEFT($Z$2,2)+1,0)","v":0},{"$f":"VLOOKUP(H$5,ШкалаТрудн!$C$5:$N$34,LEFT($Z$2,2)+1,0)","v":0},{"$f":"VLOOKUP(I$5,ШкалаТрудн!$C$5:$N$34,LEFT($Z$2,2)+1,0)","v":10},{"$f":"VLOOKUP(J$5,ШкалаТрудн!$C$5:$N$34,LEFT($Z$2,2)+1,0)","v":8},{"$f":"VLOOKUP(K$5,ШкалаТрудн!$C$5:$N$34,LEFT($Z$2,2)+1,0)","v":0},{"$f":"VLOOKUP(L$5,ШкалаТрудн!$C$5:$N$34,LEFT($Z$2,2)+1,0)","v":{"$error":"#N/A"}},{"$f":"VLOOKUP(M$5,ШкалаТрудн!$C$5:$N$34,LEFT($Z$2,2)+1,0)","v":3},{"$f":"VLOOKUP(N$5,ШкалаТрудн!$C$5:$N$34,LEFT($Z$2,2)+1,0)","v":1},{"$f":"VLOOKUP(O$5,ШкалаТрудн!$C$5:$N$34,LEFT($Z$2,2)+1,0)","v":3},{"$f":"VLOOKUP(P$5,ШкалаТрудн!$C$5:$N$34,LEFT($Z$2,2)+1,0)","v":3},{"$f":"VLOOKUP(Q$5,ШкалаТрудн!$C$5:$N$34,LEFT($Z$2,2)+1,0)","v":4},{"$f":"VLOOKUP(R$5,ШкалаТрудн!$C$5:$N$34,LEFT($Z$2,2)+1,0)","v":11},{"$f":"VLOOKUP(S$5,ШкалаТрудн!$C$5:$N$34,LEFT($Z$2,2)+1,0)","v":11},{"$f":"VLOOKUP(T$5,ШкалаТрудн!$C$5:$N$34,LEFT($Z$2,2)+1,0)","v":7},{"$f":"VLOOKUP(U$5,ШкалаТрудн!$C$5:$N$34,LEFT($Z$2,2)+1,0)","v":0},{"$f":"VLOOKUP(V$5,ШкалаТрудн!$C$5:$N$34,LEFT($Z$2,2)+1,0)","v":0},{"$f":"VLOOKUP(W$5,ШкалаТрудн!$C$5:$N$34,LEFT($Z$2,2)+1,0)","v":8},{"$f":"VLOOKUP(X$5,ШкалаТрудн!$C$5:$N$34,LEFT($Z$2,2)+1,0)","v":0},{"$f":"VLOOKUP(Y$5,ШкалаТрудн!$C$5:$N$34,LEFT($Z$2,2)+1,0)","v":4},{"$f":"VLOOKUP(Z$5,ШкалаТрудн!$C$5:$N$34,LEFT($Z$2,2)+1,0)","v":2},{"$f":"VLOOKUP(AA$5,ШкалаТрудн!$C$5:$N$34,LEFT($Z$2,2)+1,0)","v":0},{"$f":"VLOOKUP(AB$5,ШкалаТрудн!$C$5:$N$34,LEFT($Z$2,2)+1,0)","v":{"$error":"#N/A"}},{"$f":"VLOOKUP(AC$5,ШкалаТрудн!$C$5:$N$34,LEFT($Z$2,2)+1,0)","v":{"$error":"#N/A"}},{"$f":"VLOOKUP(AD$5,ШкалаТрудн!$C$5:$N$34,LEFT($Z$2,2)+1,0)","v":{"$error":"#N/A"}},{"$f":"VLOOKUP(AE$5,ШкалаТрудн!$C$5:$N$34,LEFT($Z$2,2)+1,0)","v":{"$error":"#N/A"}}]
[null,null,{"$f":"C6*C$90","v":48},24,44,52,0,0,0,32,0,{"$error":"#N/A"},15,5,15,0,20,0,0,28,0,0,32,0,0,0,0,{"$error":"#N/A"},{"$error":"#N/A"},{"$error":"#N/A"},{"$error":"#N/A"}]
[null,null,36,18,33,39,0,0,0,24,0,{"$error":"#N/A"},15,4,9,0,16,0,0,28,0,0,24,0,0,0,0,{"$error":"#N/A"},{"$error":"#N/A"},{"$error":"#N/A"},{"$error":"#N/A"}]
[null,null,48,24,33,52,0,0,0,32,0,{"$error":"#N/A"},15,4,12,0,20,0,0,28,0,0,32,0,0,0,0,{"$error":"#N/A"},{"$error":"#N/A"},{"$error":"#N/A"},{"$error":"#N/A"}]
[null,null,36,18,44,39,0,0,0,32,0,{"$error":"#N/A"},12,5,15,0,12,0,0,35,0,0,24,0,0,0,0,{"$error":"#N/A"},{"$error":"#N/A"},{"$error":"#N/A"},{"$error":"#N/A"}]
[null,null,60,30,55,65,0,0,0,40,0,{"$error":"#N/A"},15,5,15,0,20,0,0,35,0,0,40,0,0,0,0,{"$error":"#N/A"},{"$error":"#N/A"},{"$error":"#N/A"},{"$error":"#N/A"}]
[null,null,36,18,33,39,0,0,0,24,0,{"$error":"#N/A"},15,4,9,0,12,0,0,21,0,0,24,0,0,0,0,{"$error":"#N/A"},{"$error":"#N/A"},{"$error":"#N/A"},{"$error":"#N/A"}]
[null,null,48,24,44,52,0,0,0,32,0,{"$error":"#N/A"},15,5,15,0,16,0,0,28,0,0,32,0,0,0,0,{"$error":"#N/A"},{"$error":"#N/A"},{"$error":"#N/A"},{"$error":"#N/A"}]
[null,null,36,30,44,39,0,0,0,32,0,{"$error":"#N/A"},12,5,12,0,16,0,0,28,0,0,40,0,0,0,0,{"$error":"#N/A"},{"$error":"#N/A"},{"$error":"#N/A"},{"$error":"#N/A"}]
[null,null,36,18,33,39,0,0,0,24,0,{"$error":"#N/A"},12,4,12,0,12,0,0,21,0,0,24,0,0,{"$f":"Z14*Z$90","v":0},0,{"$error":"#N/A"},{"$error":"#N/A"},{"$error":"#N/A"},{"$error":"#N/A"}]
[null,null,{"$f":"C15*C$90","v":48},24,44,52,0,0,0,32,0,{"$error":"#N/A"},15,4,9,0,16,0,0,28,0,0,32,0,0,0,0,{"$error":"#N/A"},{"$error":"#N/A"},{"$error":"#N/A"},{"$error":"#N/A"}]
[null,null,36,18,33,39,0,0,0,24,0,{"$error":"#N/A"},12,5,15,0,12,0,0,21,0,0,24,0,0,0,0,{"$error":"#N/A"},{"$error":"#N/A"},{"$error":"#N/A"},{"$error":"#N/A"}]
[null,null,36,18,55,52,0,0,0,24,0,{"$error":"#N/A"},12,4,12,0,16,0,0,21,0,0,32,0,0,0,0,{"$error":"#N/A"},{"$error":"#N/A"},{"$error":"#N/A"},{"$error":"#N/A"}]
[null,null,48,30,44,52,0,0,0,32,0,{"$error":"#N/A"},15,5,15,0,16,0,0,35,0,0,32,0,0,0,0,{"$error":"#N/A"},{"$error":"#N/A"},{"$error":"#N/A"},{"$error":"#N/A"}]
[null,null,36,18,33,39,0,0,0,24,0,{"$error":"#N/A"},12,5,12,0,12,0,0,28,0,0,32,0,0,0,0,{"$error":"#N/A"},{"$error":"#N/A"},{"$error":"#N/A"},{"$error":"#N/A"}]
[null,null,48,24,44,65,0,0,0,32,0,{"$error":"#N/A"},15,4,15,0,16,0,0,28,0,0,32,0,0,0,0,{"$error":"#N/A"},{"$error":"#N/A"},{"$error":"#N/A"},{"$error":"#N/A"}]
[null,null,48,24,44,52,0,0,0,32,0,{"$error":"#N/A"},12,5,12,0,20,0,0,28,0,0,32,0,0,0,0,{"$error":"#N/A"},{"$error":"#N/A"},{"$error":"#N/A"},{"$error":"#N/A"}]
[null,null,48,24,44,52,0,0,0,32,0,{"$error":"#N/A"},15,4,12,0,20,0,0,28,0,0,32,0,0,0,0,{"$error":"#N/A"},{"$error":"#N/A"},{"$error":"#N/A"},{"$error":"#N/A"}]
[null,null,48,30,55,52,0,0,0,32,0,{"$error":"#N/A"},15,5,15,0,16,0,0,35,0,0,32,0,0,{"$f":"Z23*Z$90","v":0},0,{"$error":"#N/A"},{"$error":"#N/A"},{"$error":"#N/A"},{"$error":"#N/A"}]
[null,null,{"$f":"C24*C$90","v":60},30,44,52,0,0,0,32,0,{"$error":"#N/A"},15,5,12,0,16,0,0,35,0,0,32,0,0,0,0,{"$error":"#N/A"},{"$error":"#N/A"},{"$error":"#N/A"},{"$error":"#N/A"}]
[null,null,36,18,33,39,0,0,0,24,0,{"$error":"#N/A"},12,4,15,0,12,0,0,21,0,0,24,0,0,0,0,{"$error":"#N/A"},{"$error":"#N/A"},{"$error":"#N/A"},{"$error":"#N/A"}]
[null,null,48,24,44,52,0,0,0,32,0,{"$error":"#N/A"},15,4,15,0,16,0,0,35,0,0,32,0,0,0,0,{"$error":"#N/A"},{"$error":"#N/A"},{"$error":"#N/A"},{"$error":"#N/A"}]
[null,null,36,18,33,52,0,0,0,24,0,{"$error":"#N/A"},15,5,15,0,16,0,0,28,0,0,24,0,0,0,0,{"$error":"#N/A"},{"$error":"#N/A"},{"$error":"#N/A"},{"$error":"#N/A"}]
[null,null,36,30,55,52,0,0,0,32,0,{"$error":"#N/A"},15,5,15,0,16,0,0,35,0,0,32,0,0,0,0,{"$error":"#N/A"},{"$error":"#N/A"},{"$error":"#N/A"},{"$error":"#N/A"}]
[null,null,48,24,44,39,0,0,0,24,0,{"$error":"#N/A"},15,5,15,0,16,0,0,28,0,0,32,0,0,0,0,{"$error":"#N/A"},{"$error":"#N/A"},{"$error":"#N/A"},{"$error":"#N/A"}]
[null,null,36,30,44,39,0,0,0,32,0,{"$error":"#N/A"},15,5,15,0,16,0,0,28,0,0,32,0,0,0,0,{"$error":"#N/A"},{"$error":"#N/A"},{"$error":"#N/A"},{"$error":"#N/A"}]
[null,null,0,0,0,0,0,0,0,0,0,{"$error":"#N/A"},0,0,0,0,0,0,0,0,0,0,0,0,0,0,0,{"$error":"#N/A"},{"$error":"#N/A"},{"$error":"#N/A"},{"$error":"#N/A"}]
[null,null,0,0,0,0,0,0,0,0,0,{"$error":"#N/A"},0,0,0,0,0,0,0,0,0,0,0,0,0,{"$f":"Z32*Z$90","v":0},0,{"$error":"#N/A"},{"$error":"#N/A"},{"$error":"#N/A"},{"$error":"#N/A"}]
[null,null,{"$f":"C33*C$90","v":0},0,0,0,0,0,0,0,0,{"$error":"#N/A"},0,0,0,0,0,0,0,0,0,0,0,0,0,0,0,{"$error":"#N/A"},{"$error":"#N/A"},{"$error":"#N/A"},{"$error":"#N/A"}]
[null,null,0,0,0,0,0,0,0,0,0,{"$error":"#N/A"},0,0,0,0,0,0,0,0,0,0,0,0,0,0,0,{"$error":"#N/A"},{"$error":"#N/A"},{"$error":"#N/A"},{"$error":"#N/A"}]
[null,null,{"$f":"#REF!*C$90","v":{"$error":"#REF!"}},{"$f":"#REF!*D$90","v":{"$error":"#REF!"}},{"$f":"#REF!*E$90","v":{"$error":"#REF!"}},{"$f":"#REF!*F$90","v":{"$error":"#REF!"}},{"$f":"#REF!*G$90","v":{"$error":"#REF!"}},{"$f":"#REF!*H$90","v":{"$error":"#REF!"}},{"$f":"#REF!*I$90","v":{"$error":"#REF!"}},{"$f":"#REF!*J$90","v":{"$error":"#REF!"}},{"$f":"#REF!*K$90","v":{"$error":"#REF!"}},{"$f":"#REF!*L$90","v":{"$error":"#REF!"}},{"$f":"#REF!*M$90","v":{"$error":"#REF!"}},{"$f":"#REF!*N$90","v":{"$error":"#REF!"}},{"$f":"#REF!*O$90","v":{"$error":"#REF!"}},{"$f":"#REF!*P$90","v":{"$error":"#REF!"}},{"$f":"#REF!*Q$90","v":{"$error":"#REF!"}},{"$f":"#REF!*R$90","v":{"$error":"#REF!"}},{"$f":"#REF!*S$90","v":{"$error":"#REF!"}},{"$f":"#REF!*T$90","v":{"$error":"#REF!"}},{"$f":"#REF!*U$90","v":{"$error":"#REF!"}},{"$f":"#REF!*V$90","v":{"$error":"#REF!"}},{"$f":"#REF!*W$90","v":{"$error":"#REF!"}},{"$f":"#REF!*X$90","v":{"$error":"#REF!"}},{"$f":"#REF!*Y$90","v":{"$error":"#REF!"}},{"$f":"#REF!*Z$90","v":{"$error":"#REF!"}},{"$f":"#REF!*AA$90","v":{"$error":"#REF!"}},{"$f":"#REF!*AB$90","v":{"$error":"#REF!"}},{"$f":"#REF!*AC$90","v":{"$error":"#REF!"}},{"$f":"#REF!*AD$90","v":{"$error":"#REF!"}},{"$f":"#REF!*AE$90","v":{"$error":"#REF!"}}]
[null,null,{"$f":"#REF!*C$90","v":{"$error":"#REF!"}},{"$f":"#REF!*D$90","v":{"$error":"#REF!"}},{"$f":"#REF!*E$90","v":{"$error":"#REF!"}},{"$f":"#REF!*F$90","v":{"$error":"#REF!"}},{"$f":"#REF!*G$90","v":{"$error":"#REF!"}},{"$f":"#REF!*H$90","v":{"$error":"#REF!"}},{"$f":"#REF!*I$90","v":{"$error":"#REF!"}},{"$f":"#REF!*J$90","v":{"$error":"#REF!"}},{"$f":"#REF!*K$90","v":{"$error":"#REF!"}},{"$f":"#REF!*L$90","v":{"$error":"#REF!"}},{"$f":"#REF!*M$90","v":{"$error":"#REF!"}},{"$f":"#REF!*N$90","v":{"$error":"#REF!"}},{"$f":"#REF!*O$90","v":{"$error":"#REF!"}},{"$f":"#REF!*P$90","v":{"$error":"#REF!"}},{"$f":"#REF!*Q$90","v":{"$error":"#REF!"}},{"$f":"#REF!*R$90","v":{"$error":"#REF!"}},{"$f":"#REF!*S$90","v":{"$error":"#REF!"}},{"$f":"#REF!*T$90","v":{"$error":"#REF!"}},{"$f":"#REF!*U$90","v":{"$error":"#REF!"}},{"$f":"#REF!*V$90","v":{"$error":"#REF!"}},{"$f":"#REF!*W$90","v":{"$error":"#REF!"}},{"$f":"#REF!*X$90","v":{"$error":"#REF!"}},{"$f":"#REF!*Y$90","v":{"$error":"#REF!"}},{"$f":"#REF!*Z$90","v":{"$error":"#REF!"}},{"$f":"#REF!*AA$90","v":{"$error":"#REF!"}},{"$f":"#REF!*AB$90","v":{"$error":"#REF!"}},{"$f":"#REF!*AC$90","v":{"$error":"#REF!"}},{"$f":"#REF!*AD$90","v":{"$error":"#REF!"}},{"$f":"#REF!*AE$90","v":{"$error":"#REF!"}}]
[null,null,{"$f":"#REF!*C$90","v":{"$error":"#REF!"}},{"$f":"#REF!*D$90","v":{"$error":"#REF!"}},{"$f":"#REF!*E$90","v":{"$error":"#REF!"}},{"$f":"#REF!*F$90","v":{"$error":"#REF!"}},{"$f":"#REF!*G$90","v":{"$error":"#REF!"}},{"$f":"#REF!*H$90","v":{"$error":"#REF!"}},{"$f":"#REF!*I$90","v":{"$error":"#REF!"}},{"$f":"#REF!*J$90","v":{"$error":"#REF!"}},{"$f":"#REF!*K$90","v":{"$error":"#REF!"}},{"$f":"#REF!*L$90","v":{"$error":"#REF!"}},{"$f":"#REF!*M$90","v":{"$error":"#REF!"}},{"$f":"#REF!*N$90","v":{"$error":"#REF!"}},{"$f":"#REF!*O$90","v":{"$error":"#REF!"}},{"$f":"#REF!*P$90","v":{"$error":"#REF!"}},{"$f":"#REF!*Q$90","v":{"$error":"#REF!"}},{"$f":"#REF!*R$90","v":{"$error":"#REF!"}},{"$f":"#REF!*S$90","v":{"$error":"#REF!"}},{"$f":"#REF!*T$90","v":{"$error":"#REF!"}},{"$f":"#REF!*U$90","v":{"$error":"#REF!"}},{"$f":"#REF!*V$90","v":{"$error":"#REF!"}},{"$f":"#REF!*W$90","v":{"$error":"#REF!"}},{"$f":"#REF!*X$90","v":{"$error":"#REF!"}},{"$f":"#REF!*Y$90","v":{"$error":"#REF!"}},{"$f":"#REF!*Z$90","v":{"$error":"#REF!"}},{"$f":"#REF!*AA$90","v":{"$error":"#REF!"}},{"$f":"#REF!*AB$90","v":{"$error":"#REF!"}},{"$f":"#REF!*AC$90","v":{"$error":"#REF!"}},{"$f":"#REF!*AD$90","v":{"$error":"#REF!"}},{"$f":"#REF!*AE$90","v":{"$error":"#REF!"}}]
[null,null,{"$f":"#REF!*C$90","v":{"$error":"#REF!"}},{"$f":"#REF!*D$90","v":{"$error":"#REF!"}},{"$f":"#REF!*E$90","v":{"$error":"#REF!"}},{"$f":"#REF!*F$90","v":{"$error":"#REF!"}},{"$f":"#REF!*G$90","v":{"$error":"#REF!"}},{"$f":"#REF!*H$90","v":{"$error":"#REF!"}},{"$f":"#REF!*I$90","v":{"$error":"#REF!"}},{"$f":"#REF!*J$90","v":{"$error":"#REF!"}},{"$f":"#REF!*K$90","v":{"$error":"#REF!"}},{"$f":"#REF!*L$90","v":{"$error":"#REF!"}},{"$f":"#REF!*M$90","v":{"$error":"#REF!"}},{"$f":"#REF!*N$90","v":{"$error":"#REF!"}},{"$f":"#REF!*O$90","v":{"$error":"#REF!"}},{"$f":"#REF!*P$90","v":{"$error":"#REF!"}},{"$f":"#REF!*Q$90","v":{"$error":"#REF!"}},{"$f":"#REF!*R$90","v":{"$error":"#REF!"}},{"$f":"#REF!*S$90","v":{"$error":"#REF!"}},{"$f":"#REF!*T$90","v":{"$error":"#REF!"}},{"$f":"#REF!*U$90","v":{"$error":"#REF!"}},{"$f":"#REF!*V$90","v":{"$error":"#REF!"}},{"$f":"#REF!*W$90","v":{"$error":"#REF!"}},{"$f":"#REF!*X$90","v":{"$error":"#REF!"}},{"$f":"#REF!*Y$90","v":{"$error":"#REF!"}},{"$f":"#REF!*Z$90","v":{"$error":"#REF!"}},{"$f":"#REF!*AA$90","v":{"$error":"#REF!"}},{"$f":"#REF!*AB$90","v":{"$error":"#REF!"}},{"$f":"#REF!*AC$90","v":{"$error":"#REF!"}},{"$f":"#REF!*AD$90","v":{"$error":"#REF!"}},{"$f":"#REF!*AE$90","v":{"$error":"#REF!"}}]
[null,null,{"$f":"#REF!*C$90","v":{"$error":"#REF!"}},{"$f":"#REF!*D$90","v":{"$error":"#REF!"}},{"$f":"#REF!*E$90","v":{"$error":"#REF!"}},{"$f":"#REF!*F$90","v":{"$error":"#REF!"}},{"$f":"#REF!*G$90","v":{"$error":"#REF!"}},{"$f":"#REF!*H$90","v":{"$error":"#REF!"}},{"$f":"#REF!*I$90","v":{"$error":"#REF!"}},{"$f":"#REF!*J$90","v":{"$error":"#REF!"}},{"$f":"#REF!*K$90","v":{"$error":"#REF!"}},{"$f":"#REF!*L$90","v":{"$error":"#REF!"}},{"$f":"#REF!*M$90","v":{"$error":"#REF!"}},{"$f":"#REF!*N$90","v":{"$error":"#REF!"}},{"$f":"#REF!*O$90","v":{"$error":"#REF!"}},{"$f":"#REF!*P$90","v":{"$error":"#REF!"}},{"$f":"#REF!*Q$90","v":{"$error":"#REF!"}},{"$f":"#REF!*R$90","v":{"$error":"#REF!"}},{"$f":"#REF!*S$90","v":{"$error":"#REF!"}},{"$f":"#REF!*T$90","v":{"$error":"#REF!"}},{"$f":"#REF!*U$90","v":{"$error":"#REF!"}},{"$f":"#REF!*V$90","v":{"$error":"#REF!"}},{"$f":"#REF!*W$90","v":{"$error":"#REF!"}},{"$f":"#REF!*X$90","v":{"$error":"#REF!"}},{"$f":"#REF!*Y$90","v":{"$error":"#REF!"}},{"$f":"#REF!*Z$90","v":{"$error":"#REF!"}},{"$f":"#REF!*AA$90","v":{"$error":"#REF!"}},{"$f":"#REF!*AB$90","v":{"$error":"#REF!"}},{"$f":"#REF!*AC$90","v":{"$error":"#REF!"}},{"$f":"#REF!*AD$90","v":{"$error":"#REF!"}},{"$f":"#REF!*AE$90","v":{"$error":"#REF!"}}]
[null,null,{"$f":"#REF!*C$90","v":{"$error":"#REF!"}},{"$f":"#REF!*D$90","v":{"$error":"#REF!"}},{"$f":"#REF!*E$90","v":{"$error":"#REF!"}},{"$f":"#REF!*F$90","v":{"$error":"#REF!"}},{"$f":"#REF!*G$90","v":{"$error":"#REF!"}},{"$f":"#REF!*H$90","v":{"$error":"#REF!"}},{"$f":"#REF!*I$90","v":{"$error":"#REF!"}},{"$f":"#REF!*J$90","v":{"$error":"#REF!"}},{"$f":"#REF!*K$90","v":{"$error":"#REF!"}},{"$f":"#REF!*L$90","v":{"$error":"#REF!"}},{"$f":"#REF!*M$90","v":{"$error":"#REF!"}},{"$f":"#REF!*N$90","v":{"$error":"#REF!"}},{"$f":"#REF!*O$90","v":{"$error":"#REF!"}},{"$f":"#REF!*P$90","v":{"$error":"#REF!"}},{"$f":"#REF!*Q$90","v":{"$error":"#REF!"}},{"$f":"#REF!*R$90","v":{"$error":"#REF!"}},{"$f":"#REF!*S$90","v":{"$error":"#REF!"}},{"$f":"#REF!*T$90","v":{"$error":"#REF!"}},{"$f":"#REF!*U$90","v":{"$error":"#REF!"}},{"$f":"#REF!*V$90","v":{"$error":"#REF!"}},{"$f":"#REF!*W$90","v":{"$error":"#REF!"}},{"$f":"#REF!*X$90","v":{"$error":"#REF!"}},{"$f":"#REF!*Y$90","v":{"$error":"#REF!"}},{"$f":"#REF!*Z$90","v":{"$error":"#REF!"}},{"$f":"#REF!*AA$90","v":{"$error":"#REF!"}},{"$f":"#REF!*AB$90","v":{"$error":"#REF!"}},{"$f":"#REF!*AC$90","v":{"$error":"#REF!"}},{"$f":"#REF!*AD$90","v":{"$error":"#REF!"}},{"$f":"#REF!*AE$90","v":{"$error":"#REF!"}}]
[null,null,{"$f":"#REF!*C$90","v":{"$error":"#REF!"}},{"$f":"#REF!*D$90","v":{"$error":"#REF!"}},{"$f":"#REF!*E$90","v":{"$error":"#REF!"}},{"$f":"#REF!*F$90","v":{"$error":"#REF!"}},{"$f":"#REF!*G$90","v":{"$error":"#REF!"}},{"$f":"#REF!*H$90","v":{"$error":"#REF!"}},{"$f":"#REF!*I$90","v":{"$error":"#REF!"}},{"$f":"#REF!*J$90","v":{"$error":"#REF!"}},{"$f":"#REF!*K$90","v":{"$error":"#REF!"}},{"$f":"#REF!*L$90","v":{"$error":"#REF!"}},{"$f":"#REF!*M$90","v":{"$error":"#REF!"}},{"$f":"#REF!*N$90","v":{"$error":"#REF!"}},{"$f":"#REF!*O$90","v":{"$error":"#REF!"}},{"$f":"#REF!*P$90","v":{"$error":"#REF!"}},{"$f":"#REF!*Q$90","v":{"$error":"#REF!"}},{"$f":"#REF!*R$90","v":{"$error":"#REF!"}},{"$f":"#REF!*S$90","v":{"$error":"#REF!"}},{"$f":"#REF!*T$90","v":{"$error":"#REF!"}},{"$f":"#REF!*U$90","v":{"$error":"#REF!"}},{"$f":"#REF!*V$90","v":{"$error":"#REF!"}},{"$f":"#REF!*W$90","v":{"$error":"#REF!"}},{"$f":"#REF!*X$90","v":{"$error":"#REF!"}},{"$f":"#REF!*Y$90","v":{"$error":"#REF!"}},{"$f":"#REF!*Z$90","v":{"$error":"#REF!"}},{"$f":"#REF!*AA$90","v":{"$error":"#REF!"}},{"$f":"#REF!*AB$90","v":{"$error":"#REF!"}},{"$f":"#REF!*AC$90","v":{"$error":"#REF!"}},{"$f":"#REF!*AD$90","v":{"$error":"#REF!"}},{"$f":"#REF!*AE$90","v":{"$error":"#REF!"}}]
[null,null,{"$f":"#REF!*C$90","v":{"$error":"#REF!"}},{"$f":"#REF!*D$90","v":{"$error":"#REF!"}},{"$f":"#REF!*E$90","v":{"$error":"#REF!"}},{"$f":"#REF!*F$90","v":{"$error":"#REF!"}},{"$f":"#REF!*G$90","v":{"$error":"#REF!"}},{"$f":"#REF!*H$90","v":{"$error":"#REF!"}},{"$f":"#REF!*I$90","v":{"$error":"#REF!"}},{"$f":"#REF!*J$90","v":{"$error":"#REF!"}},{"$f":"#REF!*K$90","v":{"$error":"#REF!"}},{"$f":"#REF!*L$90","v":{"$error":"#REF!"}},{"$f":"#REF!*M$90","v":{"$error":"#REF!"}},{"$f":"#REF!*N$90","v":{"$error":"#REF!"}},{"$f":"#REF!*O$90","v":{"$error":"#REF!"}},{"$f":"#REF!*P$90","v":{"$error":"#REF!"}},{"$f":"#REF!*Q$90","v":{"$error":"#REF!"}},{"$f":"#REF!*R$90","v":{"$error":"#REF!"}},{"$f":"#REF!*S$90","v":{"$error":"#REF!"}},{"$f":"#REF!*T$90","v":{"$error":"#REF!"}},{"$f":"#REF!*U$90","v":{"$error":"#REF!"}},{"$f":"#REF!*V$90","v":{"$error":"#REF!"}},{"$f":"#REF!*W$90","v":{"$error":"#REF!"}},{"$f":"#REF!*X$90","v":{"$error":"#REF!"}},{"$f":"#REF!*Y$90","v":{"$error":"#REF!"}},{"$f":"#REF!*Z$90","v":{"$error":"#REF!"}},{"$f":"#REF!*AA$90","v":{"$error":"#REF!"}},{"$f":"#REF!*AB$90","v":{"$error":"#REF!"}},{"$f":"#REF!*AC$90","v":{"$error":"#REF!"}},{"$f":"#REF!*AD$90","v":{"$error":"#REF!"}},{"$f":"#REF!*AE$90","v":{"$error":"#REF!"}}]
[null,null,{"$f":"#REF!*C$90","v":{"$error":"#REF!"}},{"$f":"#REF!*D$90","v":{"$error":"#REF!"}},{"$f":"#REF!*E$90","v":{"$error":"#REF!"}},{"$f":"#REF!*F$90","v":{"$error":"#REF!"}},{"$f":"#REF!*G$90","v":{"$error":"#REF!"}},{"$f":"#REF!*H$90","v":{"$error":"#REF!"}},{"$f":"#REF!*I$90","v":{"$error":"#REF!"}},{"$f":"#REF!*J$90","v":{"$error":"#REF!"}},{"$f":"#REF!*K$90","v":{"$error":"#REF!"}},{"$f":"#REF!*L$90","v":{"$error":"#REF!"}},{"$f":"#REF!*M$90","v":{"$error":"#REF!"}},{"$f":"#REF!*N$90","v":{"$error":"#REF!"}},{"$f":"#REF!*O$90","v":{"$error":"#REF!"}},{"$f":"#REF!*P$90","v":{"$error":"#REF!"}},{"$f":"#REF!*Q$90","v":{"$error":"#REF!"}},{"$f":"#REF!*R$90","v":{"$error":"#REF!"}},{"$f":"#REF!*S$90","v":{"$error":"#REF!"}},{"$f":"#REF!*T$90","v":{"$error":"#REF!"}},{"$f":"#REF!*U$90","v":{"$error":"#REF!"}},{"$f":"#REF!*V$90","v":{"$error":"#REF!"}},{"$f":"#REF!*W$90","v":{"$error":"#REF!"}},{"$f":"#REF!*X$90","v":{"$error":"#REF!"}},{"$f":"#REF!*Y$90","v":{"$error":"#REF!"}},{"$f":"#REF!*Z$90","v":{"$error":"#REF!"}},{"$f":"#REF!*AA$90","v":{"$error":"#REF!"}},{"$f":"#REF!*AB$90","v":{"$error":"#REF!"}},{"$f":"#REF!*AC$90","v":{"$error":"#REF!"}},{"$f":"#REF!*AD$90","v":{"$error":"#REF!"}},{"$f":"#REF!*AE$90","v":{"$error":"#REF!"}}]
[null,null,{"$f":"#REF!*C$90","v":{"$error":"#REF!"}},{"$f":"#REF!*D$90","v":{"$error":"#REF!"}},{"$f":"#REF!*E$90","v":{"$error":"#REF!"}},{"$f":"#REF!*F$90","v":{"$error":"#REF!"}},{"$f":"#REF!*G$90","v":{"$error":"#REF!"}},{"$f":"#REF!*H$90","v":{"$error":"#REF!"}},{"$f":"#REF!*I$90","v":{"$error":"#REF!"}},{"$f":"#REF!*J$90","v":{"$error":"#REF!"}},{"$f":"#REF!*K$90","v":{"$error":"#REF!"}},{"$f":"#REF!*L$90","v":{"$error":"#REF!"}},{"$f":"#REF!*M$90","v":{"$error":"#REF!"}},{"$f":"#REF!*N$90","v":{"$error":"#REF!"}},{"$f":"#REF!*O$90","v":{"$error":"#REF!"}},{"$f":"#REF!*P$90","v":{"$error":"#REF!"}},{"$f":"#REF!*Q$90","v":{"$error":"#REF!"}},{"$f":"#REF!*R$90","v":{"$error":"#REF!"}},{"$f":"#REF!*S$90","v":{"$error":"#REF!"}},{"$f":"#REF!*T$90","v":{"$error":"#REF!"}},{"$f":"#REF!*U$90","v":{"$error":"#REF!"}},{"$f":"#REF!*V$90","v":{"$error":"#REF!"}},{"$f":"#REF!*W$90","v":{"$error":"#REF!"}},{"$f":"#REF!*X$90","v":{"$error":"#REF!"}},{"$f":"#REF!*Y$90","v":{"$error":"#REF!"}},{"$f":"#REF!*Z$90","v":{"$error":"#REF!"}},{"$f":"#REF!*AA$90","v":{"$error":"#REF!"}},{"$f":"#REF!*AB$90","v":{"$error":"#REF!"}},{"$f":"#REF!*AC$90","v":{"$error":"#REF!"}},{"$f":"#REF!*AD$90","v":{"$error":"#REF!"}},{"$f":"#REF!*AE$90","v":{"$error":"#REF!"}}]
[null,null,{"$f":"C35*C$90","v":0},0,0,0,0,0,0,0,0,{"$error":"#N/A"},0,0,0,0,0,0,0,0,0,0,0,0,0,0,0,{"$error":"#N/A"},{"$error":"#N/A"},{"$error":"#N/A"},{"$error":"#N/A"}]

{"sheet":"6 Б(2)","index":26,"n_rows":82,"n_cols":8,"rows_kept":82,"cut":false,"hidden":true,"merged":[[42,0,42,1],[52,0,52,1],[67,0,67,1],[0,0,0,3],[0,4,0,7],[1,0,1,2],[2,0,2,1],[3,0,15,0],[17,0,17,1]]}
[{"$f":"Титул!B19","v":"6 Б"},null,null,null,"Страница заполняется автоматически, без участия оператора!!!"]
["Всего учащихся в классе:",null,null,{"$f":"Титул!C19","v":25},"Фамилии, имена               учащихся","Учебные предметы","Фамилии и инициалы учителей","Пояснения, примечания, причины"]
["Учатся на  \"5\":",null,{"$f":"COUNTA(E3:E17)","v":1},1,"Дышлевич Екатерина"]
[null,null,null,2]
[null,null,null,3]
[null,null,null,4]
[null,null,null,5]
[null,null,null,6]
[null,null,null,7]
[null,null,null,8]
[null,null,null,9]
[null,null,null,10]
[null,null,null,11]
[null,null,null,12]
[null,null,null,13]
[null,null,null,14]
[null,null,null,15]
["Учатся  на \"4\"и\"5\"",null,{"$f":"COUNTA(E18:E42)","v":9},1,"Бирко Александра"]
[null," ",null,2,"Каплун Анастасия"]
[null,null,null,3,"Малкина Алена"]
[null,null,null,4,"Олифер Владислав"]
[null,null,null,5,"Харьков Влад"]
[null,null,null,6,"Холов Владислав"]
[null,null,null,7,"Хорикова Анастасия"]
[null,null,null,8,"Шапкова Диана"]
[null,null,null,9,"Шокин Андрей"]
[null,null,null,10]
[null,null,null,11]
[null,null,null,12]
[null,null,null,13]
[null,null,null,14]
[null,null,null,15]
[null,null,null,16]
[null,null,null,17]
[null,null,null,18]
[null,null,null,19]
[null,null,null,20]
[null,null,null,21]
[null,null,null,22]
[null,null,null,23]
[null,null,null,24]
[null,null,null,25]
["Не аттестованы:",null,{"$f":"COUNTA(E43:E52)","v":0},1]
[null," ",null,2]
[null,null,null,3]
[null,null,null,4]
[null,null,null,5]
[null,null,null,6]
[null,null,null,7]
[null,null,null,8]
[null,null,null,9]
[null,null,null,10]
["Не успевают:",null,{"$f":"COUNTA(E53:E67)","v":0},1]
[null," ",null,2]
[null,null,null,3]
[null,null,null,4]
[null,null,null,5]
[null,null,null,6]
[null,null,null,7]
[null,null,null,8]
[null,null,null,9]
[null,null,null,10]
[null,null,null,11]
[null,null,null,12]
[null,null,null,13]
[null,null,null,14]
[null,null,null,15]
["Освобождены:",null,{"$f":"COUNTA(E68:E82)","v":0},1]
[null," ",null,2]
[null,null,null,3]
[null,null,null,4]
[null,null,null,5]
[null,null,null,6]
[null,null,null,7]
[null,null,null,8]
[null,null,null,9]
[null,null,null,10]
[null,null,null,11]
[null,null,null,12]
[null,null,null,13]
[null,null,null,14]
[null,null,null,15]

{"sheet":"7 А","index":27,"n_rows":130,"n_cols":35,"rows_kept":130,"cut":false,"hidden":true,"merged":[[0,0,0,2],[0,3,0,25],[0,26,0,32],[1,0,1,24],[1,25,1,28],[1,29,1,31],[2,0,2,3],[2,4,2,17],[2,18,2,22],[2,23,2,34],[3,0,4,1],[3,2,3,30],[3,31,3,34],[47,0,47,26],[47,28,47,33],[35,0,35,1],[35,31,35,34],[36,0,46,0],[36,31,36,34],[37,31,37,34],[38,31,38,34],[39,31,39,34],[40,31,40,34],[41,31,41,34],[42,31,42,34],[43,31,43,34],[44,31,44,34],[45,31,45,34],[46,31,46,34]]}
[{"$f":"Титул!B5","v":"2014/15 учебный год"},null,null,{"$f":"Титул!B4","v":"МОУ СОШ  № 15"},null,null,null,null,null,null,null,null,null,null,null,null,null,null,null,null,null,null,null,null,null,null,{"$f":"Титул!B6","v":"4 четверть"},null,null,null,null,null,null,null,"3+"]
["ВЕДОМОСТЬ  РЕЗУЛЬТАТОВ  УЧЕБНОЙ  ДЕЯТЕЛЬНОСТИ",null,null,null,null,null,null,null,null,null,null,null,null,null,null,null,null,null,null,null,null,null,null,null,null,{"$f":"Титул!B20","v":"7 А"},null,null,null,"класса"]
["Классный руководитель:",null,null,null,{"$f":"Титул!D20","v":"Каплан О.Э."},null,null,null,null,null,null,null,null,null,null,null,null,null,"Программа:",null,null,null,null,{"$f":"Титул!G18","v":"общеобразовательный"}]
["Вручную вносятся только оценки \"5\", \"4\", \"3\", \"2\", \"1\". \nНе аттестованным проставляется \"0\", освобожденным - \"Н\".  ",null,"У  ч  е  б  н  ы  е      п  р  е  д  м  е  т  ы",null,null,null,null,null,null,null,null,null,null,null,null,null,null,null,null,null,null,null,null,null,null,null,null,null,null,null,null,"Результаты ученика:"]
[null,null,{"$f":"Нагрузка!C3","v":"Русский язык"},{"$f":"Нагрузка!D3","v":"Литература"},{"$f":"Нагрузка!E3","v":"Иностранный язык"},{"$f":"Нагрузка!F3","v":"Математика"},{"$f":"Нагрузка!G3","v":"Алгебра"},{"$f":"Нагрузка!H3","v":"Геометрия"},{"$f":"Нагрузка!I3","v":"Информатика"},{"$f":"Нагрузка!J3","v":"История"},{"$f":"Нагрузка!K3","v":"Обществознание"},{"$f":"Нагрузка!L3","v":"Окружающий мир"},{"$f":"Нагрузка!M3","v":"ИЗО"},{"$f":"Нагрузка!N3","v":"Музыка"},{"$f":"Нагрузка!O3","v":"Технология"},{"$f":"Нагрузка!P3","v":"Технология"},{"$f":"Нагрузка!Q3","v":"ФЗК"},{"$f":"Нагрузка!R3","v":"Иностранный язык"},{"$f":"Нагрузка!S3","v":"Иностранный язык"},{"$f":"Нагрузка!T3","v":"География"},{"$f":"Нагрузка!U3","v":"Физика"},{"$f":"Нагрузка!V3","v":"Химия"},{"$f":"Нагрузка!W3","v":"Биология"},{"$f":"Нагрузка!X3","v":"МХК"},{"$f":"Нагрузка!Y3","v":"ФЗК"},{"$f":"Нагрузка!Z3","v":"ОБЖ"},{"$f":"Нагрузка!AA3","v":"Природоведение"},{"$f":"Нагрузка!AB3","v":0},{"$f":"Нагрузка!AC3","v":0},{"$f":"Нагрузка!AD3","v":0},{"$f":"Нагрузка!AE3","v":0},"Средний балл:","Степень обученности (СОУ):","Качество успеваемости:","Рейтинговый учебный балл:"]
[1,{"$f":"СпискиКлассы!M4","v":"Аверкиева Екатерина"},3,4,4,3,null,null,null,3,3,null,5,5,5,null,4,null,null,3,3,null,4,null,null,null,null,null,null,null,null,{"$f":"AVERAGE(C6:AE6)","v":3.7692307692307692},{"$f":"(COUNTIF(C6:AE6,\"5\")+COUNTIF(C6:AE6,\"4\")*0.64+COUNTIF(C6:AE6,\"3\")*0.36+COUNTIF(C6:AE6,\"2\")*0.16)/(COUNTIF(C6:AE6,\"5\")+COUNTIF(C6:AE6,\"4\")+COUNTIF(C6:AE6,\"3\")+COUNTIF(C6:AE6,\"2\")+COUNTIF(C6:AE6,\"0\"))","v":0.59384615384615391},{"$f":"((5*COUNTIF(C6:AE6,\"5\"))+(4*COUNTIF(C6:AE6,\"4\")))/(5*(COUNTA(C6:AE6)-COUNTIF(C6:AE6,\"н\")))","v":0.47692307692307695},{"$f":"SUMIF(C91:AE91,\">0\",C91:AE91)/(COUNTIF(C6:AE6,\">0\")+COUNTIF(C6:AE6,\"=0\")+COUNTIF(C6:AE6,\"Н\"))","v":15.76923076923077}]
[{"$f":"A6+1","v":2},{"$f":"СпискиКлассы!M5","v":"Баслов Федор"},3,3,3,3,null,null,null,3,3,null,4,5,4,null,3,null,null,3,3,null,3,null,null,null,null,null,null,null,null,{"$f":"AVERAGE(C7:AE7)","v":3.3076923076923075},{"$f":"(COUNTIF(C7:AE7,\"5\")+COUNTIF(C7:AE7,\"4\")*0.64+COUNTIF(C7:AE7,\"3\")*0.36+COUNTIF(C7:AE7,\"2\")*0.16)/(COUNTIF(C7:AE7,\"5\")+COUNTIF(C7:AE7,\"4\")+COUNTIF(C7:AE7,\"3\")+COUNTIF(C7:AE7,\"2\")+COUNTIF(C7:AE7,\"0\"))","v":0.4523076923076923},{"$f":"((5*COUNTIF(C7:AE7,\"5\"))+(4*COUNTIF(C7:AE7,\"4\")))/(5*(COUNTA(C7:AE7)-COUNTIF(C7:AE7,\"н\")))","v":0.2},13.76923076923077]
[3,{"$f":"СпискиКлассы!M6","v":"Белозерова Елизавета"},4,4,3,4,null,null,null,4,4,null,5,5,4,null,4,null,null,3,3,null,3,null,null,null,null,null,null,null,null,{"$f":"AVERAGE(C8:AE8)","v":3.8461538461538463},0.60923076923076924,0.58461538461538465,15.615384615384615]
[4,{"$f":"СпискиКлассы!M7","v":"Белявская Виктория"},4,4,4,3,null,null,null,3,3,null,4,5,4,null,3,null,null,4,3,null,4,null,null,null,null,null,null,null,null,3.6923076923076925,0.56000000000000005,0.50769230769230766,16.692307692307693]
[5,{"$f":"СпискиКлассы!M8","v":"Бодрова Ирина"},4,4,3,3,null,null,null,4,4,null,4,5,4,null,4,null,null,3,3,null,4,null,null,null,null,null,null,null,null,3.7692307692307692,0.58153846153846156,0.56923076923076921,16.076923076923077]
[6,{"$f":"СпискиКлассы!M9","v":"Бойко Кристина"},3,3,3,3,null,null,null,3,3,null,3,4,4,null,3,null,null,3,3,null,3," ",null,null,null,null,null,null,null,3.1538461538461537,0.40307692307692311,0.11428571428571428,13.615384615384615]
[7,{"$f":"СпискиКлассы!M10","v":"Волков Сергей"},3,3,3,3,null,null,null,3,3,null,4,5,4,null,5,null,null,3,3,null,3,null,null,null,null,null,null,null,null,3.4615384615384617,0.50153846153846149,0.27692307692307694,14.076923076923077]
[8,{"$f":"СпискиКлассы!M11","v":"Волобуева Юлия"},3,3,4,4,null,null,null,3,4,null,5,5,5,null,3,null,null,3,3,null,4,null,null,null,null,null,null,null,null,3.7692307692307692,0.59384615384615391,0.47692307692307695,15.307692307692308]
[9,{"$f":"СпискиКлассы!M12","v":"Ворошилов Семен"},4,4,4,4,null,null,null,4,4,null,4,4,4,null,5,null,null,4,4,null,4,null,null,null,null,null,null,null,null,4.0769230769230766,0.6676923076923077,0.81538461538461537,18]
[10,{"$f":"СпискиКлассы!M13","v":"Гарин Кирилл"},4,4,4,4,null,null,null,4,4,null,4,4,4,null,5,null,null,4,4,null,4,null,null,null,null,null,null,null,null,4.0769230769230766,0.6676923076923077,0.81538461538461537,18]
[11,{"$f":"СпискиКлассы!M14","v":"Демирова Сабина"},4,4,4,4,null,null,null,4,4,null,5,5,5,null,4,null,null,5,4,null,4,null,null,null,null,null,null,null,null,4.3076923076923075,0.75076923076923074,0.86153846153846159,18.615384615384617]
[12,{"$f":"СпискиКлассы!M15","v":"Дубинина Виктория"},4,4,4,3,null,null,null,4,4,null,5,5,4,null,3,null,null,4,3,null,4,null,null,null,null,null,null,null,null,3.9230769230769229,0.63076923076923075,0.64615384615384619,17.23076923076923]
[13,{"$f":"СпискиКлассы!M16","v":"Евдокимова Алена"},5,5,5,5,null,null,null,4,5,null,5,5,4,null,4,null,null,5,5,null,5,null,null,null,null,null,null,null,null,4.7692307692307692,0.91692307692307695,0.9538461538461539,21.53846153846154]
[14,{"$f":"СпискиКлассы!M17","v":"Емельянов Алексей"},4,4,4,4,null,null,null,4,4,null,4,5,4,null,5,null,null,5,4,null,4,null,null,null,null,null,null,null,null,4.2307692307692308,0.72307692307692306,0.84615384615384615,18.53846153846154]
[15,{"$f":"СпискиКлассы!M18","v":"Иванова Анастасия"},3,3,3,3,null,null,null,3,3,null,4,4,5,null,3,null,null,4,3,null,3,null,null,null,null,null,null,null,null,3.3846153846153846,0.47384615384615386,0.26153846153846155,14.307692307692308]
[16,{"$f":"СпискиКлассы!M19","v":"Казакова Екатерина"},3,3,3,3,null,null,null,3,3,null,4,4,5,null,3,null,null,3,3,null,3,null,null,null,null,null,null,null,null,3.3076923076923075,0.4523076923076923,0.2,13.846153846153847]
[17,{"$f":"СпискиКлассы!M20","v":"Кизима Ялан"},3,3,3,3,null,null,null,3,3,null,4,4,4,null,5,null,null,4,3,null,4,null,null,null,null,null,null,null,null,3.5384615384615383,0.51692307692307693,0.38461538461538464,15]
[18,{"$f":"СпискиКлассы!M21","v":"Лопатюк Екатерина"},4,4,4,4,null,null,null,4,4,null,5,5,5,null,4,null,null,4,4,null,4,null,null,null,null,null,null,null,null,4.2307692307692308,0.72307692307692306,0.84615384615384615,18.153846153846153]
[19,{"$f":"СпискиКлассы!M22","v":"Набиулина Полина"},4,4,4,4,null,null,null,4,5,null,5,5,5,null,4,null,null,5,4,null,4,null,null,null,null,null,null,null,null,4.384615384615385,0.77846153846153854,0.87692307692307692,18.615384615384617]
[20,{"$f":"СпискиКлассы!M23","v":"Носачёв Владимир"},3,3,3,3,null,null,null,3,3,null,4,4,4,null,5,null,null,3,3,null,3,null,null,null,null,null,null,null,null,3.3846153846153846,0.47384615384615386,0.26153846153846155,14]
[21,{"$f":"СпискиКлассы!M24","v":"Овчарова Антонина"},4,5,4,4,null,null,null,4,4,null,5,5,5,null,4,null,null,5,4,null,4,null,null,null,null,null,null,null,null,4.384615384615385,0.77846153846153854,0.87692307692307692,18.923076923076923]
[22,{"$f":"СпискиКлассы!M25","v":"Прушинская Виктория"},3,4,4,3,null,null,null,3,3,null,5,4,4,null,3,null,null,4,3,null,4,null,null,null,null,null,null,null,null,3.6153846153846154,0.53846153846153844,0.44615384615384618,15.846153846153847]
[23,{"$f":"СпискиКлассы!M26","v":"Татьмянина Екатерина"},3,4,3,3,null,null,null,3,3,null,5,5,5,null,4,null,null,4,3,null,4,null,null,null,null,null,null,null,null,3.7692307692307692,0.59384615384615391,0.47692307692307695,15.461538461538462]
[24,{"$f":"СпискиКлассы!M27","v":"Ялова Виктория"},3,3,3,3,null,null,null,3,3,null,4,4,3,null,3,null,null,3,3,null,3,null,null,null,null,null,null,null,null,3.1538461538461537,0.40307692307692311,0.12307692307692308,13.538461538461538]
[25,{"$f":"СпискиКлассы!M28","v":"Кропачева Алина"},4,4,4,4,null,null,null,4,4,null,5,5,5,null,4,null,null,5,4,null,4,null,null,null,null,null,null,null,null,4.3076923076923075,0.75076923076923074,0.86153846153846159,18.615384615384617]
[26,{"$f":"СпискиКлассы!M29","v":"Малов Максим"},4,4,4,4,null,null,null,4,5,null,5,5,4,null,5,null,null,4,4,null,5,null,null,null,null,null,null,null,null,4.384615384615385,0.77846153846153854,0.87692307692307692,18.692307692307693]
[27,{"$f":"СпискиКлассы!M30","v":0},null,null,null,null,null,null,null,null,null,null,null,null,null,null,null,null,null,null,null,null,null,null,null,null,null,null,null,null,null,{"$error":"#DIV/0!"},{"$error":"#DIV/0!"},{"$error":"#DIV/0!"},{"$error":"#DIV/0!"}]
[28,{"$f":"СпискиКлассы!M31","v":0},null,null,null,null,null,null,null,null,null,null,null,null,null,null,null,null,null,null,null,null,null,null,null,null,null,null,null,null,null,{"$error":"#DIV/0!"},{"$error":"#DIV/0!"},{"$error":"#DIV/0!"},{"$error":"#DIV/0!"}]
[29,{"$f":"СпискиКлассы!M32","v":0},null,null,null,null,null,null,null,null,null,null,null,null,null,null,null,null,null,null,null,null,null,null,null,null,null,null,null,null,null,{"$error":"#DIV/0!"},{"$error":"#DIV/0!"},{"$error":"#DIV/0!"},{"$error":"#DIV/0!"}]
[30,{"$f":"СпискиКлассы!M33","v":0},null,null,null,null,null,null,null,null,null,null,null,null,null,null,null,null,null,null,null,null,null,null,null,null,null,null,null,null,null,{"$error":"#DIV/0!"},{"$error":"#DIV/0!"},{"$error":"#DIV/0!"},{"$f":"SUMIF(C130:AE130,\">0\",C130:AE130)/(COUNTIF(C35:AE35,\">0\")+COUNTIF(C35:AE35,\"=0\")+COUNTIF(C35:AE35,\"Н\"))","v":{"$error":"#DIV/0!"}}]
[" Фамилия и инициалы                                           учителя - предметника",null,{"$f":"Нагрузка!C16","v":"Шипилова"},{"$f":"Нагрузка!D16","v":"Шипилова"},{"$f":"Нагрузка!E16","v":0},{"$f":"Нагрузка!F16","v":"Заплава"},{"$f":"Нагрузка!G16","v":0},{"$f":"Нагрузка!H16","v":0},{"$f":"Нагрузка!I16","v":0},{"$f":"Нагрузка!J16","v":"Астраханцева"},{"$f":"Нагрузка!K16","v":"Астраханцева"},{"$f":"Нагрузка!L16","v":0},{"$f":"Нагрузка!M16","v":"Терюшкова"},{"$f":"Нагрузка!N16","v":"Заворина"},{"$f":"Нагрузка!O16","v":"Девицын"},{"$f":"Нагрузка!P16","v":"Баранчук"},{"$f":"Нагрузка!Q16","v":"Перфильев"},{"$f":"Нагрузка!R16","v":"Каплан "},{"$f":"Нагрузка!S16","v":"Гулевич"},{"$f":"Нагрузка!T16","v":"Деревягина"},{"$f":"Нагрузка!U16","v":0},{"$f":"Нагрузка!V16","v":0},{"$f":"Нагрузка!W16","v":"Сидоренко"},{"$f":"Нагрузка!X16","v":0},{"$f":"Нагрузка!Y16","v":0},{"$f":"Нагрузка!Z16","v":0},{"$f":"Нагрузка!AA16","v":0},{"$f":"Нагрузка!AB16","v":0},{"$f":"Нагрузка!AC16","v":0},{"$f":"Нагрузка!AD14","v":0},{"$f":"Нагрузка!AE14","v":0},"Показатели результатов учебной деятельности в  целом по классу:"]
["Результаты учебной деятельности класса","Количество  \"5\":",{"$f":"COUNTIF(C6:C35,5)","v":1},2,1,1,0,0,0,0,3,0,13,17,10,0,7,0,0,6,1,0,2,0,0,0,0,0,0,0,0,{"$f":"SUM(C37:AE37)","v":64}]
[null,"Количество  \"4\":",{"$f":"COUNTIF(C6:C35,4)","v":13},15,14,11,0,0,0,13,11,0,12,9,15,0,10,0,0,10,9,0,16,0,0,0,0,0,0,0,0,158]
[null,"Количество  \"3\":",{"$f":"COUNTIF(C6:C35,3)","v":12},9,11,14,0,0,0,13,12,0,1,0,1,0,9,0,0,10,16,0,8,0,0,0,0,0,0,0,0,116]
[null,"Количество  \"2\":",{"$f":"COUNTIF(C6:C35,2)","v":0},0,0,0,0,0,0,0,0,0,0,0,0,0,0,0,0,0,0,0,0,0,0,0,0,0,0,0,0,0]
[null,"Не аттестовано:",{"$f":"COUNTIF(C6:C35,0)","v":0},0,0,0,0,0,0,0,0,0,0,0,0,0,0,0,0,0,0,0,0,0,0,0,0,0,0,0,0,0]
[null,"Освобождено:",{"$f":"COUNTIF(C6:C35,\"н\")","v":0},0,0,0,0,0,0,0,0,0,0,0,0,0,0,0,0,0,0,0,0,0,0,0,0,0,0,0,0,0]
[null,"Успеваемость:",{"$f":"(C37+C38+C39)/(C37+C38+C39+C40+C41)","v":1},{"$f":"(D37+D38+D39)/(D37+D38+D39+D40+D41)","v":1},1,1,{"$error":"#DIV/0!"},{"$error":"#DIV/0!"},{"$error":"#DIV/0!"},1,1,{"$error":"#DIV/0!"},1,1,1,{"$error":"#DIV/0!"},1,{"$error":"#DIV/0!"},{"$error":"#DIV/0!"},1,1,{"$error":"#DIV/0!"},1,{"$error":"#DIV/0!"},{"$error":"#DIV/0!"},{"$error":"#DIV/0!"},{"$error":"#DIV/0!"},{"$error":"#DIV/0!"},{"$error":"#DIV/0!"},{"$error":"#DIV/0!"},{"$error":"#DIV/0!"},{"$f":"('7 А(2)'!D2-'7 А(2)'!C43-'7 А(2)'!C53)/'7 А(2)'!D2","v":1}]
[null,"Качество знаний:",{"$f":"(C37+C38)/(C37+C38+C39+C40+C41)","v":0.53846153846153844},{"$f":"(D37+D38)/(D37+D38+D39+D40+D41)","v":0.65384615384615385},0.57692307692307687,0.46153846153846156,{"$error":"#DIV/0!"},{"$error":"#DIV/0!"},{"$error":"#DIV/0!"},0.5,0.53846153846153844,{"$error":"#DIV/0!"},0.96153846153846156,1,0.96153846153846156,{"$error":"#DIV/0!"},0.65384615384615385,{"$error":"#DIV/0!"},{"$error":"#DIV/0!"},0.61538461538461542,0.38461538461538464,{"$error":"#DIV/0!"},0.69230769230769229,{"$error":"#DIV/0!"},{"$error":"#DIV/0!"},{"$error":"#DIV/0!"},{"$error":"#DIV/0!"},{"$error":"#DIV/0!"},{"$error":"#DIV/0!"},{"$error":"#DIV/0!"},{"$error":"#DIV/0!"},{"$f":"('7 А(2)'!C3+'7 А(2)'!C18)/'7 А(2)'!D2","v":0}]
[null,"Степень обученности:",{"$f":"(C37+C38*0.64+C39*0.36+C40*0.16)/(C37+C38+C39+C40+C41)","v":0.52461538461538459},{"$f":"(D37+D38*0.64+D39*0.36+D40*0.16)/(D37+D38+D39+D40+D41)","v":0.57076923076923081},0.53538461538461546,0.50307692307692298,{"$error":"#DIV/0!"},{"$error":"#DIV/0!"},{"$error":"#DIV/0!"},0.5,0.55230769230769228,{"$error":"#DIV/0!"},0.8092307692307692,0.87538461538461532,0.76769230769230767,{"$error":"#DIV/0!"},0.64,{"$error":"#DIV/0!"},{"$error":"#DIV/0!"},0.61538461538461542,0.48153846153846153,{"$error":"#DIV/0!"},0.58153846153846156,{"$error":"#DIV/0!"},{"$error":"#DIV/0!"},{"$error":"#DIV/0!"},{"$error":"#DIV/0!"},{"$error":"#DIV/0!"},{"$error":"#DIV/0!"},{"$error":"#DIV/0!"},{"$error":"#DIV/0!"},{"$f":"(AF37+AF38*0.64+AF39*0.36+AF40*0.16)/(AF37+AF38+AF39+AF40+AF41)","v":0.61207100591715979}]
[null,"Средний балл:              ",{"$f":"(C37*5+C38*4+C39*3+C40*2)/(C37+C38+C39+C40+C41)","v":3.5769230769230771},{"$f":"(D37*5+D38*4+D39*3+D40*2)/(D37+D38+D39+D40+D41)","v":3.7307692307692308},3.6153846153846154,3.5,{"$error":"#DIV/0!"},{"$error":"#DIV/0!"},{"$error":"#DIV/0!"},3.5,3.6538461538461537,{"$error":"#DIV/0!"},4.4615384615384617,4.6538461538461542,4.3461538461538458,{"$error":"#DIV/0!"},3.9230769230769229,{"$error":"#DIV/0!"},{"$error":"#DIV/0!"},3.8461538461538463,3.4230769230769229,{"$error":"#DIV/0!"},3.7692307692307692,{"$error":"#DIV/0!"},{"$error":"#DIV/0!"},{"$error":"#DIV/0!"},{"$error":"#DIV/0!"},{"$error":"#DIV/0!"},{"$error":"#DIV/0!"},{"$error":"#DIV/0!"},{"$error":"#DIV/0!"},{"$f":"(AF37*5+AF38*4+AF39*3+AF40*2)/(AF37+AF38+AF39+AF40+AF41)","v":3.8461538461538463}]
[null,"Качество успеваемости:",{"$f":"(5*C37+4*C38)*0.2/(SUM(C37+C38+C39+C40+C41))","v":0.43846153846153846},{"$f":"(5*COUNTIF(D6:D35,5)+4*COUNTIF(D6:D35,4))*0.2/(COUNTA(D6:D35)-COUNTIF(D6:D35,\"н\"))","v":0.53846153846153844},0.46923076923076928,0.37692307692307697,{"$error":"#DIV/0!"},{"$error":"#DIV/0!"},{"$error":"#DIV/0!"},0.4,0.4538461538461539,{"$error":"#DIV/0!"},0.86923076923076925,0.9307692307692309,0.84615384615384615,{"$error":"#DIV/0!"},0.57692307692307687,{"$error":"#DIV/0!"},{"$error":"#DIV/0!"},0.53846153846153844,0.31538461538461543,{"$error":"#DIV/0!"},0.56923076923076921,0,{"$error":"#DIV/0!"},{"$error":"#DIV/0!"},{"$error":"#DIV/0!"},{"$error":"#DIV/0!"},{"$error":"#DIV/0!"},{"$error":"#DIV/0!"},{"$error":"#DIV/0!"},{"$f":"(5*COUNTIF(C6:AE35,5)+4*COUNTIF(C6:AE35,4))*0.2/(COUNTA(C6:AE35)-COUNTIF(C6:AE35,\"н\"))","v":0.56165191740412979}]
["Выполнено с помощью программы статистического анализа результатов учебной деятельности",null,null,null,null,null,null,null,null,null,null,null,null,null,null,null,null,null,null,null,null,null,null,null,null,null,null,null,{"$f":"Титул!G31","v":"PSORUD-Klass.v.04.11.demo"},null,null,null,null,null,"3+"]
[]
[]
[]
[]
[]
[]
[]
[]
[]
[]
[]
[]
[]
[]
[]
[]
[]
[]
[]
[]
[]
[]
[]
[]
[]
[]
[]
[]
[]
[]
[]
[]
[]
[]
[]
[]
[]
[]
[]
[]
[]
[null,"Коэф.трудн.предмета",{"$f":"VLOOKUP(C$5,ШкалаТрудн!$C$5:$N$34,LEFT($Z$2,2)+1,0)","v":11},{"$f":"VLOOKUP(D$5,ШкалаТрудн!$C$5:$N$34,LEFT($Z$2,2)+1,0)","v":4},{"$f":"VLOOKUP(E$5,ШкалаТрудн!$C$5:$N$34,LEFT($Z$2,2)+1,0)","v":10},{"$f":"VLOOKUP(F$5,ШкалаТрудн!$C$5:$N$34,LEFT($Z$2,2)+1,0)","v":0},{"$f":"VLOOKUP(G$5,ШкалаТрудн!$C$5:$N$34,LEFT($Z$2,2)+1,0)","v":10},{"$f":"VLOOKUP(H$5,ШкалаТрудн!$C$5:$N$34,LEFT($Z$2,2)+1,0)","v":12},{"$f":"VLOOKUP(I$5,ШкалаТрудн!$C$5:$N$34,LEFT($Z$2,2)+1,0)","v":4},{"$f":"VLOOKUP(J$5,ШкалаТрудн!$C$5:$N$34,LEFT($Z$2,2)+1,0)","v":6},{"$f":"VLOOKUP(K$5,ШкалаТрудн!$C$5:$N$34,LEFT($Z$2,2)+1,0)","v":0},{"$f":"VLOOKUP(L$5,ШкалаТрудн!$C$5:$N$34,LEFT($Z$2,2)+1,0)","v":{"$error":"#N/A"}},{"$f":"VLOOKUP(M$5,ШкалаТрудн!$C$5:$N$34,LEFT($Z$2,2)+1,0)","v":1},{"$f":"VLOOKUP(N$5,ШкалаТрудн!$C$5:$N$34,LEFT($Z$2,2)+1,0)","v":1},{"$f":"VLOOKUP(O$5,ШкалаТрудн!$C$5:$N$34,LEFT($Z$2,2)+1,0)","v":2},{"$f":"VLOOKUP(P$5,ШкалаТрудн!$C$5:$N$34,LEFT($Z$2,2)+1,0)","v":2},{"$f":"VLOOKUP(Q$5,ШкалаТрудн!$C$5:$N$34,LEFT($Z$2,2)+1,0)","v":2},{"$f":"VLOOKUP(R$5,ШкалаТрудн!$C$5:$N$34,LEFT($Z$2,2)+1,0)","v":10},{"$f":"VLOOKUP(S$5,ШкалаТрудн!$C$5:$N$34,LEFT($Z$2,2)+1,0)","v":10},{"$f":"VLOOKUP(T$5,ШкалаТрудн!$C$5:$N$34,LEFT($Z$2,2)+1,0)","v":6},{"$f":"VLOOKUP(U$5,ШкалаТрудн!$C$5:$N$34,LEFT($Z$2,2)+1,0)","v":8},{"$f":"VLOOKUP(V$5,ШкалаТрудн!$C$5:$N$34,LEFT($Z$2,2)+1,0)","v":13},{"$f":"VLOOKUP(W$5,ШкалаТрудн!$C$5:$N$34,LEFT($Z$2,2)+1,0)","v":7},{"$f":"VLOOKUP(X$5,ШкалаТрудн!$C$5:$N$34,LEFT($Z$2,2)+1,0)","v":8},{"$f":"VLOOKUP(Y$5,ШкалаТрудн!$C$5:$N$34,LEFT($Z$2,2)+1,0)","v":2},{"$f":"VLOOKUP(Z$5,ШкалаТрудн!$C$5:$N$34,LEFT($Z$2,2)+1,0)","v":3},{"$f":"VLOOKUP(AA$5,ШкалаТрудн!$C$5:$N$34,LEFT($Z$2,2)+1,0)","v":0},{"$f":"VLOOKUP(AB$5,ШкалаТрудн!$C$5:$N$34,LEFT($Z$2,2)+1,0)","v":{"$error":"#N/A"}},{"$f":"VLOOKUP(AC$5,ШкалаТрудн!$C$5:$N$34,LEFT($Z$2,2)+1,0)","v":{"$error":"#N/A"}},{"$f":"VLOOKUP(AD$5,ШкалаТрудн!$C$5:$N$34,LEFT($Z$2,2)+1,0)","v":{"$error":"#N/A"}},{"$f":"VLOOKUP(AE$5,ШкалаТрудн!$C$5:$N$34,LEFT($Z$2,2)+1,0)","v":{"$error":"#N/A"}}]
[null,null,{"$f":"C6*C$90","v":33},16,40,0,0,0,0,18,0,{"$error":"#N/A"},5,5,10,0,8,0,0,18,24,0,28,0,0,0,0,{"$error":"#N/A"},{"$error":"#N/A"},{"$error":"#N/A"},{"$error":"#N/A"}]
[null,null,33,12,30,0,0,0,0,18,0,{"$error":"#N/A"},4,5,8,0,6,0,0,18,24,0,21,0,0,0,0,{"$error":"#N/A"},{"$error":"#N/A"},{"$error":"#N/A"},{"$error":"#N/A"}]
[null,null,44,16,30,0,0,0,0,24,0,{"$error":"#N/A"},5,5,8,0,8,0,0,18,24,0,21,0,0,0,0,{"$error":"#N/A"},{"$error":"#N/A"},{"$error":"#N/A"},{"$error":"#N/A"}]
[null,null,44,16,40,0,0,0,0,18,0,{"$error":"#N/A"},4,5,8,0,6,0,0,24,24,0,28,0,0,0,0,{"$error":"#N/A"},{"$error":"#N/A"},{"$error":"#N/A"},{"$error":"#N/A"}]
[null,null,44,16,30,0,0,0,0,24,0,{"$error":"#N/A"},4,5,8,0,8,0,0,18,24,0,28,0,0,0,0,{"$error":"#N/A"},{"$error":"#N/A"},{"$error":"#N/A"},{"$error":"#N/A"}]
[null,null,33,12,30,0,0,0,0,18,0,{"$error":"#N/A"},3,4,8,0,6,0,0,18,24,0,21,{"$error":"#VALUE!"},0,0,0,{"$error":"#N/A"},{"$error":"#N/A"},{"$error":"#N/A"},{"$error":"#N/A"}]
[null,null,33,12,30,0,0,0,0,18,0,{"$error":"#N/A"},4,5,8,0,10,0,0,18,24,0,21,0,0,0,0,{"$error":"#N/A"},{"$error":"#N/A"},{"$error":"#N/A"},{"$error":"#N/A"}]
[null,null,33,12,40,0,0,0,0,18,0,{"$error":"#N/A"},5,5,10,0,6,0,0,18,24,0,28,0,0,0,0,{"$error":"#N/A"},{"$error":"#N/A"},{"$error":"#N/A"},{"$error":"#N/A"}]
[null,null,44,16,40,0,0,0,0,24,0,{"$error":"#N/A"},4,4,8,0,10,0,0,24,32,0,28,0,0,{"$f":"Z14*Z$90","v":0},0,{"$error":"#N/A"},{"$error":"#N/A"},{"$error":"#N/A"},{"$error":"#N/A"}]
[null,null,{"$f":"C15*C$90","v":44},16,40,0,0,0,0,24,0,{"$error":"#N/A"},4,4,8,0,10,0,0,24,32,0,28,0,0,0,0,{"$error":"#N/A"},{"$error":"#N/A"},{"$error":"#N/A"},{"$error":"#N/A"}]
[null,null,44,16,40,0,0,0,0,24,0,{"$error":"#N/A"},5,5,10,0,8,0,0,30,32,0,28,0,0,0,0,{"$error":"#N/A"},{"$error":"#N/A"},{"$error":"#N/A"},{"$error":"#N/A"}]
[null,null,44,16,40,0,0,0,0,24,0,{"$error":"#N/A"},5,5,8,0,6,0,0,24,24,0,28,0,0,0,0,{"$error":"#N/A"},{"$error":"#N/A"},{"$error":"#N/A"},{"$error":"#N/A"}]
[null,null,55,20,50,0,0,0,0,24,0,{"$error":"#N/A"},5,5,8,0,8,0,0,30,40,0,35,0,0,0,0,{"$error":"#N/A"},{"$error":"#N/A"},{"$error":"#N/A"},{"$error":"#N/A"}]
[null,null,44,16,40,0,0,0,0,24,0,{"$error":"#N/A"},4,5,8,0,10,0,0,30,32,0,28,0,0,0,0,{"$error":"#N/A"},{"$error":"#N/A"},{"$error":"#N/A"},{"$error":"#N/A"}]
[null,null,33,12,30,0,0,0,0,18,0,{"$error":"#N/A"},4,4,10,0,6,0,0,24,24,0,21,0,0,0,0,{"$error":"#N/A"},{"$error":"#N/A"},{"$error":"#N/A"},{"$error":"#N/A"}]
[null,null,33,12,30,0,0,0,0,18,0,{"$error":"#N/A"},4,4,10,0,6,0,0,18,24,0,21,0,0,0,0,{"$error":"#N/A"},{"$error":"#N/A"},{"$error":"#N/A"},{"$error":"#N/A"}]
[null,null,33,12,30,0,0,0,0,18,0,{"$error":"#N/A"},4,4,8,0,10,0,0,24,24,0,28,0,0,0,0,{"$error":"#N/A"},{"$error":"#N/A"},{"$error":"#N/A"},{"$error":"#N/A"}]
[null,null,44,16,40,0,0,0,0,24,0,{"$error":"#N/A"},5,5,10,0,8,0,0,24,32,0,28,0,0,{"$f":"Z23*Z$90","v":0},0,{"$error":"#N/A"},{"$error":"#N/A"},{"$error":"#N/A"},{"$error":"#N/A"}]
[null,null,{"$f":"C24*C$90","v":44},16,40,0,0,0,0,24,0,{"$error":"#N/A"},5,5,10,0,8,0,0,30,32,0,28,0,0,0,0,{"$error":"#N/A"},{"$error":"#N/A"},{"$error":"#N/A"},{"$error":"#N/A"}]
[null,null,33,12,30,0,0,0,0,18,0,{"$error":"#N/A"},4,4,8,0,10,0,0,18,24,0,21,0,0,0,0,{"$error":"#N/A"},{"$error":"#N/A"},{"$error":"#N/A"},{"$error":"#N/A"}]
[null,null,44,20,40,0,0,0,0,24,0,{"$error":"#N/A"},5,5,10,0,8,0,0,30,32,0,28,0,0,0,0,{"$error":"#N/A"},{"$error":"#N/A"},{"$error":"#N/A"},{"$error":"#N/A"}]
[null,null,33,16,40,0,0,0,0,18,0,{"$error":"#N/A"},5,4,8,0,6,0,0,24,24,0,28,0,0,0,0,{"$error":"#N/A"},{"$error":"#N/A"},{"$error":"#N/A"},{"$error":"#N/A"}]
[null,null,33,16,30,0,0,0,0,18,0,{"$error":"#N/A"},5,5,10,0,8,0,0,24,24,0,28,0,0,0,0,{"$error":"#N/A"},{"$error":"#N/A"},{"$error":"#N/A"},{"$error":"#N/A"}]
[null,null,33,12,30,0,0,0,0,18,0,{"$error":"#N/A"},4,4,6,0,6,0,0,18,24,0,21,0,0,0,0,{"$error":"#N/A"},{"$error":"#N/A"},{"$error":"#N/A"},{"$error":"#N/A"}]
[null,null,44,16,40,0,0,0,0,24,0,{"$error":"#N/A"},5,5,10,0,8,0,0,30,32,0,28,0,0,0,0,{"$error":"#N/A"},{"$error":"#N/A"},{"$error":"#N/A"},{"$error":"#N/A"}]
[null,null,44,16,40,0,0,0,0,24,0,{"$error":"#N/A"},5,5,8,0,10,0,0,24,32,0,35,0,0,0,0,{"$error":"#N/A"},{"$error":"#N/A"},{"$error":"#N/A"},{"$error":"#N/A"}]
[null,null,0,0,0,0,0,0,0,0,0,{"$error":"#N/A"},0,0,0,0,0,0,0,0,0,0,0,0,0,{"$f":"Z32*Z$90","v":0},0,{"$error":"#N/A"},{"$error":"#N/A"},{"$error":"#N/A"},{"$error":"#N/A"}]
[null,null,{"$f":"C33*C$90","v":0},0,0,0,0,0,0,0,0,{"$error":"#N/A"},0,0,0,0,0,0,0,0,0,0,0,0,0,0,0,{"$error":"#N/A"},{"$error":"#N/A"},{"$error":"#N/A"},{"$error":"#N/A"}]
[null,null,0,0,0,0,0,0,0,0,0,{"$error":"#N/A"},0,0,0,0,0,0,0,0,0,0,0,0,0,0,0,{"$error":"#N/A"},{"$error":"#N/A"},{"$error":"#N/A"},{"$error":"#N/A"}]
[null,null,{"$f":"#REF!*C$90","v":{"$error":"#REF!"}},{"$f":"#REF!*D$90","v":{"$error":"#REF!"}},{"$f":"#REF!*E$90","v":{"$error":"#REF!"}},{"$f":"#REF!*F$90","v":{"$error":"#REF!"}},{"$f":"#REF!*G$90","v":{"$error":"#REF!"}},{"$f":"#REF!*H$90","v":{"$error":"#REF!"}},{"$f":"#REF!*I$90","v":{"$error":"#REF!"}},{"$f":"#REF!*J$90","v":{"$error":"#REF!"}},{"$f":"#REF!*K$90","v":{"$error":"#REF!"}},{"$f":"#REF!*L$90","v":{"$error":"#REF!"}},{"$f":"#REF!*M$90","v":{"$error":"#REF!"}},{"$f":"#REF!*N$90","v":{"$error":"#REF!"}},{"$f":"#REF!*O$90","v":{"$error":"#REF!"}},{"$f":"#REF!*P$90","v":{"$error":"#REF!"}},{"$f":"#REF!*Q$90","v":{"$error":"#REF!"}},{"$f":"#REF!*R$90","v":{"$error":"#REF!"}},{"$f":"#REF!*S$90","v":{"$error":"#REF!"}},{"$f":"#REF!*T$90","v":{"$error":"#REF!"}},{"$f":"#REF!*U$90","v":{"$error":"#REF!"}},{"$f":"#REF!*V$90","v":{"$error":"#REF!"}},{"$f":"#REF!*W$90","v":{"$error":"#REF!"}},{"$f":"#REF!*X$90","v":{"$error":"#REF!"}},{"$f":"#REF!*Y$90","v":{"$error":"#REF!"}},{"$f":"#REF!*Z$90","v":{"$error":"#REF!"}},{"$f":"#REF!*AA$90","v":{"$error":"#REF!"}},{"$f":"#REF!*AB$90","v":{"$error":"#REF!"}},{"$f":"#REF!*AC$90","v":{"$error":"#REF!"}},{"$f":"#REF!*AD$90","v":{"$error":"#REF!"}},{"$f":"#REF!*AE$90","v":{"$error":"#REF!"}}]
[null,null,{"$f":"#REF!*C$90","v":{"$error":"#REF!"}},{"$f":"#REF!*D$90","v":{"$error":"#REF!"}},{"$f":"#REF!*E$90","v":{"$error":"#REF!"}},{"$f":"#REF!*F$90","v":{"$error":"#REF!"}},{"$f":"#REF!*G$90","v":{"$error":"#REF!"}},{"$f":"#REF!*H$90","v":{"$error":"#REF!"}},{"$f":"#REF!*I$90","v":{"$error":"#REF!"}},{"$f":"#REF!*J$90","v":{"$error":"#REF!"}},{"$f":"#REF!*K$90","v":{"$error":"#REF!"}},{"$f":"#REF!*L$90","v":{"$error":"#REF!"}},{"$f":"#REF!*M$90","v":{"$error":"#REF!"}},{"$f":"#REF!*N$90","v":{"$error":"#REF!"}},{"$f":"#REF!*O$90","v":{"$error":"#REF!"}},{"$f":"#REF!*P$90","v":{"$error":"#REF!"}},{"$f":"#REF!*Q$90","v":{"$error":"#REF!"}},{"$f":"#REF!*R$90","v":{"$error":"#REF!"}},{"$f":"#REF!*S$90","v":{"$error":"#REF!"}},{"$f":"#REF!*T$90","v":{"$error":"#REF!"}},{"$f":"#REF!*U$90","v":{"$error":"#REF!"}},{"$f":"#REF!*V$90","v":{"$error":"#REF!"}},{"$f":"#REF!*W$90","v":{"$error":"#REF!"}},{"$f":"#REF!*X$90","v":{"$error":"#REF!"}},{"$f":"#REF!*Y$90","v":{"$error":"#REF!"}},{"$f":"#REF!*Z$90","v":{"$error":"#REF!"}},{"$f":"#REF!*AA$90","v":{"$error":"#REF!"}},{"$f":"#REF!*AB$90","v":{"$error":"#REF!"}},{"$f":"#REF!*AC$90","v":{"$error":"#REF!"}},{"$f":"#REF!*AD$90","v":{"$error":"#REF!"}},{"$f":"#REF!*AE$90","v":{"$error":"#REF!"}}]
[null,null,{"$f":"#REF!*C$90","v":{"$error":"#REF!"}},{"$f":"#REF!*D$90","v":{"$error":"#REF!"}},{"$f":"#REF!*E$90","v":{"$error":"#REF!"}},{"$f":"#REF!*F$90","v":{"$error":"#REF!"}},{"$f":"#REF!*G$90","v":{"$error":"#REF!"}},{"$f":"#REF!*H$90","v":{"$error":"#REF!"}},{"$f":"#REF!*I$90","v":{"$error":"#REF!"}},{"$f":"#REF!*J$90","v":{"$error":"#REF!"}},{"$f":"#REF!*K$90","v":{"$error":"#REF!"}},{"$f":"#REF!*L$90","v":{"$error":"#REF!"}},{"$f":"#REF!*M$90","v":{"$error":"#REF!"}},{"$f":"#REF!*N$90","v":{"$error":"#REF!"}},{"$f":"#REF!*O$90","v":{"$error":"#REF!"}},{"$f":"#REF!*P$90","v":{"$error":"#REF!"}},{"$f":"#REF!*Q$90","v":{"$error":"#REF!"}},{"$f":"#REF!*R$90","v":{"$error":"#REF!"}},{"$f":"#REF!*S$90","v":{"$error":"#REF!"}},{"$f":"#REF!*T$90","v":{"$error":"#REF!"}},{"$f":"#REF!*U$90","v":{"$error":"#REF!"}},{"$f":"#REF!*V$90","v":{"$error":"#REF!"}},{"$f":"#REF!*W$90","v":{"$error":"#REF!"}},{"$f":"#REF!*X$90","v":{"$error":"#REF!"}},{"$f":"#REF!*Y$90","v":{"$error":"#REF!"}},{"$f":"#REF!*Z$90","v":{"$error":"#REF!"}},{"$f":"#REF!*AA$90","v":{"$error":"#REF!"}},{"$f":"#REF!*AB$90","v":{"$error":"#REF!"}},{"$f":"#REF!*AC$90","v":{"$error":"#REF!"}},{"$f":"#REF!*AD$90","v":{"$error":"#REF!"}},{"$f":"#REF!*AE$90","v":{"$error":"#REF!"}}]
[null,null,{"$f":"#REF!*C$90","v":{"$error":"#REF!"}},{"$f":"#REF!*D$90","v":{"$error":"#REF!"}},{"$f":"#REF!*E$90","v":{"$error":"#REF!"}},{"$f":"#REF!*F$90","v":{"$error":"#REF!"}},{"$f":"#REF!*G$90","v":{"$error":"#REF!"}},{"$f":"#REF!*H$90","v":{"$error":"#REF!"}},{"$f":"#REF!*I$90","v":{"$error":"#REF!"}},{"$f":"#REF!*J$90","v":{"$error":"#REF!"}},{"$f":"#REF!*K$90","v":{"$error":"#REF!"}},{"$f":"#REF!*L$90","v":{"$error":"#REF!"}},{"$f":"#REF!*M$90","v":{"$error":"#REF!"}},{"$f":"#REF!*N$90","v":{"$error":"#REF!"}},{"$f":"#REF!*O$90","v":{"$error":"#REF!"}},{"$f":"#REF!*P$90","v":{"$error":"#REF!"}},{"$f":"#REF!*Q$90","v":{"$error":"#REF!"}},{"$f":"#REF!*R$90","v":{"$error":"#REF!"}},{"$f":"#REF!*S$90","v":{"$error":"#REF!"}},{"$f":"#REF!*T$90","v":{"$error":"#REF!"}},{"$f":"#REF!*U$90","v":{"$error":"#REF!"}},{"$f":"#REF!*V$90","v":{"$error":"#REF!"}},{"$f":"#REF!*W$90","v":{"$error":"#REF!"}},{"$f":"#REF!*X$90","v":{"$error":"#REF!"}},{"$f":"#REF!*Y$90","v":{"$error":"#REF!"}},{"$f":"#REF!*Z$90","v":{"$error":"#REF!"}},{"$f":"#REF!*AA$90","v":{"$error":"#REF!"}},{"$f":"#REF!*AB$90","v":{"$error":"#REF!"}},{"$f":"#REF!*AC$90","v":{"$error":"#REF!"}},{"$f":"#REF!*AD$90","v":{"$error":"#REF!"}},{"$f":"#REF!*AE$90","v":{"$error":"#REF!"}}]
[null,null,{"$f":"#REF!*C$90","v":{"$error":"#REF!"}},{"$f":"#REF!*D$90","v":{"$error":"#REF!"}},{"$f":"#REF!*E$90","v":{"$error":"#REF!"}},{"$f":"#REF!*F$90","v":{"$error":"#REF!"}},{"$f":"#REF!*G$90","v":{"$error":"#REF!"}},{"$f":"#REF!*H$90","v":{"$error":"#REF!"}},{"$f":"#REF!*I$90","v":{"$error":"#REF!"}},{"$f":"#REF!*J$90","v":{"$error":"#REF!"}},{"$f":"#REF!*K$90","v":{"$error":"#REF!"}},{"$f":"#REF!*L$90","v":{"$error":"#REF!"}},{"$f":"#REF!*M$90","v":{"$error":"#REF!"}},{"$f":"#REF!*N$90","v":{"$error":"#REF!"}},{"$f":"#REF!*O$90","v":{"$error":"#REF!"}},{"$f":"#REF!*P$90","v":{"$error":"#REF!"}},{"$f":"#REF!*Q$90","v":{"$error":"#REF!"}},{"$f":"#REF!*R$90","v":{"$error":"#REF!"}},{"$f":"#REF!*S$90","v":{"$error":"#REF!"}},{"$f":"#REF!*T$90","v":{"$error":"#REF!"}},{"$f":"#REF!*U$90","v":{"$error":"#REF!"}},{"$f":"#REF!*V$90","v":{"$error":"#REF!"}},{"$f":"#REF!*W$90","v":{"$error":"#REF!"}},{"$f":"#REF!*X$90","v":{"$error":"#REF!"}},{"$f":"#REF!*Y$90","v":{"$error":"#REF!"}},{"$f":"#REF!*Z$90","v":{"$error":"#REF!"}},{"$f":"#REF!*AA$90","v":{"$error":"#REF!"}},{"$f":"#REF!*AB$90","v":{"$error":"#REF!"}},{"$f":"#REF!*AC$90","v":{"$error":"#REF!"}},{"$f":"#REF!*AD$90","v":{"$error":"#REF!"}},{"$f":"#REF!*AE$90","v":{"$error":"#REF!"}}]
[null,null,{"$f":"#REF!*C$90","v":{"$error":"#REF!"}},{"$f":"#REF!*D$90","v":{"$error":"#REF!"}},{"$f":"#REF!*E$90","v":{"$error":"#REF!"}},{"$f":"#REF!*F$90","v":{"$error":"#REF!"}},{"$f":"#REF!*G$90","v":{"$error":"#REF!"}},{"$f":"#REF!*H$90","v":{"$error":"#REF!"}},{"$f":"#REF!*I$90","v":{"$error":"#REF!"}},{"$f":"#REF!*J$90","v":{"$error":"#REF!"}},{"$f":"#REF!*K$90","v":{"$error":"#REF!"}},{"$f":"#REF!*L$90","v":{"$error":"#REF!"}},{"$f":"#REF!*M$90","v":{"$error":"#REF!"}},{"$f":"#REF!*N$90","v":{"$error":"#REF!"}},{"$f":"#REF!*O$90","v":{"$error":"#REF!"}},{"$f":"#REF!*P$90","v":{"$error":"#REF!"}},{"$f":"#REF!*Q$90","v":{"$error":"#REF!"}},{"$f":"#REF!*R$90","v":{"$error":"#REF!"}},{"$f":"#REF!*S$90","v":{"$error":"#REF!"}},{"$f":"#REF!*T$90","v":{"$error":"#REF!"}},{"$f":"#REF!*U$90","v":{"$error":"#REF!"}},{"$f":"#REF!*V$90","v":{"$error":"#REF!"}},{"$f":"#REF!*W$90","v":{"$error":"#REF!"}},{"$f":"#REF!*X$90","v":{"$error":"#REF!"}},{"$f":"#REF!*Y$90","v":{"$error":"#REF!"}},{"$f":"#REF!*Z$90","v":{"$error":"#REF!"}},{"$f":"#REF!*AA$90","v":{"$error":"#REF!"}},{"$f":"#REF!*AB$90","v":{"$error":"#REF!"}},{"$f":"#REF!*AC$90","v":{"$error":"#REF!"}},{"$f":"#REF!*AD$90","v":{"$error":"#REF!"}},{"$f":"#REF!*AE$90","v":{"$error":"#REF!"}}]
[null,null,{"$f":"#REF!*C$90","v":{"$error":"#REF!"}},{"$f":"#REF!*D$90","v":{"$error":"#REF!"}},{"$f":"#REF!*E$90","v":{"$error":"#REF!"}},{"$f":"#REF!*F$90","v":{"$error":"#REF!"}},{"$f":"#REF!*G$90","v":{"$error":"#REF!"}},{"$f":"#REF!*H$90","v":{"$error":"#REF!"}},{"$f":"#REF!*I$90","v":{"$error":"#REF!"}},{"$f":"#REF!*J$90","v":{"$error":"#REF!"}},{"$f":"#REF!*K$90","v":{"$error":"#REF!"}},{"$f":"#REF!*L$90","v":{"$error":"#REF!"}},{"$f":"#REF!*M$90","v":{"$error":"#REF!"}},{"$f":"#REF!*N$90","v":{"$error":"#REF!"}},{"$f":"#REF!*O$90","v":{"$error":"#REF!"}},{"$f":"#REF!*P$90","v":{"$error":"#REF!"}},{"$f":"#REF!*Q$90","v":{"$error":"#REF!"}},{"$f":"#REF!*R$90","v":{"$error":"#REF!"}},{"$f":"#REF!*S$90","v":{"$error":"#REF!"}},{"$f":"#REF!*T$90","v":{"$error":"#REF!"}},{"$f":"#REF!*U$90","v":{"$error":"#REF!"}},{"$f":"#REF!*V$90","v":{"$error":"#REF!"}},{"$f":"#REF!*W$90","v":{"$error":"#REF!"}},{"$f":"#REF!*X$90","v":{"$error":"#REF!"}},{"$f":"#REF!*Y$90","v":{"$error":"#REF!"}},{"$f":"#REF!*Z$90","v":{"$error":"#REF!"}},{"$f":"#REF!*AA$90","v":{"$error":"#REF!"}},{"$f":"#REF!*AB$90","v":{"$error":"#REF!"}},{"$f":"#REF!*AC$90","v":{"$error":"#REF!"}},{"$f":"#REF!*AD$90","v":{"$error":"#REF!"}},{"$f":"#REF!*AE$90","v":{"$error":"#REF!"}}]
[null,null,{"$f":"#REF!*C$90","v":{"$error":"#REF!"}},{"$f":"#REF!*D$90","v":{"$error":"#REF!"}},{"$f":"#REF!*E$90","v":{"$error":"#REF!"}},{"$f":"#REF!*F$90","v":{"$error":"#REF!"}},{"$f":"#REF!*G$90","v":{"$error":"#REF!"}},{"$f":"#REF!*H$90","v":{"$error":"#REF!"}},{"$f":"#REF!*I$90","v":{"$error":"#REF!"}},{"$f":"#REF!*J$90","v":{"$error":"#REF!"}},{"$f":"#REF!*K$90","v":{"$error":"#REF!"}},{"$f":"#REF!*L$90","v":{"$error":"#REF!"}},{"$f":"#REF!*M$90","v":{"$error":"#REF!"}},{"$f":"#REF!*N$90","v":{"$error":"#REF!"}},{"$f":"#REF!*O$90","v":{"$error":"#REF!"}},{"$f":"#REF!*P$90","v":{"$error":"#REF!"}},{"$f":"#REF!*Q$90","v":{"$error":"#REF!"}},{"$f":"#REF!*R$90","v":{"$error":"#REF!"}},{"$f":"#REF!*S$90","v":{"$error":"#REF!"}},{"$f":"#REF!*T$90","v":{"$error":"#REF!"}},{"$f":"#REF!*U$90","v":{"$error":"#REF!"}},{"$f":"#REF!*V$90","v":{"$error":"#REF!"}},{"$f":"#REF!*W$90","v":{"$error":"#REF!"}},{"$f":"#REF!*X$90","v":{"$error":"#REF!"}},{"$f":"#REF!*Y$90","v":{"$error":"#REF!"}},{"$f":"#REF!*Z$90","v":{"$error":"#REF!"}},{"$f":"#REF!*AA$90","v":{"$error":"#REF!"}},{"$f":"#REF!*AB$90","v":{"$error":"#REF!"}},{"$f":"#REF!*AC$90","v":{"$error":"#REF!"}},{"$f":"#REF!*AD$90","v":{"$error":"#REF!"}},{"$f":"#REF!*AE$90","v":{"$error":"#REF!"}}]
[null,null,{"$f":"#REF!*C$90","v":{"$error":"#REF!"}},{"$f":"#REF!*D$90","v":{"$error":"#REF!"}},{"$f":"#REF!*E$90","v":{"$error":"#REF!"}},{"$f":"#REF!*F$90","v":{"$error":"#REF!"}},{"$f":"#REF!*G$90","v":{"$error":"#REF!"}},{"$f":"#REF!*H$90","v":{"$error":"#REF!"}},{"$f":"#REF!*I$90","v":{"$error":"#REF!"}},{"$f":"#REF!*J$90","v":{"$error":"#REF!"}},{"$f":"#REF!*K$90","v":{"$error":"#REF!"}},{"$f":"#REF!*L$90","v":{"$error":"#REF!"}},{"$f":"#REF!*M$90","v":{"$error":"#REF!"}},{"$f":"#REF!*N$90","v":{"$error":"#REF!"}},{"$f":"#REF!*O$90","v":{"$error":"#REF!"}},{"$f":"#REF!*P$90","v":{"$error":"#REF!"}},{"$f":"#REF!*Q$90","v":{"$error":"#REF!"}},{"$f":"#REF!*R$90","v":{"$error":"#REF!"}},{"$f":"#REF!*S$90","v":{"$error":"#REF!"}},{"$f":"#REF!*T$90","v":{"$error":"#REF!"}},{"$f":"#REF!*U$90","v":{"$error":"#REF!"}},{"$f":"#REF!*V$90","v":{"$error":"#REF!"}},{"$f":"#REF!*W$90","v":{"$error":"#REF!"}},{"$f":"#REF!*X$90","v":{"$error":"#REF!"}},{"$f":"#REF!*Y$90","v":{"$error":"#REF!"}},{"$f":"#REF!*Z$90","v":{"$error":"#REF!"}},{"$f":"#REF!*AA$90","v":{"$error":"#REF!"}},{"$f":"#REF!*AB$90","v":{"$error":"#REF!"}},{"$f":"#REF!*AC$90","v":{"$error":"#REF!"}},{"$f":"#REF!*AD$90","v":{"$error":"#REF!"}},{"$f":"#REF!*AE$90","v":{"$error":"#REF!"}}]
[null,null,{"$f":"#REF!*C$90","v":{"$error":"#REF!"}},{"$f":"#REF!*D$90","v":{"$error":"#REF!"}},{"$f":"#REF!*E$90","v":{"$error":"#REF!"}},{"$f":"#REF!*F$90","v":{"$error":"#REF!"}},{"$f":"#REF!*G$90","v":{"$error":"#REF!"}},{"$f":"#REF!*H$90","v":{"$error":"#REF!"}},{"$f":"#REF!*I$90","v":{"$error":"#REF!"}},{"$f":"#REF!*J$90","v":{"$error":"#REF!"}},{"$f":"#REF!*K$90","v":{"$error":"#REF!"}},{"$f":"#REF!*L$90","v":{"$error":"#REF!"}},{"$f":"#REF!*M$90","v":{"$error":"#REF!"}},{"$f":"#REF!*N$90","v":{"$error":"#REF!"}},{"$f":"#REF!*O$90","v":{"$error":"#REF!"}},{"$f":"#REF!*P$90","v":{"$error":"#REF!"}},{"$f":"#REF!*Q$90","v":{"$error":"#REF!"}},{"$f":"#REF!*R$90","v":{"$error":"#REF!"}},{"$f":"#REF!*S$90","v":{"$error":"#REF!"}},{"$f":"#REF!*T$90","v":{"$error":"#REF!"}},{"$f":"#REF!*U$90","v":{"$error":"#REF!"}},{"$f":"#REF!*V$90","v":{"$error":"#REF!"}},{"$f":"#REF!*W$90","v":{"$error":"#REF!"}},{"$f":"#REF!*X$90","v":{"$error":"#REF!"}},{"$f":"#REF!*Y$90","v":{"$error":"#REF!"}},{"$f":"#REF!*Z$90","v":{"$error":"#REF!"}},{"$f":"#REF!*AA$90","v":{"$error":"#REF!"}},{"$f":"#REF!*AB$90","v":{"$error":"#REF!"}},{"$f":"#REF!*AC$90","v":{"$error":"#REF!"}},{"$f":"#REF!*AD$90","v":{"$error":"#REF!"}},{"$f":"#REF!*AE$90","v":{"$error":"#REF!"}}]
[null,null,{"$f":"C35*C$90","v":0},0,0,0,0,0,0,0,0,{"$error":"#N/A"},0,0,0,0,0,0,0,0,0,0,0,0,0,0,0,{"$error":"#N/A"},{"$error":"#N/A"},{"$error":"#N/A"},{"$error":"#N/A"}]

{"sheet":"7 А(2)","index":28,"n_rows":82,"n_cols":8,"rows_kept":82,"cut":false,"hidden":true,"merged":[[42,0,42,1],[52,0,52,1],[67,0,67,1],[0,0,0,3],[0,4,0,7],[1,0,1,2],[2,0,2,1],[3,0,15,0],[17,0,17,1]]}
[{"$f":"Титул!B20","v":"7 А"},null,null,null,"Страница заполняется автоматически, без участия оператора!!!"]
["Всего учащихся в классе:",null,null,{"$f":"Титул!C20","v":26},"Фамилии, имена               учащихся","Учебные предметы","Фамилии и инициалы учителей","Пояснения, примечания, причины"]
["Учатся на  \"5\":",null,{"$f":"COUNTA(E3:E17)","v":0},1]
[null,null,null,2]
[null,null,null,3]
[null,null,null,4]
[null,null,null,5]
[null,null,null,6]
[null,null,null,7]
[null,null,null,8]
[null,null,null,9]
[null,null,null,10]
[null,null,null,11]
[null,null,null,12]
[null,null,null,13]
[null,null,null,14]
[null,null,null,15]
["Учатся  на \"4\"и\"5\"",null,{"$f":"COUNTA(E18:E42)","v":0},1]
[null," ",null,2]
[null,null,null,3]
[null,null,null,4]
[null,null,null,5]
[null,null,null,6]
[null,null,null,7]
[null,null,null,8]
[null,null,null,9]
[null,null,null,10]
[null,null,null,11]
[null,null,null,12]
[null,null,null,13]
[null,null,null,14]
[null,null,null,15]
[null,null,null,16]
[null,null,null,17]
[null,null,null,18]
[null,null,null,19]
[null,null,null,20]
[null,null,null,21]
[null,null,null,22]
[null,null,null,23]
[null,null,null,24]
[null,null,null,25]
["Не аттестованы:",null,{"$f":"COUNTA(E43:E52)","v":0},1]
[null," ",null,2]
[null,null,null,3]
[null,null,null,4]
[null,null,null,5]
[null,null,null,6]
[null,null,null,7]
[null,null,null,8]
[null,null,null,9]
[null,null,null,10]
["Не успевают:",null,{"$f":"COUNTA(E53:E67)","v":0},1]
[null," ",null,2]
[null,null,null,3]
[null,null,null,4]
[null,null,null,5]
[null,null,null,6]
[null,null,null,7]
[null,null,null,8]
[null,null,null,9]
[null,null,null,10]
[null,null,null,11]
[null,null,null,12]
[null,null,null,13]
[null,null,null,14]
[null,null,null,15]
["Освобождены:",null,{"$f":"COUNTA(E68:E82)","v":0},1]
[null," ",null,2]
[null,null,null,3]
[null,null,null,4]
[null,null,null,5]
[null,null,null,6]
[null,null,null,7]
[null,null,null,8]
[null,null,null,9]
[null,null,null,10]
[null,null,null,11]
[null,null,null,12]
[null,null,null,13]
[null,null,null,14]
[null,null,null,15]

{"sheet":"7 Б","index":29,"n_rows":130,"n_cols":35,"rows_kept":130,"cut":false,"hidden":true,"merged":[[0,0,0,2],[0,3,0,25],[0,26,0,32],[1,0,1,24],[1,25,1,28],[1,29,1,31],[2,0,2,3],[2,4,2,17],[2,18,2,22],[2,23,2,34],[3,0,4,1],[3,2,3,30],[3,31,3,34],[47,0,47,26],[47,28,47,33],[35,0,35,1],[35,31,35,34],[36,0,46,0],[36,31,36,34],[37,31,37,34],[38,31,38,34],[39,31,39,34],[40,31,40,34],[41,31,41,34],[42,31,42,34],[43,31,43,34],[44,31,44,34],[45,31,45,34],[46,31,46,34]]}
[{"$f":"Титул!B5","v":"2014/15 учебный год"},null,null,{"$f":"Титул!B4","v":"МОУ СОШ  № 15"},null,null,null,null,null,null,null,null,null,null,null,null,null,null,null,null,null,null,null,null,null,null,{"$f":"Титул!B6","v":"4 четверть"},null,null,null,null,null,null,null,"3+"]
["ВЕДОМОСТЬ  РЕЗУЛЬТАТОВ  УЧЕБНОЙ  ДЕЯТЕЛЬНОСТИ",null,null,null,null,null,null,null,null,null,null,null,null,null,null,null,null,null,null,null,null,null,null,null,null,{"$f":"Титул!B21","v":"7 Б"},null,null,null,"класса"]
["Классный руководитель:",null,null,null,{"$f":"Титул!D21","v":"Дышлевич С.В."},null,null,null,null,null,null,null,null,null,null,null,null,null,"Программа:",null,null,null,null,{"$f":"Титул!G18","v":"общеобразовательный"}]
["Вручную вносятся только оценки \"5\", \"4\", \"3\", \"2\", \"1\". \nНе аттестованным проставляется \"0\", освобожденным - \"Н\".  ",null,"У  ч  е  б  н  ы  е      п  р  е  д  м  е  т  ы",null,null,null,null,null,null,null,null,null,null,null,null,null,null,null,null,null,null,null,null,null,null,null,null,null,null,null,null,"Результаты ученика:"]
[null,null,{"$f":"Нагрузка!C3","v":"Русский язык"},{"$f":"Нагрузка!D3","v":"Литература"},{"$f":"Нагрузка!E3","v":"Иностранный язык"},{"$f":"Нагрузка!F3","v":"Математика"},{"$f":"Нагрузка!G3","v":"Алгебра"},{"$f":"Нагрузка!H3","v":"Геометрия"},{"$f":"Нагрузка!I3","v":"Информатика"},{"$f":"Нагрузка!J3","v":"История"},{"$f":"Нагрузка!K3","v":"Обществознание"},{"$f":"Нагрузка!L3","v":"Окружающий мир"},{"$f":"Нагрузка!M3","v":"ИЗО"},{"$f":"Нагрузка!N3","v":"Музыка"},{"$f":"Нагрузка!O3","v":"Технология"},{"$f":"Нагрузка!P3","v":"Технология"},{"$f":"Нагрузка!Q3","v":"ФЗК"},{"$f":"Нагрузка!R3","v":"Иностранный язык"},{"$f":"Нагрузка!S3","v":"Иностранный язык"},{"$f":"Нагрузка!T3","v":"География"},{"$f":"Нагрузка!U3","v":"Физика"},{"$f":"Нагрузка!V3","v":"Химия"},{"$f":"Нагрузка!W3","v":"Биология"},{"$f":"Нагрузка!X3","v":"МХК"},{"$f":"Нагрузка!Y3","v":"ФЗК"},{"$f":"Нагрузка!Z3","v":"ОБЖ"},{"$f":"Нагрузка!AA3","v":"Природоведение"},{"$f":"Нагрузка!AB3","v":0},{"$f":"Нагрузка!AC3","v":0},{"$f":"Нагрузка!AD3","v":0},{"$f":"Нагрузка!AE3","v":0},"Средний балл:","Степень обученности (СОУ):","Качество успеваемости:","Рейтинговый учебный балл:"]
[1,{"$f":"СпискиКлассы!N4","v":"Агеева Юлия"},4,4,5,3,null,null,null,4,4,null,4,5,5,null,5,null,null,4,3,null,4,null,null,null,null,null,null,null,null,{"$f":"AVERAGE(C6:AE6)","v":4.1538461538461542},{"$f":"(COUNTIF(C6:AE6,\"5\")+COUNTIF(C6:AE6,\"4\")*0.64+COUNTIF(C6:AE6,\"3\")*0.36+COUNTIF(C6:AE6,\"2\")*0.16)/(COUNTIF(C6:AE6,\"5\")+COUNTIF(C6:AE6,\"4\")+COUNTIF(C6:AE6,\"3\")+COUNTIF(C6:AE6,\"2\")+COUNTIF(C6:AE6,\"0\"))","v":0.70769230769230773},{"$f":"((5*COUNTIF(C6:AE6,\"5\"))+(4*COUNTIF(C6:AE6,\"4\")))/(5*(COUNTA(C6:AE6)-COUNTIF(C6:AE6,\"н\")))","v":0.7384615384615385},{"$f":"SUMIF(C91:AE91,\">0\",C91:AE91)/(COUNTIF(C6:AE6,\">0\")+COUNTIF(C6:AE6,\"=0\")+COUNTIF(C6:AE6,\"Н\"))","v":18.384615384615383}]
[{"$f":"A6+1","v":2},{"$f":"СпискиКлассы!N5","v":"Адиканкова Наталья"},4,4,4,3,null,null,null,4,3,null,4,5,5,null,4,null,null,3,3,null,4,null,null,null,null,null,null,null,null,{"$f":"AVERAGE(C7:AE7)","v":3.8461538461538463},{"$f":"(COUNTIF(C7:AE7,\"5\")+COUNTIF(C7:AE7,\"4\")*0.64+COUNTIF(C7:AE7,\"3\")*0.36+COUNTIF(C7:AE7,\"2\")*0.16)/(COUNTIF(C7:AE7,\"5\")+COUNTIF(C7:AE7,\"4\")+COUNTIF(C7:AE7,\"3\")+COUNTIF(C7:AE7,\"2\")+COUNTIF(C7:AE7,\"0\"))","v":0.60923076923076924},{"$f":"((5*COUNTIF(C7:AE7,\"5\"))+(4*COUNTIF(C7:AE7,\"4\")))/(5*(COUNTA(C7:AE7)-COUNTIF(C7:AE7,\"н\")))","v":0.58461538461538465},17]
[3,{"$f":"СпискиКлассы!N6","v":"Варданян Герман"},3,3,4,3,null,null,null,3,3,null,4,4,5,null,4,null,null,3,3,null,4,null,null,null,null,null,null,null,null,{"$f":"AVERAGE(C8:AE8)","v":3.5384615384615383},0.51692307692307693,0.38461538461538464,15.307692307692308]
[4,{"$f":"СпискиКлассы!N7","v":"Воронкова Мария"},4,4,3,3,null,null,null,3,4,null,4,5,4,null,3,null,null,4,3,null,4,null,null,null,null,null,null,null,null,3.6923076923076925,0.56000000000000005,0.50769230769230766,15.923076923076923]
[5,{"$f":"СпискиКлассы!N8","v":"Гирко Александра"},4,4,3,4,null,null,null,3,4,null,4,5,5,null,4,null,null,4,4,null,4,null,null,null,null,null,null,null,null,4,0.65230769230769237,0.70769230769230773,16.846153846153847]
[6,{"$f":"СпискиКлассы!N9","v":"Горбунова Анна"},4,4,4,4,null,null,null,4,4,null,5,5,4,null,4,null,null,3,4,null,4,null,null,null,null,null,null,null,null,4.0769230769230766,0.67384615384615387,0.76923076923076927,17.53846153846154]
[7,{"$f":"СпискиКлассы!N10","v":"Гранина Анастасия"},4,4,5,4,null,null,null,4,4,null,5,5,5,null,5,null,null,4,4,null,4,null,null,null,null,null,null,null,null,4.384615384615385,0.77846153846153854,0.87692307692307692,19.076923076923077]
[8,{"$f":"СпискиКлассы!N11","v":"Жмурко Вячеслав"},4,4,5,4,null,null,null,4,4,null,5,4,5,null,5,null,null,5,4,null,4,null,null,null,null,null,null,null,null,4.384615384615385,0.77846153846153854,0.87692307692307692,19.46153846153846]
[9,{"$f":"СпискиКлассы!N12","v":"Забиров Константин"},3,3,3,3,null,null,null,3,3,null,3,4,3,null,3,null,null,3,3,null,4,null,null,null,null,null,null,null,null,3.1538461538461537,0.40307692307692311,0.12307692307692308,14]
[10,{"$f":"СпискиКлассы!N13","v":"Зимин Егор"},3,3,4,3,null,null,null,3,3,null,4,4,4,null,4,null,null,3,3,null,3,null,null,null,null,null,null,null,null,3.3846153846153846,0.46769230769230768,0.30769230769230771,14.615384615384615]
[11,{"$f":"СпискиКлассы!N14","v":"Ипатова Виктория"},5,4,4,4,null,null,null,4,4,null,5,5,5,null,4,null,null,4,4,null,5,null,null,null,null,null,null,null,null,4.384615384615385,0.77846153846153854,0.87692307692307692,19.53846153846154]
[12,{"$f":"СпискиКлассы!N15","v":"Капсамун Милана"},4,5,4,4,null,null,null,4,4,null,5,5,5,null,4,null,null,5,4,null,5,null,null,null,null,null,null,null,null,4.4615384615384617,0.80615384615384622,0.89230769230769236,19.46153846153846]
[13,{"$f":"СпискиКлассы!N16","v":"Кириков Дмитрий"},4,4,5,4,null,null,null,4,4,null,4,5,4,null,5,null,null,4,4,null,4,null,null,null,null,null,null,null,null,4.2307692307692308,0.72307692307692306,0.84615384615384615,18.846153846153847]
[14,{"$f":"СпискиКлассы!N17","v":"Лаптев Денис"},3,3,4,4,null,null,null,4,3,null,4,5,4,null,5,null,null,3,4,null,3,null,null,null,null,null,null,null,null,3.7692307692307692,0.58769230769230763,0.52307692307692311,15.923076923076923]
[15,{"$f":"СпискиКлассы!N18","v":"Лаптев Дмитрий"},3,3,3,3,null,null,null,3,4,null,4,4,3,null,4,null,null,3,3,null,3,null,null,null,null,null,null,null,null,3.3076923076923075,0.44615384615384612,0.24615384615384617,13.692307692307692]
[16,{"$f":"СпискиКлассы!N19","v":"Лебедева Дарья"},5,5,5,5,null,null,null,5,5,null,5,5,5,null,5,null,null,5,5,null,5,null,null,null,null,null,null,null,null,5,1,1,22.307692307692307]
[17,{"$f":"СпискиКлассы!N20","v":"Линник Екатерина"},5,5,4,4,null,null,null,4,4,null,5,5,5,null,4,null,null,4,5,null,4,null,null,null,null,null,null,null,null,4.4615384615384617,0.80615384615384622,0.89230769230769236,19.923076923076923]
[18,{"$f":"СпискиКлассы!N21","v":"Лялько Вера"},4,4,5,4,null,null,null,4,4,null,4,5,4,null,3,null,null,3,3,null,4,null,null,null,null,null,null,null,null,3.9230769230769229,0.63076923076923075,0.64615384615384619,17.46153846153846]
[19,{"$f":"СпискиКлассы!N22","v":"Матвеенко Ульяна"},4,4,4,3,null,null,null,3,3,null,4,5,4,null,3,null,null,3,3,null,4,null,null,null,null,null,null,null,null,3.6153846153846154,0.53846153846153844,0.44615384615384618,16.23076923076923]
[20,{"$f":"СпискиКлассы!N23","v":"Наумов Андрей"},4,4,5,4,null,null,null,4,4,null,5,5,5,null,5,null,null,4,4,null,5,null,null,null,null,null,null,null,null,4.4615384615384617,0.80615384615384622,0.89230769230769236,19.615384615384617]
[21,{"$f":"СпискиКлассы!N24","v":"Новикова Виктория"},4,4,4,4,null,null,null,4,4,null,5,5,4,null,4,null,null,4,4,null,4,null,null,null,null,null,null,null,null,4.1538461538461542,0.69538461538461527,0.83076923076923082,18]
[22,{"$f":"СпискиКлассы!N25","v":"Петина Кристина"},5,5,4,5,null,null,null,4,5,null,5,5,5,null,4,null,null,5,4,null,4,null,null,null,null,null,null,null,null,4.615384615384615,0.86153846153846148,0.92307692307692313,19.76923076923077]
[23,{"$f":"СпискиКлассы!N26","v":"Петрова Полина"},4,5,4,4,null,null,null,4,5,null,5,5,5,null,5,null,null,5,5,null,5,null,null,null,null,null,null,null,null,4.6923076923076925,0.88923076923076927,0.93846153846153846,20.23076923076923]
[24,{"$f":"СпискиКлассы!N27","v":"Сердюк Полина"},4,4,4,4,null,null,null,4,4,null,5,5,5,null,4,null,null,4,4,null,5,null,null,null,null,null,null,null,null,4.3076923076923075,0.75076923076923074,0.86153846153846159,18.692307692307693]
[25,{"$f":"СпискиКлассы!N28","v":"Серкин Егор"},4,4,4,4,null,null,null,4,4,null,5,5,5,null,5,null,null,4,4,null,4,null,null,null,null,null,null,null,null,4.3076923076923075,0.75076923076923074,0.86153846153846159,18.307692307692307]
[26,{"$f":"СпискиКлассы!N29","v":"Сухарев Владимир"},5,5,5,5,null,null,null,5,5,null,5,5,5,null,5,null,null,5,5,null,5,null,null,null,null,null,null,null,null,5,1,1,22.307692307692307]
[27,{"$f":"СпискиКлассы!N30","v":"Усик Никита"},3,3,3,3,null,null,null,3,3,null,3,4,3,null,3,null,null,3,3,null,4,null,null,null,null,null,null,null,null,3.1538461538461537,0.40307692307692311,0.12307692307692308,14]
[28,{"$f":"СпискиКлассы!N31","v":"Федоров Максим"},3,4,4,3,null,null,null,3,3,null,4,5,4,null,4,null,null,3,3,null,4,null,null,null,null,null,null,null,null,3.6153846153846154,0.53846153846153844,0.44615384615384618,15.538461538461538]
[29,{"$f":"СпискиКлассы!N32","v":"Хорошенькая Наталья"},4,4,4,4,null,null,null,4,4,null,4,5,4,null,5,null,null,5,4,null,5,null,null,null,null,null,null,null,null,4.3076923076923075,0.75076923076923074,0.86153846153846159,19.076923076923077]
[30,{"$f":"СпискиКлассы!N33","v":"Четвертных Наталья"},3,3,5,3,null,null,null,4,4,null,4,5,4,null,3,null,null,3,3,null,4,null,null,null,null,null,null,null,null,3.6923076923076925,0.56615384615384623,0.46153846153846156,{"$f":"SUMIF(C130:AE130,\">0\",C130:AE130)/(COUNTIF(C35:AE35,\">0\")+COUNTIF(C35:AE35,\"=0\")+COUNTIF(C35:AE35,\"Н\"))","v":16.307692307692307}]
[" Фамилия и инициалы                                           учителя - предметника",null,{"$f":"Нагрузка!C17","v":"Дышлевич"},{"$f":"Нагрузка!D17","v":"Дышлевич"},{"$f":"Нагрузка!E17","v":0},{"$f":"Нагрузка!F17","v":"Заплава"},{"$f":"Нагрузка!G17","v":0},{"$f":"Нагрузка!H17","v":0},{"$f":"Нагрузка!I17","v":0},{"$f":"Нагрузка!J17","v":"Астраханцева"},{"$f":"Нагрузка!K17","v":"Астраханцева"},{"$f":"Нагрузка!L17","v":0},{"$f":"Нагрузка!M17","v":"Терюшкова"},{"$f":"Нагрузка!N17","v":"Заворина"},{"$f":"Нагрузка!O17","v":"Девицын"},{"$f":"Нагрузка!P17","v":"Потьканова"},{"$f":"Нагрузка!Q17","v":"Перфильев"},{"$f":"Нагрузка!R17","v":"Пудренко"},{"$f":"Нагрузка!S17","v":"Калугина"},{"$f":"Нагрузка!T17","v":"Деревягина"},{"$f":"Нагрузка!U17","v":0},{"$f":"Нагрузка!V17","v":0},{"$f":"Нагрузка!W17","v":"Сидоренко"},{"$f":"Нагрузка!X17","v":0},{"$f":"Нагрузка!Y17","v":0},{"$f":"Нагрузка!Z17","v":0},{"$f":"Нагрузка!AA17","v":0},{"$f":"Нагрузка!AB14","v":0},{"$f":"Нагрузка!AC14","v":0},{"$f":"Нагрузка!AD14","v":0},{"$f":"Нагрузка!AE14","v":0},"Показатели результатов учебной деятельности в  целом по классу:"]
["Результаты учебной деятельности класса","Количество  \"5\":",{"$f":"COUNTIF(C6:C35,5)","v":5},6,9,3,0,0,0,2,4,0,14,24,16,0,11,0,0,7,4,0,8,0,0,0,0,0,0,0,0,{"$f":"SUM(C37:AE37)","v":113}]
[null,"Количество  \"4\":",{"$f":"COUNTIF(C6:C35,4)","v":17},17,16,16,0,0,0,19,18,0,14,6,11,0,13,0,0,11,14,0,19,0,0,0,0,0,0,0,0,191]
[null,"Количество  \"3\":",{"$f":"COUNTIF(C6:C35,3)","v":8},7,5,11,0,0,0,9,8,0,2,0,3,0,6,0,0,12,12,0,3,0,0,0,0,0,0,0,0,86]
[null,"Количество  \"2\":",{"$f":"COUNTIF(C6:C35,2)","v":0},0,0,0,0,0,0,0,0,0,0,0,0,0,0,0,0,0,0,0,0,0,0,0,0,0,0,0,0,0]
[null,"Не аттестовано:",{"$f":"COUNTIF(C6:C35,0)","v":0},0,0,0,0,0,0,0,0,0,0,0,0,0,0,0,0,0,0,0,0,0,0,0,0,0,0,0,0,0]
[null,"Освобождено:",{"$f":"COUNTIF(C6:C35,\"н\")","v":0},0,0,0,0,0,0,0,0,0,0,0,0,0,0,0,0,0,0,0,0,0,0,0,0,0,0,0,0,0]
[null,"Успеваемость:",{"$f":"(C37+C38+C39)/(C37+C38+C39+C40+C41)","v":1},{"$f":"(D37+D38+D39)/(D37+D38+D39+D40+D41)","v":1},1,1,{"$error":"#DIV/0!"},{"$error":"#DIV/0!"},{"$error":"#DIV/0!"},1,1,{"$error":"#DIV/0!"},1,1,1,{"$error":"#DIV/0!"},1,{"$error":"#DIV/0!"},{"$error":"#DIV/0!"},1,1,{"$error":"#DIV/0!"},1,{"$error":"#DIV/0!"},{"$error":"#DIV/0!"},{"$error":"#DIV/0!"},{"$error":"#DIV/0!"},{"$error":"#DIV/0!"},{"$error":"#DIV/0!"},{"$error":"#DIV/0!"},{"$error":"#DIV/0!"},{"$f":"('7 Б(2)'!D2-'7 Б(2)'!C43-'7 Б(2)'!C53)/'7 Б(2)'!D2","v":1}]
[null,"Качество знаний:",{"$f":"(C37+C38)/(C37+C38+C39+C40+C41)","v":0.73333333333333328},{"$f":"(D37+D38)/(D37+D38+D39+D40+D41)","v":0.76666666666666672},0.83333333333333337,0.6333333333333333,{"$error":"#DIV/0!"},{"$error":"#DIV/0!"},{"$error":"#DIV/0!"},0.7,0.73333333333333328,{"$error":"#DIV/0!"},0.93333333333333335,1,0.9,{"$error":"#DIV/0!"},0.8,{"$error":"#DIV/0!"},{"$error":"#DIV/0!"},0.6,0.6,{"$error":"#DIV/0!"},0.9,{"$error":"#DIV/0!"},{"$error":"#DIV/0!"},{"$error":"#DIV/0!"},{"$error":"#DIV/0!"},{"$error":"#DIV/0!"},{"$error":"#DIV/0!"},{"$error":"#DIV/0!"},{"$error":"#DIV/0!"},{"$f":"('7 Б(2)'!C3+'7 Б(2)'!C18)/'7 Б(2)'!D2","v":0.5}]
[null,"Степень обученности:",{"$f":"(C37+C38*0.64+C39*0.36+C40*0.16)/(C37+C38+C39+C40+C41)","v":0.62533333333333341},{"$f":"(D37+D38*0.64+D39*0.36+D40*0.16)/(D37+D38+D39+D40+D41)","v":0.64666666666666672},0.70133333333333348,0.57333333333333336,{"$error":"#DIV/0!"},{"$error":"#DIV/0!"},{"$error":"#DIV/0!"},0.57999999999999996,0.61333333333333329,{"$error":"#DIV/0!"},0.78933333333333333,0.92800000000000005,0.80399999999999994,{"$error":"#DIV/0!"},0.71599999999999997,{"$error":"#DIV/0!"},{"$error":"#DIV/0!"},0.61199999999999999,0.57600000000000007,{"$error":"#DIV/0!"},0.70800000000000007,{"$error":"#DIV/0!"},{"$error":"#DIV/0!"},{"$error":"#DIV/0!"},{"$error":"#DIV/0!"},{"$error":"#DIV/0!"},{"$error":"#DIV/0!"},{"$error":"#DIV/0!"},{"$error":"#DIV/0!"},{"$f":"(AF37+AF38*0.64+AF39*0.36+AF40*0.16)/(AF37+AF38+AF39+AF40+AF41)","v":0.68256410256410249}]
[null,"Средний балл:              ",{"$f":"(C37*5+C38*4+C39*3+C40*2)/(C37+C38+C39+C40+C41)","v":3.9},{"$f":"(D37*5+D38*4+D39*3+D40*2)/(D37+D38+D39+D40+D41)","v":3.9666666666666668},4.1333333333333337,3.7333333333333334,{"$error":"#DIV/0!"},{"$error":"#DIV/0!"},{"$error":"#DIV/0!"},3.7666666666666666,3.8666666666666667,{"$error":"#DIV/0!"},4.4000000000000004,4.8,4.4333333333333336,{"$error":"#DIV/0!"},4.166666666666667,{"$error":"#DIV/0!"},{"$error":"#DIV/0!"},3.8333333333333335,3.7333333333333334,{"$error":"#DIV/0!"},4.166666666666667,{"$error":"#DIV/0!"},{"$error":"#DIV/0!"},{"$error":"#DIV/0!"},{"$error":"#DIV/0!"},{"$error":"#DIV/0!"},{"$error":"#DIV/0!"},{"$error":"#DIV/0!"},{"$error":"#DIV/0!"},{"$f":"(AF37*5+AF38*4+AF39*3+AF40*2)/(AF37+AF38+AF39+AF40+AF41)","v":4.069230769230769}]
[null,"Качество успеваемости:",{"$f":"(5*C37+4*C38)*0.2/(SUM(C37+C38+C39+C40+C41))","v":0.62},{"$f":"(5*COUNTIF(D6:D35,5)+4*COUNTIF(D6:D35,4))*0.2/(COUNTA(D6:D35)-COUNTIF(D6:D35,\"н\"))","v":0.65333333333333343},0.72666666666666668,0.52666666666666673,{"$error":"#DIV/0!"},{"$error":"#DIV/0!"},{"$error":"#DIV/0!"},0.57333333333333336,0.6133333333333334,{"$error":"#DIV/0!"},0.84000000000000008,0.96000000000000008,0.82666666666666666,{"$error":"#DIV/0!"},0.71333333333333337,{"$error":"#DIV/0!"},{"$error":"#DIV/0!"},0.52666666666666673,0.50666666666666671,{"$error":"#DIV/0!"},0.77333333333333343,{"$error":"#DIV/0!"},{"$error":"#DIV/0!"},{"$error":"#DIV/0!"},{"$error":"#DIV/0!"},{"$error":"#DIV/0!"},{"$error":"#DIV/0!"},{"$error":"#DIV/0!"},{"$error":"#DIV/0!"},{"$f":"(5*COUNTIF(C6:AE35,5)+4*COUNTIF(C6:AE35,4))*0.2/(COUNTA(C6:AE35)-COUNTIF(C6:AE35,\"н\"))","v":0.68153846153846154}]
["Выполнено с помощью программы статистического анализа результатов учебной деятельности",null,null,null,null,null,null,null,null,null,null,null,null,null,null,null,null,null,null,null,null,null,null,null,null,null,null,null,{"$f":"Титул!G31","v":"PSORUD-Klass.v.04.11.demo"},null,null,null,null,null,"3+"]
[]
[]
[]
[]
[]
[]
[]
[]
[]
[]
[]
[]
[]
[]
[]
[]
[]
[]
[]
[]
[]
[]
[]
[]
[]
[]
[]
[]
[]
[]
[]
[]
[]
[]
[]
[]
[]
[]
[]
[]
[]
[null,"Коэф.трудн.предмета",{"$f":"VLOOKUP(C$5,ШкалаТрудн!$C$5:$N$34,LEFT($Z$2,2)+1,0)","v":11},{"$f":"VLOOKUP(D$5,ШкалаТрудн!$C$5:$N$34,LEFT($Z$2,2)+1,0)","v":4},{"$f":"VLOOKUP(E$5,ШкалаТрудн!$C$5:$N$34,LEFT($Z$2,2)+1,0)","v":10},{"$f":"VLOOKUP(F$5,ШкалаТрудн!$C$5:$N$34,LEFT($Z$2,2)+1,0)","v":0},{"$f":"VLOOKUP(G$5,ШкалаТрудн!$C$5:$N$34,LEFT($Z$2,2)+1,0)","v":10},{"$f":"VLOOKUP(H$5,ШкалаТрудн!$C$5:$N$34,LEFT($Z$2,2)+1,0)","v":12},{"$f":"VLOOKUP(I$5,ШкалаТрудн!$C$5:$N$34,LEFT($Z$2,2)+1,0)","v":4},{"$f":"VLOOKUP(J$5,ШкалаТрудн!$C$5:$N$34,LEFT($Z$2,2)+1,0)","v":6},{"$f":"VLOOKUP(K$5,ШкалаТрудн!$C$5:$N$34,LEFT($Z$2,2)+1,0)","v":0},{"$f":"VLOOKUP(L$5,ШкалаТрудн!$C$5:$N$34,LEFT($Z$2,2)+1,0)","v":{"$error":"#N/A"}},{"$f":"VLOOKUP(M$5,ШкалаТрудн!$C$5:$N$34,LEFT($Z$2,2)+1,0)","v":1},{"$f":"VLOOKUP(N$5,ШкалаТрудн!$C$5:$N$34,LEFT($Z$2,2)+1,0)","v":1},{"$f":"VLOOKUP(O$5,ШкалаТрудн!$C$5:$N$34,LEFT($Z$2,2)+1,0)","v":2},{"$f":"VLOOKUP(P$5,ШкалаТрудн!$C$5:$N$34,LEFT($Z$2,2)+1,0)","v":2},{"$f":"VLOOKUP(Q$5,ШкалаТрудн!$C$5:$N$34,LEFT($Z$2,2)+1,0)","v":2},{"$f":"VLOOKUP(R$5,ШкалаТрудн!$C$5:$N$34,LEFT($Z$2,2)+1,0)","v":10},{"$f":"VLOOKUP(S$5,ШкалаТрудн!$C$5:$N$34,LEFT($Z$2,2)+1,0)","v":10},{"$f":"VLOOKUP(T$5,ШкалаТрудн!$C$5:$N$34,LEFT($Z$2,2)+1,0)","v":6},{"$f":"VLOOKUP(U$5,ШкалаТрудн!$C$5:$N$34,LEFT($Z$2,2)+1,0)","v":8},{"$f":"VLOOKUP(V$5,ШкалаТрудн!$C$5:$N$34,LEFT($Z$2,2)+1,0)","v":13},{"$f":"VLOOKUP(W$5,ШкалаТрудн!$C$5:$N$34,LEFT($Z$2,2)+1,0)","v":7},{"$f":"VLOOKUP(X$5,ШкалаТрудн!$C$5:$N$34,LEFT($Z$2,2)+1,0)","v":8},{"$f":"VLOOKUP(Y$5,ШкалаТрудн!$C$5:$N$34,LEFT($Z$2,2)+1,0)","v":2},{"$f":"VLOOKUP(Z$5,ШкалаТрудн!$C$5:$N$34,LEFT($Z$2,2)+1,0)","v":3},{"$f":"VLOOKUP(AA$5,ШкалаТрудн!$C$5:$N$34,LEFT($Z$2,2)+1,0)","v":0},{"$f":"VLOOKUP(AB$5,ШкалаТрудн!$C$5:$N$34,LEFT($Z$2,2)+1,0)","v":{"$error":"#N/A"}},{"$f":"VLOOKUP(AC$5,ШкалаТрудн!$C$5:$N$34,LEFT($Z$2,2)+1,0)","v":{"$error":"#N/A"}},{"$f":"VLOOKUP(AD$5,ШкалаТрудн!$C$5:$N$34,LEFT($Z$2,2)+1,0)","v":{"$error":"#N/A"}},{"$f":"VLOOKUP(AE$5,ШкалаТрудн!$C$5:$N$34,LEFT($Z$2,2)+1,0)","v":{"$error":"#N/A"}}]
[null,null,{"$f":"C6*C$90","v":44},16,50,0,0,0,0,24,0,{"$error":"#N/A"},4,5,10,0,10,0,0,24,24,0,28,0,0,0,0,{"$error":"#N/A"},{"$error":"#N/A"},{"$error":"#N/A"},{"$error":"#N/A"}]
[null,null,44,16,40,0,0,0,0,24,0,{"$error":"#N/A"},4,5,10,0,8,0,0,18,24,0,28,0,0,0,0,{"$error":"#N/A"},{"$error":"#N/A"},{"$error":"#N/A"},{"$error":"#N/A"}]
[null,null,33,12,40,0,0,0,0,18,0,{"$error":"#N/A"},4,4,10,0,8,0,0,18,24,0,28,0,0,0,0,{"$error":"#N/A"},{"$error":"#N/A"},{"$error":"#N/A"},{"$error":"#N/A"}]
[null,null,44,16,30,0,0,0,0,18,0,{"$error":"#N/A"},4,5,8,0,6,0,0,24,24,0,28,0,0,0,0,{"$error":"#N/A"},{"$error":"#N/A"},{"$error":"#N/A"},{"$error":"#N/A"}]
[null,null,44,16,30,0,0,0,0,18,0,{"$error":"#N/A"},4,5,10,0,8,0,0,24,32,0,28,0,0,0,0,{"$error":"#N/A"},{"$error":"#N/A"},{"$error":"#N/A"},{"$error":"#N/A"}]
[null,null,44,16,40,0,0,0,0,24,0,{"$error":"#N/A"},5,5,8,0,8,0,0,18,32,0,28,0,0,0,0,{"$error":"#N/A"},{"$error":"#N/A"},{"$error":"#N/A"},{"$error":"#N/A"}]
[null,null,44,16,50,0,0,0,0,24,0,{"$error":"#N/A"},5,5,10,0,10,0,0,24,32,0,28,0,0,0,0,{"$error":"#N/A"},{"$error":"#N/A"},{"$error":"#N/A"},{"$error":"#N/A"}]
[null,null,44,16,50,0,0,0,0,24,0,{"$error":"#N/A"},5,4,10,0,10,0,0,30,32,0,28,0,0,0,0,{"$error":"#N/A"},{"$error":"#N/A"},{"$error":"#N/A"},{"$error":"#N/A"}]
[null,null,33,12,30,0,0,0,0,18,0,{"$error":"#N/A"},3,4,6,0,6,0,0,18,24,0,28,0,0,{"$f":"Z14*Z$90","v":0},0,{"$error":"#N/A"},{"$error":"#N/A"},{"$error":"#N/A"},{"$error":"#N/A"}]
[null,null,{"$f":"C15*C$90","v":33},12,40,0,0,0,0,18,0,{"$error":"#N/A"},4,4,8,0,8,0,0,18,24,0,21,0,0,0,0,{"$error":"#N/A"},{"$error":"#N/A"},{"$error":"#N/A"},{"$error":"#N/A"}]
[null,null,55,16,40,0,0,0,0,24,0,{"$error":"#N/A"},5,5,10,0,8,0,0,24,32,0,35,0,0,0,0,{"$error":"#N/A"},{"$error":"#N/A"},{"$error":"#N/A"},{"$error":"#N/A"}]
[null,null,44,20,40,0,0,0,0,24,0,{"$error":"#N/A"},5,5,10,0,8,0,0,30,32,0,35,0,0,0,0,{"$error":"#N/A"},{"$error":"#N/A"},{"$error":"#N/A"},{"$error":"#N/A"}]
[null,null,44,16,50,0,0,0,0,24,0,{"$error":"#N/A"},4,5,8,0,10,0,0,24,32,0,28,0,0,0,0,{"$error":"#N/A"},{"$error":"#N/A"},{"$error":"#N/A"},{"$error":"#N/A"}]
[null,null,33,12,40,0,0,0,0,24,0,{"$error":"#N/A"},4,5,8,0,10,0,0,18,32,0,21,0,0,0,0,{"$error":"#N/A"},{"$error":"#N/A"},{"$error":"#N/A"},{"$error":"#N/A"}]
[null,null,33,12,30,0,0,0,0,18,0,{"$error":"#N/A"},4,4,6,0,8,0,0,18,24,0,21,0,0,0,0,{"$error":"#N/A"},{"$error":"#N/A"},{"$error":"#N/A"},{"$error":"#N/A"}]
[null,null,55,20,50,0,0,0,0,30,0,{"$error":"#N/A"},5,5,10,0,10,0,0,30,40,0,35,0,0,0,0,{"$error":"#N/A"},{"$error":"#N/A"},{"$error":"#N/A"},{"$error":"#N/A"}]
[null,null,55,20,40,0,0,0,0,24,0,{"$error":"#N/A"},5,5,10,0,8,0,0,24,40,0,28,0,0,0,0,{"$error":"#N/A"},{"$error":"#N/A"},{"$error":"#N/A"},{"$error":"#N/A"}]
[null,null,44,16,50,0,0,0,0,24,0,{"$error":"#N/A"},4,5,8,0,6,0,0,18,24,0,28,0,0,{"$f":"Z23*Z$90","v":0},0,{"$error":"#N/A"},{"$error":"#N/A"},{"$error":"#N/A"},{"$error":"#N/A"}]
[null,null,{"$f":"C24*C$90","v":44},16,40,0,0,0,0,18,0,{"$error":"#N/A"},4,5,8,0,6,0,0,18,24,0,28,0,0,0,0,{"$error":"#N/A"},{"$error":"#N/A"},{"$error":"#N/A"},{"$error":"#N/A"}]
[null,null,44,16,50,0,0,0,0,24,0,{"$error":"#N/A"},5,5,10,0,10,0,0,24,32,0,35,0,0,0,0,{"$error":"#N/A"},{"$error":"#N/A"},{"$error":"#N/A"},{"$error":"#N/A"}]
[null,null,44,16,40,0,0,0,0,24,0,{"$error":"#N/A"},5,5,8,0,8,0,0,24,32,0,28,0,0,0,0,{"$error":"#N/A"},{"$error":"#N/A"},{"$error":"#N/A"},{"$error":"#N/A"}]
[null,null,55,20,40,0,0,0,0,24,0,{"$error":"#N/A"},5,5,10,0,8,0,0,30,32,0,28,0,0,0,0,{"$error":"#N/A"},{"$error":"#N/A"},{"$error":"#N/A"},{"$error":"#N/A"}]
[null,null,44,20,40,0,0,0,0,24,0,{"$error":"#N/A"},5,5,10,0,10,0,0,30,40,0,35,0,0,0,0,{"$error":"#N/A"},{"$error":"#N/A"},{"$error":"#N/A"},{"$error":"#N/A"}]
[null,null,44,16,40,0,0,0,0,24,0,{"$error":"#N/A"},5,5,10,0,8,0,0,24,32,0,35,0,0,0,0,{"$error":"#N/A"},{"$error":"#N/A"},{"$error":"#N/A"},{"$error":"#N/A"}]
[null,null,44,16,40,0,0,0,0,24,0,{"$error":"#N/A"},5,5,10,0,10,0,0,24,32,0,28,0,0,0,0,{"$error":"#N/A"},{"$error":"#N/A"},{"$error":"#N/A"},{"$error":"#N/A"}]
[null,null,55,20,50,0,0,0,0,30,0,{"$error":"#N/A"},5,5,10,0,10,0,0,30,40,0,35,0,0,0,0,{"$error":"#N/A"},{"$error":"#N/A"},{"$error":"#N/A"},{"$error":"#N/A"}]
[null,null,33,12,30,0,0,0,0,18,0,{"$error":"#N/A"},3,4,6,0,6,0,0,18,24,0,28,0,0,{"$f":"Z32*Z$90","v":0},0,{"$error":"#N/A"},{"$error":"#N/A"},{"$error":"#N/A"},{"$error":"#N/A"}]
[null,null,{"$f":"C33*C$90","v":33},16,40,0,0,0,0,18,0,{"$error":"#N/A"},4,5,8,0,8,0,0,18,24,0,28,0,0,0,0,{"$error":"#N/A"},{"$error":"#N/A"},{"$error":"#N/A"},{"$error":"#N/A"}]
[null,null,44,16,40,0,0,0,0,24,0,{"$error":"#N/A"},4,5,8,0,10,0,0,30,32,0,35,0,0,0,0,{"$error":"#N/A"},{"$error":"#N/A"},{"$error":"#N/A"},{"$error":"#N/A"}]
[null,null,{"$f":"#REF!*C$90","v":{"$error":"#REF!"}},{"$f":"#REF!*D$90","v":{"$error":"#REF!"}},{"$f":"#REF!*E$90","v":{"$error":"#REF!"}},{"$f":"#REF!*F$90","v":{"$error":"#REF!"}},{"$f":"#REF!*G$90","v":{"$error":"#REF!"}},{"$f":"#REF!*H$90","v":{"$error":"#REF!"}},{"$f":"#REF!*I$90","v":{"$error":"#REF!"}},{"$f":"#REF!*J$90","v":{"$error":"#REF!"}},{"$f":"#REF!*K$90","v":{"$error":"#REF!"}},{"$f":"#REF!*L$90","v":{"$error":"#REF!"}},{"$f":"#REF!*M$90","v":{"$error":"#REF!"}},{"$f":"#REF!*N$90","v":{"$error":"#REF!"}},{"$f":"#REF!*O$90","v":{"$error":"#REF!"}},{"$f":"#REF!*P$90","v":{"$error":"#REF!"}},{"$f":"#REF!*Q$90","v":{"$error":"#REF!"}},{"$f":"#REF!*R$90","v":{"$error":"#REF!"}},{"$f":"#REF!*S$90","v":{"$error":"#REF!"}},{"$f":"#REF!*T$90","v":{"$error":"#REF!"}},{"$f":"#REF!*U$90","v":{"$error":"#REF!"}},{"$f":"#REF!*V$90","v":{"$error":"#REF!"}},{"$f":"#REF!*W$90","v":{"$error":"#REF!"}},{"$f":"#REF!*X$90","v":{"$error":"#REF!"}},{"$f":"#REF!*Y$90","v":{"$error":"#REF!"}},{"$f":"#REF!*Z$90","v":{"$error":"#REF!"}},{"$f":"#REF!*AA$90","v":{"$error":"#REF!"}},{"$f":"#REF!*AB$90","v":{"$error":"#REF!"}},{"$f":"#REF!*AC$90","v":{"$error":"#REF!"}},{"$f":"#REF!*AD$90","v":{"$error":"#REF!"}},{"$f":"#REF!*AE$90","v":{"$error":"#REF!"}}]
[null,null,{"$f":"#REF!*C$90","v":{"$error":"#REF!"}},{"$f":"#REF!*D$90","v":{"$error":"#REF!"}},{"$f":"#REF!*E$90","v":{"$error":"#REF!"}},{"$f":"#REF!*F$90","v":{"$error":"#REF!"}},{"$f":"#REF!*G$90","v":{"$error":"#REF!"}},{"$f":"#REF!*H$90","v":{"$error":"#REF!"}},{"$f":"#REF!*I$90","v":{"$error":"#REF!"}},{"$f":"#REF!*J$90","v":{"$error":"#REF!"}},{"$f":"#REF!*K$90","v":{"$error":"#REF!"}},{"$f":"#REF!*L$90","v":{"$error":"#REF!"}},{"$f":"#REF!*M$90","v":{"$error":"#REF!"}},{"$f":"#REF!*N$90","v":{"$error":"#REF!"}},{"$f":"#REF!*O$90","v":{"$error":"#REF!"}},{"$f":"#REF!*P$90","v":{"$error":"#REF!"}},{"$f":"#REF!*Q$90","v":{"$error":"#REF!"}},{"$f":"#REF!*R$90","v":{"$error":"#REF!"}},{"$f":"#REF!*S$90","v":{"$error":"#REF!"}},{"$f":"#REF!*T$90","v":{"$error":"#REF!"}},{"$f":"#REF!*U$90","v":{"$error":"#REF!"}},{"$f":"#REF!*V$90","v":{"$error":"#REF!"}},{"$f":"#REF!*W$90","v":{"$error":"#REF!"}},{"$f":"#REF!*X$90","v":{"$error":"#REF!"}},{"$f":"#REF!*Y$90","v":{"$error":"#REF!"}},{"$f":"#REF!*Z$90","v":{"$error":"#REF!"}},{"$f":"#REF!*AA$90","v":{"$error":"#REF!"}},{"$f":"#REF!*AB$90","v":{"$error":"#REF!"}},{"$f":"#REF!*AC$90","v":{"$error":"#REF!"}},{"$f":"#REF!*AD$90","v":{"$error":"#REF!"}},{"$f":"#REF!*AE$90","v":{"$error":"#REF!"}}]
[null,null,{"$f":"#REF!*C$90","v":{"$error":"#REF!"}},{"$f":"#REF!*D$90","v":{"$error":"#REF!"}},{"$f":"#REF!*E$90","v":{"$error":"#REF!"}},{"$f":"#REF!*F$90","v":{"$error":"#REF!"}},{"$f":"#REF!*G$90","v":{"$error":"#REF!"}},{"$f":"#REF!*H$90","v":{"$error":"#REF!"}},{"$f":"#REF!*I$90","v":{"$error":"#REF!"}},{"$f":"#REF!*J$90","v":{"$error":"#REF!"}},{"$f":"#REF!*K$90","v":{"$error":"#REF!"}},{"$f":"#REF!*L$90","v":{"$error":"#REF!"}},{"$f":"#REF!*M$90","v":{"$error":"#REF!"}},{"$f":"#REF!*N$90","v":{"$error":"#REF!"}},{"$f":"#REF!*O$90","v":{"$error":"#REF!"}},{"$f":"#REF!*P$90","v":{"$error":"#REF!"}},{"$f":"#REF!*Q$90","v":{"$error":"#REF!"}},{"$f":"#REF!*R$90","v":{"$error":"#REF!"}},{"$f":"#REF!*S$90","v":{"$error":"#REF!"}},{"$f":"#REF!*T$90","v":{"$error":"#REF!"}},{"$f":"#REF!*U$90","v":{"$error":"#REF!"}},{"$f":"#REF!*V$90","v":{"$error":"#REF!"}},{"$f":"#REF!*W$90","v":{"$error":"#REF!"}},{"$f":"#REF!*X$90","v":{"$error":"#REF!"}},{"$f":"#REF!*Y$90","v":{"$error":"#REF!"}},{"$f":"#REF!*Z$90","v":{"$error":"#REF!"}},{"$f":"#REF!*AA$90","v":{"$error":"#REF!"}},{"$f":"#REF!*AB$90","v":{"$error":"#REF!"}},{"$f":"#REF!*AC$90","v":{"$error":"#REF!"}},{"$f":"#REF!*AD$90","v":{"$error":"#REF!"}},{"$f":"#REF!*AE$90","v":{"$error":"#REF!"}}]
[null,null,{"$f":"#REF!*C$90","v":{"$error":"#REF!"}},{"$f":"#REF!*D$90","v":{"$error":"#REF!"}},{"$f":"#REF!*E$90","v":{"$error":"#REF!"}},{"$f":"#REF!*F$90","v":{"$error":"#REF!"}},{"$f":"#REF!*G$90","v":{"$error":"#REF!"}},{"$f":"#REF!*H$90","v":{"$error":"#REF!"}},{"$f":"#REF!*I$90","v":{"$error":"#REF!"}},{"$f":"#REF!*J$90","v":{"$error":"#REF!"}},{"$f":"#REF!*K$90","v":{"$error":"#REF!"}},{"$f":"#REF!*L$90","v":{"$error":"#REF!"}},{"$f":"#REF!*M$90","v":{"$error":"#REF!"}},{"$f":"#REF!*N$90","v":{"$error":"#REF!"}},{"$f":"#REF!*O$90","v":{"$error":"#REF!"}},{"$f":"#REF!*P$90","v":{"$error":"#REF!"}},{"$f":"#REF!*Q$90","v":{"$error":"#REF!"}},{"$f":"#REF!*R$90","v":{"$error":"#REF!"}},{"$f":"#REF!*S$90","v":{"$error":"#REF!"}},{"$f":"#REF!*T$90","v":{"$error":"#REF!"}},{"$f":"#REF!*U$90","v":{"$error":"#REF!"}},{"$f":"#REF!*V$90","v":{"$error":"#REF!"}},{"$f":"#REF!*W$90","v":{"$error":"#REF!"}},{"$f":"#REF!*X$90","v":{"$error":"#REF!"}},{"$f":"#REF!*Y$90","v":{"$error":"#REF!"}},{"$f":"#REF!*Z$90","v":{"$error":"#REF!"}},{"$f":"#REF!*AA$90","v":{"$error":"#REF!"}},{"$f":"#REF!*AB$90","v":{"$error":"#REF!"}},{"$f":"#REF!*AC$90","v":{"$error":"#REF!"}},{"$f":"#REF!*AD$90","v":{"$error":"#REF!"}},{"$f":"#REF!*AE$90","v":{"$error":"#REF!"}}]
[null,null,{"$f":"#REF!*C$90","v":{"$error":"#REF!"}},{"$f":"#REF!*D$90","v":{"$error":"#REF!"}},{"$f":"#REF!*E$90","v":{"$error":"#REF!"}},{"$f":"#REF!*F$90","v":{"$error":"#REF!"}},{"$f":"#REF!*G$90","v":{"$error":"#REF!"}},{"$f":"#REF!*H$90","v":{"$error":"#REF!"}},{"$f":"#REF!*I$90","v":{"$error":"#REF!"}},{"$f":"#REF!*J$90","v":{"$error":"#REF!"}},{"$f":"#REF!*K$90","v":{"$error":"#REF!"}},{"$f":"#REF!*L$90","v":{"$error":"#REF!"}},{"$f":"#REF!*M$90","v":{"$error":"#REF!"}},{"$f":"#REF!*N$90","v":{"$error":"#REF!"}},{"$f":"#REF!*O$90","v":{"$error":"#REF!"}},{"$f":"#REF!*P$90","v":{"$error":"#REF!"}},{"$f":"#REF!*Q$90","v":{"$error":"#REF!"}},{"$f":"#REF!*R$90","v":{"$error":"#REF!"}},{"$f":"#REF!*S$90","v":{"$error":"#REF!"}},{"$f":"#REF!*T$90","v":{"$error":"#REF!"}},{"$f":"#REF!*U$90","v":{"$error":"#REF!"}},{"$f":"#REF!*V$90","v":{"$error":"#REF!"}},{"$f":"#REF!*W$90","v":{"$error":"#REF!"}},{"$f":"#REF!*X$90","v":{"$error":"#REF!"}},{"$f":"#REF!*Y$90","v":{"$error":"#REF!"}},{"$f":"#REF!*Z$90","v":{"$error":"#REF!"}},{"$f":"#REF!*AA$90","v":{"$error":"#REF!"}},{"$f":"#REF!*AB$90","v":{"$error":"#REF!"}},{"$f":"#REF!*AC$90","v":{"$error":"#REF!"}},{"$f":"#REF!*AD$90","v":{"$error":"#REF!"}},{"$f":"#REF!*AE$90","v":{"$error":"#REF!"}}]
[null,null,{"$f":"#REF!*C$90","v":{"$error":"#REF!"}},{"$f":"#REF!*D$90","v":{"$error":"#REF!"}},{"$f":"#REF!*E$90","v":{"$error":"#REF!"}},{"$f":"#REF!*F$90","v":{"$error":"#REF!"}},{"$f":"#REF!*G$90","v":{"$error":"#REF!"}},{"$f":"#REF!*H$90","v":{"$error":"#REF!"}},{"$f":"#REF!*I$90","v":{"$error":"#REF!"}},{"$f":"#REF!*J$90","v":{"$error":"#REF!"}},{"$f":"#REF!*K$90","v":{"$error":"#REF!"}},{"$f":"#REF!*L$90","v":{"$error":"#REF!"}},{"$f":"#REF!*M$90","v":{"$error":"#REF!"}},{"$f":"#REF!*N$90","v":{"$error":"#REF!"}},{"$f":"#REF!*O$90","v":{"$error":"#REF!"}},{"$f":"#REF!*P$90","v":{"$error":"#REF!"}},{"$f":"#REF!*Q$90","v":{"$error":"#REF!"}},{"$f":"#REF!*R$90","v":{"$error":"#REF!"}},{"$f":"#REF!*S$90","v":{"$error":"#REF!"}},{"$f":"#REF!*T$90","v":{"$error":"#REF!"}},{"$f":"#REF!*U$90","v":{"$error":"#REF!"}},{"$f":"#REF!*V$90","v":{"$error":"#REF!"}},{"$f":"#REF!*W$90","v":{"$error":"#REF!"}},{"$f":"#REF!*X$90","v":{"$error":"#REF!"}},{"$f":"#REF!*Y$90","v":{"$error":"#REF!"}},{"$f":"#REF!*Z$90","v":{"$error":"#REF!"}},{"$f":"#REF!*AA$90","v":{"$error":"#REF!"}},{"$f":"#REF!*AB$90","v":{"$error":"#REF!"}},{"$f":"#REF!*AC$90","v":{"$error":"#REF!"}},{"$f":"#REF!*AD$90","v":{"$error":"#REF!"}},{"$f":"#REF!*AE$90","v":{"$error":"#REF!"}}]
[null,null,{"$f":"#REF!*C$90","v":{"$error":"#REF!"}},{"$f":"#REF!*D$90","v":{"$error":"#REF!"}},{"$f":"#REF!*E$90","v":{"$error":"#REF!"}},{"$f":"#REF!*F$90","v":{"$error":"#REF!"}},{"$f":"#REF!*G$90","v":{"$error":"#REF!"}},{"$f":"#REF!*H$90","v":{"$error":"#REF!"}},{"$f":"#REF!*I$90","v":{"$error":"#REF!"}},{"$f":"#REF!*J$90","v":{"$error":"#REF!"}},{"$f":"#REF!*K$90","v":{"$error":"#REF!"}},{"$f":"#REF!*L$90","v":{"$error":"#REF!"}},{"$f":"#REF!*M$90","v":{"$error":"#REF!"}},{"$f":"#REF!*N$90","v":{"$error":"#REF!"}},{"$f":"#REF!*O$90","v":{"$error":"#REF!"}},{"$f":"#REF!*P$90","v":{"$error":"#REF!"}},{"$f":"#REF!*Q$90","v":{"$error":"#REF!"}},{"$f":"#REF!*R$90","v":{"$error":"#REF!"}},{"$f":"#REF!*S$90","v":{"$error":"#REF!"}},{"$f":"#REF!*T$90","v":{"$error":"#REF!"}},{"$f":"#REF!*U$90","v":{"$error":"#REF!"}},{"$f":"#REF!*V$90","v":{"$error":"#REF!"}},{"$f":"#REF!*W$90","v":{"$error":"#REF!"}},{"$f":"#REF!*X$90","v":{"$error":"#REF!"}},{"$f":"#REF!*Y$90","v":{"$error":"#REF!"}},{"$f":"#REF!*Z$90","v":{"$error":"#REF!"}},{"$f":"#REF!*AA$90","v":{"$error":"#REF!"}},{"$f":"#REF!*AB$90","v":{"$error":"#REF!"}},{"$f":"#REF!*AC$90","v":{"$error":"#REF!"}},{"$f":"#REF!*AD$90","v":{"$error":"#REF!"}},{"$f":"#REF!*AE$90","v":{"$error":"#REF!"}}]
[null,null,{"$f":"#REF!*C$90","v":{"$error":"#REF!"}},{"$f":"#REF!*D$90","v":{"$error":"#REF!"}},{"$f":"#REF!*E$90","v":{"$error":"#REF!"}},{"$f":"#REF!*F$90","v":{"$error":"#REF!"}},{"$f":"#REF!*G$90","v":{"$error":"#REF!"}},{"$f":"#REF!*H$90","v":{"$error":"#REF!"}},{"$f":"#REF!*I$90","v":{"$error":"#REF!"}},{"$f":"#REF!*J$90","v":{"$error":"#REF!"}},{"$f":"#REF!*K$90","v":{"$error":"#REF!"}},{"$f":"#REF!*L$90","v":{"$error":"#REF!"}},{"$f":"#REF!*M$90","v":{"$error":"#REF!"}},{"$f":"#REF!*N$90","v":{"$error":"#REF!"}},{"$f":"#REF!*O$90","v":{"$error":"#REF!"}},{"$f":"#REF!*P$90","v":{"$error":"#REF!"}},{"$f":"#REF!*Q$90","v":{"$error":"#REF!"}},{"$f":"#REF!*R$90","v":{"$error":"#REF!"}},{"$f":"#REF!*S$90","v":{"$error":"#REF!"}},{"$f":"#REF!*T$90","v":{"$error":"#REF!"}},{"$f":"#REF!*U$90","v":{"$error":"#REF!"}},{"$f":"#REF!*V$90","v":{"$error":"#REF!"}},{"$f":"#REF!*W$90","v":{"$error":"#REF!"}},{"$f":"#REF!*X$90","v":{"$error":"#REF!"}},{"$f":"#REF!*Y$90","v":{"$error":"#REF!"}},{"$f":"#REF!*Z$90","v":{"$error":"#REF!"}},{"$f":"#REF!*AA$90","v":{"$error":"#REF!"}},{"$f":"#REF!*AB$90","v":{"$error":"#REF!"}},{"$f":"#REF!*AC$90","v":{"$error":"#REF!"}},{"$f":"#REF!*AD$90","v":{"$error":"#REF!"}},{"$f":"#REF!*AE$90","v":{"$error":"#REF!"}}]
[null,null,{"$f":"#REF!*C$90","v":{"$error":"#REF!"}},{"$f":"#REF!*D$90","v":{"$error":"#REF!"}},{"$f":"#REF!*E$90","v":{"$error":"#REF!"}},{"$f":"#REF!*F$90","v":{"$error":"#REF!"}},{"$f":"#REF!*G$90","v":{"$error":"#REF!"}},{"$f":"#REF!*H$90","v":{"$error":"#REF!"}},{"$f":"#REF!*I$90","v":{"$error":"#REF!"}},{"$f":"#REF!*J$90","v":{"$error":"#REF!"}},{"$f":"#REF!*K$90","v":{"$error":"#REF!"}},{"$f":"#REF!*L$90","v":{"$error":"#REF!"}},{"$f":"#REF!*M$90","v":{"$error":"#REF!"}},{"$f":"#REF!*N$90","v":{"$error":"#REF!"}},{"$f":"#REF!*O$90","v":{"$error":"#REF!"}},{"$f":"#REF!*P$90","v":{"$error":"#REF!"}},{"$f":"#REF!*Q$90","v":{"$error":"#REF!"}},{"$f":"#REF!*R$90","v":{"$error":"#REF!"}},{"$f":"#REF!*S$90","v":{"$error":"#REF!"}},{"$f":"#REF!*T$90","v":{"$error":"#REF!"}},{"$f":"#REF!*U$90","v":{"$error":"#REF!"}},{"$f":"#REF!*V$90","v":{"$error":"#REF!"}},{"$f":"#REF!*W$90","v":{"$error":"#REF!"}},{"$f":"#REF!*X$90","v":{"$error":"#REF!"}},{"$f":"#REF!*Y$90","v":{"$error":"#REF!"}},{"$f":"#REF!*Z$90","v":{"$error":"#REF!"}},{"$f":"#REF!*AA$90","v":{"$error":"#REF!"}},{"$f":"#REF!*AB$90","v":{"$error":"#REF!"}},{"$f":"#REF!*AC$90","v":{"$error":"#REF!"}},{"$f":"#REF!*AD$90","v":{"$error":"#REF!"}},{"$f":"#REF!*AE$90","v":{"$error":"#REF!"}}]
[null,null,{"$f":"#REF!*C$90","v":{"$error":"#REF!"}},{"$f":"#REF!*D$90","v":{"$error":"#REF!"}},{"$f":"#REF!*E$90","v":{"$error":"#REF!"}},{"$f":"#REF!*F$90","v":{"$error":"#REF!"}},{"$f":"#REF!*G$90","v":{"$error":"#REF!"}},{"$f":"#REF!*H$90","v":{"$error":"#REF!"}},{"$f":"#REF!*I$90","v":{"$error":"#REF!"}},{"$f":"#REF!*J$90","v":{"$error":"#REF!"}},{"$f":"#REF!*K$90","v":{"$error":"#REF!"}},{"$f":"#REF!*L$90","v":{"$error":"#REF!"}},{"$f":"#REF!*M$90","v":{"$error":"#REF!"}},{"$f":"#REF!*N$90","v":{"$error":"#REF!"}},{"$f":"#REF!*O$90","v":{"$error":"#REF!"}},{"$f":"#REF!*P$90","v":{"$error":"#REF!"}},{"$f":"#REF!*Q$90","v":{"$error":"#REF!"}},{"$f":"#REF!*R$90","v":{"$error":"#REF!"}},{"$f":"#REF!*S$90","v":{"$error":"#REF!"}},{"$f":"#REF!*T$90","v":{"$error":"#REF!"}},{"$f":"#REF!*U$90","v":{"$error":"#REF!"}},{"$f":"#REF!*V$90","v":{"$error":"#REF!"}},{"$f":"#REF!*W$90","v":{"$error":"#REF!"}},{"$f":"#REF!*X$90","v":{"$error":"#REF!"}},{"$f":"#REF!*Y$90","v":{"$error":"#REF!"}},{"$f":"#REF!*Z$90","v":{"$error":"#REF!"}},{"$f":"#REF!*AA$90","v":{"$error":"#REF!"}},{"$f":"#REF!*AB$90","v":{"$error":"#REF!"}},{"$f":"#REF!*AC$90","v":{"$error":"#REF!"}},{"$f":"#REF!*AD$90","v":{"$error":"#REF!"}},{"$f":"#REF!*AE$90","v":{"$error":"#REF!"}}]
[null,null,{"$f":"C35*C$90","v":33},12,50,0,0,0,0,24,0,{"$error":"#N/A"},4,5,8,0,6,0,0,18,24,0,28,0,0,0,0,{"$error":"#N/A"},{"$error":"#N/A"},{"$error":"#N/A"},{"$error":"#N/A"}]

{"sheet":"7 Б(2)","index":30,"n_rows":82,"n_cols":8,"rows_kept":82,"cut":false,"hidden":true,"merged":[[42,0,42,1],[52,0,52,1],[67,0,67,1],[0,0,0,3],[0,4,0,7],[1,0,1,2],[2,0,2,1],[3,0,15,0],[17,0,17,1]]}
[{"$f":"Титул!B21","v":"7 Б"},null,null,null,"Страница заполняется автоматически, без участия оператора!!!"]
["Всего учащихся в классе:",null,null,{"$f":"Титул!C21","v":30},"Фамилии, имена               учащихся","Учебные предметы","Фамилии и инициалы учителей","Пояснения, примечания, причины"]
["Учатся на  \"5\":",null,{"$f":"COUNTA(E3:E17)","v":2},1,"Лебедева Дарья"]
[null,null,null,2,"Сухарев Владимир"]
[null,null,null,3]
[null,null,null,4]
[null,null,null,5]
[null,null,null,6]
[null,null,null,7]
[null,null,null,8]
[null,null,null,9]
[null,null,null,10]
[null,null,null,11]
[null,null,null,12]
[null,null,null,13]
[null,null,null,14]
[null,null,null,15]
["Учатся  на \"4\"и\"5\"",null,{"$f":"COUNTA(E18:E42)","v":13},1,"Гранина Анастасия"]
[null," ",null,2,"Жмурко Вячеслав"]
[null,null,null,3,"Ипатова Виктория"]
[null,null,null,4,"Капсамун Милана"]
[null,null,null,5,"Кириков Дмитрий"]
[null,null,null,6,"Линник Екатерина"]
[null,null,null,7,"Наумов Андрей"]
[null,null,null,8,"Новикова Виктория"]
[null,null,null,9,"Петина Кристина"]
[null,null,null,10,"Петрова Полина"]
[null,null,null,11,"Сердюк Полина"]
[null,null,null,12,"Серкин Егор"]
[null,null,null,13,"Хорошенькая Наталья"]
[null,null,null,14]
[null,null,null,15]
[null,null,null,16]
[null,null,null,17]
[null,null,null,18]
[null,null,null,19]
[null,null,null,20]
[null,null,null,21]
[null,null,null,22]
[null,null,null,23]
[null,null,null,24]
[null,null,null,25]
["Не аттестованы:",null,{"$f":"COUNTA(E43:E52)","v":0},1]
[null," ",null,2]
[null,null,null,3]
[null,null,null,4]
[null,null,null,5]
[null,null,null,6]
[null,null,null,7]
[null,null,null,8]
[null,null,null,9]
[null,null,null,10]
["Не успевают:",null,{"$f":"COUNTA(E53:E67)","v":0},1]
[null," ",null,2]
[null,null,null,3]
[null,null,null,4]
[null,null,null,5]
[null,null,null,6]
[null,null,null,7]
[null,null,null,8]
[null,null,null,9]
[null,null,null,10]
[null,null,null,11]
[null,null,null,12]
[null,null,null,13]
[null,null,null,14]
[null,null,null,15]
["Освобождены:",null,{"$f":"COUNTA(E68:E82)","v":0},1]
[null," ",null,2]
[null,null,null,3]
[null,null,null,4]
[null,null,null,5]
[null,null,null,6]
[null,null,null,7]
[null,null,null,8]
[null,null,null,9]
[null,null,null,10]
[null,null,null,11]
[null,null,null,12]
[null,null,null,13]
[null,null,null,14]
[null,null,null,15]

{"sheet":"8 А","index":31,"n_rows":131,"n_cols":35,"rows_kept":131,"cut":false,"hidden":true,"merged":[[0,0,0,2],[0,3,0,25],[0,26,0,32],[1,0,1,24],[1,25,1,28],[1,29,1,31],[2,0,2,3],[2,4,2,17],[2,18,2,22],[2,23,2,34],[3,0,4,1],[3,2,3,30],[3,31,3,34],[47,0,47,26],[47,28,47,33],[35,0,35,1],[35,31,35,34],[36,0,46,0],[36,31,36,34],[37,31,37,34],[38,31,38,34],[39,31,39,34],[40,31,40,34],[41,31,41,34],[42,31,42,34],[43,31,43,34],[44,31,44,34],[45,31,45,34],[46,31,46,34]]}
[{"$f":"Титул!B5","v":"2014/15 учебный год"},null,null,{"$f":"Титул!B4","v":"МОУ СОШ  № 15"},null,null,null,null,null,null,null,null,null,null,null,null,null,null,null,null,null,null,null,null,null,null,{"$f":"Титул!B6","v":"4 четверть"},null,null,null,null,null,null,null,"3+"]
["ВЕДОМОСТЬ  РЕЗУЛЬТАТОВ  УЧЕБНОЙ  ДЕЯТЕЛЬНОСТИ",null,null,null,null,null,null,null,null,null,null,null,null,null,null,null,null,null,null,null,null,null,null,null,null,{"$f":"Титул!B22","v":"8 А"},null,null,null,"класса"]
["Классный руководитель:",null,null,null,{"$f":"Титул!D22","v":"Пудренко И.М."},null,null,null,null,null,null,null,null,null,null,null,null,null,"Программа:",null,null,null,null,{"$f":"Титул!G18","v":"общеобразовательный"}]
["Вручную вносятся только оценки \"5\", \"4\", \"3\", \"2\", \"1\". \nНе аттестованным проставляется \"0\", освобожденным - \"Н\".  ",null,"У  ч  е  б  н  ы  е      п  р  е  д  м  е  т  ы",null,null,null,null,null,null,null,null,null,null,null,null,null,null,null,null,null,null,null,null,null,null,null,null,null,null,null,null,"Результаты ученика:"]
[null,null,{"$f":"Нагрузка!C3","v":"Русский язык"},{"$f":"Нагрузка!D3","v":"Литература"},{"$f":"Нагрузка!E3","v":"Иностранный язык"},{"$f":"Нагрузка!F3","v":"Математика"},{"$f":"Нагрузка!G3","v":"Алгебра"},{"$f":"Нагрузка!H3","v":"Геометрия"},{"$f":"Нагрузка!I3","v":"Информатика"},{"$f":"Нагрузка!J3","v":"История"},{"$f":"Нагрузка!K3","v":"Обществознание"},{"$f":"Нагрузка!L3","v":"Окружающий мир"},{"$f":"Нагрузка!M3","v":"ИЗО"},{"$f":"Нагрузка!N3","v":"Музыка"},{"$f":"Нагрузка!O3","v":"Технология"},{"$f":"Нагрузка!P3","v":"Технология"},{"$f":"Нагрузка!Q3","v":"ФЗК"},{"$f":"Нагрузка!R3","v":"Иностранный язык"},{"$f":"Нагрузка!S3","v":"Иностранный язык"},{"$f":"Нагрузка!T3","v":"География"},{"$f":"Нагрузка!U3","v":"Физика"},{"$f":"Нагрузка!V3","v":"Химия"},{"$f":"Нагрузка!W3","v":"Биология"},{"$f":"Нагрузка!X3","v":"МХК"},{"$f":"Нагрузка!Y3","v":"ФЗК"},{"$f":"Нагрузка!Z3","v":"ОБЖ"},{"$f":"Нагрузка!AA3","v":"Природоведение"},{"$f":"Нагрузка!AB3","v":0},{"$f":"Нагрузка!AC3","v":0},{"$f":"Нагрузка!AD3","v":0},{"$f":"Нагрузка!AE3","v":0},"Средний балл:","Степень обученности (СОУ):","Качество успеваемости:","Рейтинговый учебный балл:"]
[1,{"$f":"СпискиКлассы!O4","v":"Аверкиев Максим"},3,3,3,3,null,null,4,3,3,null,null,5,3,null,4,null,null,4,3,3,4,null,null,3,null,null,null,null,null,{"$f":"AVERAGE(C6:AE6)","v":3.4},{"$f":"(COUNTIF(C6:AE6,\"5\")+COUNTIF(C6:AE6,\"4\")*0.64+COUNTIF(C6:AE6,\"3\")*0.36+COUNTIF(C6:AE6,\"2\")*0.16)/(COUNTIF(C6:AE6,\"5\")+COUNTIF(C6:AE6,\"4\")+COUNTIF(C6:AE6,\"3\")+COUNTIF(C6:AE6,\"2\")+COUNTIF(C6:AE6,\"0\"))","v":0.47733333333333333},{"$f":"((5*COUNTIF(C6:AE6,\"5\"))+(4*COUNTIF(C6:AE6,\"4\")))/(5*(COUNTA(C6:AE6)-COUNTIF(C6:AE6,\"н\")))","v":0.28000000000000003},{"$f":"SUMIF(C91:AE91,\">0\",C91:AE91)/(COUNTIF(C6:AE6,\">0\")+COUNTIF(C6:AE6,\"=0\")+COUNTIF(C6:AE6,\"Н\"))","v":16.2}]
[{"$f":"A6+1","v":2},{"$f":"СпискиКлассы!O5","v":"Андронов Дмитрий"},4,4,5,4,null,null,4,4,4,null,null,5,5,null,4,null,null,4,4,4,4,null,null,5,null,null,null,null,null,{"$f":"AVERAGE(C7:AE7)","v":4.2666666666666666},{"$f":"(COUNTIF(C7:AE7,\"5\")+COUNTIF(C7:AE7,\"4\")*0.64+COUNTIF(C7:AE7,\"3\")*0.36+COUNTIF(C7:AE7,\"2\")*0.16)/(COUNTIF(C7:AE7,\"5\")+COUNTIF(C7:AE7,\"4\")+COUNTIF(C7:AE7,\"3\")+COUNTIF(C7:AE7,\"2\")+COUNTIF(C7:AE7,\"0\"))","v":0.73599999999999999},{"$f":"((5*COUNTIF(C7:AE7,\"5\"))+(4*COUNTIF(C7:AE7,\"4\")))/(5*(COUNTA(C7:AE7)-COUNTIF(C7:AE7,\"н\")))","v":0.85333333333333339},20.333333333333332]
[3,{"$f":"СпискиКлассы!O6","v":"Апальков Александр"},3,3,4,3,null,null,4,3,3,null,null,5,3,null,5,null,null,3,3,3,4,null,null,3,null,null,null,null,null,{"$f":"AVERAGE(C8:AE8)","v":3.4666666666666668},0.5013333333333333,0.29333333333333333,16.466666666666665]
[4,{"$f":"СпискиКлассы!O7","v":"Аргуткин Роман"},4,4,4,4,null,null,5,4,4,null,null,5,5,null,5,null,null,4,4,4,4,null,null,4,null,null,null,null,null,4.2666666666666666,0.73599999999999999,0.85333333333333339,20.2]
[5,{"$f":"СпискиКлассы!O8","v":"Барабаш Максим"},4,4,4,4,null,null,4,4,4,null,null,5,4,null,4,null,null,4,4,4,4,null,null,4,null,null,null,null,null,4.0666666666666664,0.66400000000000003,0.81333333333333335,19.533333333333335]
[6,{"$f":"СпискиКлассы!O9","v":"Варфоломеев Роман"},4,4,4,4,null,null,4,4,4,null,null,5,5,null,5,null,null,4,4,4,4,null,null,4,null,null,null,null,null,4.2,0.71199999999999997,0.84,19.733333333333334]
[7,{"$f":"СпискиКлассы!O10","v":"Голумбиевский Илья"},3,3,3,4,null,null,4,3,4,null,null,4,3,null,4,null,null,4,3,3,4,null,null,3,null,null,null,null,null,3.4666666666666668,0.4906666666666667,0.37333333333333335,16.133333333333333]
[8,{"$f":"СпискиКлассы!O11","v":"Диодоров Данил"},3,3,3,3,null,null,4,3,3,null,null,5,4,null,4,null,null,3,3,3,3,null,null,4,null,null,null,null,null,3.4,0.47733333333333333,0.28000000000000003,15.6]
[9,{"$f":"СпискиКлассы!O12","v":"Ковалева Ксения"},4,4,4,4,null,null,4,4,4,null,null,5,5,null,4,null,null,4,4,4,4,null,null,4,null,null,null,null,null,4.1333333333333337,0.68800000000000006,0.82666666666666666,19.600000000000001]
[10,{"$f":"СпискиКлассы!O13","v":"Коноплев Виталий"},4,4,4,3,null,null,4,4,4,null,null,5,4,null,4,null,null,4,4,3,4,null,null,4,null,null,null,null,null,3.9333333333333331,0.62666666666666671,0.70666666666666667,18.866666666666667]
[11,{"$f":"СпискиКлассы!O14","v":"Костина Наталья"},4,4,5,4,null,null,5,4,4,null,null,5,5,null,4,null,null,4,4,4,4,null,null,5,null,null,null,null,null,4.333333333333333,0.76,0.8666666666666667,20.8]
[12,{"$f":"СпискиКлассы!O15","v":"Косякова Анастасия"},3,4,4,3,null,null,4,3,3,null,null,5,5,null,4,null,null,4,3,3,3,null,null,4,null,null,null,null,null,3.6666666666666665,0.55733333333333335,0.45333333333333331,16.866666666666667]
[13,{"$f":"СпискиКлассы!O16","v":"Красненков Сергей"},5,5,5,5,null,null,5,5,5,null,null,5,5,null,5,null,null,5,5,5,5,null,null,5,null,null,null,null,null,5,1,1,24.333333333333332]
[14,{"$f":"СпискиКлассы!O17","v":"Кузнецов Данил"},3,3,3,3,null,null,4,3,4,null,null,5,5,null,5,null,null,3,3,4,4,null,null,4,null,null,null,null,null,3.7333333333333334,0.58133333333333337,0.46666666666666667,16.933333333333334]
[15,{"$f":"СпискиКлассы!O18","v":"Матвеева Елизавета"},4,4,3,3,null,null,5,4,4,null,null,5,5,null,4,null,null,4,5,4,4,null,null,5,null,null,null,null,null,4.2,0.72266666666666679,0.76,20.333333333333332]
[16,{"$f":"СпискиКлассы!O19","v":"Михеева Евгения"},4,5,5,3,null,null,4,4,4,null,null,5,5,null,4,null,null,5,4,3,4,null,null,4,null,null,null,null,null,4.2,0.72266666666666679,0.76,20.133333333333333]
[17,{"$f":"СпискиКлассы!O20","v":"Никифоров Кирилл"},3,3,3,3,null,null,3,3,3,null,null,4,3,null,3,null,null,3,3,3,3,null,null,3,null,null,null,null,null,3.0666666666666669,0.37866666666666665,5.3333333333333337E-2,14.666666666666666]
[18,{"$f":"СпискиКлассы!O21","v":"Павлушев Герман"},3,3,3,3,null,null,3,3,3,null,null,4,3,null,4,null,null,3,3,3,3,null,null,3,null,null,null,null,null,3.1333333333333333,0.39733333333333332,0.10666666666666667,14.8]
[19,{"$f":"СпискиКлассы!O22","v":"Пироган Никита"},5,5,5,5,null,null,5,5,5,null,null,5,5,null,5,null,null,5,5,5,5,null,null,5,null,null,null,null,null,5,1,1,24.333333333333332]
[20,{"$f":"СпискиКлассы!O23","v":"Пяткова Екатерина"},4,3,3,3,null,null,4,3,3,null,null,5,4,null,3,null,null,3,3,3,4,null,null,4,null,null,null,null,null,3.4666666666666668,0.49599999999999994,0.33333333333333331,16.399999999999999]
[21,{"$f":"СпискиКлассы!O24","v":"Сидоренко Владислав"},4,4,4,4,null,null,5,4,5,null,null,5,5,null,4,null,null,4,4,4,4,null,null,5,null,null,null,null,null,4.333333333333333,0.76,0.8666666666666667,20.266666666666666]
[22,{"$f":"СпискиКлассы!O25","v":"Слугина Валерия"},4,4,3,3,null,null,5,3,3,null,null,5,4,null,3,null,null,3,4,3,4,null,null,4,null,null,null,null,null,3.6666666666666665,0.55733333333333335,0.45333333333333331,17.733333333333334]
[23,{"$f":"СпискиКлассы!O26","v":"Тянутова Анна"},5,5,4,4,null,null,5,4,4,null,null,5,5,null,4,null,null,4,4,4,4,null,null,5,null,null,null,null,null,4.4000000000000004,0.78400000000000003,0.88,21]
[24,{"$f":"СпискиКлассы!O27","v":"Футчик Дмитрий"},3,3,4,3,null,null,4,3,3,null,null,5,3,null,3,null,null,3,3,3,4,null,null,4,null,null,null,null,null,3.4,0.47733333333333333,0.28000000000000003,16.399999999999999]
[25,{"$f":"СпискиКлассы!O28","v":"Храпова Алена"},3,3,4,3,null,null,4,4,4,null,null,5,3,null,4,null,null,4,4,3,3,null,null,4,null,null,null,null,null,3.6666666666666665,0.55200000000000005,0.49333333333333335,17.600000000000001]
[26,{"$f":"СпискиКлассы!O29","v":"Чернышев Максим"},3,3,3,3,null,null,3,3,3,null,null,4,3,null,3,null,null,3,3,3,3,null,null,3,null,null,null,null,null,3.0666666666666669,0.37866666666666665,5.3333333333333337E-2,14.666666666666666]
[27,{"$f":"СпискиКлассы!O30","v":"Чесноков Павел"},3,3,3,3,null,null,4,3,3,null,null,5,3,null,4,null,null,3,3,3,4,null,null,4,null,null,null,null,null,3.4,0.47733333333333333,0.28000000000000003,16]
[28,{"$f":"СпискиКлассы!O31","v":"Шеховец Настя"},3,4,3,3,null,null,4,4,4,null,null,5,5,null,4,null,null,4,4,3,4,null,null,4,null,null,null,null,null,3.8666666666666667,0.61333333333333329,0.61333333333333329,17.933333333333334]
[29,{"$f":"СпискиКлассы!O32","v":"Шипицин Максим"},3,3,3,3,null,null,3,3,3,null,null,4,3,null,4,null,null,3,3,3,3,null,null,3,null,null,null,null,null,3.1333333333333333,0.39733333333333332,0.10666666666666667,14.8]
[30,{"$f":"СпискиКлассы!O33","v":"Юрьев Сергей"},3,3,3,3,null,null,4,3,3,null,null,5,3,null,5,null,null,3,3,3,3,null,null,3,null,null,null,null,null,3.3333333333333335,0.46400000000000008,0.18666666666666668,{"$f":"SUMIF(C130:AE130,\">0\",C130:AE130)/(COUNTIF(C35:AE35,\">0\")+COUNTIF(C35:AE35,\"=0\")+COUNTIF(C35:AE35,\"Н\"))","v":15.466666666666667}]
[" Фамилия и инициалы                                           учителя - предметника",null,{"$f":"Нагрузка!C18","v":"Годова"},{"$f":"Нагрузка!D18","v":"Годова"},{"$f":"Нагрузка!E18","v":0},{"$f":"Нагрузка!F18","v":"Желтова"},{"$f":"Нагрузка!G18","v":0},{"$f":"Нагрузка!H18","v":0},{"$f":"Нагрузка!I18","v":0},{"$f":"Нагрузка!J18","v":"Быкова"},{"$f":"Нагрузка!K18","v":"Быкова"},{"$f":"Нагрузка!L18","v":0},{"$f":"Нагрузка!M18","v":"Терюшкова"},{"$f":"Нагрузка!N18","v":"Заворина"},{"$f":"Нагрузка!O18","v":"Девицын"},{"$f":"Нагрузка!P18","v":"Потьканова"},{"$f":"Нагрузка!Q18","v":"Перфильев"},{"$f":"Нагрузка!R18","v":"Пудренко"},{"$f":"Нагрузка!S18","v":"Каплан"},{"$f":"Нагрузка!T18","v":"Сидоренко"},{"$f":"Нагрузка!U18","v":"Горнышкова"},{"$f":"Нагрузка!V18","v":0},{"$f":"Нагрузка!W18","v":"Сидоренко"},{"$f":"Нагрузка!X18","v":0},{"$f":"Нагрузка!Y18","v":0},{"$f":"Нагрузка!Z18","v":0},{"$f":"Нагрузка!AA18","v":0},{"$f":"Нагрузка!AB18","v":0},{"$f":"Нагрузка!AC14","v":0},{"$f":"Нагрузка!AD14","v":0},{"$f":"Нагрузка!AE14","v":0},"Показатели результатов учебной деятельности в  целом по классу:"]
["Результаты учебной деятельности класса","Количество  \"5\":",{"$f":"COUNTIF(C6:C35,5)","v":3},{"$f":"COUNTIF(D6:D35,5)","v":4},5,2,0,0,8,2,3,0,0,25,14,0,7,0,0,3,3,2,2,0,0,7,0,0,0,0,0,{"$f":"SUM(C37:AE37)","v":90}]
[null,"Количество  \"4\":",{"$f":"COUNTIF(C6:C35,4)","v":12},{"$f":"COUNTIF(D6:D35,4)","v":12},11,9,0,0,18,13,14,0,0,5,5,0,18,0,0,15,13,10,20,0,0,15,0,0,0,0,0,190]
[null,"Количество  \"3\":",{"$f":"COUNTIF(C6:C35,3)","v":15},{"$f":"COUNTIF(D6:D35,3)","v":14},14,19,0,0,4,15,13,0,0,0,11,0,5,0,0,12,14,18,8,0,0,8,0,0,0,0,0,170]
[null,"Количество  \"2\":",{"$f":"COUNTIF(C6:C35,2)","v":0},{"$f":"COUNTIF(D6:D35,2)","v":0},0,0,0,0,0,0,0,0,0,0,0,0,0,0,0,0,0,0,0,0,0,0,0,0,0,0,0,0]
[null,"Не аттестовано:",{"$f":"COUNTIF(C6:C35,0)","v":0},{"$f":"COUNTIF(D6:D35,0)","v":0},0,0,0,0,0,0,0,0,0,0,0,0,0,0,0,0,0,0,0,0,0,0,0,0,0,0,0,0]
[null,"Освобождено:",{"$f":"COUNTIF(C6:C35,\"н\")","v":0},{"$f":"COUNTIF(D6:D35,\"н\")","v":0},0,0,0,0,0,0,0,0,0,0,0,0,0,0,0,0,0,0,0,0,0,0,0,0,0,0,0,0]
[null,"Успеваемость:",{"$f":"(C37+C38+C39)/(C37+C38+C39+C40+C41)","v":1},{"$f":"(D37+D38+D39)/(D37+D38+D39+D40+D41)","v":1},1,1,{"$error":"#DIV/0!"},{"$error":"#DIV/0!"},1,1,1,{"$error":"#DIV/0!"},{"$error":"#DIV/0!"},1,1,{"$error":"#DIV/0!"},1,{"$error":"#DIV/0!"},{"$error":"#DIV/0!"},1,1,1,1,{"$error":"#DIV/0!"},{"$error":"#DIV/0!"},1,{"$error":"#DIV/0!"},{"$error":"#DIV/0!"},{"$error":"#DIV/0!"},{"$error":"#DIV/0!"},{"$error":"#DIV/0!"},{"$f":"('8 А(2)'!D2-'8 А(2)'!C43-'8 А(2)'!C53)/'8 А(2)'!D2","v":1}]
[null,"Качество знаний:",{"$f":"(C37+C38)/(C37+C38+C39+C40+C41)","v":0.5},{"$f":"(D37+D38)/(D37+D38+D39+D40+D41)","v":0.53333333333333333},0.53333333333333333,0.36666666666666664,{"$error":"#DIV/0!"},{"$error":"#DIV/0!"},0.8666666666666667,0.5,0.56666666666666665,{"$error":"#DIV/0!"},{"$error":"#DIV/0!"},1,0.6333333333333333,{"$error":"#DIV/0!"},0.83333333333333337,{"$error":"#DIV/0!"},{"$error":"#DIV/0!"},0.6,0.53333333333333333,0.4,0.73333333333333328,{"$error":"#DIV/0!"},{"$error":"#DIV/0!"},0.73333333333333328,{"$error":"#DIV/0!"},{"$error":"#DIV/0!"},{"$error":"#DIV/0!"},{"$error":"#DIV/0!"},{"$error":"#DIV/0!"},{"$f":"('8 А(2)'!C3+'8 А(2)'!C18)/'8 А(2)'!D2","v":0.33333333333333331}]
[null,"Степень обученности:",{"$f":"(C37+C38*0.64+C39*0.36+C40*0.16)/(C37+C38+C39+C40+C41)","v":0.53599999999999992},{"$f":"(D37+D38*0.64+D39*0.36+D40*0.16)/(D37+D38+D39+D40+D41)","v":0.55733333333333335},0.56933333333333325,0.48666666666666664,{"$error":"#DIV/0!"},{"$error":"#DIV/0!"},0.69866666666666666,0.52399999999999991,0.55466666666666664,{"$error":"#DIV/0!"},{"$error":"#DIV/0!"},0.94,0.70533333333333337,{"$error":"#DIV/0!"},0.67733333333333334,{"$error":"#DIV/0!"},{"$error":"#DIV/0!"},0.56400000000000006,0.54533333333333334,0.49599999999999994,0.58933333333333338,{"$error":"#DIV/0!"},{"$error":"#DIV/0!"},0.64933333333333332,{"$error":"#DIV/0!"},{"$error":"#DIV/0!"},{"$error":"#DIV/0!"},{"$error":"#DIV/0!"},{"$error":"#DIV/0!"},{"$f":"(AF37+AF38*0.64+AF39*0.36+AF40*0.16)/(AF37+AF38+AF39+AF40+AF41)","v":0.60622222222222222}]
[null,"Средний балл:              ",{"$f":"(C37*5+C38*4+C39*3+C40*2)/(C37+C38+C39+C40+C41)","v":3.6},{"$f":"(D37*5+D38*4+D39*3+D40*2)/(D37+D38+D39+D40+D41)","v":3.6666666666666665},3.7,3.4333333333333331,{"$error":"#DIV/0!"},{"$error":"#DIV/0!"},4.1333333333333337,3.5666666666666669,3.6666666666666665,{"$error":"#DIV/0!"},{"$error":"#DIV/0!"},4.833333333333333,4.0999999999999996,{"$error":"#DIV/0!"},4.0666666666666664,{"$error":"#DIV/0!"},{"$error":"#DIV/0!"},3.7,3.6333333333333333,3.4666666666666668,3.8,{"$error":"#DIV/0!"},{"$error":"#DIV/0!"},3.9666666666666668,{"$error":"#DIV/0!"},{"$error":"#DIV/0!"},{"$error":"#DIV/0!"},{"$error":"#DIV/0!"},{"$error":"#DIV/0!"},{"$f":"(AF37*5+AF38*4+AF39*3+AF40*2)/(AF37+AF38+AF39+AF40+AF41)","v":3.8222222222222224}]
[null,"Качество успеваемости:",{"$f":"(5*C37+4*C38)*0.2/(SUM(C37+C38+C39+C40+C41))","v":0.42000000000000004},{"$f":"(5*COUNTIF(D6:D35,5)+4*COUNTIF(D6:D35,4))*0.2/(COUNTA(D6:D35)-COUNTIF(D6:D35,\"н\"))","v":0.45333333333333337},0.46,0.3066666666666667,{"$error":"#DIV/0!"},{"$error":"#DIV/0!"},0.7466666666666667,0.41333333333333333,0.47333333333333338,{"$error":"#DIV/0!"},{"$error":"#DIV/0!"},0.96666666666666667,0.6,{"$error":"#DIV/0!"},0.71333333333333337,{"$error":"#DIV/0!"},{"$error":"#DIV/0!"},0.5,0.44666666666666666,0.33333333333333331,0.6,{"$error":"#DIV/0!"},{"$error":"#DIV/0!"},{"$f":"(5*COUNTIF(Z6:Z35,5)+4*COUNTIF(Z6:Z35,4))*0.2/(COUNTA(Z6:Z35)-COUNTIF(Z6:Z35,\"н\"))","v":0.6333333333333333},{"$error":"#DIV/0!"},{"$error":"#DIV/0!"},{"$error":"#DIV/0!"},{"$error":"#DIV/0!"},{"$error":"#DIV/0!"},{"$f":"(5*COUNTIF(C6:AE35,5)+4*COUNTIF(C6:AE35,4))*0.2/(COUNTA(C6:AE35)-COUNTIF(C6:AE35,\"н\"))","v":0.5377777777777778}]
["Выполнено с помощью программы статистического анализа результатов учебной деятельности",null,null,null,null,null,null,null,null,null,null,null,null,null,null,null,null,null,null,null,null,null,null,null,null,null,null,null,{"$f":"Титул!G31","v":"PSORUD-Klass.v.04.11.demo"},null,null,null,null,null,"3+"]
[]
[]
[]
[]
[]
[]
[]
[]
[]
[]
[]
[]
[]
[]
[]
[]
[]
[]
[]
[]
[]
[]
[]
[]
[]
[]
[]
[]
[]
[]
[]
[]
[]
[]
[]
[]
[]
[]
[]
[]
[]
[null,"Коэф.трудн.предмета",{"$f":"VLOOKUP(C$5,ШкалаТрудн!$C$5:$N$34,LEFT($Z$2,2)+1,0)","v":7},{"$f":"VLOOKUP(D$5,ШкалаТрудн!$C$5:$N$34,LEFT($Z$2,2)+1,0)","v":4},{"$f":"VLOOKUP(E$5,ШкалаТрудн!$C$5:$N$34,LEFT($Z$2,2)+1,0)","v":8},{"$f":"VLOOKUP(F$5,ШкалаТрудн!$C$5:$N$34,LEFT($Z$2,2)+1,0)","v":0},{"$f":"VLOOKUP(G$5,ШкалаТрудн!$C$5:$N$34,LEFT($Z$2,2)+1,0)","v":9},{"$f":"VLOOKUP(H$5,ШкалаТрудн!$C$5:$N$34,LEFT($Z$2,2)+1,0)","v":10},{"$f":"VLOOKUP(I$5,ШкалаТрудн!$C$5:$N$34,LEFT($Z$2,2)+1,0)","v":7},{"$f":"VLOOKUP(J$5,ШкалаТрудн!$C$5:$N$34,LEFT($Z$2,2)+1,0)","v":8},{"$f":"VLOOKUP(K$5,ШкалаТрудн!$C$5:$N$34,LEFT($Z$2,2)+1,0)","v":0},{"$f":"VLOOKUP(L$5,ШкалаТрудн!$C$5:$N$34,LEFT($Z$2,2)+1,0)","v":{"$error":"#N/A"}},{"$f":"VLOOKUP(M$5,ШкалаТрудн!$C$5:$N$34,LEFT($Z$2,2)+1,0)","v":3},{"$f":"VLOOKUP(N$5,ШкалаТрудн!$C$5:$N$34,LEFT($Z$2,2)+1,0)","v":1},{"$f":"VLOOKUP(O$5,ШкалаТрудн!$C$5:$N$34,LEFT($Z$2,2)+1,0)","v":1},{"$f":"VLOOKUP(P$5,ШкалаТрудн!$C$5:$N$34,LEFT($Z$2,2)+1,0)","v":1},{"$f":"VLOOKUP(Q$5,ШкалаТрудн!$C$5:$N$34,LEFT($Z$2,2)+1,0)","v":2},{"$f":"VLOOKUP(R$5,ШкалаТрудн!$C$5:$N$34,LEFT($Z$2,2)+1,0)","v":8},{"$f":"VLOOKUP(S$5,ШкалаТрудн!$C$5:$N$34,LEFT($Z$2,2)+1,0)","v":8},{"$f":"VLOOKUP(T$5,ШкалаТрудн!$C$5:$N$34,LEFT($Z$2,2)+1,0)","v":6},{"$f":"VLOOKUP(U$5,ШкалаТрудн!$C$5:$N$34,LEFT($Z$2,2)+1,0)","v":9},{"$f":"VLOOKUP(V$5,ШкалаТрудн!$C$5:$N$34,LEFT($Z$2,2)+1,0)","v":10},{"$f":"VLOOKUP(W$5,ШкалаТрудн!$C$5:$N$34,LEFT($Z$2,2)+1,0)","v":7},{"$f":"VLOOKUP(X$5,ШкалаТрудн!$C$5:$N$34,LEFT($Z$2,2)+1,0)","v":5},{"$f":"VLOOKUP(Y$5,ШкалаТрудн!$C$5:$N$34,LEFT($Z$2,2)+1,0)","v":2},{"$f":"VLOOKUP(Z$5,ШкалаТрудн!$C$5:$N$34,LEFT($Z$2,2)+1,0)","v":3},{"$f":"VLOOKUP(AA$5,ШкалаТрудн!$C$5:$N$34,LEFT($Z$2,2)+1,0)","v":0},{"$f":"VLOOKUP(AB$5,ШкалаТрудн!$C$5:$N$34,LEFT($Z$2,2)+1,0)","v":{"$error":"#N/A"}},{"$f":"VLOOKUP(AC$5,ШкалаТрудн!$C$5:$N$34,LEFT($Z$2,2)+1,0)","v":{"$error":"#N/A"}},{"$f":"VLOOKUP(AD$5,ШкалаТрудн!$C$5:$N$34,LEFT($Z$2,2)+1,0)","v":{"$error":"#N/A"}},{"$f":"VLOOKUP(AE$5,ШкалаТрудн!$C$5:$N$34,LEFT($Z$2,2)+1,0)","v":{"$error":"#N/A"}}]
[null,null,{"$f":"C6*C$90","v":21},12,24,0,0,0,28,24,0,{"$error":"#N/A"},0,5,3,0,8,0,0,24,27,30,28,0,0,9,0,{"$error":"#N/A"},{"$error":"#N/A"},{"$error":"#N/A"},{"$error":"#N/A"}]
[null,null,{"$f":"C7*C$90","v":28},16,40,0,0,0,28,32,0,{"$error":"#N/A"},0,5,5,0,8,0,0,24,36,40,28,0,0,15,0,{"$error":"#N/A"},{"$error":"#N/A"},{"$error":"#N/A"},{"$error":"#N/A"}]
[null,null,{"$f":"C8*C$90","v":21},12,32,0,0,0,28,24,0,{"$error":"#N/A"},0,5,3,0,10,0,0,18,27,30,28,0,0,9,0,{"$error":"#N/A"},{"$error":"#N/A"},{"$error":"#N/A"},{"$error":"#N/A"}]
[null,null,{"$f":"C9*C$90","v":28},16,32,0,0,0,35,32,0,{"$error":"#N/A"},0,5,5,0,10,0,0,24,36,40,28,0,0,12,0,{"$error":"#N/A"},{"$error":"#N/A"},{"$error":"#N/A"},{"$error":"#N/A"}]
[null,null,{"$f":"C10*C$90","v":28},16,32,0,0,0,28,32,0,{"$error":"#N/A"},0,5,4,0,8,0,0,24,36,40,28,0,0,12,0,{"$error":"#N/A"},{"$error":"#N/A"},{"$error":"#N/A"},{"$error":"#N/A"}]
[null,null,{"$f":"C11*C$90","v":28},16,32,0,0,0,28,32,0,{"$error":"#N/A"},0,5,5,0,10,0,0,24,36,40,28,0,0,12,0,{"$error":"#N/A"},{"$error":"#N/A"},{"$error":"#N/A"},{"$error":"#N/A"}]
[null,null,{"$f":"C12*C$90","v":21},12,24,0,0,0,28,24,0,{"$error":"#N/A"},0,4,3,0,8,0,0,24,27,30,28,0,0,9,0,{"$error":"#N/A"},{"$error":"#N/A"},{"$error":"#N/A"},{"$error":"#N/A"}]
[null,null,{"$f":"C13*C$90","v":21},12,24,0,0,0,28,24,0,{"$error":"#N/A"},0,5,4,0,8,0,0,18,27,30,21,0,0,12,0,{"$error":"#N/A"},{"$error":"#N/A"},{"$error":"#N/A"},{"$error":"#N/A"}]
[null,null,{"$f":"C14*C$90","v":28},16,32,0,0,0,28,32,0,{"$error":"#N/A"},0,5,5,0,8,0,0,24,36,40,28,0,0,12,0,{"$error":"#N/A"},{"$error":"#N/A"},{"$error":"#N/A"},{"$error":"#N/A"}]
[null,null,{"$f":"C15*C$90","v":28},16,32,0,0,0,28,32,0,{"$error":"#N/A"},0,5,4,0,8,0,0,24,36,30,28,0,0,12,0,{"$error":"#N/A"},{"$error":"#N/A"},{"$error":"#N/A"},{"$error":"#N/A"}]
[null,null,{"$f":"C16*C$90","v":28},16,40,0,0,0,35,32,0,{"$error":"#N/A"},0,5,5,0,8,0,0,24,36,40,28,0,0,15,0,{"$error":"#N/A"},{"$error":"#N/A"},{"$error":"#N/A"},{"$error":"#N/A"}]
[null,null,{"$f":"C17*C$90","v":21},16,32,0,0,0,28,24,0,{"$error":"#N/A"},0,5,5,0,8,0,0,24,27,30,21,0,0,12,0,{"$error":"#N/A"},{"$error":"#N/A"},{"$error":"#N/A"},{"$error":"#N/A"}]
[null,null,{"$f":"C18*C$90","v":35},20,40,0,0,0,35,40,0,{"$error":"#N/A"},0,5,5,0,10,0,0,30,45,50,35,0,0,15,0,{"$error":"#N/A"},{"$error":"#N/A"},{"$error":"#N/A"},{"$error":"#N/A"}]
[null,null,{"$f":"C19*C$90","v":21},12,24,0,0,0,28,24,0,{"$error":"#N/A"},0,5,5,0,10,0,0,18,27,40,28,0,0,12,0,{"$error":"#N/A"},{"$error":"#N/A"},{"$error":"#N/A"},{"$error":"#N/A"}]
[null,null,{"$f":"C20*C$90","v":28},16,24,0,0,0,35,32,0,{"$error":"#N/A"},0,5,5,0,8,0,0,24,45,40,28,0,0,15,0,{"$error":"#N/A"},{"$error":"#N/A"},{"$error":"#N/A"},{"$error":"#N/A"}]
[null,null,{"$f":"C21*C$90","v":28},20,40,0,0,0,28,32,0,{"$error":"#N/A"},0,5,5,0,8,0,0,30,36,30,28,0,0,12,0,{"$error":"#N/A"},{"$error":"#N/A"},{"$error":"#N/A"},{"$error":"#N/A"}]
[null,null,{"$f":"C22*C$90","v":21},12,24,0,0,0,21,24,0,{"$error":"#N/A"},0,4,3,0,6,0,0,18,27,30,21,0,0,9,0,{"$error":"#N/A"},{"$error":"#N/A"},{"$error":"#N/A"},{"$error":"#N/A"}]
[null,null,{"$f":"C23*C$90","v":21},12,24,0,0,0,21,24,0,{"$error":"#N/A"},0,4,3,0,8,0,0,18,27,30,21,0,0,9,0,{"$error":"#N/A"},{"$error":"#N/A"},{"$error":"#N/A"},{"$error":"#N/A"}]
[null,null,{"$f":"C24*C$90","v":35},20,40,0,0,0,35,40,0,{"$error":"#N/A"},0,5,5,0,10,0,0,30,45,50,35,0,0,15,0,{"$error":"#N/A"},{"$error":"#N/A"},{"$error":"#N/A"},{"$error":"#N/A"}]
[null,null,{"$f":"C25*C$90","v":28},12,24,0,0,0,28,24,0,{"$error":"#N/A"},0,5,4,0,6,0,0,18,27,30,28,0,0,12,0,{"$error":"#N/A"},{"$error":"#N/A"},{"$error":"#N/A"},{"$error":"#N/A"}]
[null,null,{"$f":"C26*C$90","v":28},16,32,0,0,0,35,32,0,{"$error":"#N/A"},0,5,5,0,8,0,0,24,36,40,28,0,0,15,0,{"$error":"#N/A"},{"$error":"#N/A"},{"$error":"#N/A"},{"$error":"#N/A"}]
[null,null,{"$f":"C27*C$90","v":28},16,24,0,0,0,35,24,0,{"$error":"#N/A"},0,5,4,0,6,0,0,18,36,30,28,0,0,12,0,{"$error":"#N/A"},{"$error":"#N/A"},{"$error":"#N/A"},{"$error":"#N/A"}]
[null,null,{"$f":"C28*C$90","v":35},20,32,0,0,0,35,32,0,{"$error":"#N/A"},0,5,5,0,8,0,0,24,36,40,28,0,0,15,0,{"$error":"#N/A"},{"$error":"#N/A"},{"$error":"#N/A"},{"$error":"#N/A"}]
[null,null,{"$f":"C29*C$90","v":21},12,32,0,0,0,28,24,0,{"$error":"#N/A"},0,5,3,0,6,0,0,18,27,30,28,0,0,12,0,{"$error":"#N/A"},{"$error":"#N/A"},{"$error":"#N/A"},{"$error":"#N/A"}]
[null,null,{"$f":"C30*C$90","v":21},12,32,0,0,0,28,32,0,{"$error":"#N/A"},0,5,3,0,8,0,0,24,36,30,21,0,0,12,0,{"$error":"#N/A"},{"$error":"#N/A"},{"$error":"#N/A"},{"$error":"#N/A"}]
[null,null,{"$f":"C31*C$90","v":21},12,24,0,0,0,21,24,0,{"$error":"#N/A"},0,4,3,0,6,0,0,18,27,30,21,0,0,9,0,{"$error":"#N/A"},{"$error":"#N/A"},{"$error":"#N/A"},{"$error":"#N/A"}]
[null,null,{"$f":"C32*C$90","v":21},12,24,0,0,0,28,24,0,{"$error":"#N/A"},0,5,3,0,8,0,0,18,27,30,28,0,0,12,0,{"$error":"#N/A"},{"$error":"#N/A"},{"$error":"#N/A"},{"$error":"#N/A"}]
[null,null,{"$f":"C33*C$90","v":21},16,24,0,0,0,28,32,0,{"$error":"#N/A"},0,5,5,0,8,0,0,24,36,30,28,0,0,12,0,{"$error":"#N/A"},{"$error":"#N/A"},{"$error":"#N/A"},{"$error":"#N/A"}]
[null,null,{"$f":"C34*C$90","v":21},12,24,0,0,0,21,24,0,{"$error":"#N/A"},0,4,3,0,8,0,0,18,27,30,21,0,0,9,0,{"$error":"#N/A"},{"$error":"#N/A"},{"$error":"#N/A"},{"$error":"#N/A"}]
[null,null,{"$f":"#REF!*C$90","v":{"$error":"#REF!"}},{"$f":"#REF!*D$90","v":{"$error":"#REF!"}},{"$f":"#REF!*E$90","v":{"$error":"#REF!"}},{"$f":"#REF!*F$90","v":{"$error":"#REF!"}},{"$f":"#REF!*G$90","v":{"$error":"#REF!"}},{"$f":"#REF!*H$90","v":{"$error":"#REF!"}},{"$f":"#REF!*I$90","v":{"$error":"#REF!"}},{"$f":"#REF!*J$90","v":{"$error":"#REF!"}},{"$f":"#REF!*K$90","v":{"$error":"#REF!"}},{"$f":"#REF!*L$90","v":{"$error":"#REF!"}},{"$f":"#REF!*M$90","v":{"$error":"#REF!"}},{"$f":"#REF!*N$90","v":{"$error":"#REF!"}},{"$f":"#REF!*O$90","v":{"$error":"#REF!"}},{"$f":"#REF!*P$90","v":{"$error":"#REF!"}},{"$f":"#REF!*Q$90","v":{"$error":"#REF!"}},{"$f":"#REF!*R$90","v":{"$error":"#REF!"}},{"$f":"#REF!*S$90","v":{"$error":"#REF!"}},{"$f":"#REF!*T$90","v":{"$error":"#REF!"}},{"$f":"#REF!*U$90","v":{"$error":"#REF!"}},{"$f":"#REF!*V$90","v":{"$error":"#REF!"}},{"$f":"#REF!*W$90","v":{"$error":"#REF!"}},{"$f":"#REF!*X$90","v":{"$error":"#REF!"}},{"$f":"#REF!*Y$90","v":{"$error":"#REF!"}},{"$f":"#REF!*Z$90","v":{"$error":"#REF!"}},{"$f":"#REF!*AA$90","v":{"$error":"#REF!"}},{"$f":"#REF!*AB$90","v":{"$error":"#REF!"}},{"$f":"#REF!*AC$90","v":{"$error":"#REF!"}},{"$f":"#REF!*AD$90","v":{"$error":"#REF!"}},{"$f":"#REF!*AE$90","v":{"$error":"#REF!"}}]
[null,null,{"$f":"#REF!*C$90","v":{"$error":"#REF!"}},{"$f":"#REF!*D$90","v":{"$error":"#REF!"}},{"$f":"#REF!*E$90","v":{"$error":"#REF!"}},{"$f":"#REF!*F$90","v":{"$error":"#REF!"}},{"$f":"#REF!*G$90","v":{"$error":"#REF!"}},{"$f":"#REF!*H$90","v":{"$error":"#REF!"}},{"$f":"#REF!*I$90","v":{"$error":"#REF!"}},{"$f":"#REF!*J$90","v":{"$error":"#REF!"}},{"$f":"#REF!*K$90","v":{"$error":"#REF!"}},{"$f":"#REF!*L$90","v":{"$error":"#REF!"}},{"$f":"#REF!*M$90","v":{"$error":"#REF!"}},{"$f":"#REF!*N$90","v":{"$error":"#REF!"}},{"$f":"#REF!*O$90","v":{"$error":"#REF!"}},{"$f":"#REF!*P$90","v":{"$error":"#REF!"}},{"$f":"#REF!*Q$90","v":{"$error":"#REF!"}},{"$f":"#REF!*R$90","v":{"$error":"#REF!"}},{"$f":"#REF!*S$90","v":{"$error":"#REF!"}},{"$f":"#REF!*T$90","v":{"$error":"#REF!"}},{"$f":"#REF!*U$90","v":{"$error":"#REF!"}},{"$f":"#REF!*V$90","v":{"$error":"#REF!"}},{"$f":"#REF!*W$90","v":{"$error":"#REF!"}},{"$f":"#REF!*X$90","v":{"$error":"#REF!"}},{"$f":"#REF!*Y$90","v":{"$error":"#REF!"}},{"$f":"#REF!*Z$90","v":{"$error":"#REF!"}},{"$f":"#REF!*AA$90","v":{"$error":"#REF!"}},{"$f":"#REF!*AB$90","v":{"$error":"#REF!"}},{"$f":"#REF!*AC$90","v":{"$error":"#REF!"}},{"$f":"#REF!*AD$90","v":{"$error":"#REF!"}},{"$f":"#REF!*AE$90","v":{"$error":"#REF!"}}]
[null,null,{"$f":"#REF!*C$90","v":{"$error":"#REF!"}},{"$f":"#REF!*D$90","v":{"$error":"#REF!"}},{"$f":"#REF!*E$90","v":{"$error":"#REF!"}},{"$f":"#REF!*F$90","v":{"$error":"#REF!"}},{"$f":"#REF!*G$90","v":{"$error":"#REF!"}},{"$f":"#REF!*H$90","v":{"$error":"#REF!"}},{"$f":"#REF!*I$90","v":{"$error":"#REF!"}},{"$f":"#REF!*J$90","v":{"$error":"#REF!"}},{"$f":"#REF!*K$90","v":{"$error":"#REF!"}},{"$f":"#REF!*L$90","v":{"$error":"#REF!"}},{"$f":"#REF!*M$90","v":{"$error":"#REF!"}},{"$f":"#REF!*N$90","v":{"$error":"#REF!"}},{"$f":"#REF!*O$90","v":{"$error":"#REF!"}},{"$f":"#REF!*P$90","v":{"$error":"#REF!"}},{"$f":"#REF!*Q$90","v":{"$error":"#REF!"}},{"$f":"#REF!*R$90","v":{"$error":"#REF!"}},{"$f":"#REF!*S$90","v":{"$error":"#REF!"}},{"$f":"#REF!*T$90","v":{"$error":"#REF!"}},{"$f":"#REF!*U$90","v":{"$error":"#REF!"}},{"$f":"#REF!*V$90","v":{"$error":"#REF!"}},{"$f":"#REF!*W$90","v":{"$error":"#REF!"}},{"$f":"#REF!*X$90","v":{"$error":"#REF!"}},{"$f":"#REF!*Y$90","v":{"$error":"#REF!"}},{"$f":"#REF!*Z$90","v":{"$error":"#REF!"}},{"$f":"#REF!*AA$90","v":{"$error":"#REF!"}},{"$f":"#REF!*AB$90","v":{"$error":"#REF!"}},{"$f":"#REF!*AC$90","v":{"$error":"#REF!"}},{"$f":"#REF!*AD$90","v":{"$error":"#REF!"}},{"$f":"#REF!*AE$90","v":{"$error":"#REF!"}}]
[null,null,{"$f":"#REF!*C$90","v":{"$error":"#REF!"}},{"$f":"#REF!*D$90","v":{"$error":"#REF!"}},{"$f":"#REF!*E$90","v":{"$error":"#REF!"}},{"$f":"#REF!*F$90","v":{"$error":"#REF!"}},{"$f":"#REF!*G$90","v":{"$error":"#REF!"}},{"$f":"#REF!*H$90","v":{"$error":"#REF!"}},{"$f":"#REF!*I$90","v":{"$error":"#REF!"}},{"$f":"#REF!*J$90","v":{"$error":"#REF!"}},{"$f":"#REF!*K$90","v":{"$error":"#REF!"}},{"$f":"#REF!*L$90","v":{"$error":"#REF!"}},{"$f":"#REF!*M$90","v":{"$error":"#REF!"}},{"$f":"#REF!*N$90","v":{"$error":"#REF!"}},{"$f":"#REF!*O$90","v":{"$error":"#REF!"}},{"$f":"#REF!*P$90","v":{"$error":"#REF!"}},{"$f":"#REF!*Q$90","v":{"$error":"#REF!"}},{"$f":"#REF!*R$90","v":{"$error":"#REF!"}},{"$f":"#REF!*S$90","v":{"$error":"#REF!"}},{"$f":"#REF!*T$90","v":{"$error":"#REF!"}},{"$f":"#REF!*U$90","v":{"$error":"#REF!"}},{"$f":"#REF!*V$90","v":{"$error":"#REF!"}},{"$f":"#REF!*W$90","v":{"$error":"#REF!"}},{"$f":"#REF!*X$90","v":{"$error":"#REF!"}},{"$f":"#REF!*Y$90","v":{"$error":"#REF!"}},{"$f":"#REF!*Z$90","v":{"$error":"#REF!"}},{"$f":"#REF!*AA$90","v":{"$error":"#REF!"}},{"$f":"#REF!*AB$90","v":{"$error":"#REF!"}},{"$f":"#REF!*AC$90","v":{"$error":"#REF!"}},{"$f":"#REF!*AD$90","v":{"$error":"#REF!"}},{"$f":"#REF!*AE$90","v":{"$error":"#REF!"}}]
[null,null,{"$f":"#REF!*C$90","v":{"$error":"#REF!"}},{"$f":"#REF!*D$90","v":{"$error":"#REF!"}},{"$f":"#REF!*E$90","v":{"$error":"#REF!"}},{"$f":"#REF!*F$90","v":{"$error":"#REF!"}},{"$f":"#REF!*G$90","v":{"$error":"#REF!"}},{"$f":"#REF!*H$90","v":{"$error":"#REF!"}},{"$f":"#REF!*I$90","v":{"$error":"#REF!"}},{"$f":"#REF!*J$90","v":{"$error":"#REF!"}},{"$f":"#REF!*K$90","v":{"$error":"#REF!"}},{"$f":"#REF!*L$90","v":{"$error":"#REF!"}},{"$f":"#REF!*M$90","v":{"$error":"#REF!"}},{"$f":"#REF!*N$90","v":{"$error":"#REF!"}},{"$f":"#REF!*O$90","v":{"$error":"#REF!"}},{"$f":"#REF!*P$90","v":{"$error":"#REF!"}},{"$f":"#REF!*Q$90","v":{"$error":"#REF!"}},{"$f":"#REF!*R$90","v":{"$error":"#REF!"}},{"$f":"#REF!*S$90","v":{"$error":"#REF!"}},{"$f":"#REF!*T$90","v":{"$error":"#REF!"}},{"$f":"#REF!*U$90","v":{"$error":"#REF!"}},{"$f":"#REF!*V$90","v":{"$error":"#REF!"}},{"$f":"#REF!*W$90","v":{"$error":"#REF!"}},{"$f":"#REF!*X$90","v":{"$error":"#REF!"}},{"$f":"#REF!*Y$90","v":{"$error":"#REF!"}},{"$f":"#REF!*Z$90","v":{"$error":"#REF!"}},{"$f":"#REF!*AA$90","v":{"$error":"#REF!"}},{"$f":"#REF!*AB$90","v":{"$error":"#REF!"}},{"$f":"#REF!*AC$90","v":{"$error":"#REF!"}},{"$f":"#REF!*AD$90","v":{"$error":"#REF!"}},{"$f":"#REF!*AE$90","v":{"$error":"#REF!"}}]
[null,null,{"$f":"#REF!*C$90","v":{"$error":"#REF!"}},{"$f":"#REF!*D$90","v":{"$error":"#REF!"}},{"$f":"#REF!*E$90","v":{"$error":"#REF!"}},{"$f":"#REF!*F$90","v":{"$error":"#REF!"}},{"$f":"#REF!*G$90","v":{"$error":"#REF!"}},{"$f":"#REF!*H$90","v":{"$error":"#REF!"}},{"$f":"#REF!*I$90","v":{"$error":"#REF!"}},{"$f":"#REF!*J$90","v":{"$error":"#REF!"}},{"$f":"#REF!*K$90","v":{"$error":"#REF!"}},{"$f":"#REF!*L$90","v":{"$error":"#REF!"}},{"$f":"#REF!*M$90","v":{"$error":"#REF!"}},{"$f":"#REF!*N$90","v":{"$error":"#REF!"}},{"$f":"#REF!*O$90","v":{"$error":"#REF!"}},{"$f":"#REF!*P$90","v":{"$error":"#REF!"}},{"$f":"#REF!*Q$90","v":{"$error":"#REF!"}},{"$f":"#REF!*R$90","v":{"$error":"#REF!"}},{"$f":"#REF!*S$90","v":{"$error":"#REF!"}},{"$f":"#REF!*T$90","v":{"$error":"#REF!"}},{"$f":"#REF!*U$90","v":{"$error":"#REF!"}},{"$f":"#REF!*V$90","v":{"$error":"#REF!"}},{"$f":"#REF!*W$90","v":{"$error":"#REF!"}},{"$f":"#REF!*X$90","v":{"$error":"#REF!"}},{"$f":"#REF!*Y$90","v":{"$error":"#REF!"}},{"$f":"#REF!*Z$90","v":{"$error":"#REF!"}},{"$f":"#REF!*AA$90","v":{"$error":"#REF!"}},{"$f":"#REF!*AB$90","v":{"$error":"#REF!"}},{"$f":"#REF!*AC$90","v":{"$error":"#REF!"}},{"$f":"#REF!*AD$90","v":{"$error":"#REF!"}},{"$f":"#REF!*AE$90","v":{"$error":"#REF!"}}]
[null,null,{"$f":"#REF!*C$90","v":{"$error":"#REF!"}},{"$f":"#REF!*D$90","v":{"$error":"#REF!"}},{"$f":"#REF!*E$90","v":{"$error":"#REF!"}},{"$f":"#REF!*F$90","v":{"$error":"#REF!"}},{"$f":"#REF!*G$90","v":{"$error":"#REF!"}},{"$f":"#REF!*H$90","v":{"$error":"#REF!"}},{"$f":"#REF!*I$90","v":{"$error":"#REF!"}},{"$f":"#REF!*J$90","v":{"$error":"#REF!"}},{"$f":"#REF!*K$90","v":{"$error":"#REF!"}},{"$f":"#REF!*L$90","v":{"$error":"#REF!"}},{"$f":"#REF!*M$90","v":{"$error":"#REF!"}},{"$f":"#REF!*N$90","v":{"$error":"#REF!"}},{"$f":"#REF!*O$90","v":{"$error":"#REF!"}},{"$f":"#REF!*P$90","v":{"$error":"#REF!"}},{"$f":"#REF!*Q$90","v":{"$error":"#REF!"}},{"$f":"#REF!*R$90","v":{"$error":"#REF!"}},{"$f":"#REF!*S$90","v":{"$error":"#REF!"}},{"$f":"#REF!*T$90","v":{"$error":"#REF!"}},{"$f":"#REF!*U$90","v":{"$error":"#REF!"}},{"$f":"#REF!*V$90","v":{"$error":"#REF!"}},{"$f":"#REF!*W$90","v":{"$error":"#REF!"}},{"$f":"#REF!*X$90","v":{"$error":"#REF!"}},{"$f":"#REF!*Y$90","v":{"$error":"#REF!"}},{"$f":"#REF!*Z$90","v":{"$error":"#REF!"}},{"$f":"#REF!*AA$90","v":{"$error":"#REF!"}},{"$f":"#REF!*AB$90","v":{"$error":"#REF!"}},{"$f":"#REF!*AC$90","v":{"$error":"#REF!"}},{"$f":"#REF!*AD$90","v":{"$error":"#REF!"}},{"$f":"#REF!*AE$90","v":{"$error":"#REF!"}}]
[null,null,{"$f":"#REF!*C$90","v":{"$error":"#REF!"}},{"$f":"#REF!*D$90","v":{"$error":"#REF!"}},{"$f":"#REF!*E$90","v":{"$error":"#REF!"}},{"$f":"#REF!*F$90","v":{"$error":"#REF!"}},{"$f":"#REF!*G$90","v":{"$error":"#REF!"}},{"$f":"#REF!*H$90","v":{"$error":"#REF!"}},{"$f":"#REF!*I$90","v":{"$error":"#REF!"}},{"$f":"#REF!*J$90","v":{"$error":"#REF!"}},{"$f":"#REF!*K$90","v":{"$error":"#REF!"}},{"$f":"#REF!*L$90","v":{"$error":"#REF!"}},{"$f":"#REF!*M$90","v":{"$error":"#REF!"}},{"$f":"#REF!*N$90","v":{"$error":"#REF!"}},{"$f":"#REF!*O$90","v":{"$error":"#REF!"}},{"$f":"#REF!*P$90","v":{"$error":"#REF!"}},{"$f":"#REF!*Q$90","v":{"$error":"#REF!"}},{"$f":"#REF!*R$90","v":{"$error":"#REF!"}},{"$f":"#REF!*S$90","v":{"$error":"#REF!"}},{"$f":"#REF!*T$90","v":{"$error":"#REF!"}},{"$f":"#REF!*U$90","v":{"$error":"#REF!"}},{"$f":"#REF!*V$90","v":{"$error":"#REF!"}},{"$f":"#REF!*W$90","v":{"$error":"#REF!"}},{"$f":"#REF!*X$90","v":{"$error":"#REF!"}},{"$f":"#REF!*Y$90","v":{"$error":"#REF!"}},{"$f":"#REF!*Z$90","v":{"$error":"#REF!"}},{"$f":"#REF!*AA$90","v":{"$error":"#REF!"}},{"$f":"#REF!*AB$90","v":{"$error":"#REF!"}},{"$f":"#REF!*AC$90","v":{"$error":"#REF!"}},{"$f":"#REF!*AD$90","v":{"$error":"#REF!"}},{"$f":"#REF!*AE$90","v":{"$error":"#REF!"}}]
[null,null,{"$f":"#REF!*C$90","v":{"$error":"#REF!"}},{"$f":"#REF!*D$90","v":{"$error":"#REF!"}},{"$f":"#REF!*E$90","v":{"$error":"#REF!"}},{"$f":"#REF!*F$90","v":{"$error":"#REF!"}},{"$f":"#REF!*G$90","v":{"$error":"#REF!"}},{"$f":"#REF!*H$90","v":{"$error":"#REF!"}},{"$f":"#REF!*I$90","v":{"$error":"#REF!"}},{"$f":"#REF!*J$90","v":{"$error":"#REF!"}},{"$f":"#REF!*K$90","v":{"$error":"#REF!"}},{"$f":"#REF!*L$90","v":{"$error":"#REF!"}},{"$f":"#REF!*M$90","v":{"$error":"#REF!"}},{"$f":"#REF!*N$90","v":{"$error":"#REF!"}},{"$f":"#REF!*O$90","v":{"$error":"#REF!"}},{"$f":"#REF!*P$90","v":{"$error":"#REF!"}},{"$f":"#REF!*Q$90","v":{"$error":"#REF!"}},{"$f":"#REF!*R$90","v":{"$error":"#REF!"}},{"$f":"#REF!*S$90","v":{"$error":"#REF!"}},{"$f":"#REF!*T$90","v":{"$error":"#REF!"}},{"$f":"#REF!*U$90","v":{"$error":"#REF!"}},{"$f":"#REF!*V$90","v":{"$error":"#REF!"}},{"$f":"#REF!*W$90","v":{"$error":"#REF!"}},{"$f":"#REF!*X$90","v":{"$error":"#REF!"}},{"$f":"#REF!*Y$90","v":{"$error":"#REF!"}},{"$f":"#REF!*Z$90","v":{"$error":"#REF!"}},{"$f":"#REF!*AA$90","v":{"$error":"#REF!"}},{"$f":"#REF!*AB$90","v":{"$error":"#REF!"}},{"$f":"#REF!*AC$90","v":{"$error":"#REF!"}},{"$f":"#REF!*AD$90","v":{"$error":"#REF!"}},{"$f":"#REF!*AE$90","v":{"$error":"#REF!"}}]
[null,null,{"$f":"#REF!*C$90","v":{"$error":"#REF!"}},{"$f":"#REF!*D$90","v":{"$error":"#REF!"}},{"$f":"#REF!*E$90","v":{"$error":"#REF!"}},{"$f":"#REF!*F$90","v":{"$error":"#REF!"}},{"$f":"#REF!*G$90","v":{"$error":"#REF!"}},{"$f":"#REF!*H$90","v":{"$error":"#REF!"}},{"$f":"#REF!*I$90","v":{"$error":"#REF!"}},{"$f":"#REF!*J$90","v":{"$error":"#REF!"}},{"$f":"#REF!*K$90","v":{"$error":"#REF!"}},{"$f":"#REF!*L$90","v":{"$error":"#REF!"}},{"$f":"#REF!*M$90","v":{"$error":"#REF!"}},{"$f":"#REF!*N$90","v":{"$error":"#REF!"}},{"$f":"#REF!*O$90","v":{"$error":"#REF!"}},{"$f":"#REF!*P$90","v":{"$error":"#REF!"}},{"$f":"#REF!*Q$90","v":{"$error":"#REF!"}},{"$f":"#REF!*R$90","v":{"$error":"#REF!"}},{"$f":"#REF!*S$90","v":{"$error":"#REF!"}},{"$f":"#REF!*T$90","v":{"$error":"#REF!"}},{"$f":"#REF!*U$90","v":{"$error":"#REF!"}},{"$f":"#REF!*V$90","v":{"$error":"#REF!"}},{"$f":"#REF!*W$90","v":{"$error":"#REF!"}},{"$f":"#REF!*X$90","v":{"$error":"#REF!"}},{"$f":"#REF!*Y$90","v":{"$error":"#REF!"}},{"$f":"#REF!*Z$90","v":{"$error":"#REF!"}},{"$f":"#REF!*AA$90","v":{"$error":"#REF!"}},{"$f":"#REF!*AB$90","v":{"$error":"#REF!"}},{"$f":"#REF!*AC$90","v":{"$error":"#REF!"}},{"$f":"#REF!*AD$90","v":{"$error":"#REF!"}},{"$f":"#REF!*AE$90","v":{"$error":"#REF!"}}]
[null,null,{"$f":"C35*C$90","v":21},12,24,0,0,0,28,24,0,{"$error":"#N/A"},0,5,3,0,10,0,0,18,27,30,21,0,0,9,0,{"$error":"#N/A"},{"$error":"#N/A"},{"$error":"#N/A"},{"$error":"#N/A"}]
[null,null,{"$f":"#REF!*C$90","v":{"$error":"#REF!"}},{"$f":"#REF!*D$90","v":{"$error":"#REF!"}},{"$f":"#REF!*E$90","v":{"$error":"#REF!"}},{"$f":"#REF!*F$90","v":{"$error":"#REF!"}},{"$f":"#REF!*G$90","v":{"$error":"#REF!"}},{"$f":"#REF!*H$90","v":{"$error":"#REF!"}},{"$f":"#REF!*I$90","v":{"$error":"#REF!"}},{"$f":"#REF!*J$90","v":{"$error":"#REF!"}},{"$f":"#REF!*K$90","v":{"$error":"#REF!"}},{"$f":"#REF!*L$90","v":{"$error":"#REF!"}},{"$f":"#REF!*M$90","v":{"$error":"#REF!"}},{"$f":"#REF!*N$90","v":{"$error":"#REF!"}},{"$f":"#REF!*O$90","v":{"$error":"#REF!"}},{"$f":"#REF!*P$90","v":{"$error":"#REF!"}},{"$f":"#REF!*Q$90","v":{"$error":"#REF!"}},{"$f":"#REF!*R$90","v":{"$error":"#REF!"}},{"$f":"#REF!*S$90","v":{"$error":"#REF!"}},{"$f":"#REF!*T$90","v":{"$error":"#REF!"}},{"$f":"#REF!*U$90","v":{"$error":"#REF!"}},{"$f":"#REF!*V$90","v":{"$error":"#REF!"}},{"$f":"#REF!*W$90","v":{"$error":"#REF!"}},{"$f":"#REF!*X$90","v":{"$error":"#REF!"}},{"$f":"#REF!*Y$90","v":{"$error":"#REF!"}},{"$f":"#REF!*Z$90","v":{"$error":"#REF!"}},{"$f":"#REF!*AA$90","v":{"$error":"#REF!"}},{"$f":"#REF!*AB$90","v":{"$error":"#REF!"}},{"$f":"#REF!*AC$90","v":{"$error":"#REF!"}},{"$f":"#REF!*AD$90","v":{"$error":"#REF!"}},{"$f":"#REF!*AE$90","v":{"$error":"#REF!"}}]

{"sheet":"8 А(2)","index":32,"n_rows":82,"n_cols":8,"rows_kept":82,"cut":false,"hidden":true,"merged":[[42,0,42,1],[52,0,52,1],[67,0,67,1],[0,0,0,3],[0,4,0,7],[1,0,1,2],[2,0,2,1],[3,0,15,0],[17,0,17,1]]}
[{"$f":"Титул!B22","v":"8 А"},null,null,null,"Страница заполняется автоматически, без участия оператора!!!"]
["Всего учащихся в классе:",null,null,{"$f":"Титул!C22","v":30},"Фамилии, имена               учащихся","Учебные предметы","Фамилии и инициалы учителей","Пояснения, примечания, причины"]
["Учатся на  \"5\":",null,{"$f":"COUNTA(E3:E17)","v":2},1,"Красненков Сергей"]
[null,null,null,2,"Пироган Никита"]
[null,null,null,3]
[null,null,null,4]
[null,null,null,5]
[null,null,null,6]
[null,null,null,7]
[null,null,null,8]
[null,null,null,9]
[null,null,null,10]
[null,null,null,11]
[null,null,null,12]
[null,null,null,13]
[null,null,null,14]
[null,null,null,15]
["Учатся  на \"4\"и\"5\"",null,{"$f":"COUNTA(E18:E42)","v":8},1,"Андронов Дмитрий"]
[null," ",null,2,"Аргуткин Роман"]
[null,null,null,3,"Барабаш Максим"]
[null,null,null,4,"Варфоломеев Роман"]
[null,null,null,5,"Ковалева Ксения"]
[null,null,null,6,"Костина Наталья"]
[null,null,null,7,"Сидоренко Владислав"]
[null,null,null,8,"Тянутова Анна"]
[null,null,null,9]
[null,null,null,10]
[null,null,null,11]
[null,null,null,12]
[null,null,null,13]
[null,null,null,14]
[null,null,null,15]
[null,null,null,16]
[null,null,null,17]
[null,null,null,18]
[null,null,null,19]
[null,null,null,20]
[null,null,null,21]
[null,null,null,22]
[null,null,null,23]
[null,null,null,24]
[null,null,null,25]
["Не аттестованы:",null,{"$f":"COUNTA(E43:E52)","v":0},1]
[null," ",null,2]
[null,null,null,3]
[null,null,null,4]
[null,null,null,5]
[null,null,null,6]
[null,null,null,7]
[null,null,null,8]
[null,null,null,9]
[null,null,null,10]
["Не успевают:",null,{"$f":"COUNTA(E53:E67)","v":0},1]
[null," ",null,2]
[null,null,null,3]
[null,null,null,4]
[null,null,null,5]
[null,null,null,6]
[null,null,null,7]
[null,null,null,8]
[null,null,null,9]
[null,null,null,10]
[null,null,null,11]
[null,null,null,12]
[null,null,null,13]
[null,null,null,14]
[null,null,null,15]
["Освобождены:",null,{"$f":"COUNTA(E68:E82)","v":0},1]
[null," ",null,2]
[null,null,null,3]
[null,null,null,4]
[null,null,null,5]
[null,null,null,6]
[null,null,null,7]
[null,null,null,8]
[null,null,null,9]
[null,null,null,10]
[null,null,null,11]
[null,null,null,12]
[null,null,null,13]
[null,null,null,14]
[null,null,null,15]

{"sheet":"8 Б","index":33,"n_rows":130,"n_cols":35,"rows_kept":130,"cut":false,"hidden":true,"merged":[[0,0,0,2],[0,3,0,25],[0,26,0,32],[1,0,1,24],[1,25,1,28],[1,29,1,31],[2,0,2,3],[2,4,2,17],[2,18,2,22],[2,23,2,34],[3,0,4,1],[3,2,3,30],[3,31,3,34],[47,0,47,26],[47,28,47,33],[35,0,35,1],[35,31,35,34],[36,0,46,0],[36,31,36,34],[37,31,37,34],[38,31,38,34],[39,31,39,34],[40,31,40,34],[41,31,41,34],[42,31,42,34],[43,31,43,34],[44,31,44,34],[45,31,45,34],[46,31,46,34]]}
[{"$f":"Титул!B5","v":"2014/15 учебный год"},null,null,{"$f":"Титул!B4","v":"МОУ СОШ  № 15"},null,null,null,null,null,null,null,null,null,null,null,null,null,null,null,null,null,null,null,null,null,null,{"$f":"Титул!B6","v":"4 четверть"},null,null,null,null,null,null,null,"3+"]
["ВЕДОМОСТЬ  РЕЗУЛЬТАТОВ  УЧЕБНОЙ  ДЕЯТЕЛЬНОСТИ",null,null,null,null,null,null,null,null,null,null,null,null,null,null,null,null,null,null,null,null,null,null,null,null,{"$f":"Титул!B23","v":"8 Б"},null,null,null,"класса"]
["Классный руководитель:",null,null,null,{"$f":"Титул!D23","v":"Гулевич С.Ю."},null,null,null,null,null,null,null,null,null,null,null,null,null,"Программа:",null,null,null,null,{"$f":"Титул!G18","v":"общеобразовательный"}]
["Вручную вносятся только оценки \"5\", \"4\", \"3\", \"2\", \"1\". \nНе аттестованным проставляется \"0\", освобожденным - \"Н\".  ",null,"У  ч  е  б  н  ы  е      п  р  е  д  м  е  т  ы",null,null,null,null,null,null,null,null,null,null,null,null,null,null,null,null,null,null,null,null,null,null,null,null,null,null,null,null,"Результаты ученика:"]
[null,null,{"$f":"Нагрузка!C3","v":"Русский язык"},{"$f":"Нагрузка!D3","v":"Литература"},{"$f":"Нагрузка!E3","v":"Иностранный язык"},{"$f":"Нагрузка!F3","v":"Математика"},{"$f":"Нагрузка!G3","v":"Алгебра"},{"$f":"Нагрузка!H3","v":"Геометрия"},{"$f":"Нагрузка!I3","v":"Информатика"},{"$f":"Нагрузка!J3","v":"История"},{"$f":"Нагрузка!K3","v":"Обществознание"},{"$f":"Нагрузка!L3","v":"Окружающий мир"},{"$f":"Нагрузка!M3","v":"ИЗО"},{"$f":"Нагрузка!N3","v":"Музыка"},{"$f":"Нагрузка!O3","v":"Технология"},{"$f":"Нагрузка!P3","v":"Технология"},{"$f":"Нагрузка!Q3","v":"ФЗК"},{"$f":"Нагрузка!R3","v":"Иностранный язык"},{"$f":"Нагрузка!S3","v":"Иностранный язык"},{"$f":"Нагрузка!T3","v":"География"},{"$f":"Нагрузка!U3","v":"Физика"},{"$f":"Нагрузка!V3","v":"Химия"},{"$f":"Нагрузка!W3","v":"Биология"},{"$f":"Нагрузка!X3","v":"МХК"},{"$f":"Нагрузка!Y3","v":"ФЗК"},{"$f":"Нагрузка!Z3","v":"ОБЖ"},{"$f":"Нагрузка!AA3","v":"Природоведение"},{"$f":"Нагрузка!AB3","v":0},{"$f":"Нагрузка!AC3","v":0},{"$f":"Нагрузка!AD3","v":0},{"$f":"Нагрузка!AE3","v":0},"Средний балл:","Степень обученности (СОУ):","Качество успеваемости:","Рейтинговый учебный балл:"]
[1,{"$f":"СпискиКлассы!P4","v":"Ибрагимов Владислав"},3,3,3,3,null,null,3,3,3,null,4,null,4,null,3,null,null,3,3,3,3,null,null,3,null,null,null,null,null,{"$f":"AVERAGE(C6:AE6)","v":3.1333333333333333},{"$f":"(COUNTIF(C6:AE6,\"5\")+COUNTIF(C6:AE6,\"4\")*0.64+COUNTIF(C6:AE6,\"3\")*0.36+COUNTIF(C6:AE6,\"2\")*0.16)/(COUNTIF(C6:AE6,\"5\")+COUNTIF(C6:AE6,\"4\")+COUNTIF(C6:AE6,\"3\")+COUNTIF(C6:AE6,\"2\")+COUNTIF(C6:AE6,\"0\"))","v":0.39733333333333332},{"$f":"((5*COUNTIF(C6:AE6,\"5\"))+(4*COUNTIF(C6:AE6,\"4\")))/(5*(COUNTA(C6:AE6)-COUNTIF(C6:AE6,\"н\")))","v":0.10666666666666667},{"$f":"SUMIF(C91:AE91,\">0\",C91:AE91)/(COUNTIF(C6:AE6,\">0\")+COUNTIF(C6:AE6,\"=0\")+COUNTIF(C6:AE6,\"Н\"))","v":15.266666666666667}]
[{"$f":"A6+1","v":2},{"$f":"СпискиКлассы!P5","v":"Курдуманов Максим"},3,3,4,4,null,null,4,4,4,null,5,null,4,null,4,null,null,4,3,3,4,null,null,4,null,null,null,null,null,{"$f":"AVERAGE(C7:AE7)","v":3.8},{"$f":"(COUNTIF(C7:AE7,\"5\")+COUNTIF(C7:AE7,\"4\")*0.64+COUNTIF(C7:AE7,\"3\")*0.36+COUNTIF(C7:AE7,\"2\")*0.16)/(COUNTIF(C7:AE7,\"5\")+COUNTIF(C7:AE7,\"4\")+COUNTIF(C7:AE7,\"3\")+COUNTIF(C7:AE7,\"2\")+COUNTIF(C7:AE7,\"0\"))","v":0.58933333333333338},{"$f":"((5*COUNTIF(C7:AE7,\"5\"))+(4*COUNTIF(C7:AE7,\"4\")))/(5*(COUNTA(C7:AE7)-COUNTIF(C7:AE7,\"н\")))","v":0.6},18.2]
[3,{"$f":"СпискиКлассы!P6","v":"Леухин Данил"},3,3,3,4,null,null,4,4,4,null,5,null,4,null,4,null,null,4,3,3,4,null,null,4,null,null,null,null,null,{"$f":"AVERAGE(C8:AE8)","v":3.7333333333333334},0.57066666666666654,0.54666666666666663,17.666666666666668]
[4,{"$f":"СпискиКлассы!P7","v":"Самсонов Сергей"},3,3,3,3,null,null,3,3,3,null,4,null,3,null,4,null,null,3,3,3,3,null,null,3,null,null,null,null,null,3.1333333333333333,0.39733333333333332,0.10666666666666667,15.333333333333334]
[5,{"$f":"СпискиКлассы!P8","v":"Стрельников Никита"},3,3,3,3,null,null,3,3,3,null,4,null,4,null,4,null,null,3,3,3,3,null,null,3,null,null,null,null,null,3.2,0.41600000000000004,0.16,15.4]
[6,{"$f":"СпискиКлассы!P9","v":"Шустов Вадим"},3,3,3,3,null,null,3,3,3,null,4,null,3,null,4,null,null,3,3,3,3,null,null,3,null,null,null,null,null,3.1333333333333333,0.39733333333333332,0.10666666666666667,15.333333333333334]
[7,{"$f":"СпискиКлассы!P10","v":0},null,null,null,null,null,null,null,null,null,null,null,null,null,null,null,null,null,null,null,null,null,null,null,null,null,null,null,null,null,{"$error":"#DIV/0!"},{"$error":"#DIV/0!"},{"$error":"#DIV/0!"},{"$error":"#DIV/0!"}]
[8,{"$f":"СпискиКлассы!P11","v":0},null,null,null,null,null,null,null,null,null,null,null,null,null,null,null,null,null,null,null,null,null,null,null,null,null,null,null,null,null,{"$error":"#DIV/0!"},{"$error":"#DIV/0!"},{"$error":"#DIV/0!"},{"$error":"#DIV/0!"}]
[9,{"$f":"СпискиКлассы!P12","v":0},null,null,null,null,null,null,null,null,null,null,null,null,null,null,null,null,null,null,null,null,null,null,null,null,null,null,null,null,null,{"$error":"#DIV/0!"},{"$error":"#DIV/0!"},{"$error":"#DIV/0!"},{"$error":"#DIV/0!"}]
[10,{"$f":"СпискиКлассы!P13","v":0},null,null,null,null,null,null,null,null,null,null,null,null,null,null,null,null,null,null,null,null,null,null,null,null,null,null,null,null,null,{"$error":"#DIV/0!"},{"$error":"#DIV/0!"},{"$error":"#DIV/0!"},{"$error":"#DIV/0!"}]
[11,{"$f":"СпискиКлассы!P14","v":0},null,null,null,null,null,null,null,null,null,null,null,null,null,null,null,null,null,null,null,null,null,null,null,null,null,null,null,null,null,{"$error":"#DIV/0!"},{"$error":"#DIV/0!"},{"$error":"#DIV/0!"},{"$error":"#DIV/0!"}]
[12,{"$f":"СпискиКлассы!P15","v":0},null,null,null,null,null,null,null,null,null,null,null,null,null,null,null,null,null,null,null,null,null,null,null,null,null,null,null,null,null,{"$error":"#DIV/0!"},{"$error":"#DIV/0!"},{"$error":"#DIV/0!"},{"$error":"#DIV/0!"}]
[13,{"$f":"СпискиКлассы!P16","v":0},null,null,null,null,null,null,null,null,null,null,null,null,null,null,null,null,null,null,null,null,null,null,null,null,null,null,null,null,null,{"$error":"#DIV/0!"},{"$error":"#DIV/0!"},{"$error":"#DIV/0!"},{"$error":"#DIV/0!"}]
[14,{"$f":"СпискиКлассы!P17","v":0},null,null,null,null,null,null,null,null,null,null,null,null,null,null,null,null,null,null,null,null,null,null,null,null,null,null,null,null,null,{"$error":"#DIV/0!"},{"$error":"#DIV/0!"},{"$error":"#DIV/0!"},{"$error":"#DIV/0!"}]
[15,{"$f":"СпискиКлассы!P18","v":0},null,null,null,null,null,null,null,null,null,null,null,null,null,null,null,null,null,null,null,null,null,null,null,null,null,null,null,null,null,{"$error":"#DIV/0!"},{"$error":"#DIV/0!"},{"$error":"#DIV/0!"},{"$error":"#DIV/0!"}]
[16,{"$f":"СпискиКлассы!P19","v":0},null,null,null,null,null,null,null,null,null,null,null,null,null,null,null,null,null,null,null,null,null,null,null,null,null,null,null,null,null,{"$error":"#DIV/0!"},{"$error":"#DIV/0!"},{"$error":"#DIV/0!"},{"$error":"#DIV/0!"}]
[17,{"$f":"СпискиКлассы!P20","v":0},null,null,null,null,null,null,null,null,null,null,null,null,null,null,null,null,null,null,null,null,null,null,null,null,null,null,null,null,null,{"$error":"#DIV/0!"},{"$error":"#DIV/0!"},{"$error":"#DIV/0!"},{"$error":"#DIV/0!"}]
[18,{"$f":"СпискиКлассы!P21","v":0},null,null,null,null,null,null,null,null,null,null,null,null,null,null,null,null,null,null,null,null,null,null,null,null,null,null,null,null,null,{"$error":"#DIV/0!"},{"$error":"#DIV/0!"},{"$error":"#DIV/0!"},{"$error":"#DIV/0!"}]
[19,{"$f":"СпискиКлассы!P22","v":0},null,null,null,null,null,null,null,null,null,null,null,null,null,null,null,null,null,null,null,null,null,null,null,null,null,null,null,null,null,{"$error":"#DIV/0!"},{"$error":"#DIV/0!"},{"$error":"#DIV/0!"},{"$error":"#DIV/0!"}]
[20,{"$f":"СпискиКлассы!P23","v":0},null,null,null,null,null,null,null,null,null,null,null,null,null,null,null,null,null,null,null,null,null,null,null,null,null,null,null,null,null,{"$error":"#DIV/0!"},{"$error":"#DIV/0!"},{"$error":"#DIV/0!"},{"$error":"#DIV/0!"}]
[21,{"$f":"СпискиКлассы!P24","v":0},null,null,null,null,null,null,null,null,null,null,null,null,null,null,null,null,null,null,null,null,null,null,null,null,null,null,null,null,null,{"$error":"#DIV/0!"},{"$error":"#DIV/0!"},{"$error":"#DIV/0!"},{"$error":"#DIV/0!"}]
[22,{"$f":"СпискиКлассы!P25","v":0},null,null,null,null,null,null,null,null,null,null,null,null,null,null,null,null,null,null,null,null,null,null,null,null,null,null,null,null,null,{"$error":"#DIV/0!"},{"$error":"#DIV/0!"},{"$error":"#DIV/0!"},{"$error":"#DIV/0!"}]
[23,{"$f":"СпискиКлассы!P26","v":0},null,null,null,null,null,null,null,null,null,null,null,null,null,null,null,null,null,null,null,null,null,null,null,null,null,null,null,null,null,{"$error":"#DIV/0!"},{"$error":"#DIV/0!"},{"$error":"#DIV/0!"},{"$error":"#DIV/0!"}]
[24,{"$f":"СпискиКлассы!P27","v":0},null,null,null,null,null,null,null,null,null,null,null,null,null,null,null,null,null,null,null,null,null,null,null,null,null,null,null,null,null,{"$error":"#DIV/0!"},{"$error":"#DIV/0!"},{"$error":"#DIV/0!"},{"$error":"#DIV/0!"}]
[25,{"$f":"СпискиКлассы!P28","v":0},null,null,null,null,null,null,null,null,null,null,null,null,null,null,null,null,null,null,null,null,null,null,null,null,null,null,null,null,null,{"$error":"#DIV/0!"},{"$error":"#DIV/0!"},{"$error":"#DIV/0!"},{"$error":"#DIV/0!"}]
[26,{"$f":"СпискиКлассы!P29","v":0},null,null,null,null,null,null,null,null,null,null,null,null,null,null,null,null,null,null,null,null,null,null,null,null,null,null,null,null,null,{"$error":"#DIV/0!"},{"$error":"#DIV/0!"},{"$error":"#DIV/0!"},{"$error":"#DIV/0!"}]
[27,{"$f":"СпискиКлассы!P30","v":0},null,null,null,null,null,null,null,null,null,null,null,null,null,null,null,null,null,null,null,null,null,null,null,null,null,null,null,null,null,{"$error":"#DIV/0!"},{"$error":"#DIV/0!"},{"$error":"#DIV/0!"},{"$error":"#DIV/0!"}]
[28,{"$f":"СпискиКлассы!P31","v":0},null,null,null,null,null,null,null,null,null,null,null,null,null,null,null,null,null,null,null,null,null,null,null,null,null,null,null,null,null,{"$error":"#DIV/0!"},{"$error":"#DIV/0!"},{"$error":"#DIV/0!"},{"$error":"#DIV/0!"}]
[29,{"$f":"СпискиКлассы!P32","v":0},null,null,null,null,null,null,null,null,null,null,null,null,null,null,null,null,null,null,null,null,null,null,null,null,null,null,null,null,null,{"$error":"#DIV/0!"},{"$error":"#DIV/0!"},{"$error":"#DIV/0!"},{"$error":"#DIV/0!"}]
[30,{"$f":"СпискиКлассы!P33","v":0},null,null,null,null,null,null,null,null,null,null,null,null,null,null,null,null,null,null,null,null,null,null,null,null,null,null,null,null,null,{"$error":"#DIV/0!"},{"$error":"#DIV/0!"},{"$error":"#DIV/0!"},{"$f":"SUMIF(C130:AE130,\">0\",C130:AE130)/(COUNTIF(C35:AE35,\">0\")+COUNTIF(C35:AE35,\"=0\")+COUNTIF(C35:AE35,\"Н\"))","v":{"$error":"#DIV/0!"}}]
[" Фамилия и инициалы                                           учителя - предметника",null,{"$f":"Нагрузка!C19","v":"Шаврина"},{"$f":"Нагрузка!D19","v":"Шаврина"},{"$f":"Нагрузка!E19","v":"Гулевич"},{"$f":"Нагрузка!F19","v":"Заплава"},{"$f":"Нагрузка!G19","v":0},{"$f":"Нагрузка!H19","v":0},{"$f":"Нагрузка!I19","v":"Головырина"},{"$f":"Нагрузка!J19","v":"Астраханцева"},{"$f":"Нагрузка!K19","v":"Астраханцева"},{"$f":"Нагрузка!L19","v":0},{"$f":"Нагрузка!M19","v":"Терюшкова"},{"$f":"Нагрузка!N19","v":"Заворина"},{"$f":"Нагрузка!O19","v":"Девицын"},{"$f":"Нагрузка!P19","v":"Потьканова"},{"$f":"Нагрузка!Q19","v":"Перфильев"},{"$f":"Нагрузка!R19","v":0},{"$f":"Нагрузка!S19","v":0},{"$f":"Нагрузка!T19","v":"Сидоренко"},{"$f":"Нагрузка!U19","v":"Горнышкова"},{"$f":"Нагрузка!V19","v":0},{"$f":"Нагрузка!W19","v":"Сидоренко"},{"$f":"Нагрузка!X19","v":0},{"$f":"Нагрузка!Y19","v":0},{"$f":"Нагрузка!Z19","v":0},{"$f":"Нагрузка!AA19","v":0},{"$f":"Нагрузка!AB14","v":0},{"$f":"Нагрузка!AC14","v":0},{"$f":"Нагрузка!AD14","v":0},{"$f":"Нагрузка!AE14","v":0},"Показатели результатов учебной деятельности в  целом по классу:"]
["Результаты учебной деятельности класса","Количество  \"5\":",{"$f":"COUNTIF(C6:C35,5)","v":0},0,0,0,0,0,0,0,0,0,2,0,0,0,0,0,0,0,0,0,0,0,0,0,0,0,0,0,0,{"$f":"SUM(C37:AE37)","v":2}]
[null,"Количество  \"4\":",{"$f":"COUNTIF(C6:C35,4)","v":0},0,1,2,0,0,2,2,2,0,4,0,4,0,5,0,0,2,0,0,2,0,0,2,0,0,0,0,0,28]
[null,"Количество  \"3\":",{"$f":"COUNTIF(C6:C35,3)","v":6},6,5,4,0,0,4,4,4,0,0,0,2,0,1,0,0,4,6,6,4,0,0,4,0,0,0,0,0,60]
[null,"Количество  \"2\":",{"$f":"COUNTIF(C6:C35,2)","v":0},0,0,0,0,0,0,0,0,0,0,0,0,0,0,0,0,0,0,0,0,0,0,0,0,0,0,0,0,0]
[null,"Не аттестовано:",{"$f":"COUNTIF(C6:C35,0)","v":0},0,0,0,0,0,0,0,0,0,0,0,0,0,0,0,0,0,0,0,0,0,0,0,0,0,0,0,0,0]
[null,"Освобождено:",{"$f":"COUNTIF(C6:C35,\"н\")","v":0},0,0,0,0,0,0,0,0,0,0,0,0,0,0,0,0,0,0,0,0,0,0,0,0,0,0,0,0,0]
[null,"Успеваемость:",{"$f":"(C37+C38+C39)/(C37+C38+C39+C40+C41)","v":1},{"$f":"(D37+D38+D39)/(D37+D38+D39+D40+D41)","v":1},1,1,{"$error":"#DIV/0!"},{"$error":"#DIV/0!"},1,1,1,{"$error":"#DIV/0!"},1,{"$error":"#DIV/0!"},1,{"$error":"#DIV/0!"},1,{"$error":"#DIV/0!"},{"$error":"#DIV/0!"},1,1,1,1,{"$error":"#DIV/0!"},{"$error":"#DIV/0!"},1,{"$error":"#DIV/0!"},{"$error":"#DIV/0!"},{"$error":"#DIV/0!"},{"$error":"#DIV/0!"},{"$error":"#DIV/0!"},{"$f":"('8 Б(2)'!D2-'8 Б(2)'!C43-'8 Б(2)'!C53)/'8 Б(2)'!D2","v":1}]
[null,"Качество знаний:",{"$f":"(C37+C38)/(C37+C38+C39+C40+C41)","v":0},{"$f":"(D37+D38)/(D37+D38+D39+D40+D41)","v":0},0.16666666666666666,0.33333333333333331,{"$error":"#DIV/0!"},{"$error":"#DIV/0!"},0.33333333333333331,0.33333333333333331,0.33333333333333331,{"$error":"#DIV/0!"},1,{"$error":"#DIV/0!"},0.66666666666666663,{"$error":"#DIV/0!"},0.83333333333333337,{"$error":"#DIV/0!"},{"$error":"#DIV/0!"},0.33333333333333331,0,0,0.33333333333333331,{"$error":"#DIV/0!"},{"$error":"#DIV/0!"},0.33333333333333331,{"$error":"#DIV/0!"},{"$error":"#DIV/0!"},{"$error":"#DIV/0!"},{"$error":"#DIV/0!"},{"$error":"#DIV/0!"},{"$f":"('8 Б(2)'!C3+'8 Б(2)'!C18)/'8 Б(2)'!D2","v":0}]
[null,"Степень обученности:",{"$f":"(C37+C38*0.64+C39*0.36+C40*0.16)/(C37+C38+C39+C40+C41)","v":0.36000000000000004},{"$f":"(D37+D38*0.64+D39*0.36+D40*0.16)/(D37+D38+D39+D40+D41)","v":0.36000000000000004},0.40666666666666668,0.45333333333333331,{"$error":"#DIV/0!"},{"$error":"#DIV/0!"},0.45333333333333331,0.45333333333333331,0.45333333333333331,{"$error":"#DIV/0!"},0.76000000000000012,{"$error":"#DIV/0!"},0.54666666666666675,{"$error":"#DIV/0!"},0.59333333333333338,{"$error":"#DIV/0!"},{"$error":"#DIV/0!"},0.45333333333333331,0.36000000000000004,0.36000000000000004,0.45333333333333331,{"$error":"#DIV/0!"},{"$error":"#DIV/0!"},0.45333333333333331,{"$error":"#DIV/0!"},{"$error":"#DIV/0!"},{"$error":"#DIV/0!"},{"$error":"#DIV/0!"},{"$error":"#DIV/0!"},{"$f":"(AF37+AF38*0.64+AF39*0.36+AF40*0.16)/(AF37+AF38+AF39+AF40+AF41)","v":0.46133333333333326}]
[null,"Средний балл:              ",{"$f":"(C37*5+C38*4+C39*3+C40*2)/(C37+C38+C39+C40+C41)","v":3},{"$f":"(D37*5+D38*4+D39*3+D40*2)/(D37+D38+D39+D40+D41)","v":3},3.1666666666666665,3.3333333333333335,{"$error":"#DIV/0!"},{"$error":"#DIV/0!"},3.3333333333333335,3.3333333333333335,3.3333333333333335,{"$error":"#DIV/0!"},4.333333333333333,{"$error":"#DIV/0!"},3.6666666666666665,{"$error":"#DIV/0!"},3.8333333333333335,{"$error":"#DIV/0!"},{"$error":"#DIV/0!"},3.3333333333333335,3,3,3.3333333333333335,{"$error":"#DIV/0!"},{"$error":"#DIV/0!"},3.3333333333333335,{"$error":"#DIV/0!"},{"$error":"#DIV/0!"},{"$error":"#DIV/0!"},{"$error":"#DIV/0!"},{"$error":"#DIV/0!"},{"$f":"(AF37*5+AF38*4+AF39*3+AF40*2)/(AF37+AF38+AF39+AF40+AF41)","v":3.3555555555555556}]
[null,"Качество успеваемости:",{"$f":"(5*C37+4*C38)*0.2/(SUM(C37+C38+C39+C40+C41))","v":0},{"$f":"(5*COUNTIF(D6:D35,5)+4*COUNTIF(D6:D35,4))*0.2/(COUNTA(D6:D35)-COUNTIF(D6:D35,\"н\"))","v":0},0.13333333333333333,0.26666666666666666,{"$error":"#DIV/0!"},{"$error":"#DIV/0!"},0.26666666666666666,0.26666666666666666,0.26666666666666666,{"$error":"#DIV/0!"},0.8666666666666667,{"$error":"#DIV/0!"},0.53333333333333333,{"$error":"#DIV/0!"},0.66666666666666663,{"$error":"#DIV/0!"},{"$error":"#DIV/0!"},0.26666666666666666,0,0,0.26666666666666666,{"$error":"#DIV/0!"},{"$error":"#DIV/0!"},0.26666666666666666,{"$error":"#DIV/0!"},{"$error":"#DIV/0!"},{"$error":"#DIV/0!"},{"$error":"#DIV/0!"},{"$error":"#DIV/0!"},{"$f":"(5*COUNTIF(C6:AE35,5)+4*COUNTIF(C6:AE35,4))*0.2/(COUNTA(C6:AE35)-COUNTIF(C6:AE35,\"н\"))","v":0.27111111111111114}]
["Выполнено с помощью программы статистического анализа результатов учебной деятельности",null,null,null,null,null,null,null,null,null,null,null,null,null,null,null,null,null,null,null,null,null,null,null,null,null,null,null,{"$f":"Титул!G31","v":"PSORUD-Klass.v.04.11.demo"},null,null,null,null,null,"3+"]
[]
[]
[]
[]
[]
[]
[]
[]
[]
[]
[]
[]
[]
[]
[]
[]
[]
[]
[]
[]
[]
[]
[]
[]
[]
[]
[]
[]
[]
[]
[]
[]
[]
[]
[]
[]
[]
[]
[]
[]
[]
[null,"Коэф.трудн.предмета",{"$f":"VLOOKUP(C$5,ШкалаТрудн!$C$5:$N$34,LEFT($Z$2,2)+1,0)","v":7},{"$f":"VLOOKUP(D$5,ШкалаТрудн!$C$5:$N$34,LEFT($Z$2,2)+1,0)","v":4},{"$f":"VLOOKUP(E$5,ШкалаТрудн!$C$5:$N$34,LEFT($Z$2,2)+1,0)","v":8},{"$f":"VLOOKUP(F$5,ШкалаТрудн!$C$5:$N$34,LEFT($Z$2,2)+1,0)","v":0},{"$f":"VLOOKUP(G$5,ШкалаТрудн!$C$5:$N$34,LEFT($Z$2,2)+1,0)","v":9},{"$f":"VLOOKUP(H$5,ШкалаТрудн!$C$5:$N$34,LEFT($Z$2,2)+1,0)","v":10},{"$f":"VLOOKUP(I$5,ШкалаТрудн!$C$5:$N$34,LEFT($Z$2,2)+1,0)","v":7},{"$f":"VLOOKUP(J$5,ШкалаТрудн!$C$5:$N$34,LEFT($Z$2,2)+1,0)","v":8},{"$f":"VLOOKUP(K$5,ШкалаТрудн!$C$5:$N$34,LEFT($Z$2,2)+1,0)","v":0},{"$f":"VLOOKUP(L$5,ШкалаТрудн!$C$5:$N$34,LEFT($Z$2,2)+1,0)","v":{"$error":"#N/A"}},{"$f":"VLOOKUP(M$5,ШкалаТрудн!$C$5:$N$34,LEFT($Z$2,2)+1,0)","v":3},{"$f":"VLOOKUP(N$5,ШкалаТрудн!$C$5:$N$34,LEFT($Z$2,2)+1,0)","v":1},{"$f":"VLOOKUP(O$5,ШкалаТрудн!$C$5:$N$34,LEFT($Z$2,2)+1,0)","v":1},{"$f":"VLOOKUP(P$5,ШкалаТрудн!$C$5:$N$34,LEFT($Z$2,2)+1,0)","v":1},{"$f":"VLOOKUP(Q$5,ШкалаТрудн!$C$5:$N$34,LEFT($Z$2,2)+1,0)","v":2},{"$f":"VLOOKUP(R$5,ШкалаТрудн!$C$5:$N$34,LEFT($Z$2,2)+1,0)","v":8},{"$f":"VLOOKUP(S$5,ШкалаТрудн!$C$5:$N$34,LEFT($Z$2,2)+1,0)","v":8},{"$f":"VLOOKUP(T$5,ШкалаТрудн!$C$5:$N$34,LEFT($Z$2,2)+1,0)","v":6},{"$f":"VLOOKUP(U$5,ШкалаТрудн!$C$5:$N$34,LEFT($Z$2,2)+1,0)","v":9},{"$f":"VLOOKUP(V$5,ШкалаТрудн!$C$5:$N$34,LEFT($Z$2,2)+1,0)","v":10},{"$f":"VLOOKUP(W$5,ШкалаТрудн!$C$5:$N$34,LEFT($Z$2,2)+1,0)","v":7},{"$f":"VLOOKUP(X$5,ШкалаТрудн!$C$5:$N$34,LEFT($Z$2,2)+1,0)","v":5},{"$f":"VLOOKUP(Y$5,ШкалаТрудн!$C$5:$N$34,LEFT($Z$2,2)+1,0)","v":2},{"$f":"VLOOKUP(Z$5,ШкалаТрудн!$C$5:$N$34,LEFT($Z$2,2)+1,0)","v":3},{"$f":"VLOOKUP(AA$5,ШкалаТрудн!$C$5:$N$34,LEFT($Z$2,2)+1,0)","v":0},{"$f":"VLOOKUP(AB$5,ШкалаТрудн!$C$5:$N$34,LEFT($Z$2,2)+1,0)","v":{"$error":"#N/A"}},{"$f":"VLOOKUP(AC$5,ШкалаТрудн!$C$5:$N$34,LEFT($Z$2,2)+1,0)","v":{"$error":"#N/A"}},{"$f":"VLOOKUP(AD$5,ШкалаТрудн!$C$5:$N$34,LEFT($Z$2,2)+1,0)","v":{"$error":"#N/A"}},{"$f":"VLOOKUP(AE$5,ШкалаТрудн!$C$5:$N$34,LEFT($Z$2,2)+1,0)","v":{"$error":"#N/A"}}]
[null,null,{"$f":"C6*C$90","v":21},12,24,0,0,0,21,24,0,{"$error":"#N/A"},12,0,4,0,6,0,0,18,27,30,21,0,0,9,0,{"$error":"#N/A"},{"$error":"#N/A"},{"$error":"#N/A"},{"$error":"#N/A"}]
[null,null,21,12,32,0,0,0,28,32,0,{"$error":"#N/A"},15,0,4,0,8,0,0,24,27,30,28,0,0,12,0,{"$error":"#N/A"},{"$error":"#N/A"},{"$error":"#N/A"},{"$error":"#N/A"}]
[null,null,21,12,24,0,0,0,28,32,0,{"$error":"#N/A"},15,0,4,0,8,0,0,24,27,30,28,0,0,12,0,{"$error":"#N/A"},{"$error":"#N/A"},{"$error":"#N/A"},{"$error":"#N/A"}]
[null,null,21,12,24,0,0,0,21,24,0,{"$error":"#N/A"},12,0,3,0,8,0,0,18,27,30,21,0,0,9,0,{"$error":"#N/A"},{"$error":"#N/A"},{"$error":"#N/A"},{"$error":"#N/A"}]
[null,null,21,12,24,0,0,0,21,24,0,{"$error":"#N/A"},12,0,4,0,8,0,0,18,27,30,21,0,0,9,0,{"$error":"#N/A"},{"$error":"#N/A"},{"$error":"#N/A"},{"$error":"#N/A"}]
[null,null,21,12,24,0,0,0,21,24,0,{"$error":"#N/A"},12,0,3,0,8,0,0,18,27,30,21,0,0,9,0,{"$error":"#N/A"},{"$error":"#N/A"},{"$error":"#N/A"},{"$error":"#N/A"}]
[null,null,0,0,0,0,0,0,0,0,0,{"$error":"#N/A"},0,0,0,0,0,0,0,0,0,0,0,0,0,0,0,{"$error":"#N/A"},{"$error":"#N/A"},{"$error":"#N/A"},{"$error":"#N/A"}]
[null,null,0,0,0,0,0,0,0,0,0,{"$error":"#N/A"},0,0,0,0,0,0,0,0,0,0,0,0,0,0,0,{"$error":"#N/A"},{"$error":"#N/A"},{"$error":"#N/A"},{"$error":"#N/A"}]
[null,null,0,0,0,0,0,0,0,0,0,{"$error":"#N/A"},0,0,0,0,0,0,0,0,0,0,0,0,0,{"$f":"Z14*Z$90","v":0},0,{"$error":"#N/A"},{"$error":"#N/A"},{"$error":"#N/A"},{"$error":"#N/A"}]
[null,null,{"$f":"C15*C$90","v":0},0,0,0,0,0,0,0,0,{"$error":"#N/A"},0,0,0,0,0,0,0,0,0,0,0,0,0,0,0,{"$error":"#N/A"},{"$error":"#N/A"},{"$error":"#N/A"},{"$error":"#N/A"}]
[null,null,0,0,0,0,0,0,0,0,0,{"$error":"#N/A"},0,0,0,0,0,0,0,0,0,0,0,0,0,0,0,{"$error":"#N/A"},{"$error":"#N/A"},{"$error":"#N/A"},{"$error":"#N/A"}]
[null,null,0,0,0,0,0,0,0,0,0,{"$error":"#N/A"},0,0,0,0,0,0,0,0,0,0,0,0,0,0,0,{"$error":"#N/A"},{"$error":"#N/A"},{"$error":"#N/A"},{"$error":"#N/A"}]
[null,null,0,0,0,0,0,0,0,0,0,{"$error":"#N/A"},0,0,0,0,0,0,0,0,0,0,0,0,0,0,0,{"$error":"#N/A"},{"$error":"#N/A"},{"$error":"#N/A"},{"$error":"#N/A"}]
[null,null,0,0,0,0,0,0,0,0,0,{"$error":"#N/A"},0,0,0,0,0,0,0,0,0,0,0,0,0,0,0,{"$error":"#N/A"},{"$error":"#N/A"},{"$error":"#N/A"},{"$error":"#N/A"}]
[null,null,0,0,0,0,0,0,0,0,0,{"$error":"#N/A"},0,0,0,0,0,0,0,0,0,0,0,0,0,0,0,{"$error":"#N/A"},{"$error":"#N/A"},{"$error":"#N/A"},{"$error":"#N/A"}]
[null,null,0,0,0,0,0,0,0,0,0,{"$error":"#N/A"},0,0,0,0,0,0,0,0,0,0,0,0,0,0,0,{"$error":"#N/A"},{"$error":"#N/A"},{"$error":"#N/A"},{"$error":"#N/A"}]
[null,null,0,0,0,0,0,0,0,0,0,{"$error":"#N/A"},0,0,0,0,0,0,0,0,0,0,0,0,0,0,0,{"$error":"#N/A"},{"$error":"#N/A"},{"$error":"#N/A"},{"$error":"#N/A"}]
[null,null,0,0,0,0,0,0,0,0,0,{"$error":"#N/A"},0,0,0,0,0,0,0,0,0,0,0,0,0,{"$f":"Z23*Z$90","v":0},0,{"$error":"#N/A"},{"$error":"#N/A"},{"$error":"#N/A"},{"$error":"#N/A"}]
[null,null,{"$f":"C24*C$90","v":0},0,0,0,0,0,0,0,0,{"$error":"#N/A"},0,0,0,0,0,0,0,0,0,0,0,0,0,0,0,{"$error":"#N/A"},{"$error":"#N/A"},{"$error":"#N/A"},{"$error":"#N/A"}]
[null,null,0,0,0,0,0,0,0,0,0,{"$error":"#N/A"},0,0,0,0,0,0,0,0,0,0,0,0,0,0,0,{"$error":"#N/A"},{"$error":"#N/A"},{"$error":"#N/A"},{"$error":"#N/A"}]
[null,null,0,0,0,0,0,0,0,0,0,{"$error":"#N/A"},0,0,0,0,0,0,0,0,0,0,0,0,0,0,0,{"$error":"#N/A"},{"$error":"#N/A"},{"$error":"#N/A"},{"$error":"#N/A"}]
[null,null,0,0,0,0,0,0,0,0,0,{"$error":"#N/A"},0,0,0,0,0,0,0,0,0,0,0,0,0,0,0,{"$error":"#N/A"},{"$error":"#N/A"},{"$error":"#N/A"},{"$error":"#N/A"}]
[null,null,0,0,0,0,0,0,0,0,0,{"$error":"#N/A"},0,0,0,0,0,0,0,0,0,0,0,0,0,0,0,{"$error":"#N/A"},{"$error":"#N/A"},{"$error":"#N/A"},{"$error":"#N/A"}]
[null,null,0,0,0,0,0,0,0,0,0,{"$error":"#N/A"},0,0,0,0,0,0,0,0,0,0,0,0,0,0,0,{"$error":"#N/A"},{"$error":"#N/A"},{"$error":"#N/A"},{"$error":"#N/A"}]
[null,null,0,0,0,0,0,0,0,0,0,{"$error":"#N/A"},0,0,0,0,0,0,0,0,0,0,0,0,0,0,0,{"$error":"#N/A"},{"$error":"#N/A"},{"$error":"#N/A"},{"$error":"#N/A"}]
[null,null,0,0,0,0,0,0,0,0,0,{"$error":"#N/A"},0,0,0,0,0,0,0,0,0,0,0,0,0,0,0,{"$error":"#N/A"},{"$error":"#N/A"},{"$error":"#N/A"},{"$error":"#N/A"}]
[null,null,0,0,0,0,0,0,0,0,0,{"$error":"#N/A"},0,0,0,0,0,0,0,0,0,0,0,0,0,{"$f":"Z32*Z$90","v":0},0,{"$error":"#N/A"},{"$error":"#N/A"},{"$error":"#N/A"},{"$error":"#N/A"}]
[null,null,{"$f":"C33*C$90","v":0},0,0,0,0,0,0,0,0,{"$error":"#N/A"},0,0,0,0,0,0,0,0,0,0,0,0,0,0,0,{"$error":"#N/A"},{"$error":"#N/A"},{"$error":"#N/A"},{"$error":"#N/A"}]
[null,null,0,0,0,0,0,0,0,0,0,{"$error":"#N/A"},0,0,0,0,0,0,0,0,0,0,0,0,0,0,0,{"$error":"#N/A"},{"$error":"#N/A"},{"$error":"#N/A"},{"$error":"#N/A"}]
[null,null,{"$f":"#REF!*C$90","v":{"$error":"#REF!"}},{"$f":"#REF!*D$90","v":{"$error":"#REF!"}},{"$f":"#REF!*E$90","v":{"$error":"#REF!"}},{"$f":"#REF!*F$90","v":{"$error":"#REF!"}},{"$f":"#REF!*G$90","v":{"$error":"#REF!"}},{"$f":"#REF!*H$90","v":{"$error":"#REF!"}},{"$f":"#REF!*I$90","v":{"$error":"#REF!"}},{"$f":"#REF!*J$90","v":{"$error":"#REF!"}},{"$f":"#REF!*K$90","v":{"$error":"#REF!"}},{"$f":"#REF!*L$90","v":{"$error":"#REF!"}},{"$f":"#REF!*M$90","v":{"$error":"#REF!"}},{"$f":"#REF!*N$90","v":{"$error":"#REF!"}},{"$f":"#REF!*O$90","v":{"$error":"#REF!"}},{"$f":"#REF!*P$90","v":{"$error":"#REF!"}},{"$f":"#REF!*Q$90","v":{"$error":"#REF!"}},{"$f":"#REF!*R$90","v":{"$error":"#REF!"}},{"$f":"#REF!*S$90","v":{"$error":"#REF!"}},{"$f":"#REF!*T$90","v":{"$error":"#REF!"}},{"$f":"#REF!*U$90","v":{"$error":"#REF!"}},{"$f":"#REF!*V$90","v":{"$error":"#REF!"}},{"$f":"#REF!*W$90","v":{"$error":"#REF!"}},{"$f":"#REF!*X$90","v":{"$error":"#REF!"}},{"$f":"#REF!*Y$90","v":{"$error":"#REF!"}},{"$f":"#REF!*Z$90","v":{"$error":"#REF!"}},{"$f":"#REF!*AA$90","v":{"$error":"#REF!"}},{"$f":"#REF!*AB$90","v":{"$error":"#REF!"}},{"$f":"#REF!*AC$90","v":{"$error":"#REF!"}},{"$f":"#REF!*AD$90","v":{"$error":"#REF!"}},{"$f":"#REF!*AE$90","v":{"$error":"#REF!"}}]
[null,null,{"$f":"#REF!*C$90","v":{"$error":"#REF!"}},{"$f":"#REF!*D$90","v":{"$error":"#REF!"}},{"$f":"#REF!*E$90","v":{"$error":"#REF!"}},{"$f":"#REF!*F$90","v":{"$error":"#REF!"}},{"$f":"#REF!*G$90","v":{"$error":"#REF!"}},{"$f":"#REF!*H$90","v":{"$error":"#REF!"}},{"$f":"#REF!*I$90","v":{"$error":"#REF!"}},{"$f":"#REF!*J$90","v":{"$error":"#REF!"}},{"$f":"#REF!*K$90","v":{"$error":"#REF!"}},{"$f":"#REF!*L$90","v":{"$error":"#REF!"}},{"$f":"#REF!*M$90","v":{"$error":"#REF!"}},{"$f":"#REF!*N$90","v":{"$error":"#REF!"}},{"$f":"#REF!*O$90","v":{"$error":"#REF!"}},{"$f":"#REF!*P$90","v":{"$error":"#REF!"}},{"$f":"#REF!*Q$90","v":{"$error":"#REF!"}},{"$f":"#REF!*R$90","v":{"$error":"#REF!"}},{"$f":"#REF!*S$90","v":{"$error":"#REF!"}},{"$f":"#REF!*T$90","v":{"$error":"#REF!"}},{"$f":"#REF!*U$90","v":{"$error":"#REF!"}},{"$f":"#REF!*V$90","v":{"$error":"#REF!"}},{"$f":"#REF!*W$90","v":{"$error":"#REF!"}},{"$f":"#REF!*X$90","v":{"$error":"#REF!"}},{"$f":"#REF!*Y$90","v":{"$error":"#REF!"}},{"$f":"#REF!*Z$90","v":{"$error":"#REF!"}},{"$f":"#REF!*AA$90","v":{"$error":"#REF!"}},{"$f":"#REF!*AB$90","v":{"$error":"#REF!"}},{"$f":"#REF!*AC$90","v":{"$error":"#REF!"}},{"$f":"#REF!*AD$90","v":{"$error":"#REF!"}},{"$f":"#REF!*AE$90","v":{"$error":"#REF!"}}]
[null,null,{"$f":"#REF!*C$90","v":{"$error":"#REF!"}},{"$f":"#REF!*D$90","v":{"$error":"#REF!"}},{"$f":"#REF!*E$90","v":{"$error":"#REF!"}},{"$f":"#REF!*F$90","v":{"$error":"#REF!"}},{"$f":"#REF!*G$90","v":{"$error":"#REF!"}},{"$f":"#REF!*H$90","v":{"$error":"#REF!"}},{"$f":"#REF!*I$90","v":{"$error":"#REF!"}},{"$f":"#REF!*J$90","v":{"$error":"#REF!"}},{"$f":"#REF!*K$90","v":{"$error":"#REF!"}},{"$f":"#REF!*L$90","v":{"$error":"#REF!"}},{"$f":"#REF!*M$90","v":{"$error":"#REF!"}},{"$f":"#REF!*N$90","v":{"$error":"#REF!"}},{"$f":"#REF!*O$90","v":{"$error":"#REF!"}},{"$f":"#REF!*P$90","v":{"$error":"#REF!"}},{"$f":"#REF!*Q$90","v":{"$error":"#REF!"}},{"$f":"#REF!*R$90","v":{"$error":"#REF!"}},{"$f":"#REF!*S$90","v":{"$error":"#REF!"}},{"$f":"#REF!*T$90","v":{"$error":"#REF!"}},{"$f":"#REF!*U$90","v":{"$error":"#REF!"}},{"$f":"#REF!*V$90","v":{"$error":"#REF!"}},{"$f":"#REF!*W$90","v":{"$error":"#REF!"}},{"$f":"#REF!*X$90","v":{"$error":"#REF!"}},{"$f":"#REF!*Y$90","v":{"$error":"#REF!"}},{"$f":"#REF!*Z$90","v":{"$error":"#REF!"}},{"$f":"#REF!*AA$90","v":{"$error":"#REF!"}},{"$f":"#REF!*AB$90","v":{"$error":"#REF!"}},{"$f":"#REF!*AC$90","v":{"$error":"#REF!"}},{"$f":"#REF!*AD$90","v":{"$error":"#REF!"}},{"$f":"#REF!*AE$90","v":{"$error":"#REF!"}}]
[null,null,{"$f":"#REF!*C$90","v":{"$error":"#REF!"}},{"$f":"#REF!*D$90","v":{"$error":"#REF!"}},{"$f":"#REF!*E$90","v":{"$error":"#REF!"}},{"$f":"#REF!*F$90","v":{"$error":"#REF!"}},{"$f":"#REF!*G$90","v":{"$error":"#REF!"}},{"$f":"#REF!*H$90","v":{"$error":"#REF!"}},{"$f":"#REF!*I$90","v":{"$error":"#REF!"}},{"$f":"#REF!*J$90","v":{"$error":"#REF!"}},{"$f":"#REF!*K$90","v":{"$error":"#REF!"}},{"$f":"#REF!*L$90","v":{"$error":"#REF!"}},{"$f":"#REF!*M$90","v":{"$error":"#REF!"}},{"$f":"#REF!*N$90","v":{"$error":"#REF!"}},{"$f":"#REF!*O$90","v":{"$error":"#REF!"}},{"$f":"#REF!*P$90","v":{"$error":"#REF!"}},{"$f":"#REF!*Q$90","v":{"$error":"#REF!"}},{"$f":"#REF!*R$90","v":{"$error":"#REF!"}},{"$f":"#REF!*S$90","v":{"$error":"#REF!"}},{"$f":"#REF!*T$90","v":{"$error":"#REF!"}},{"$f":"#REF!*U$90","v":{"$error":"#REF!"}},{"$f":"#REF!*V$90","v":{"$error":"#REF!"}},{"$f":"#REF!*W$90","v":{"$error":"#REF!"}},{"$f":"#REF!*X$90","v":{"$error":"#REF!"}},{"$f":"#REF!*Y$90","v":{"$error":"#REF!"}},{"$f":"#REF!*Z$90","v":{"$error":"#REF!"}},{"$f":"#REF!*AA$90","v":{"$error":"#REF!"}},{"$f":"#REF!*AB$90","v":{"$error":"#REF!"}},{"$f":"#REF!*AC$90","v":{"$error":"#REF!"}},{"$f":"#REF!*AD$90","v":{"$error":"#REF!"}},{"$f":"#REF!*AE$90","v":{"$error":"#REF!"}}]
[null,null,{"$f":"#REF!*C$90","v":{"$error":"#REF!"}},{"$f":"#REF!*D$90","v":{"$error":"#REF!"}},{"$f":"#REF!*E$90","v":{"$error":"#REF!"}},{"$f":"#REF!*F$90","v":{"$error":"#REF!"}},{"$f":"#REF!*G$90","v":{"$error":"#REF!"}},{"$f":"#REF!*H$90","v":{"$error":"#REF!"}},{"$f":"#REF!*I$90","v":{"$error":"#REF!"}},{"$f":"#REF!*J$90","v":{"$error":"#REF!"}},{"$f":"#REF!*K$90","v":{"$error":"#REF!"}},{"$f":"#REF!*L$90","v":{"$error":"#REF!"}},{"$f":"#REF!*M$90","v":{"$error":"#REF!"}},{"$f":"#REF!*N$90","v":{"$error":"#REF!"}},{"$f":"#REF!*O$90","v":{"$error":"#REF!"}},{"$f":"#REF!*P$90","v":{"$error":"#REF!"}},{"$f":"#REF!*Q$90","v":{"$error":"#REF!"}},{"$f":"#REF!*R$90","v":{"$error":"#REF!"}},{"$f":"#REF!*S$90","v":{"$error":"#REF!"}},{"$f":"#REF!*T$90","v":{"$error":"#REF!"}},{"$f":"#REF!*U$90","v":{"$error":"#REF!"}},{"$f":"#REF!*V$90","v":{"$error":"#REF!"}},{"$f":"#REF!*W$90","v":{"$error":"#REF!"}},{"$f":"#REF!*X$90","v":{"$error":"#REF!"}},{"$f":"#REF!*Y$90","v":{"$error":"#REF!"}},{"$f":"#REF!*Z$90","v":{"$error":"#REF!"}},{"$f":"#REF!*AA$90","v":{"$error":"#REF!"}},{"$f":"#REF!*AB$90","v":{"$error":"#REF!"}},{"$f":"#REF!*AC$90","v":{"$error":"#REF!"}},{"$f":"#REF!*AD$90","v":{"$error":"#REF!"}},{"$f":"#REF!*AE$90","v":{"$error":"#REF!"}}]
[null,null,{"$f":"#REF!*C$90","v":{"$error":"#REF!"}},{"$f":"#REF!*D$90","v":{"$error":"#REF!"}},{"$f":"#REF!*E$90","v":{"$error":"#REF!"}},{"$f":"#REF!*F$90","v":{"$error":"#REF!"}},{"$f":"#REF!*G$90","v":{"$error":"#REF!"}},{"$f":"#REF!*H$90","v":{"$error":"#REF!"}},{"$f":"#REF!*I$90","v":{"$error":"#REF!"}},{"$f":"#REF!*J$90","v":{"$error":"#REF!"}},{"$f":"#REF!*K$90","v":{"$error":"#REF!"}},{"$f":"#REF!*L$90","v":{"$error":"#REF!"}},{"$f":"#REF!*M$90","v":{"$error":"#REF!"}},{"$f":"#REF!*N$90","v":{"$error":"#REF!"}},{"$f":"#REF!*O$90","v":{"$error":"#REF!"}},{"$f":"#REF!*P$90","v":{"$error":"#REF!"}},{"$f":"#REF!*Q$90","v":{"$error":"#REF!"}},{"$f":"#REF!*R$90","v":{"$error":"#REF!"}},{"$f":"#REF!*S$90","v":{"$error":"#REF!"}},{"$f":"#REF!*T$90","v":{"$error":"#REF!"}},{"$f":"#REF!*U$90","v":{"$error":"#REF!"}},{"$f":"#REF!*V$90","v":{"$error":"#REF!"}},{"$f":"#REF!*W$90","v":{"$error":"#REF!"}},{"$f":"#REF!*X$90","v":{"$error":"#REF!"}},{"$f":"#REF!*Y$90","v":{"$error":"#REF!"}},{"$f":"#REF!*Z$90","v":{"$error":"#REF!"}},{"$f":"#REF!*AA$90","v":{"$error":"#REF!"}},{"$f":"#REF!*AB$90","v":{"$error":"#REF!"}},{"$f":"#REF!*AC$90","v":{"$error":"#REF!"}},{"$f":"#REF!*AD$90","v":{"$error":"#REF!"}},{"$f":"#REF!*AE$90","v":{"$error":"#REF!"}}]
[null,null,{"$f":"#REF!*C$90","v":{"$error":"#REF!"}},{"$f":"#REF!*D$90","v":{"$error":"#REF!"}},{"$f":"#REF!*E$90","v":{"$error":"#REF!"}},{"$f":"#REF!*F$90","v":{"$error":"#REF!"}},{"$f":"#REF!*G$90","v":{"$error":"#REF!"}},{"$f":"#REF!*H$90","v":{"$error":"#REF!"}},{"$f":"#REF!*I$90","v":{"$error":"#REF!"}},{"$f":"#REF!*J$90","v":{"$error":"#REF!"}},{"$f":"#REF!*K$90","v":{"$error":"#REF!"}},{"$f":"#REF!*L$90","v":{"$error":"#REF!"}},{"$f":"#REF!*M$90","v":{"$error":"#REF!"}},{"$f":"#REF!*N$90","v":{"$error":"#REF!"}},{"$f":"#REF!*O$90","v":{"$error":"#REF!"}},{"$f":"#REF!*P$90","v":{"$error":"#REF!"}},{"$f":"#REF!*Q$90","v":{"$error":"#REF!"}},{"$f":"#REF!*R$90","v":{"$error":"#REF!"}},{"$f":"#REF!*S$90","v":{"$error":"#REF!"}},{"$f":"#REF!*T$90","v":{"$error":"#REF!"}},{"$f":"#REF!*U$90","v":{"$error":"#REF!"}},{"$f":"#REF!*V$90","v":{"$error":"#REF!"}},{"$f":"#REF!*W$90","v":{"$error":"#REF!"}},{"$f":"#REF!*X$90","v":{"$error":"#REF!"}},{"$f":"#REF!*Y$90","v":{"$error":"#REF!"}},{"$f":"#REF!*Z$90","v":{"$error":"#REF!"}},{"$f":"#REF!*AA$90","v":{"$error":"#REF!"}},{"$f":"#REF!*AB$90","v":{"$error":"#REF!"}},{"$f":"#REF!*AC$90","v":{"$error":"#REF!"}},{"$f":"#REF!*AD$90","v":{"$error":"#REF!"}},{"$f":"#REF!*AE$90","v":{"$error":"#REF!"}}]
[null,null,{"$f":"#REF!*C$90","v":{"$error":"#REF!"}},{"$f":"#REF!*D$90","v":{"$error":"#REF!"}},{"$f":"#REF!*E$90","v":{"$error":"#REF!"}},{"$f":"#REF!*F$90","v":{"$error":"#REF!"}},{"$f":"#REF!*G$90","v":{"$error":"#REF!"}},{"$f":"#REF!*H$90","v":{"$error":"#REF!"}},{"$f":"#REF!*I$90","v":{"$error":"#REF!"}},{"$f":"#REF!*J$90","v":{"$error":"#REF!"}},{"$f":"#REF!*K$90","v":{"$error":"#REF!"}},{"$f":"#REF!*L$90","v":{"$error":"#REF!"}},{"$f":"#REF!*M$90","v":{"$error":"#REF!"}},{"$f":"#REF!*N$90","v":{"$error":"#REF!"}},{"$f":"#REF!*O$90","v":{"$error":"#REF!"}},{"$f":"#REF!*P$90","v":{"$error":"#REF!"}},{"$f":"#REF!*Q$90","v":{"$error":"#REF!"}},{"$f":"#REF!*R$90","v":{"$error":"#REF!"}},{"$f":"#REF!*S$90","v":{"$error":"#REF!"}},{"$f":"#REF!*T$90","v":{"$error":"#REF!"}},{"$f":"#REF!*U$90","v":{"$error":"#REF!"}},{"$f":"#REF!*V$90","v":{"$error":"#REF!"}},{"$f":"#REF!*W$90","v":{"$error":"#REF!"}},{"$f":"#REF!*X$90","v":{"$error":"#REF!"}},{"$f":"#REF!*Y$90","v":{"$error":"#REF!"}},{"$f":"#REF!*Z$90","v":{"$error":"#REF!"}},{"$f":"#REF!*AA$90","v":{"$error":"#REF!"}},{"$f":"#REF!*AB$90","v":{"$error":"#REF!"}},{"$f":"#REF!*AC$90","v":{"$error":"#REF!"}},{"$f":"#REF!*AD$90","v":{"$error":"#REF!"}},{"$f":"#REF!*AE$90","v":{"$error":"#REF!"}}]
[null,null,{"$f":"#REF!*C$90","v":{"$error":"#REF!"}},{"$f":"#REF!*D$90","v":{"$error":"#REF!"}},{"$f":"#REF!*E$90","v":{"$error":"#REF!"}},{"$f":"#REF!*F$90","v":{"$error":"#REF!"}},{"$f":"#REF!*G$90","v":{"$error":"#REF!"}},{"$f":"#REF!*H$90","v":{"$error":"#REF!"}},{"$f":"#REF!*I$90","v":{"$error":"#REF!"}},{"$f":"#REF!*J$90","v":{"$error":"#REF!"}},{"$f":"#REF!*K$90","v":{"$error":"#REF!"}},{"$f":"#REF!*L$90","v":{"$error":"#REF!"}},{"$f":"#REF!*M$90","v":{"$error":"#REF!"}},{"$f":"#REF!*N$90","v":{"$error":"#REF!"}},{"$f":"#REF!*O$90","v":{"$error":"#REF!"}},{"$f":"#REF!*P$90","v":{"$error":"#REF!"}},{"$f":"#REF!*Q$90","v":{"$error":"#REF!"}},{"$f":"#REF!*R$90","v":{"$error":"#REF!"}},{"$f":"#REF!*S$90","v":{"$error":"#REF!"}},{"$f":"#REF!*T$90","v":{"$error":"#REF!"}},{"$f":"#REF!*U$90","v":{"$error":"#REF!"}},{"$f":"#REF!*V$90","v":{"$error":"#REF!"}},{"$f":"#REF!*W$90","v":{"$error":"#REF!"}},{"$f":"#REF!*X$90","v":{"$error":"#REF!"}},{"$f":"#REF!*Y$90","v":{"$error":"#REF!"}},{"$f":"#REF!*Z$90","v":{"$error":"#REF!"}},{"$f":"#REF!*AA$90","v":{"$error":"#REF!"}},{"$f":"#REF!*AB$90","v":{"$error":"#REF!"}},{"$f":"#REF!*AC$90","v":{"$error":"#REF!"}},{"$f":"#REF!*AD$90","v":{"$error":"#REF!"}},{"$f":"#REF!*AE$90","v":{"$error":"#REF!"}}]
[null,null,{"$f":"#REF!*C$90","v":{"$error":"#REF!"}},{"$f":"#REF!*D$90","v":{"$error":"#REF!"}},{"$f":"#REF!*E$90","v":{"$error":"#REF!"}},{"$f":"#REF!*F$90","v":{"$error":"#REF!"}},{"$f":"#REF!*G$90","v":{"$error":"#REF!"}},{"$f":"#REF!*H$90","v":{"$error":"#REF!"}},{"$f":"#REF!*I$90","v":{"$error":"#REF!"}},{"$f":"#REF!*J$90","v":{"$error":"#REF!"}},{"$f":"#REF!*K$90","v":{"$error":"#REF!"}},{"$f":"#REF!*L$90","v":{"$error":"#REF!"}},{"$f":"#REF!*M$90","v":{"$error":"#REF!"}},{"$f":"#REF!*N$90","v":{"$error":"#REF!"}},{"$f":"#REF!*O$90","v":{"$error":"#REF!"}},{"$f":"#REF!*P$90","v":{"$error":"#REF!"}},{"$f":"#REF!*Q$90","v":{"$error":"#REF!"}},{"$f":"#REF!*R$90","v":{"$error":"#REF!"}},{"$f":"#REF!*S$90","v":{"$error":"#REF!"}},{"$f":"#REF!*T$90","v":{"$error":"#REF!"}},{"$f":"#REF!*U$90","v":{"$error":"#REF!"}},{"$f":"#REF!*V$90","v":{"$error":"#REF!"}},{"$f":"#REF!*W$90","v":{"$error":"#REF!"}},{"$f":"#REF!*X$90","v":{"$error":"#REF!"}},{"$f":"#REF!*Y$90","v":{"$error":"#REF!"}},{"$f":"#REF!*Z$90","v":{"$error":"#REF!"}},{"$f":"#REF!*AA$90","v":{"$error":"#REF!"}},{"$f":"#REF!*AB$90","v":{"$error":"#REF!"}},{"$f":"#REF!*AC$90","v":{"$error":"#REF!"}},{"$f":"#REF!*AD$90","v":{"$error":"#REF!"}},{"$f":"#REF!*AE$90","v":{"$error":"#REF!"}}]
[null,null,{"$f":"C35*C$90","v":0},0,0,0,0,0,0,0,0,{"$error":"#N/A"},0,0,0,0,0,0,0,0,0,0,0,0,0,0,0,{"$error":"#N/A"},{"$error":"#N/A"},{"$error":"#N/A"},{"$error":"#N/A"}]

{"sheet":"8 Б(2)","index":34,"n_rows":82,"n_cols":8,"rows_kept":82,"cut":false,"hidden":true,"merged":[[42,0,42,1],[52,0,52,1],[67,0,67,1],[0,0,0,3],[0,4,0,7],[1,0,1,2],[2,0,2,1],[3,0,15,0],[17,0,17,1]]}
[{"$f":"Титул!B23","v":"8 Б"},null,null,null,"Страница заполняется автоматически, без участия оператора!!!"]
["Всего учащихся в классе:",null,null,{"$f":"Титул!C23","v":6},"Фамилии, имена               учащихся","Учебные предметы","Фамилии и инициалы учителей","Пояснения, примечания, причины"]
["Учатся на  \"5\":",null,{"$f":"COUNTA(E3:E17)","v":0},1]
[null,null,null,2]
[null,null,null,3]
[null,null,null,4]
[null,null,null,5]
[null,null,null,6]
[null,null,null,7]
[null,null,null,8]
[null,null,null,9]
[null,null,null,10]
[null,null,null,11]
[null,null,null,12]
[null,null,null,13]
[null,null,null,14]
[null,null,null,15]
["Учатся  на \"4\"и\"5\"",null,{"$f":"COUNTA(E18:E42)","v":0},1]
[null," ",null,2]
[null,null,null,3]
[null,null,null,4]
[null,null,null,5]
[null,null,null,6]
[null,null,null,7]
[null,null,null,8]
[null,null,null,9]
[null,null,null,10]
[null,null,null,11]
[null,null,null,12]
[null,null,null,13]
[null,null,null,14]
[null,null,null,15]
[null,null,null,16]
[null,null,null,17]
[null,null,null,18]
[null,null,null,19]
[null,null,null,20]
[null,null,null,21]
[null,null,null,22]
[null,null,null,23]
[null,null,null,24]
[null,null,null,25]
["Не аттестованы:",null,{"$f":"COUNTA(E43:E52)","v":0},1]
[null," ",null,2]
[null,null,null,3]
[null,null,null,4]
[null,null,null,5]
[null,null,null,6]
[null,null,null,7]
[null,null,null,8]
[null,null,null,9]
[null,null,null,10]
["Не успевают:",null,{"$f":"COUNTA(E53:E67)","v":0},1]
[null," ",null,2]
[null,null,null,3]
[null,null,null,4]
[null,null,null,5]
[null,null,null,6]
[null,null,null,7]
[null,null,null,8]
[null,null,null,9]
[null,null,null,10]
[null,null,null,11]
[null,null,null,12]
[null,null,null,13]
[null,null,null,14]
[null,null,null,15]
["Освобождены:",null,{"$f":"COUNTA(E68:E82)","v":0},1]
[null," ",null,2]
[null,null,null,3]
[null,null,null,4]
[null,null,null,5]
[null,null,null,6]
[null,null,null,7]
[null,null,null,8]
[null,null,null,9]
[null,null,null,10]
[null,null,null,11]
[null,null,null,12]
[null,null,null,13]
[null,null,null,14]
[null,null,null,15]

{"sheet":"8 В","index":35,"n_rows":130,"n_cols":35,"rows_kept":130,"cut":false,"hidden":true,"merged":[[0,0,0,2],[0,3,0,25],[0,26,0,32],[1,0,1,24],[1,25,1,28],[1,29,1,31],[2,0,2,3],[2,4,2,17],[2,18,2,22],[2,23,2,34],[3,0,4,1],[3,2,3,30],[3,31,3,34],[47,0,47,26],[47,28,47,33],[35,0,35,1],[35,31,35,34],[36,0,46,0],[36,31,36,34],[37,31,37,34],[38,31,38,34],[39,31,39,34],[40,31,40,34],[41,31,41,34],[42,31,42,34],[43,31,43,34],[44,31,44,34],[45,31,45,34],[46,31,46,34]]}
[{"$f":"Титул!B5","v":"2014/15 учебный год"},null,null,{"$f":"Титул!B4","v":"МОУ СОШ  № 15"},null,null,null,null,null,null,null,null,null,null,null,null,null,null,null,null,null,null,null,null,null,null,{"$f":"Титул!B6","v":"4 четверть"},null,null,null,null,null,null,null,"3+"]
["ВЕДОМОСТЬ  РЕЗУЛЬТАТОВ  УЧЕБНОЙ  ДЕЯТЕЛЬНОСТИ",null,null,null,null,null,null,null,null,null,null,null,null,null,null,null,null,null,null,null,null,null,null,null,null,{"$f":"Титул!B24","v":"8 В"},null,null,null,"класса"]
["Классный руководитель:",null,null,null,{"$f":"Титул!D24","v":"Деревягина Т.П."},null,null,null,null,null,null,null,null,null,null,null,null,null,"Программа:",null,null,null,null,{"$f":"Титул!G18","v":"общеобразовательный"}]
["Вручную вносятся только оценки \"5\", \"4\", \"3\", \"2\", \"1\". \nНе аттестованным проставляется \"0\", освобожденным - \"Н\".  ",null,"У  ч  е  б  н  ы  е      п  р  е  д  м  е  т  ы",null,null,null,null,null,null,null,null,null,null,null,null,null,null,null,null,null,null,null,null,null,null,null,null,null,null,null,null,"Результаты ученика:"]
[null,null,{"$f":"Нагрузка!C3","v":"Русский язык"},{"$f":"Нагрузка!D3","v":"Литература"},{"$f":"Нагрузка!E3","v":"Иностранный язык"},{"$f":"Нагрузка!F3","v":"Математика"},{"$f":"Нагрузка!G3","v":"Алгебра"},{"$f":"Нагрузка!H3","v":"Геометрия"},{"$f":"Нагрузка!I3","v":"Информатика"},{"$f":"Нагрузка!J3","v":"История"},{"$f":"Нагрузка!K3","v":"Обществознание"},{"$f":"Нагрузка!L3","v":"Окружающий мир"},{"$f":"Нагрузка!M3","v":"ИЗО"},{"$f":"Нагрузка!N3","v":"Музыка"},{"$f":"Нагрузка!O3","v":"Технология"},{"$f":"Нагрузка!P3","v":"Технология"},{"$f":"Нагрузка!Q3","v":"ФЗК"},{"$f":"Нагрузка!R3","v":"Иностранный язык"},{"$f":"Нагрузка!S3","v":"Иностранный язык"},{"$f":"Нагрузка!T3","v":"География"},{"$f":"Нагрузка!U3","v":"Физика"},{"$f":"Нагрузка!V3","v":"Химия"},{"$f":"Нагрузка!W3","v":"Биология"},{"$f":"Нагрузка!X3","v":"МХК"},{"$f":"Нагрузка!Y3","v":"ФЗК"},{"$f":"Нагрузка!Z3","v":"ОБЖ"},{"$f":"Нагрузка!AA3","v":"Природоведение"},{"$f":"Нагрузка!AB3","v":0},{"$f":"Нагрузка!AC3","v":0},{"$f":"Нагрузка!AD3","v":0},{"$f":"Нагрузка!AE3","v":0},"Средний балл:","Степень обученности (СОУ):","Качество успеваемости:","Рейтинговый учебный балл:"]
[1,{"$f":"СпискиКлассы!Q4","v":"Бусыгин Михаил"},3,3,3,3,null,null,3,3,3,null,5,null,4,null,4,null,null,3,3,3,4,null,null,3,null,null,null,null,null,{"$f":"AVERAGE(C6:AE6)","v":3.3333333333333335},{"$f":"(COUNTIF(C6:AE6,\"5\")+COUNTIF(C6:AE6,\"4\")*0.64+COUNTIF(C6:AE6,\"3\")*0.36+COUNTIF(C6:AE6,\"2\")*0.16)/(COUNTIF(C6:AE6,\"5\")+COUNTIF(C6:AE6,\"4\")+COUNTIF(C6:AE6,\"3\")+COUNTIF(C6:AE6,\"2\")+COUNTIF(C6:AE6,\"0\"))","v":0.45866666666666667},{"$f":"((5*COUNTIF(C6:AE6,\"5\"))+(4*COUNTIF(C6:AE6,\"4\")))/(5*(COUNTA(C6:AE6)-COUNTIF(C6:AE6,\"н\")))","v":0.22666666666666666},{"$f":"SUMIF(C91:AE91,\">0\",C91:AE91)/(COUNTIF(C6:AE6,\">0\")+COUNTIF(C6:AE6,\"=0\")+COUNTIF(C6:AE6,\"Н\"))","v":16.066666666666666}]
[{"$f":"A6+1","v":2},{"$f":"СпискиКлассы!Q5","v":"Воробьев Алексей"},3,3,3,3,null,null,4,3,3,null,4,null,4,null,4,null,null,3,3,3,4,null,null,3,null,null,null,null,null,{"$f":"AVERAGE(C7:AE7)","v":3.3333333333333335},{"$f":"(COUNTIF(C7:AE7,\"5\")+COUNTIF(C7:AE7,\"4\")*0.64+COUNTIF(C7:AE7,\"3\")*0.36+COUNTIF(C7:AE7,\"2\")*0.16)/(COUNTIF(C7:AE7,\"5\")+COUNTIF(C7:AE7,\"4\")+COUNTIF(C7:AE7,\"3\")+COUNTIF(C7:AE7,\"2\")+COUNTIF(C7:AE7,\"0\"))","v":0.45333333333333331},{"$f":"((5*COUNTIF(C7:AE7,\"5\"))+(4*COUNTIF(C7:AE7,\"4\")))/(5*(COUNTA(C7:AE7)-COUNTIF(C7:AE7,\"н\")))","v":0.26666666666666666},16.333333333333332]
[3,{"$f":"СпискиКлассы!Q6","v":"Громик Дмитрий"},4,4,3,3,null,null,3,3,3,null,5,null,4,null,3,null,null,4,3,3,4,null,null,4,null,null,null,null,null,{"$f":"AVERAGE(C8:AE8)","v":3.5333333333333332},0.51466666666666661,0.38666666666666666,17.266666666666666]
[4,{"$f":"СпискиКлассы!Q7","v":"Иваненко Илья"},4,4,4,4,null,null,4,4,4,null,5,null,3,null,4,null,null,4,3,4,4,null,null,4,null,null,null,null,null,3.9333333333333331,0.62666666666666671,0.70666666666666667,19.533333333333335]
[5,{"$f":"СпискиКлассы!Q8","v":"Корнилов Кирилл"},3,4,4,4,null,null,4,4,4,null,5,null,4,null,4,null,null,4,3,4,4,null,null,4,null,null,null,null,null,3.9333333333333331,0.62666666666666671,0.70666666666666667,19.133333333333333]
[6,{"$f":"СпискиКлассы!Q9","v":"Люцков Руслан"},3,3,3,3,null,null,3,3,3,null,4,null,3,null,4,null,null,3,3,3,3,null,null,3,null,null,null,null,null,3.1333333333333333,0.39733333333333332,0.10666666666666667,15.333333333333334]
[7,{"$f":"СпискиКлассы!Q10","v":"Махницкий Константин"},3,3,3,3,null,null,4,3,3,null,5,null,4,null,5,null,null,3,3,3,4,null,null,3,null,null,null,null,null,3.4666666666666668,0.5013333333333333,0.29333333333333333,16.666666666666668]
[8,{"$f":"СпискиКлассы!Q11","v":"Ференчук Виктория"},4,4,4,3,null,null,4,4,4,null,5,null,4,null,4,null,null,4,3,3,4,null,null,4,null,null,null,null,null,3.8666666666666667,0.60799999999999998,0.65333333333333332,18.933333333333334]
[9,{"$f":"СпискиКлассы!Q12","v":"Щетинина Татьяна"},4,3,3,3,null,null,4,4,4,null,5,null,4,null,4,null,null,4,3,3,4,null,null,4,null,null,null,null,null,3.7333333333333334,0.57066666666666654,0.54666666666666663,18.133333333333333]
[10,{"$f":"СпискиКлассы!Q13","v":"Юдина Карина"},3,3,3,3,null,null,3,3,3,null,4,null,3,null,4,null,null,3,3,3,3,null,null,3,null,null,null,null,null,3.1333333333333333,0.39733333333333332,0.10666666666666667,15.333333333333334]
[11,{"$f":"СпискиКлассы!Q14","v":0},null,null,null,null,null,null,null,null,null,null,null,null,null,null,null,null,null,null,null,null,null,null,null,null,null,null,null,null,null,{"$error":"#DIV/0!"},{"$error":"#DIV/0!"},{"$error":"#DIV/0!"},{"$error":"#DIV/0!"}]
[12,{"$f":"СпискиКлассы!Q15","v":0},null,null,null,null,null,null,null,null,null,null,null,null,null,null,null,null,null,null,null,null,null,null,null,null,null,null,null,null,null,{"$error":"#DIV/0!"},{"$error":"#DIV/0!"},{"$error":"#DIV/0!"},{"$error":"#DIV/0!"}]
[13,{"$f":"СпискиКлассы!Q16","v":0},null,null,null,null,null,null,null,null,null,null,null,null,null,null,null,null,null,null,null,null,null,null,null,null,null,null,null,null,null,{"$error":"#DIV/0!"},{"$error":"#DIV/0!"},{"$error":"#DIV/0!"},{"$error":"#DIV/0!"}]
[14,{"$f":"СпискиКлассы!Q17","v":0},null,null,null,null,null,null,null,null,null,null,null,null,null,null,null,null,null,null,null,null,null,null,null,null,null,null,null,null,null,{"$error":"#DIV/0!"},{"$error":"#DIV/0!"},{"$error":"#DIV/0!"},{"$error":"#DIV/0!"}]
[15,{"$f":"СпискиКлассы!Q18","v":0},null,null,null,null,null,null,null,null,null,null,null,null,null,null,null,null,null,null,null,null,null,null,null,null,null,null,null,null,null,{"$error":"#DIV/0!"},{"$error":"#DIV/0!"},{"$error":"#DIV/0!"},{"$error":"#DIV/0!"}]
[16,{"$f":"СпискиКлассы!Q19","v":0},null,null,null,null,null,null,null,null,null,null,null,null,null,null,null,null,null,null,null,null,null,null,null,null,null,null,null,null,null,{"$error":"#DIV/0!"},{"$error":"#DIV/0!"},{"$error":"#DIV/0!"},{"$error":"#DIV/0!"}]
[17,{"$f":"СпискиКлассы!Q20","v":0},null,null,null,null,null,null,null,null,null,null,null,null,null,null,null,null,null,null,null,null,null,null,null,null,null,null,null,null,null,{"$error":"#DIV/0!"},{"$error":"#DIV/0!"},{"$error":"#DIV/0!"},{"$error":"#DIV/0!"}]
[18,{"$f":"СпискиКлассы!Q21","v":0},null,null,null,null,null,null,null,null,null,null,null,null,null,null,null,null,null,null,null,null,null,null,null,null,null,null,null,null,null,{"$error":"#DIV/0!"},{"$error":"#DIV/0!"},{"$error":"#DIV/0!"},{"$error":"#DIV/0!"}]
[19,{"$f":"СпискиКлассы!Q22","v":0},null,null,null,null,null,null,null,null,null,null,null,null,null,null,null,null,null,null,null,null,null,null,null,null,null,null,null,null,null,{"$error":"#DIV/0!"},{"$error":"#DIV/0!"},{"$error":"#DIV/0!"},{"$error":"#DIV/0!"}]
[20,{"$f":"СпискиКлассы!Q23","v":0},null,null,null,null,null,null,null,null,null,null,null,null,null,null,null,null,null,null,null,null,null,null,null,null,null,null,null,null,null,{"$error":"#DIV/0!"},{"$error":"#DIV/0!"},{"$error":"#DIV/0!"},{"$error":"#DIV/0!"}]
[21,{"$f":"СпискиКлассы!Q24","v":0},null,null,null,null,null,null,null,null,null,null,null,null,null,null,null,null,null,null,null,null,null,null,null,null,null,null,null,null,null,{"$error":"#DIV/0!"},{"$error":"#DIV/0!"},{"$error":"#DIV/0!"},{"$error":"#DIV/0!"}]
[22,{"$f":"СпискиКлассы!Q25","v":0},null,null,null,null,null,null,null,null,null,null,null,null,null,null,null,null,null,null,null,null,null,null,null,null,null,null,null,null,null,{"$error":"#DIV/0!"},{"$error":"#DIV/0!"},{"$error":"#DIV/0!"},{"$error":"#DIV/0!"}]
[23,{"$f":"СпискиКлассы!Q26","v":0},null,null,null,null,null,null,null,null,null,null,null,null,null,null,null,null,null,null,null,null,null,null,null,null,null,null,null,null,null,{"$error":"#DIV/0!"},{"$error":"#DIV/0!"},{"$error":"#DIV/0!"},{"$error":"#DIV/0!"}]
[24,{"$f":"СпискиКлассы!Q27","v":0},null,null,null,null,null,null,null,null,null,null,null,null,null,null,null,null,null,null,null,null,null,null,null,null,null,null,null,null,null,{"$error":"#DIV/0!"},{"$error":"#DIV/0!"},{"$error":"#DIV/0!"},{"$error":"#DIV/0!"}]
[25,{"$f":"СпискиКлассы!Q28","v":0},null,null,null,null,null,null,null,null,null,null,null,null,null,null,null,null,null,null,null,null,null,null,null,null,null,null,null,null,null,{"$error":"#DIV/0!"},{"$error":"#DIV/0!"},{"$error":"#DIV/0!"},{"$error":"#DIV/0!"}]
[26,{"$f":"СпискиКлассы!Q29","v":0},null,null,null,null,null,null,null,null,null,null,null,null,null,null,null,null,null,null,null,null,null,null,null,null,null,null,null,null,null,{"$error":"#DIV/0!"},{"$error":"#DIV/0!"},{"$error":"#DIV/0!"},{"$error":"#DIV/0!"}]
[27,{"$f":"СпискиКлассы!Q30","v":0},null,null,null,null,null,null,null,null,null,null,null,null,null,null,null,null,null,null,null,null,null,null,null,null,null,null,null,null,null,{"$error":"#DIV/0!"},{"$error":"#DIV/0!"},{"$error":"#DIV/0!"},{"$error":"#DIV/0!"}]
[28,{"$f":"СпискиКлассы!Q31","v":0},null,null,null,null,null,null,null,null,null,null,null,null,null,null,null,null,null,null,null,null,null,null,null,null,null,null,null,null,null,{"$error":"#DIV/0!"},{"$error":"#DIV/0!"},{"$error":"#DIV/0!"},{"$error":"#DIV/0!"}]
[29,{"$f":"СпискиКлассы!Q32","v":0},null,null,null,null,null,null,null,null,null,null,null,null,null,null,null,null,null,null,null,null,null,null,null,null,null,null,null,null,null,{"$error":"#DIV/0!"},{"$error":"#DIV/0!"},{"$error":"#DIV/0!"},{"$error":"#DIV/0!"}]
[30,{"$f":"СпискиКлассы!Q33","v":0},null,null,null,null,null,null,null,null,null,null,null,null,null,null,null,null,null,null,null,null,null,null,null,null,null,null,null,null,null,{"$error":"#DIV/0!"},{"$error":"#DIV/0!"},{"$error":"#DIV/0!"},{"$f":"SUMIF(C130:AE130,\">0\",C130:AE130)/(COUNTIF(C35:AE35,\">0\")+COUNTIF(C35:AE35,\"=0\")+COUNTIF(C35:AE35,\"Н\"))","v":{"$error":"#DIV/0!"}}]
[" Фамилия и инициалы                                           учителя - предметника",null,{"$f":"Нагрузка!C20","v":"Маслова"},{"$f":"Нагрузка!D20","v":"Зайцева"},{"$f":"Нагрузка!E20","v":"Гулевич"},{"$f":"Нагрузка!F20","v":"Желтова"},{"$f":"Нагрузка!G20","v":0},{"$f":"Нагрузка!H20","v":0},{"$f":"Нагрузка!I20","v":"Головырина"},{"$f":"Нагрузка!J20","v":"Астраханцева"},{"$f":"Нагрузка!K20","v":"Астраханцева"},{"$f":"Нагрузка!L20","v":0},{"$f":"Нагрузка!M20","v":"Терюшкова"},{"$f":"Нагрузка!N20","v":"Заворина"},{"$f":"Нагрузка!O20","v":"Девицын"},{"$f":"Нагрузка!P20","v":"Потьканова"},{"$f":"Нагрузка!Q20","v":"Перфильев"},{"$f":"Нагрузка!R20","v":0},{"$f":"Нагрузка!S20","v":0},{"$f":"Нагрузка!T20","v":"Сидоренко"},{"$f":"Нагрузка!U20","v":"Горнышкова"},{"$f":"Нагрузка!V20","v":0},{"$f":"Нагрузка!W20","v":"Деревягина"},{"$f":"Нагрузка!X20","v":0},{"$f":"Нагрузка!Y20","v":0},{"$f":"Нагрузка!Z20","v":0},{"$f":"Нагрузка!AA20","v":0},{"$f":"Нагрузка!AB20","v":0},{"$f":"Нагрузка!AC14","v":0},{"$f":"Нагрузка!AD14","v":0},{"$f":"Нагрузка!AE14","v":0},"Показатели результатов учебной деятельности в  целом по классу:"]
["Результаты учебной деятельности класса","Количество  \"5\":",{"$f":"COUNTIF(C6:C35,5)","v":0},0,0,0,0,0,0,0,0,0,7,0,0,0,1,0,0,0,0,0,0,0,0,0,0,0,0,0,0,{"$f":"SUM(C37:AE37)","v":8}]
[null,"Количество  \"4\":",{"$f":"COUNTIF(C6:C35,4)","v":4},4,3,2,0,0,6,4,4,0,3,0,7,0,8,0,0,5,0,2,8,0,0,5,0,0,0,0,0,65]
[null,"Количество  \"3\":",{"$f":"COUNTIF(C6:C35,3)","v":6},6,7,8,0,0,4,6,6,0,0,0,3,0,1,0,0,5,10,8,2,0,0,5,0,0,0,0,0,77]
[null,"Количество  \"2\":",{"$f":"COUNTIF(C6:C35,2)","v":0},0,0,0,0,0,0,0,0,0,0,0,0,0,0,0,0,0,0,0,0,0,0,0,0,0,0,0,0,0]
[null,"Не аттестовано:",{"$f":"COUNTIF(C6:C35,0)","v":0},0,0,0,0,0,0,0,0,0,0,0,0,0,0,0,0,0,0,0,0,0,0,0,0,0,0,0,0,0]
[null,"Освобождено:",{"$f":"COUNTIF(C6:C35,\"н\")","v":0},0,0,0,0,0,0,0,0,0,0,0,0,0,0,0,0,0,0,0,0,0,0,0,0,0,0,0,0,0]
[null,"Успеваемость:",{"$f":"(C37+C38+C39)/(C37+C38+C39+C40+C41)","v":1},{"$f":"(D37+D38+D39)/(D37+D38+D39+D40+D41)","v":1},1,1,{"$error":"#DIV/0!"},{"$error":"#DIV/0!"},1,1,1,{"$error":"#DIV/0!"},1,{"$error":"#DIV/0!"},1,{"$error":"#DIV/0!"},1,{"$error":"#DIV/0!"},{"$error":"#DIV/0!"},1,1,1,1,{"$error":"#DIV/0!"},{"$error":"#DIV/0!"},1,{"$error":"#DIV/0!"},{"$error":"#DIV/0!"},{"$error":"#DIV/0!"},{"$error":"#DIV/0!"},{"$error":"#DIV/0!"},{"$f":"('8 В(2)'!D2-'8 В(2)'!C43-'8 В(2)'!C53)/'8 В(2)'!D2","v":1}]
[null,"Качество знаний:",{"$f":"(C37+C38)/(C37+C38+C39+C40+C41)","v":0.4},{"$f":"(D37+D38)/(D37+D38+D39+D40+D41)","v":0.4},0.3,0.2,{"$error":"#DIV/0!"},{"$error":"#DIV/0!"},0.6,0.4,0.4,{"$error":"#DIV/0!"},1,{"$error":"#DIV/0!"},0.7,{"$error":"#DIV/0!"},0.9,{"$error":"#DIV/0!"},{"$error":"#DIV/0!"},0.5,0,0.2,0.8,{"$error":"#DIV/0!"},{"$error":"#DIV/0!"},0.5,{"$error":"#DIV/0!"},{"$error":"#DIV/0!"},{"$error":"#DIV/0!"},{"$error":"#DIV/0!"},{"$error":"#DIV/0!"},{"$f":"('8 В(2)'!C3+'8 В(2)'!C18)/'8 В(2)'!D2","v":0}]
[null,"Степень обученности:",{"$f":"(C37+C38*0.64+C39*0.36+C40*0.16)/(C37+C38+C39+C40+C41)","v":0.47200000000000009},{"$f":"(D37+D38*0.64+D39*0.36+D40*0.16)/(D37+D38+D39+D40+D41)","v":0.47200000000000009},0.44399999999999995,0.41600000000000004,{"$error":"#DIV/0!"},{"$error":"#DIV/0!"},0.52799999999999991,0.47200000000000009,0.47200000000000009,{"$error":"#DIV/0!"},0.89200000000000002,{"$error":"#DIV/0!"},0.55600000000000005,{"$error":"#DIV/0!"},0.64800000000000002,{"$error":"#DIV/0!"},{"$error":"#DIV/0!"},0.5,0.36,0.41600000000000004,0.58399999999999996,{"$error":"#DIV/0!"},{"$error":"#DIV/0!"},0.5,{"$error":"#DIV/0!"},{"$error":"#DIV/0!"},{"$error":"#DIV/0!"},{"$error":"#DIV/0!"},{"$error":"#DIV/0!"},{"$f":"(AF37+AF38*0.64+AF39*0.36+AF40*0.16)/(AF37+AF38+AF39+AF40+AF41)","v":0.51546666666666663}]
[null,"Средний балл:              ",{"$f":"(C37*5+C38*4+C39*3+C40*2)/(C37+C38+C39+C40+C41)","v":3.4},{"$f":"(D37*5+D38*4+D39*3+D40*2)/(D37+D38+D39+D40+D41)","v":3.4},3.3,3.2,{"$error":"#DIV/0!"},{"$error":"#DIV/0!"},3.6,3.4,3.4,{"$error":"#DIV/0!"},4.7,{"$error":"#DIV/0!"},3.7,{"$error":"#DIV/0!"},4,{"$error":"#DIV/0!"},{"$error":"#DIV/0!"},3.5,3,3.2,3.8,{"$error":"#DIV/0!"},{"$error":"#DIV/0!"},3.5,{"$error":"#DIV/0!"},{"$error":"#DIV/0!"},{"$error":"#DIV/0!"},{"$error":"#DIV/0!"},{"$error":"#DIV/0!"},{"$f":"(AF37*5+AF38*4+AF39*3+AF40*2)/(AF37+AF38+AF39+AF40+AF41)","v":3.54}]
[null,"Качество успеваемости:",{"$f":"(5*C37+4*C38)*0.2/(SUM(C37+C38+C39+C40+C41))","v":0.32},{"$f":"(5*COUNTIF(D6:D35,5)+4*COUNTIF(D6:D35,4))*0.2/(COUNTA(D6:D35)-COUNTIF(D6:D35,\"н\"))","v":0.32},0.24000000000000005,0.16,{"$error":"#DIV/0!"},{"$error":"#DIV/0!"},0.48000000000000009,0.32,0.32,{"$error":"#DIV/0!"},0.94000000000000006,{"$error":"#DIV/0!"},0.56000000000000005,{"$error":"#DIV/0!"},0.74,{"$error":"#DIV/0!"},{"$error":"#DIV/0!"},0.4,0,0.16,0.64,{"$error":"#DIV/0!"},{"$error":"#DIV/0!"},0.4,{"$error":"#DIV/0!"},{"$error":"#DIV/0!"},{"$error":"#DIV/0!"},{"$error":"#DIV/0!"},{"$error":"#DIV/0!"},{"$f":"(5*COUNTIF(C6:AE35,5)+4*COUNTIF(C6:AE35,4))*0.2/(COUNTA(C6:AE35)-COUNTIF(C6:AE35,\"н\"))","v":0.4}]
["Выполнено с помощью программы статистического анализа результатов учебной деятельности",null,null,null,null,null,null,null,null,null,null,null,null,null,null,null,null,null,null,null,null,null,null,null,null,null,null,null,{"$f":"Титул!G31","v":"PSORUD-Klass.v.04.11.demo"},null,null,null,null,null,"3+"]
[]
[]
[]
[]
[]
[]
[]
[]
[]
[]
[]
[]
[]
[]
[]
[]
[]
[]
[]
[]
[]
[]
[]
[]
[]
[]
[]
[]
[]
[]
[]
[]
[]
[]
[]
[]
[]
[]
[]
[]
[]
[null,"Коэф.трудн.предмета",{"$f":"VLOOKUP(C$5,ШкалаТрудн!$C$5:$N$34,LEFT($Z$2,2)+1,0)","v":7},{"$f":"VLOOKUP(D$5,ШкалаТрудн!$C$5:$N$34,LEFT($Z$2,2)+1,0)","v":4},{"$f":"VLOOKUP(E$5,ШкалаТрудн!$C$5:$N$34,LEFT($Z$2,2)+1,0)","v":8},{"$f":"VLOOKUP(F$5,ШкалаТрудн!$C$5:$N$34,LEFT($Z$2,2)+1,0)","v":0},{"$f":"VLOOKUP(G$5,ШкалаТрудн!$C$5:$N$34,LEFT($Z$2,2)+1,0)","v":9},{"$f":"VLOOKUP(H$5,ШкалаТрудн!$C$5:$N$34,LEFT($Z$2,2)+1,0)","v":10},{"$f":"VLOOKUP(I$5,ШкалаТрудн!$C$5:$N$34,LEFT($Z$2,2)+1,0)","v":7},{"$f":"VLOOKUP(J$5,ШкалаТрудн!$C$5:$N$34,LEFT($Z$2,2)+1,0)","v":8},{"$f":"VLOOKUP(K$5,ШкалаТрудн!$C$5:$N$34,LEFT($Z$2,2)+1,0)","v":0},{"$f":"VLOOKUP(L$5,ШкалаТрудн!$C$5:$N$34,LEFT($Z$2,2)+1,0)","v":{"$error":"#N/A"}},{"$f":"VLOOKUP(M$5,ШкалаТрудн!$C$5:$N$34,LEFT($Z$2,2)+1,0)","v":3},{"$f":"VLOOKUP(N$5,ШкалаТрудн!$C$5:$N$34,LEFT($Z$2,2)+1,0)","v":1},{"$f":"VLOOKUP(O$5,ШкалаТрудн!$C$5:$N$34,LEFT($Z$2,2)+1,0)","v":1},{"$f":"VLOOKUP(P$5,ШкалаТрудн!$C$5:$N$34,LEFT($Z$2,2)+1,0)","v":1},{"$f":"VLOOKUP(Q$5,ШкалаТрудн!$C$5:$N$34,LEFT($Z$2,2)+1,0)","v":2},{"$f":"VLOOKUP(R$5,ШкалаТрудн!$C$5:$N$34,LEFT($Z$2,2)+1,0)","v":8},{"$f":"VLOOKUP(S$5,ШкалаТрудн!$C$5:$N$34,LEFT($Z$2,2)+1,0)","v":8},{"$f":"VLOOKUP(T$5,ШкалаТрудн!$C$5:$N$34,LEFT($Z$2,2)+1,0)","v":6},{"$f":"VLOOKUP(U$5,ШкалаТрудн!$C$5:$N$34,LEFT($Z$2,2)+1,0)","v":9},{"$f":"VLOOKUP(V$5,ШкалаТрудн!$C$5:$N$34,LEFT($Z$2,2)+1,0)","v":10},{"$f":"VLOOKUP(W$5,ШкалаТрудн!$C$5:$N$34,LEFT($Z$2,2)+1,0)","v":7},{"$f":"VLOOKUP(X$5,ШкалаТрудн!$C$5:$N$34,LEFT($Z$2,2)+1,0)","v":5},{"$f":"VLOOKUP(Y$5,ШкалаТрудн!$C$5:$N$34,LEFT($Z$2,2)+1,0)","v":2},{"$f":"VLOOKUP(Z$5,ШкалаТрудн!$C$5:$N$34,LEFT($Z$2,2)+1,0)","v":3},{"$f":"VLOOKUP(AA$5,ШкалаТрудн!$C$5:$N$34,LEFT($Z$2,2)+1,0)","v":0},{"$f":"VLOOKUP(AB$5,ШкалаТрудн!$C$5:$N$34,LEFT($Z$2,2)+1,0)","v":{"$error":"#N/A"}},{"$f":"VLOOKUP(AC$5,ШкалаТрудн!$C$5:$N$34,LEFT($Z$2,2)+1,0)","v":{"$error":"#N/A"}},{"$f":"VLOOKUP(AD$5,ШкалаТрудн!$C$5:$N$34,LEFT($Z$2,2)+1,0)","v":{"$error":"#N/A"}},{"$f":"VLOOKUP(AE$5,ШкалаТрудн!$C$5:$N$34,LEFT($Z$2,2)+1,0)","v":{"$error":"#N/A"}}]
[null,null,{"$f":"C6*C$90","v":21},12,24,0,0,0,21,24,0,{"$error":"#N/A"},15,0,4,0,8,0,0,18,27,30,28,0,0,9,0,{"$error":"#N/A"},{"$error":"#N/A"},{"$error":"#N/A"},{"$error":"#N/A"}]
[null,null,21,12,24,0,0,0,28,24,0,{"$error":"#N/A"},12,0,4,0,8,0,0,18,27,30,28,0,0,9,0,{"$error":"#N/A"},{"$error":"#N/A"},{"$error":"#N/A"},{"$error":"#N/A"}]
[null,null,28,16,24,0,0,0,21,24,0,{"$error":"#N/A"},15,0,4,0,6,0,0,24,27,30,28,0,0,12,0,{"$error":"#N/A"},{"$error":"#N/A"},{"$error":"#N/A"},{"$error":"#N/A"}]
[null,null,28,16,32,0,0,0,28,32,0,{"$error":"#N/A"},15,0,3,0,8,0,0,24,27,40,28,0,0,12,0,{"$error":"#N/A"},{"$error":"#N/A"},{"$error":"#N/A"},{"$error":"#N/A"}]
[null,null,21,16,32,0,0,0,28,32,0,{"$error":"#N/A"},15,0,4,0,8,0,0,24,27,40,28,0,0,12,0,{"$error":"#N/A"},{"$error":"#N/A"},{"$error":"#N/A"},{"$error":"#N/A"}]
[null,null,21,12,24,0,0,0,21,24,0,{"$error":"#N/A"},12,0,3,0,8,0,0,18,27,30,21,0,0,9,0,{"$error":"#N/A"},{"$error":"#N/A"},{"$error":"#N/A"},{"$error":"#N/A"}]
[null,null,21,12,24,0,0,0,28,24,0,{"$error":"#N/A"},15,0,4,0,10,0,0,18,27,30,28,0,0,9,0,{"$error":"#N/A"},{"$error":"#N/A"},{"$error":"#N/A"},{"$error":"#N/A"}]
[null,null,28,16,32,0,0,0,28,32,0,{"$error":"#N/A"},15,0,4,0,8,0,0,24,27,30,28,0,0,12,0,{"$error":"#N/A"},{"$error":"#N/A"},{"$error":"#N/A"},{"$error":"#N/A"}]
[null,null,28,12,24,0,0,0,28,32,0,{"$error":"#N/A"},15,0,4,0,8,0,0,24,27,30,28,0,0,{"$f":"Z14*Z$90","v":12},0,{"$error":"#N/A"},{"$error":"#N/A"},{"$error":"#N/A"},{"$error":"#N/A"}]
[null,null,{"$f":"C15*C$90","v":21},12,24,0,0,0,21,24,0,{"$error":"#N/A"},12,0,3,0,8,0,0,18,27,30,21,0,0,9,0,{"$error":"#N/A"},{"$error":"#N/A"},{"$error":"#N/A"},{"$error":"#N/A"}]
[null,null,0,0,0,0,0,0,0,0,0,{"$error":"#N/A"},0,0,0,0,0,0,0,0,0,0,0,0,0,0,0,{"$error":"#N/A"},{"$error":"#N/A"},{"$error":"#N/A"},{"$error":"#N/A"}]
[null,null,0,0,0,0,0,0,0,0,0,{"$error":"#N/A"},0,0,0,0,0,0,0,0,0,0,0,0,0,0,0,{"$error":"#N/A"},{"$error":"#N/A"},{"$error":"#N/A"},{"$error":"#N/A"}]
[null,null,0,0,0,0,0,0,0,0,0,{"$error":"#N/A"},0,0,0,0,0,0,0,0,0,0,0,0,0,0,0,{"$error":"#N/A"},{"$error":"#N/A"},{"$error":"#N/A"},{"$error":"#N/A"}]
[null,null,0,0,0,0,0,0,0,0,0,{"$error":"#N/A"},0,0,0,0,0,0,0,0,0,0,0,0,0,0,0,{"$error":"#N/A"},{"$error":"#N/A"},{"$error":"#N/A"},{"$error":"#N/A"}]
[null,null,0,0,0,0,0,0,0,0,0,{"$error":"#N/A"},0,0,0,0,0,0,0,0,0,0,0,0,0,0,0,{"$error":"#N/A"},{"$error":"#N/A"},{"$error":"#N/A"},{"$error":"#N/A"}]
[null,null,0,0,0,0,0,0,0,0,0,{"$error":"#N/A"},0,0,0,0,0,0,0,0,0,0,0,0,0,0,0,{"$error":"#N/A"},{"$error":"#N/A"},{"$error":"#N/A"},{"$error":"#N/A"}]
[null,null,0,0,0,0,0,0,0,0,0,{"$error":"#N/A"},0,0,0,0,0,0,0,0,0,0,0,0,0,0,0,{"$error":"#N/A"},{"$error":"#N/A"},{"$error":"#N/A"},{"$error":"#N/A"}]
[null,null,0,0,0,0,0,0,0,0,0,{"$error":"#N/A"},0,0,0,0,0,0,0,0,0,0,0,0,0,{"$f":"Z23*Z$90","v":0},0,{"$error":"#N/A"},{"$error":"#N/A"},{"$error":"#N/A"},{"$error":"#N/A"}]
[null,null,{"$f":"C24*C$90","v":0},0,0,0,0,0,0,0,0,{"$error":"#N/A"},0,0,0,0,0,0,0,0,0,0,0,0,0,0,0,{"$error":"#N/A"},{"$error":"#N/A"},{"$error":"#N/A"},{"$error":"#N/A"}]
[null,null,0,0,0,0,0,0,0,0,0,{"$error":"#N/A"},0,0,0,0,0,0,0,0,0,0,0,0,0,0,0,{"$error":"#N/A"},{"$error":"#N/A"},{"$error":"#N/A"},{"$error":"#N/A"}]
[null,null,0,0,0,0,0,0,0,0,0,{"$error":"#N/A"},0,0,0,0,0,0,0,0,0,0,0,0,0,0,0,{"$error":"#N/A"},{"$error":"#N/A"},{"$error":"#N/A"},{"$error":"#N/A"}]
[null,null,0,0,0,0,0,0,0,0,0,{"$error":"#N/A"},0,0,0,0,0,0,0,0,0,0,0,0,0,0,0,{"$error":"#N/A"},{"$error":"#N/A"},{"$error":"#N/A"},{"$error":"#N/A"}]
[null,null,0,0,0,0,0,0,0,0,0,{"$error":"#N/A"},0,0,0,0,0,0,0,0,0,0,0,0,0,0,0,{"$error":"#N/A"},{"$error":"#N/A"},{"$error":"#N/A"},{"$error":"#N/A"}]
[null,null,0,0,0,0,0,0,0,0,0,{"$error":"#N/A"},0,0,0,0,0,0,0,0,0,0,0,0,0,0,0,{"$error":"#N/A"},{"$error":"#N/A"},{"$error":"#N/A"},{"$error":"#N/A"}]
[null,null,0,0,0,0,0,0,0,0,0,{"$error":"#N/A"},0,0,0,0,0,0,0,0,0,0,0,0,0,0,0,{"$error":"#N/A"},{"$error":"#N/A"},{"$error":"#N/A"},{"$error":"#N/A"}]
[null,null,0,0,0,0,0,0,0,0,0,{"$error":"#N/A"},0,0,0,0,0,0,0,0,0,0,0,0,0,0,0,{"$error":"#N/A"},{"$error":"#N/A"},{"$error":"#N/A"},{"$error":"#N/A"}]
[null,null,0,0,0,0,0,0,0,0,0,{"$error":"#N/A"},0,0,0,0,0,0,0,0,0,0,0,0,0,{"$f":"Z32*Z$90","v":0},0,{"$error":"#N/A"},{"$error":"#N/A"},{"$error":"#N/A"},{"$error":"#N/A"}]
[null,null,{"$f":"C33*C$90","v":0},0,0,0,0,0,0,0,0,{"$error":"#N/A"},0,0,0,0,0,0,0,0,0,0,0,0,0,0,0,{"$error":"#N/A"},{"$error":"#N/A"},{"$error":"#N/A"},{"$error":"#N/A"}]
[null,null,0,0,0,0,0,0,0,0,0,{"$error":"#N/A"},0,0,0,0,0,0,0,0,0,0,0,0,0,0,0,{"$error":"#N/A"},{"$error":"#N/A"},{"$error":"#N/A"},{"$error":"#N/A"}]
[null,null,{"$f":"#REF!*C$90","v":{"$error":"#REF!"}},{"$f":"#REF!*D$90","v":{"$error":"#REF!"}},{"$f":"#REF!*E$90","v":{"$error":"#REF!"}},{"$f":"#REF!*F$90","v":{"$error":"#REF!"}},{"$f":"#REF!*G$90","v":{"$error":"#REF!"}},{"$f":"#REF!*H$90","v":{"$error":"#REF!"}},{"$f":"#REF!*I$90","v":{"$error":"#REF!"}},{"$f":"#REF!*J$90","v":{"$error":"#REF!"}},{"$f":"#REF!*K$90","v":{"$error":"#REF!"}},{"$f":"#REF!*L$90","v":{"$error":"#REF!"}},{"$f":"#REF!*M$90","v":{"$error":"#REF!"}},{"$f":"#REF!*N$90","v":{"$error":"#REF!"}},{"$f":"#REF!*O$90","v":{"$error":"#REF!"}},{"$f":"#REF!*P$90","v":{"$error":"#REF!"}},{"$f":"#REF!*Q$90","v":{"$error":"#REF!"}},{"$f":"#REF!*R$90","v":{"$error":"#REF!"}},{"$f":"#REF!*S$90","v":{"$error":"#REF!"}},{"$f":"#REF!*T$90","v":{"$error":"#REF!"}},{"$f":"#REF!*U$90","v":{"$error":"#REF!"}},{"$f":"#REF!*V$90","v":{"$error":"#REF!"}},{"$f":"#REF!*W$90","v":{"$error":"#REF!"}},{"$f":"#REF!*X$90","v":{"$error":"#REF!"}},{"$f":"#REF!*Y$90","v":{"$error":"#REF!"}},{"$f":"#REF!*Z$90","v":{"$error":"#REF!"}},{"$f":"#REF!*AA$90","v":{"$error":"#REF!"}},{"$f":"#REF!*AB$90","v":{"$error":"#REF!"}},{"$f":"#REF!*AC$90","v":{"$error":"#REF!"}},{"$f":"#REF!*AD$90","v":{"$error":"#REF!"}},{"$f":"#REF!*AE$90","v":{"$error":"#REF!"}}]
[null,null,{"$f":"#REF!*C$90","v":{"$error":"#REF!"}},{"$f":"#REF!*D$90","v":{"$error":"#REF!"}},{"$f":"#REF!*E$90","v":{"$error":"#REF!"}},{"$f":"#REF!*F$90","v":{"$error":"#REF!"}},{"$f":"#REF!*G$90","v":{"$error":"#REF!"}},{"$f":"#REF!*H$90","v":{"$error":"#REF!"}},{"$f":"#REF!*I$90","v":{"$error":"#REF!"}},{"$f":"#REF!*J$90","v":{"$error":"#REF!"}},{"$f":"#REF!*K$90","v":{"$error":"#REF!"}},{"$f":"#REF!*L$90","v":{"$error":"#REF!"}},{"$f":"#REF!*M$90","v":{"$error":"#REF!"}},{"$f":"#REF!*N$90","v":{"$error":"#REF!"}},{"$f":"#REF!*O$90","v":{"$error":"#REF!"}},{"$f":"#REF!*P$90","v":{"$error":"#REF!"}},{"$f":"#REF!*Q$90","v":{"$error":"#REF!"}},{"$f":"#REF!*R$90","v":{"$error":"#REF!"}},{"$f":"#REF!*S$90","v":{"$error":"#REF!"}},{"$f":"#REF!*T$90","v":{"$error":"#REF!"}},{"$f":"#REF!*U$90","v":{"$error":"#REF!"}},{"$f":"#REF!*V$90","v":{"$error":"#REF!"}},{"$f":"#REF!*W$90","v":{"$error":"#REF!"}},{"$f":"#REF!*X$90","v":{"$error":"#REF!"}},{"$f":"#REF!*Y$90","v":{"$error":"#REF!"}},{"$f":"#REF!*Z$90","v":{"$error":"#REF!"}},{"$f":"#REF!*AA$90","v":{"$error":"#REF!"}},{"$f":"#REF!*AB$90","v":{"$error":"#REF!"}},{"$f":"#REF!*AC$90","v":{"$error":"#REF!"}},{"$f":"#REF!*AD$90","v":{"$error":"#REF!"}},{"$f":"#REF!*AE$90","v":{"$error":"#REF!"}}]
[null,null,{"$f":"#REF!*C$90","v":{"$error":"#REF!"}},{"$f":"#REF!*D$90","v":{"$error":"#REF!"}},{"$f":"#REF!*E$90","v":{"$error":"#REF!"}},{"$f":"#REF!*F$90","v":{"$error":"#REF!"}},{"$f":"#REF!*G$90","v":{"$error":"#REF!"}},{"$f":"#REF!*H$90","v":{"$error":"#REF!"}},{"$f":"#REF!*I$90","v":{"$error":"#REF!"}},{"$f":"#REF!*J$90","v":{"$error":"#REF!"}},{"$f":"#REF!*K$90","v":{"$error":"#REF!"}},{"$f":"#REF!*L$90","v":{"$error":"#REF!"}},{"$f":"#REF!*M$90","v":{"$error":"#REF!"}},{"$f":"#REF!*N$90","v":{"$error":"#REF!"}},{"$f":"#REF!*O$90","v":{"$error":"#REF!"}},{"$f":"#REF!*P$90","v":{"$error":"#REF!"}},{"$f":"#REF!*Q$90","v":{"$error":"#REF!"}},{"$f":"#REF!*R$90","v":{"$error":"#REF!"}},{"$f":"#REF!*S$90","v":{"$error":"#REF!"}},{"$f":"#REF!*T$90","v":{"$error":"#REF!"}},{"$f":"#REF!*U$90","v":{"$error":"#REF!"}},{"$f":"#REF!*V$90","v":{"$error":"#REF!"}},{"$f":"#REF!*W$90","v":{"$error":"#REF!"}},{"$f":"#REF!*X$90","v":{"$error":"#REF!"}},{"$f":"#REF!*Y$90","v":{"$error":"#REF!"}},{"$f":"#REF!*Z$90","v":{"$error":"#REF!"}},{"$f":"#REF!*AA$90","v":{"$error":"#REF!"}},{"$f":"#REF!*AB$90","v":{"$error":"#REF!"}},{"$f":"#REF!*AC$90","v":{"$error":"#REF!"}},{"$f":"#REF!*AD$90","v":{"$error":"#REF!"}},{"$f":"#REF!*AE$90","v":{"$error":"#REF!"}}]
[null,null,{"$f":"#REF!*C$90","v":{"$error":"#REF!"}},{"$f":"#REF!*D$90","v":{"$error":"#REF!"}},{"$f":"#REF!*E$90","v":{"$error":"#REF!"}},{"$f":"#REF!*F$90","v":{"$error":"#REF!"}},{"$f":"#REF!*G$90","v":{"$error":"#REF!"}},{"$f":"#REF!*H$90","v":{"$error":"#REF!"}},{"$f":"#REF!*I$90","v":{"$error":"#REF!"}},{"$f":"#REF!*J$90","v":{"$error":"#REF!"}},{"$f":"#REF!*K$90","v":{"$error":"#REF!"}},{"$f":"#REF!*L$90","v":{"$error":"#REF!"}},{"$f":"#REF!*M$90","v":{"$error":"#REF!"}},{"$f":"#REF!*N$90","v":{"$error":"#REF!"}},{"$f":"#REF!*O$90","v":{"$error":"#REF!"}},{"$f":"#REF!*P$90","v":{"$error":"#REF!"}},{"$f":"#REF!*Q$90","v":{"$error":"#REF!"}},{"$f":"#REF!*R$90","v":{"$error":"#REF!"}},{"$f":"#REF!*S$90","v":{"$error":"#REF!"}},{"$f":"#REF!*T$90","v":{"$error":"#REF!"}},{"$f":"#REF!*U$90","v":{"$error":"#REF!"}},{"$f":"#REF!*V$90","v":{"$error":"#REF!"}},{"$f":"#REF!*W$90","v":{"$error":"#REF!"}},{"$f":"#REF!*X$90","v":{"$error":"#REF!"}},{"$f":"#REF!*Y$90","v":{"$error":"#REF!"}},{"$f":"#REF!*Z$90","v":{"$error":"#REF!"}},{"$f":"#REF!*AA$90","v":{"$error":"#REF!"}},{"$f":"#REF!*AB$90","v":{"$error":"#REF!"}},{"$f":"#REF!*AC$90","v":{"$error":"#REF!"}},{"$f":"#REF!*AD$90","v":{"$error":"#REF!"}},{"$f":"#REF!*AE$90","v":{"$error":"#REF!"}}]
[null,null,{"$f":"#REF!*C$90","v":{"$error":"#REF!"}},{"$f":"#REF!*D$90","v":{"$error":"#REF!"}},{"$f":"#REF!*E$90","v":{"$error":"#REF!"}},{"$f":"#REF!*F$90","v":{"$error":"#REF!"}},{"$f":"#REF!*G$90","v":{"$error":"#REF!"}},{"$f":"#REF!*H$90","v":{"$error":"#REF!"}},{"$f":"#REF!*I$90","v":{"$error":"#REF!"}},{"$f":"#REF!*J$90","v":{"$error":"#REF!"}},{"$f":"#REF!*K$90","v":{"$error":"#REF!"}},{"$f":"#REF!*L$90","v":{"$error":"#REF!"}},{"$f":"#REF!*M$90","v":{"$error":"#REF!"}},{"$f":"#REF!*N$90","v":{"$error":"#REF!"}},{"$f":"#REF!*O$90","v":{"$error":"#REF!"}},{"$f":"#REF!*P$90","v":{"$error":"#REF!"}},{"$f":"#REF!*Q$90","v":{"$error":"#REF!"}},{"$f":"#REF!*R$90","v":{"$error":"#REF!"}},{"$f":"#REF!*S$90","v":{"$error":"#REF!"}},{"$f":"#REF!*T$90","v":{"$error":"#REF!"}},{"$f":"#REF!*U$90","v":{"$error":"#REF!"}},{"$f":"#REF!*V$90","v":{"$error":"#REF!"}},{"$f":"#REF!*W$90","v":{"$error":"#REF!"}},{"$f":"#REF!*X$90","v":{"$error":"#REF!"}},{"$f":"#REF!*Y$90","v":{"$error":"#REF!"}},{"$f":"#REF!*Z$90","v":{"$error":"#REF!"}},{"$f":"#REF!*AA$90","v":{"$error":"#REF!"}},{"$f":"#REF!*AB$90","v":{"$error":"#REF!"}},{"$f":"#REF!*AC$90","v":{"$error":"#REF!"}},{"$f":"#REF!*AD$90","v":{"$error":"#REF!"}},{"$f":"#REF!*AE$90","v":{"$error":"#REF!"}}]
[null,null,{"$f":"#REF!*C$90","v":{"$error":"#REF!"}},{"$f":"#REF!*D$90","v":{"$error":"#REF!"}},{"$f":"#REF!*E$90","v":{"$error":"#REF!"}},{"$f":"#REF!*F$90","v":{"$error":"#REF!"}},{"$f":"#REF!*G$90","v":{"$error":"#REF!"}},{"$f":"#REF!*H$90","v":{"$error":"#REF!"}},{"$f":"#REF!*I$90","v":{"$error":"#REF!"}},{"$f":"#REF!*J$90","v":{"$error":"#REF!"}},{"$f":"#REF!*K$90","v":{"$error":"#REF!"}},{"$f":"#REF!*L$90","v":{"$error":"#REF!"}},{"$f":"#REF!*M$90","v":{"$error":"#REF!"}},{"$f":"#REF!*N$90","v":{"$error":"#REF!"}},{"$f":"#REF!*O$90","v":{"$error":"#REF!"}},{"$f":"#REF!*P$90","v":{"$error":"#REF!"}},{"$f":"#REF!*Q$90","v":{"$error":"#REF!"}},{"$f":"#REF!*R$90","v":{"$error":"#REF!"}},{"$f":"#REF!*S$90","v":{"$error":"#REF!"}},{"$f":"#REF!*T$90","v":{"$error":"#REF!"}},{"$f":"#REF!*U$90","v":{"$error":"#REF!"}},{"$f":"#REF!*V$90","v":{"$error":"#REF!"}},{"$f":"#REF!*W$90","v":{"$error":"#REF!"}},{"$f":"#REF!*X$90","v":{"$error":"#REF!"}},{"$f":"#REF!*Y$90","v":{"$error":"#REF!"}},{"$f":"#REF!*Z$90","v":{"$error":"#REF!"}},{"$f":"#REF!*AA$90","v":{"$error":"#REF!"}},{"$f":"#REF!*AB$90","v":{"$error":"#REF!"}},{"$f":"#REF!*AC$90","v":{"$error":"#REF!"}},{"$f":"#REF!*AD$90","v":{"$error":"#REF!"}},{"$f":"#REF!*AE$90","v":{"$error":"#REF!"}}]
[null,null,{"$f":"#REF!*C$90","v":{"$error":"#REF!"}},{"$f":"#REF!*D$90","v":{"$error":"#REF!"}},{"$f":"#REF!*E$90","v":{"$error":"#REF!"}},{"$f":"#REF!*F$90","v":{"$error":"#REF!"}},{"$f":"#REF!*G$90","v":{"$error":"#REF!"}},{"$f":"#REF!*H$90","v":{"$error":"#REF!"}},{"$f":"#REF!*I$90","v":{"$error":"#REF!"}},{"$f":"#REF!*J$90","v":{"$error":"#REF!"}},{"$f":"#REF!*K$90","v":{"$error":"#REF!"}},{"$f":"#REF!*L$90","v":{"$error":"#REF!"}},{"$f":"#REF!*M$90","v":{"$error":"#REF!"}},{"$f":"#REF!*N$90","v":{"$error":"#REF!"}},{"$f":"#REF!*O$90","v":{"$error":"#REF!"}},{"$f":"#REF!*P$90","v":{"$error":"#REF!"}},{"$f":"#REF!*Q$90","v":{"$error":"#REF!"}},{"$f":"#REF!*R$90","v":{"$error":"#REF!"}},{"$f":"#REF!*S$90","v":{"$error":"#REF!"}},{"$f":"#REF!*T$90","v":{"$error":"#REF!"}},{"$f":"#REF!*U$90","v":{"$error":"#REF!"}},{"$f":"#REF!*V$90","v":{"$error":"#REF!"}},{"$f":"#REF!*W$90","v":{"$error":"#REF!"}},{"$f":"#REF!*X$90","v":{"$error":"#REF!"}},{"$f":"#REF!*Y$90","v":{"$error":"#REF!"}},{"$f":"#REF!*Z$90","v":{"$error":"#REF!"}},{"$f":"#REF!*AA$90","v":{"$error":"#REF!"}},{"$f":"#REF!*AB$90","v":{"$error":"#REF!"}},{"$f":"#REF!*AC$90","v":{"$error":"#REF!"}},{"$f":"#REF!*AD$90","v":{"$error":"#REF!"}},{"$f":"#REF!*AE$90","v":{"$error":"#REF!"}}]
[null,null,{"$f":"#REF!*C$90","v":{"$error":"#REF!"}},{"$f":"#REF!*D$90","v":{"$error":"#REF!"}},{"$f":"#REF!*E$90","v":{"$error":"#REF!"}},{"$f":"#REF!*F$90","v":{"$error":"#REF!"}},{"$f":"#REF!*G$90","v":{"$error":"#REF!"}},{"$f":"#REF!*H$90","v":{"$error":"#REF!"}},{"$f":"#REF!*I$90","v":{"$error":"#REF!"}},{"$f":"#REF!*J$90","v":{"$error":"#REF!"}},{"$f":"#REF!*K$90","v":{"$error":"#REF!"}},{"$f":"#REF!*L$90","v":{"$error":"#REF!"}},{"$f":"#REF!*M$90","v":{"$error":"#REF!"}},{"$f":"#REF!*N$90","v":{"$error":"#REF!"}},{"$f":"#REF!*O$90","v":{"$error":"#REF!"}},{"$f":"#REF!*P$90","v":{"$error":"#REF!"}},{"$f":"#REF!*Q$90","v":{"$error":"#REF!"}},{"$f":"#REF!*R$90","v":{"$error":"#REF!"}},{"$f":"#REF!*S$90","v":{"$error":"#REF!"}},{"$f":"#REF!*T$90","v":{"$error":"#REF!"}},{"$f":"#REF!*U$90","v":{"$error":"#REF!"}},{"$f":"#REF!*V$90","v":{"$error":"#REF!"}},{"$f":"#REF!*W$90","v":{"$error":"#REF!"}},{"$f":"#REF!*X$90","v":{"$error":"#REF!"}},{"$f":"#REF!*Y$90","v":{"$error":"#REF!"}},{"$f":"#REF!*Z$90","v":{"$error":"#REF!"}},{"$f":"#REF!*AA$90","v":{"$error":"#REF!"}},{"$f":"#REF!*AB$90","v":{"$error":"#REF!"}},{"$f":"#REF!*AC$90","v":{"$error":"#REF!"}},{"$f":"#REF!*AD$90","v":{"$error":"#REF!"}},{"$f":"#REF!*AE$90","v":{"$error":"#REF!"}}]
[null,null,{"$f":"#REF!*C$90","v":{"$error":"#REF!"}},{"$f":"#REF!*D$90","v":{"$error":"#REF!"}},{"$f":"#REF!*E$90","v":{"$error":"#REF!"}},{"$f":"#REF!*F$90","v":{"$error":"#REF!"}},{"$f":"#REF!*G$90","v":{"$error":"#REF!"}},{"$f":"#REF!*H$90","v":{"$error":"#REF!"}},{"$f":"#REF!*I$90","v":{"$error":"#REF!"}},{"$f":"#REF!*J$90","v":{"$error":"#REF!"}},{"$f":"#REF!*K$90","v":{"$error":"#REF!"}},{"$f":"#REF!*L$90","v":{"$error":"#REF!"}},{"$f":"#REF!*M$90","v":{"$error":"#REF!"}},{"$f":"#REF!*N$90","v":{"$error":"#REF!"}},{"$f":"#REF!*O$90","v":{"$error":"#REF!"}},{"$f":"#REF!*P$90","v":{"$error":"#REF!"}},{"$f":"#REF!*Q$90","v":{"$error":"#REF!"}},{"$f":"#REF!*R$90","v":{"$error":"#REF!"}},{"$f":"#REF!*S$90","v":{"$error":"#REF!"}},{"$f":"#REF!*T$90","v":{"$error":"#REF!"}},{"$f":"#REF!*U$90","v":{"$error":"#REF!"}},{"$f":"#REF!*V$90","v":{"$error":"#REF!"}},{"$f":"#REF!*W$90","v":{"$error":"#REF!"}},{"$f":"#REF!*X$90","v":{"$error":"#REF!"}},{"$f":"#REF!*Y$90","v":{"$error":"#REF!"}},{"$f":"#REF!*Z$90","v":{"$error":"#REF!"}},{"$f":"#REF!*AA$90","v":{"$error":"#REF!"}},{"$f":"#REF!*AB$90","v":{"$error":"#REF!"}},{"$f":"#REF!*AC$90","v":{"$error":"#REF!"}},{"$f":"#REF!*AD$90","v":{"$error":"#REF!"}},{"$f":"#REF!*AE$90","v":{"$error":"#REF!"}}]
[null,null,{"$f":"#REF!*C$90","v":{"$error":"#REF!"}},{"$f":"#REF!*D$90","v":{"$error":"#REF!"}},{"$f":"#REF!*E$90","v":{"$error":"#REF!"}},{"$f":"#REF!*F$90","v":{"$error":"#REF!"}},{"$f":"#REF!*G$90","v":{"$error":"#REF!"}},{"$f":"#REF!*H$90","v":{"$error":"#REF!"}},{"$f":"#REF!*I$90","v":{"$error":"#REF!"}},{"$f":"#REF!*J$90","v":{"$error":"#REF!"}},{"$f":"#REF!*K$90","v":{"$error":"#REF!"}},{"$f":"#REF!*L$90","v":{"$error":"#REF!"}},{"$f":"#REF!*M$90","v":{"$error":"#REF!"}},{"$f":"#REF!*N$90","v":{"$error":"#REF!"}},{"$f":"#REF!*O$90","v":{"$error":"#REF!"}},{"$f":"#REF!*P$90","v":{"$error":"#REF!"}},{"$f":"#REF!*Q$90","v":{"$error":"#REF!"}},{"$f":"#REF!*R$90","v":{"$error":"#REF!"}},{"$f":"#REF!*S$90","v":{"$error":"#REF!"}},{"$f":"#REF!*T$90","v":{"$error":"#REF!"}},{"$f":"#REF!*U$90","v":{"$error":"#REF!"}},{"$f":"#REF!*V$90","v":{"$error":"#REF!"}},{"$f":"#REF!*W$90","v":{"$error":"#REF!"}},{"$f":"#REF!*X$90","v":{"$error":"#REF!"}},{"$f":"#REF!*Y$90","v":{"$error":"#REF!"}},{"$f":"#REF!*Z$90","v":{"$error":"#REF!"}},{"$f":"#REF!*AA$90","v":{"$error":"#REF!"}},{"$f":"#REF!*AB$90","v":{"$error":"#REF!"}},{"$f":"#REF!*AC$90","v":{"$error":"#REF!"}},{"$f":"#REF!*AD$90","v":{"$error":"#REF!"}},{"$f":"#REF!*AE$90","v":{"$error":"#REF!"}}]
[null,null,{"$f":"C35*C$90","v":0},0,0,0,0,0,0,0,0,{"$error":"#N/A"},0,0,0,0,0,0,0,0,0,0,0,0,0,0,0,{"$error":"#N/A"},{"$error":"#N/A"},{"$error":"#N/A"},{"$error":"#N/A"}]

{"sheet":"8 В(2)","index":36,"n_rows":82,"n_cols":8,"rows_kept":82,"cut":false,"hidden":true,"merged":[[42,0,42,1],[52,0,52,1],[67,0,67,1],[0,0,0,3],[0,4,0,7],[1,0,1,2],[2,0,2,1],[3,0,15,0],[17,0,17,1]]}
[{"$f":"Титул!B24","v":"8 В"},null,null,null,"Страница заполняется автоматически, без участия оператора!!!"]
["Всего учащихся в классе:",null,null,{"$f":"Титул!C24","v":10},"Фамилии, имена               учащихся","Учебные предметы","Фамилии и инициалы учителей","Пояснения, примечания, причины"]
["Учатся на  \"5\":",null,{"$f":"COUNTA(E3:E17)","v":0},1]
[null,null,null,2]
[null,null,null,3]
[null,null,null,4]
[null,null,null,5]
[null,null,null,6]
[null,null,null,7]
[null,null,null,8]
[null,null,null,9]
[null,null,null,10]
[null,null,null,11]
[null,null,null,12]
[null,null,null,13]
[null,null,null,14]
[null,null,null,15]
["Учатся  на \"4\"и\"5\"",null,{"$f":"COUNTA(E18:E42)","v":0},1]
[null," ",null,2]
[null,null,null,3]
[null,null,null,4]
[null,null,null,5]
[null,null,null,6]
[null,null,null,7]
[null,null,null,8]
[null,null,null,9]
[null,null,null,10]
[null,null,null,11]
[null,null,null,12]
[null,null,null,13]
[null,null,null,14]
[null,null,null,15]
[null,null,null,16]
[null,null,null,17]
[null,null,null,18]
[null,null,null,19]
[null,null,null,20]
[null,null,null,21]
[null,null,null,22]
[null,null,null,23]
[null,null,null,24]
[null,null,null,25]
["Не аттестованы:",null,{"$f":"COUNTA(E43:E52)","v":0},1]
[null," ",null,2]
[null,null,null,3]
[null,null,null,4]
[null,null,null,5]
[null,null,null,6]
[null,null,null,7]
[null,null,null,8]
[null,null,null,9]
[null,null,null,10]
["Не успевают:",null,{"$f":"COUNTA(E53:E67)","v":0},1]
[null," ",null,2]
[null,null,null,3]
[null,null,null,4]
[null,null,null,5]
[null,null,null,6]
[null,null,null,7]
[null,null,null,8]
[null,null,null,9]
[null,null,null,10]
[null,null,null,11]
[null,null,null,12]
[null,null,null,13]
[null,null,null,14]
[null,null,null,15]
["Освобождены:",null,{"$f":"COUNTA(E68:E82)","v":0},1]
[null," ",null,2]
[null,null,null,3]
[null,null,null,4]
[null,null,null,5]
[null,null,null,6]
[null,null,null,7]
[null,null,null,8]
[null,null,null,9]
[null,null,null,10]
[null,null,null,11]
[null,null,null,12]
[null,null,null,13]
[null,null,null,14]
[null,null,null,15]

{"sheet":"9 А","index":37,"n_rows":130,"n_cols":35,"rows_kept":130,"cut":false,"hidden":true,"merged":[[0,0,0,2],[0,3,0,25],[0,26,0,32],[1,0,1,24],[1,25,1,28],[1,29,1,31],[2,0,2,3],[2,4,2,17],[2,18,2,22],[2,23,2,34],[3,0,4,1],[3,2,3,30],[3,31,3,34],[47,0,47,26],[47,28,47,33],[35,0,35,1],[35,31,35,34],[36,0,46,0],[36,31,36,34],[37,31,37,34],[38,31,38,34],[39,31,39,34],[40,31,40,34],[41,31,41,34],[42,31,42,34],[43,31,43,34],[44,31,44,34],[45,31,45,34],[46,31,46,34]]}
[{"$f":"Титул!B5","v":"2014/15 учебный год"},null,null,{"$f":"Титул!B4","v":"МОУ СОШ  № 15"},null,null,null,null,null,null,null,null,null,null,null,null,null,null,null,null,null,null,null,null,null,null,{"$f":"Титул!B6","v":"4 четверть"},null,null,null,null,null,null,null,"3+"]
["ВЕДОМОСТЬ  РЕЗУЛЬТАТОВ  УЧЕБНОЙ  ДЕЯТЕЛЬНОСТИ",null,null,null,null,null,null,null,null,null,null,null,null,null,null,null,null,null,null,null,null,null,null,null,null,{"$f":"Титул!B25","v":"9 А"},null,null,null,"класса"]
["Классный руководитель:",null,null,null,{"$f":"Титул!D25","v":"Терюшкова И.Н."},null,null,null,null,null,null,null,null,null,null,null,null,null,"Программа:",null,null,null,null,{"$f":"Титул!G18","v":"общеобразовательный"}]
["Вручную вносятся только оценки \"5\", \"4\", \"3\", \"2\", \"1\". \nНе аттестованным проставляется \"0\", освобожденным - \"Н\".  ",null,"У  ч  е  б  н  ы  е      п  р  е  д  м  е  т  ы",null,null,null,null,null,null,null,null,null,null,null,null,null,null,null,null,null,null,null,null,null,null,null,null,null,null,null,null,"Результаты ученика:"]
[null,null,{"$f":"Нагрузка!C3","v":"Русский язык"},{"$f":"Нагрузка!D3","v":"Литература"},{"$f":"Нагрузка!E3","v":"Иностранный язык"},{"$f":"Нагрузка!F3","v":"Математика"},{"$f":"Нагрузка!G3","v":"Алгебра"},{"$f":"Нагрузка!H3","v":"Геометрия"},{"$f":"Нагрузка!I3","v":"Информатика"},{"$f":"Нагрузка!J3","v":"История"},{"$f":"Нагрузка!K3","v":"Обществознание"},{"$f":"Нагрузка!L3","v":"Окружающий мир"},{"$f":"Нагрузка!M3","v":"ИЗО"},{"$f":"Нагрузка!N3","v":"Музыка"},{"$f":"Нагрузка!O3","v":"Технология"},{"$f":"Нагрузка!P3","v":"Технология"},{"$f":"Нагрузка!Q3","v":"ФЗК"},{"$f":"Нагрузка!R3","v":"Иностранный язык"},{"$f":"Нагрузка!S3","v":"Иностранный язык"},{"$f":"Нагрузка!T3","v":"География"},{"$f":"Нагрузка!U3","v":"Физика"},{"$f":"Нагрузка!V3","v":"Химия"},{"$f":"Нагрузка!W3","v":"Биология"},{"$f":"Нагрузка!X3","v":"МХК"},{"$f":"Нагрузка!Y3","v":"ФЗК"},{"$f":"Нагрузка!Z3","v":"ОБЖ"},{"$f":"Нагрузка!AA3","v":"Природоведение"},{"$f":"Нагрузка!AB3","v":0},{"$f":"Нагрузка!AC3","v":0},{"$f":"Нагрузка!AD3","v":0},{"$f":"Нагрузка!AE3","v":0},"Средний балл:","Степень обученности (СОУ):","Качество успеваемости:","Рейтинговый учебный балл:"]
[1,{"$f":"СпискиКлассы!R4","v":"Артемьева Ольга"},5,5,5,5,null,null,5,5,5,null,5,null,5,null,5,null,null,5,5,5,5,null,null,5,null,null,null,null,null,{"$f":"AVERAGE(C6:AE6)","v":5},{"$f":"(COUNTIF(C6:AE6,\"5\")+COUNTIF(C6:AE6,\"4\")*0.64+COUNTIF(C6:AE6,\"3\")*0.36+COUNTIF(C6:AE6,\"2\")*0.16)/(COUNTIF(C6:AE6,\"5\")+COUNTIF(C6:AE6,\"4\")+COUNTIF(C6:AE6,\"3\")+COUNTIF(C6:AE6,\"2\")+COUNTIF(C6:AE6,\"0\"))","v":1},{"$f":"((5*COUNTIF(C6:AE6,\"5\"))+(4*COUNTIF(C6:AE6,\"4\")))/(5*(COUNTA(C6:AE6)-COUNTIF(C6:AE6,\"н\")))","v":1},{"$f":"SUMIF(C91:AE91,\">0\",C91:AE91)/(COUNTIF(C6:AE6,\">0\")+COUNTIF(C6:AE6,\"=0\")+COUNTIF(C6:AE6,\"Н\"))","v":28.333333333333332}]
[{"$f":"A6+1","v":2},{"$f":"СпискиКлассы!R5","v":"Бахман Григорий"},4,4,4,4,null,null,5,4,5,null,5,null,5,null,5,null,null,4,4,3,4,null,null,5,null,null,null,null,null,{"$f":"AVERAGE(C7:AE7)","v":4.333333333333333},{"$f":"(COUNTIF(C7:AE7,\"5\")+COUNTIF(C7:AE7,\"4\")*0.64+COUNTIF(C7:AE7,\"3\")*0.36+COUNTIF(C7:AE7,\"2\")*0.16)/(COUNTIF(C7:AE7,\"5\")+COUNTIF(C7:AE7,\"4\")+COUNTIF(C7:AE7,\"3\")+COUNTIF(C7:AE7,\"2\")+COUNTIF(C7:AE7,\"0\"))","v":0.76533333333333331},{"$f":"((5*COUNTIF(C7:AE7,\"5\"))+(4*COUNTIF(C7:AE7,\"4\")))/(5*(COUNTA(C7:AE7)-COUNTIF(C7:AE7,\"н\")))","v":0.82666666666666666},22.933333333333334]
[3,{"$f":"СпискиКлассы!R6","v":"Виндец Максим"},3,3,3,3,null,null,3,3,3,null,5,null,5,null,5,null,null,3,3,3,4,null,null,4,null,null,null,null,null,{"$f":"AVERAGE(C8:AE8)","v":3.5333333333333332},0.52533333333333332,0.30666666666666664,18.466666666666665]
[4,{"$f":"СпискиКлассы!R7","v":"Виндец Никита"},3,3,3,4,null,null,3,3,3,null,5,null,4,null,5,null,null,3,3,3,3,null,null,4,null,null,null,null,null,3.4666666666666668,0.5013333333333333,0.29333333333333333,17.733333333333334]
[5,{"$f":"СпискиКлассы!R8","v":"Волков Владислав"},3,3,3,3,null,null,3,3,3,null,4,null,3,null,4,null,null,3,3,3,3,null,null,3,null,null,null,null,null,3.1333333333333333,0.39733333333333332,0.10666666666666667,17.133333333333333]
[6,{"$f":"СпискиКлассы!R9","v":"Елизарова Дарья"},4,4,5,3,null,null,4,4,3,null,5,null,5,null,4,null,null,4,3,3,4,null,null,5,null,null,null,null,null,{"$f":"AVERAGE(C11:AE11)","v":4},{"$f":"(COUNTIF(C11:AE11,\"5\")+COUNTIF(C11:AE11,\"4\")*0.64+COUNTIF(C11:AE11,\"3\")*0.36+COUNTIF(C11:AE11,\"2\")*0.16)/(COUNTIF(C11:AE11,\"5\")+COUNTIF(C11:AE11,\"4\")+COUNTIF(C11:AE11,\"3\")+COUNTIF(C11:AE11,\"2\")+COUNTIF(C11:AE11,\"0\"))","v":0.66133333333333333},{"$f":"((5*COUNTIF(C11:AE11,\"5\"))+(4*COUNTIF(C11:AE11,\"4\")))/(5*(COUNTA(C11:AE11)-COUNTIF(C11:AE11,\"н\")))","v":0.64},{"$f":"SUMIF(C96:AE96,\">0\",C96:AE96)/(COUNTIF(C11:AE11,\">0\")+COUNTIF(C11:AE11,\"=0\")+COUNTIF(C11:AE11,\"Н\"))","v":0}]
[7,{"$f":"СпискиКлассы!R10","v":"Зарудная Екатерина"},4,4,4,3,null,null,4,4,4,null,5,null,5,null,4,null,null,4,4,4,4,null,null,5,null,null,null,null,null,4.1333333333333337,0.69333333333333325,0.78666666666666663,22.066666666666666]
[8,{"$f":"СпискиКлассы!R11","v":"Иванова Екатерина"},4,4,4,4,null,null,4,3,3,null,5,null,5,null,5,null,null,4,4,3,4,null,null,4,null,null,null,null,null,4,0.65600000000000003,0.68,23.133333333333333]
[9,{"$f":"СпискиКлассы!R12","v":"Ильин Сергей"},3,3,3,3,null,null,3,3,3,null,4,null,3,null,4,null,null,3,3,3,3,null,null,3,null,null,null,null,null,3.1333333333333333,0.39733333333333332,0.10666666666666667,21.6]
[10,{"$f":"СпискиКлассы!R13","v":"Калиниченко Валерия"},4,4,3,3,null,null,3,3,3,null,5,null,5,null,3,null,null,4,3,3,4,null,null,4,null,null,null,null,null,3.6,0.53866666666666663,0.4,17.133333333333333]
[11,{"$f":"СпискиКлассы!R14","v":"Каргова Мария"},5,5,4,4,null,null,5,5,5,null,5,null,5,null,5,null,null,4,5,4,5,null,null,5,null,null,null,null,null,4.7333333333333334,0.90400000000000003,0.94666666666666666,19.399999999999999]
[12,{"$f":"СпискиКлассы!R15","v":"Копылова Алина"},3,3,3,3,null,null,3,3,3,null,4,null,4,null,3,null,null,3,3,3,3,null,null,3,null,null,null,null,null,3.1333333333333333,0.39733333333333332,0.10666666666666667,26.6]
[13,{"$f":"СпискиКлассы!R16","v":"Коробкин Дмитрий"},5,4,5,4,null,null,5,4,4,null,5,null,4,null,5,null,null,4,4,4,5,null,null,5,null,null,null,null,null,4.4666666666666668,0.80800000000000005,0.89333333333333331,17.266666666666666]
[14,{"$f":"СпискиКлассы!R17","v":"Костина Виктория"},4,3,3,3,null,null,3,3,3,null,5,null,5,null,3,null,null,3,3,3,4,null,null,4,null,null,null,null,null,3.4666666666666668,0.5013333333333333,0.29333333333333333,24.933333333333334]
[15,{"$f":"СпискиКлассы!R18","v":"Лемешев Николай"},4,4,4,4,null,null,4,4,5,null,5,null,4,null,5,null,null,3,4,4,4,null,null,5,null,null,null,null,null,4.2,0.71733333333333327,0.8,18.600000000000001]
[16,{"$f":"СпискиКлассы!R19","v":"Ложников Кирилл"},4,4,5,4,null,null,5,4,4,null,5,null,4,null,5,null,null,4,4,4,4,null,null,5,null,null,null,null,null,4.333333333333333,0.76,0.8666666666666667,22.666666666666668]
[17,{"$f":"СпискиКлассы!R20","v":"Майнетти Анастасия"},3,3,3,3,null,null,3,3,3,null,4,null,4,null,4,null,null,3,3,3,3,null,null,4,null,null,null,null,null,3.2666666666666666,0.43466666666666665,0.21333333333333335,24.066666666666666]
[18,{"$f":"СпискиКлассы!R21","v":"Мостовая Вероника"},3,3,4,3,null,null,3,3,3,null,5,null,5,null,5,null,null,3,3,3,3,null,null,4,null,null,null,null,null,3.5333333333333332,0.52533333333333332,0.30666666666666664,17.600000000000001]
[19,{"$f":"СпискиКлассы!R22","v":"Петрова Анастасия"},5,5,5,5,null,null,5,5,5,null,5,null,5,null,5,null,null,5,5,5,5,null,null,5,null,null,null,null,null,5,1,1,18.600000000000001]
[20,{"$f":"СпискиКлассы!R23","v":"Полстьянов Эдуард"},3,3,4,3,null,null,3,3,3,null,5,null,5,null,5,null,null,3,3,3,3,null,null,3,null,null,null,null,null,3.4666666666666668,0.5066666666666666,0.25333333333333335,28.333333333333332]
[21,{"$f":"СпискиКлассы!R24","v":"Полякова Таисия"},4,4,4,3,null,null,4,4,5,null,5,null,5,null,4,null,null,3,3,3,4,null,null,5,null,null,null,null,null,4,0.66133333333333333,0.64,18.399999999999999]
[22,{"$f":"СпискиКлассы!R25","v":"Проскурина Алёна"},4,5,4,5,null,null,5,4,5,null,5,null,5,null,5,null,null,4,4,4,4,null,null,5,null,null,null,null,null,4.5333333333333332,0.83200000000000007,0.90666666666666662,21.133333333333333]
[23,{"$f":"СпискиКлассы!R26","v":"Ризаева Валентина"},3,3,3,3,null,null,3,3,3,null,5,null,3,null,5,null,null,3,3,3,4,null,null,4,null,null,null,null,null,3.4,0.48266666666666669,0.24,24.2]
[24,{"$f":"СпискиКлассы!R27","v":"Соболевская Анна"},4,4,4,4,null,null,5,4,5,null,5,null,5,null,5,null,null,5,4,4,5,null,null,5,null,null,null,null,null,4.5333333333333332,0.83200000000000007,0.90666666666666662,17.933333333333334]
[25,{"$f":"СпискиКлассы!R28","v":"Сотников Илья"},4,4,4,4,null,null,5,4,4,null,5,null,4,null,5,null,null,4,4,4,4,null,null,5,null,null,null,null,null,4.2666666666666666,0.73599999999999999,0.85333333333333339,24.533333333333335]
[26,{"$f":"СпискиКлассы!R29","v":"Федорин Константин"},4,4,4,3,null,null,4,3,3,null,5,null,4,null,5,null,null,4,3,3,4,null,null,5,null,null,null,null,null,3.8666666666666667,0.6186666666666667,0.57333333333333336,23.466666666666665]
[27,{"$f":"СпискиКлассы!R30","v":"Хлопова Светлана"},3,3,3,3,null,null,3,3,3,null,5,null,4,null,5,null,null,3,3,3,3,null,null,4,null,null,null,null,null,3.4,0.48266666666666669,0.24,20.666666666666668]
[28,{"$f":"СпискиКлассы!R31","v":0},null,null,null,null,null,null,null,null,null,null,null,null,null,null,null,null,null,null,null,null,null,null,null,null,null,null,null,null,null,{"$error":"#DIV/0!"},{"$error":"#DIV/0!"},{"$error":"#DIV/0!"},{"$error":"#DIV/0!"}]
[29,{"$f":"СпискиКлассы!R32","v":0},null,null,null,null,null,null,null,null,null,null,null,null,null,null,null,null,null,null,null,null,null,null,null,null,null,null,null,null,null,{"$error":"#DIV/0!"},{"$error":"#DIV/0!"},{"$error":"#DIV/0!"},{"$error":"#DIV/0!"}]
[30,{"$f":"СпискиКлассы!R33","v":0},null,null,null,null,null,null,null,null,null,null,null,null,null,null,null,null,null,null,null,null,null,null,null,null,null,null,null,null,null,{"$error":"#DIV/0!"},{"$error":"#DIV/0!"},{"$error":"#DIV/0!"},{"$f":"SUMIF(C130:AE130,\">0\",C130:AE130)/(COUNTIF(C35:AE35,\">0\")+COUNTIF(C35:AE35,\"=0\")+COUNTIF(C35:AE35,\"Н\"))","v":{"$error":"#DIV/0!"}}]
[" Фамилия и инициалы                                           учителя - предметника",null,{"$f":"Нагрузка!C21","v":"Дышлевич"},{"$f":"Нагрузка!D21","v":"Дышлевич"},{"$f":"Нагрузка!E21","v":0},{"$f":"Нагрузка!F21","v":0},{"$f":"Нагрузка!G21","v":"Кочарова"},{"$f":"Нагрузка!H21","v":"Кочарова"},{"$f":"Нагрузка!I21","v":"Горнышкова"},{"$f":"Нагрузка!J21","v":"Быкова"},{"$f":"Нагрузка!K21","v":"Быкова"},{"$f":"Нагрузка!L21","v":0},{"$f":"Нагрузка!M21","v":"Терюшкова"},{"$f":"Нагрузка!N21","v":"Заворина"},{"$f":"Нагрузка!O21","v":"Девицын"},{"$f":"Нагрузка!P21","v":"Потьканова"},{"$f":"Нагрузка!Q21","v":"Финаева"},{"$f":"Нагрузка!R21","v":"Каплан"},{"$f":"Нагрузка!S21","v":"Сахарюк"},{"$f":"Нагрузка!T21","v":"Сидоренко"},{"$f":"Нагрузка!U21","v":"Головырина"},{"$f":"Нагрузка!V21","v":"Чжан"},{"$f":"Нагрузка!W21","v":"Сидоренко"},{"$f":"Нагрузка!X21","v":0},{"$f":"Нагрузка!Y21","v":0},{"$f":"Нагрузка!Z21","v":"Терюшкова"},{"$f":"Нагрузка!AA21","v":0},{"$f":"Нагрузка!AB21","v":0},{"$f":"Нагрузка!AC14","v":0},{"$f":"Нагрузка!AD14","v":0},{"$f":"Нагрузка!AE14","v":0},"Показатели результатов учебной деятельности в  целом по классу:"]
["Результаты учебной деятельности класса","Количество  \"5\":",{"$f":"COUNTIF(C6:C35,5)","v":4},4,5,3,0,0,9,3,8,0,23,0,15,0,{"$f":"COUNTIF(Q6:Q35,5)","v":18},0,0,3,3,2,5,0,0,14,0,0,0,0,0,{"$f":"SUM(C37:AE37)","v":119}]
[null,"Количество  \"4\":",{"$f":"COUNTIF(C6:C35,4)","v":13},12,12,9,0,0,6,10,4,0,4,0,9,0,{"$f":"COUNTIF(Q6:Q35,4)","v":6},0,0,11,9,8,14,0,0,9,0,0,0,0,0,136]
[null,"Количество  \"3\":",{"$f":"COUNTIF(C6:C35,3)","v":10},11,10,15,0,0,12,14,15,0,0,0,3,0,{"$f":"COUNTIF(Q6:Q35,3)","v":3},0,0,13,15,17,8,0,0,4,0,0,0,0,0,150]
[null,"Количество  \"2\":",{"$f":"COUNTIF(C6:C35,2)","v":0},0,0,0,0,0,0,0,0,0,0,0,0,0,{"$f":"COUNTIF(Q6:Q35,2)","v":0},0,0,0,0,0,0,0,0,0,0,0,0,0,0,0]
[null,"Не аттестовано:",{"$f":"COUNTIF(C6:C35,0)","v":0},0,0,0,0,0,0,0,0,0,0,0,0,0,{"$f":"COUNTIF(Q6:Q35,0)","v":0},0,0,0,0,0,0,0,0,0,0,0,0,0,0,0]
[null,"Освобождено:",{"$f":"COUNTIF(C6:C35,\"н\")","v":0},0,0,0,0,0,0,0,0,0,0,0,0,0,{"$f":"COUNTIF(Q6:Q35,\"н\")","v":0},0,0,0,0,0,0,0,0,0,0,0,0,0,0,0]
[null,"Успеваемость:",{"$f":"(C37+C38+C39)/(C37+C38+C39+C40+C41)","v":1},{"$f":"(D37+D38+D39)/(D37+D38+D39+D40+D41)","v":1},1,1,{"$error":"#DIV/0!"},{"$error":"#DIV/0!"},1,1,1,{"$error":"#DIV/0!"},1,{"$error":"#DIV/0!"},1,{"$error":"#DIV/0!"},1,{"$error":"#DIV/0!"},{"$error":"#DIV/0!"},1,1,1,1,{"$error":"#DIV/0!"},{"$error":"#DIV/0!"},1,{"$error":"#DIV/0!"},{"$error":"#DIV/0!"},{"$error":"#DIV/0!"},{"$error":"#DIV/0!"},{"$error":"#DIV/0!"},{"$f":"('9 А(2)'!D2-'9 А(2)'!C43-'9 А(2)'!C53)/'9 А(2)'!D2","v":1}]
[null,"Качество знаний:",{"$f":"(C37+C38)/(C37+C38+C39+C40+C41)","v":0.62962962962962965},{"$f":"(D37+D38)/(D37+D38+D39+D40+D41)","v":0.59259259259259256},0.62962962962962965,0.44444444444444442,{"$error":"#DIV/0!"},{"$error":"#DIV/0!"},0.55555555555555558,0.48148148148148145,0.44444444444444442,{"$error":"#DIV/0!"},1,{"$error":"#DIV/0!"},0.88888888888888884,{"$error":"#DIV/0!"},0.88888888888888884,{"$error":"#DIV/0!"},{"$error":"#DIV/0!"},0.51851851851851849,0.44444444444444442,0.37037037037037035,0.70370370370370372,{"$error":"#DIV/0!"},{"$error":"#DIV/0!"},0.85185185185185186,{"$error":"#DIV/0!"},{"$error":"#DIV/0!"},{"$error":"#DIV/0!"},{"$error":"#DIV/0!"},{"$error":"#DIV/0!"},{"$f":"('9 А(2)'!C3+'9 А(2)'!C18)/'9 А(2)'!D2","v":0.29629629629629628}]
[null,"Степень обученности:",{"$f":"(C37+C38*0.64+C39*0.36+C40*0.16)/(C37+C38+C39+C40+C41)","v":0.58962962962962961},{"$f":"(D37+D38*0.64+D39*0.36+D40*0.16)/(D37+D38+D39+D40+D41)","v":0.57925925925925925},0.60296296296296303,0.52444444444444449,{"$error":"#DIV/0!"},{"$error":"#DIV/0!"},0.63555555555555554,0.53481481481481485,0.59111111111111114,{"$error":"#DIV/0!"},0.94666666666666666,{"$error":"#DIV/0!"},0.80888888888888877,{"$error":"#DIV/0!"},0.84888888888888892,{"$error":"#DIV/0!"},{"$error":"#DIV/0!"},0.54518518518518511,0.52444444444444449,0.4903703703703704,0.62370370370370365,{"$error":"#DIV/0!"},{"$error":"#DIV/0!"},0.78518518518518521,{"$error":"#DIV/0!"},{"$error":"#DIV/0!"},{"$error":"#DIV/0!"},{"$error":"#DIV/0!"},{"$error":"#DIV/0!"},{"$f":"(AF37+AF38*0.64+AF39*0.36+AF40*0.16)/(AF37+AF38+AF39+AF40+AF41)","v":0.64207407407407413}]
[null,"Средний балл:              ",{"$f":"(C37*5+C38*4+C39*3+C40*2)/(C37+C38+C39+C40+C41)","v":3.7777777777777777},{"$f":"(D37*5+D38*4+D39*3+D40*2)/(D37+D38+D39+D40+D41)","v":3.7407407407407409},3.8148148148148149,3.5555555555555554,{"$error":"#DIV/0!"},{"$error":"#DIV/0!"},3.8888888888888888,3.5925925925925926,3.7407407407407409,{"$error":"#DIV/0!"},4.8518518518518521,{"$error":"#DIV/0!"},4.4444444444444446,{"$error":"#DIV/0!"},4.5555555555555554,{"$error":"#DIV/0!"},{"$error":"#DIV/0!"},3.6296296296296298,3.5555555555555554,3.4444444444444446,3.8888888888888888,{"$error":"#DIV/0!"},{"$error":"#DIV/0!"},4.3703703703703702,{"$error":"#DIV/0!"},{"$error":"#DIV/0!"},{"$error":"#DIV/0!"},{"$error":"#DIV/0!"},{"$error":"#DIV/0!"},{"$f":"(AF37*5+AF38*4+AF39*3+AF40*2)/(AF37+AF38+AF39+AF40+AF41)","v":3.9234567901234567}]
[null,"Качество успеваемости:",{"$f":"(5*C37+4*C38)*0.2/(SUM(C37+C38+C39+C40+C41))","v":0.53333333333333333},{"$f":"(5*COUNTIF(D6:D35,5)+4*COUNTIF(D6:D35,4))*0.2/(COUNTA(D6:D35)-COUNTIF(D6:D35,\"н\"))","v":0.50370370370370376},0.54074074074074074,0.37777777777777782,{"$error":"#DIV/0!"},{"$error":"#DIV/0!"},0.51111111111111118,0.40740740740740738,0.41481481481481486,{"$error":"#DIV/0!"},0.97037037037037044,{"$error":"#DIV/0!"},0.8222222222222223,{"$error":"#DIV/0!"},{"$f":"(5*COUNTIF(Q6:Q35,5)+4*COUNTIF(Q6:Q35,4))*0.2/(COUNTA(Q6:Q35)-COUNTIF(Q6:Q35,\"н\"))","v":0.84444444444444444},{"$error":"#DIV/0!"},{"$error":"#DIV/0!"},0.43703703703703706,0.37777777777777782,0.31111111111111112,0.6,{"$error":"#DIV/0!"},{"$error":"#DIV/0!"},0.78518518518518532,{"$error":"#DIV/0!"},{"$error":"#DIV/0!"},{"$error":"#DIV/0!"},{"$error":"#DIV/0!"},{"$error":"#DIV/0!"},{"$f":"(5*COUNTIF(C6:AE35,5)+4*COUNTIF(C6:AE35,4))*0.2/(COUNTA(C6:AE35)-COUNTIF(C6:AE35,\"н\"))","v":0.56246913580246916}]
["Выполнено с помощью программы статистического анализа результатов учебной деятельности",null,null,null,null,null,null,null,null,null,null,null,null,null,null,null,null,null,null,null,null,null,null,null,null,null,null,null,{"$f":"Титул!G31","v":"PSORUD-Klass.v.04.11.demo"},null,null,null,null,null,"3+"]
[]
[]
[]
[]
[]
[]
[]
[]
[]
[]
[]
[]
[]
[]
[]
[]
[]
[]
[]
[]
[]
[]
[]
[]
[]
[]
[]
[]
[]
[]
[]
[]
[]
[]
[]
[]
[]
[]
[]
[]
[]
[null,"Коэф.трудн.предмета",{"$f":"VLOOKUP(C$5,ШкалаТрудн!$C$5:$N$34,LEFT($Z$2,2)+1,0)","v":6},{"$f":"VLOOKUP(D$5,ШкалаТрудн!$C$5:$N$34,LEFT($Z$2,2)+1,0)","v":7},{"$f":"VLOOKUP(E$5,ШкалаТрудн!$C$5:$N$34,LEFT($Z$2,2)+1,0)","v":9},{"$f":"VLOOKUP(F$5,ШкалаТрудн!$C$5:$N$34,LEFT($Z$2,2)+1,0)","v":0},{"$f":"VLOOKUP(G$5,ШкалаТрудн!$C$5:$N$34,LEFT($Z$2,2)+1,0)","v":7},{"$f":"VLOOKUP(H$5,ШкалаТрудн!$C$5:$N$34,LEFT($Z$2,2)+1,0)","v":8},{"$f":"VLOOKUP(I$5,ШкалаТрудн!$C$5:$N$34,LEFT($Z$2,2)+1,0)","v":7},{"$f":"VLOOKUP(J$5,ШкалаТрудн!$C$5:$N$34,LEFT($Z$2,2)+1,0)","v":10},{"$f":"VLOOKUP(K$5,ШкалаТрудн!$C$5:$N$34,LEFT($Z$2,2)+1,0)","v":0},{"$f":"VLOOKUP(L$5,ШкалаТрудн!$C$5:$N$34,LEFT($Z$2,2)+1,0)","v":{"$error":"#N/A"}},{"$f":"VLOOKUP(M$5,ШкалаТрудн!$C$5:$N$34,LEFT($Z$2,2)+1,0)","v":0},{"$f":"VLOOKUP(N$5,ШкалаТрудн!$C$5:$N$34,LEFT($Z$2,2)+1,0)","v":0},{"$f":"VLOOKUP(O$5,ШкалаТрудн!$C$5:$N$34,LEFT($Z$2,2)+1,0)","v":4},{"$f":"VLOOKUP(P$5,ШкалаТрудн!$C$5:$N$34,LEFT($Z$2,2)+1,0)","v":4},{"$f":"VLOOKUP(Q$5,ШкалаТрудн!$C$5:$N$34,LEFT($Z$2,2)+1,0)","v":2},{"$f":"VLOOKUP(R$5,ШкалаТрудн!$C$5:$N$34,LEFT($Z$2,2)+1,0)","v":9},{"$f":"VLOOKUP(S$5,ШкалаТрудн!$C$5:$N$34,LEFT($Z$2,2)+1,0)","v":9},{"$f":"VLOOKUP(T$5,ШкалаТрудн!$C$5:$N$34,LEFT($Z$2,2)+1,0)","v":5},{"$f":"VLOOKUP(U$5,ШкалаТрудн!$C$5:$N$34,LEFT($Z$2,2)+1,0)","v":13},{"$f":"VLOOKUP(V$5,ШкалаТрудн!$C$5:$N$34,LEFT($Z$2,2)+1,0)","v":12},{"$f":"VLOOKUP(W$5,ШкалаТрудн!$C$5:$N$34,LEFT($Z$2,2)+1,0)","v":7},{"$f":"VLOOKUP(X$5,ШкалаТрудн!$C$5:$N$34,LEFT($Z$2,2)+1,0)","v":5},{"$f":"VLOOKUP(Y$5,ШкалаТрудн!$C$5:$N$34,LEFT($Z$2,2)+1,0)","v":2},{"$f":"VLOOKUP(Z$5,ШкалаТрудн!$C$5:$N$34,LEFT($Z$2,2)+1,0)","v":3},{"$f":"VLOOKUP(AA$5,ШкалаТрудн!$C$5:$N$34,LEFT($Z$2,2)+1,0)","v":0},{"$f":"VLOOKUP(AB$5,ШкалаТрудн!$C$5:$N$34,LEFT($Z$2,2)+1,0)","v":{"$error":"#N/A"}},{"$f":"VLOOKUP(AC$5,ШкалаТрудн!$C$5:$N$34,LEFT($Z$2,2)+1,0)","v":{"$error":"#N/A"}},{"$f":"VLOOKUP(AD$5,ШкалаТрудн!$C$5:$N$34,LEFT($Z$2,2)+1,0)","v":{"$error":"#N/A"}},{"$f":"VLOOKUP(AE$5,ШкалаТрудн!$C$5:$N$34,LEFT($Z$2,2)+1,0)","v":{"$error":"#N/A"}}]
[null,null,{"$f":"C6*C$90","v":30},35,45,0,0,0,35,50,0,{"$error":"#N/A"},0,0,20,0,{"$f":"#REF!*Q$90","v":{"$error":"#REF!"}},0,0,25,65,60,35,0,{"$f":"Q6*Y$90","v":10},15,0,{"$error":"#N/A"},{"$error":"#N/A"},{"$error":"#N/A"},{"$error":"#N/A"}]
[null,null,24,28,36,0,0,0,35,40,0,{"$error":"#N/A"},0,0,20,0,{"$f":"#REF!*Q$90","v":{"$error":"#REF!"}},0,0,20,52,36,28,0,10,15,0,{"$error":"#N/A"},{"$error":"#N/A"},{"$error":"#N/A"},{"$error":"#N/A"}]
[null,null,18,21,27,0,0,0,21,30,0,{"$error":"#N/A"},0,0,20,0,{"$f":"#REF!*Q$90","v":{"$error":"#REF!"}},0,0,15,39,36,28,0,10,12,0,{"$error":"#N/A"},{"$error":"#N/A"},{"$error":"#N/A"},{"$error":"#N/A"}]
[null,null,18,21,27,0,0,0,21,30,0,{"$error":"#N/A"},0,0,16,0,{"$f":"#REF!*Q$90","v":{"$error":"#REF!"}},0,0,15,39,36,21,0,10,12,0,{"$error":"#N/A"},{"$error":"#N/A"},{"$error":"#N/A"},{"$error":"#N/A"}]
[null,null,18,21,27,0,0,0,21,30,0,{"$error":"#N/A"},0,0,12,0,{"$f":"#REF!*Q$90","v":{"$error":"#REF!"}},0,0,15,39,36,21,0,8,9,0,{"$error":"#N/A"},{"$error":"#N/A"},{"$error":"#N/A"},{"$error":"#N/A"}]
[null,null,{"$f":"#REF!*C$90","v":{"$error":"#REF!"}},{"$f":"#REF!*D$90","v":{"$error":"#REF!"}},{"$f":"#REF!*E$90","v":{"$error":"#REF!"}},{"$f":"#REF!*F$90","v":{"$error":"#REF!"}},{"$f":"#REF!*G$90","v":{"$error":"#REF!"}},{"$f":"#REF!*H$90","v":{"$error":"#REF!"}},{"$f":"#REF!*I$90","v":{"$error":"#REF!"}},{"$f":"#REF!*J$90","v":{"$error":"#REF!"}},{"$f":"#REF!*K$90","v":{"$error":"#REF!"}},{"$f":"#REF!*L$90","v":{"$error":"#REF!"}},{"$f":"#REF!*M$90","v":{"$error":"#REF!"}},{"$f":"#REF!*N$90","v":{"$error":"#REF!"}},{"$f":"#REF!*O$90","v":{"$error":"#REF!"}},{"$f":"#REF!*P$90","v":{"$error":"#REF!"}},{"$f":"#REF!*Q$90","v":{"$error":"#REF!"}},{"$f":"#REF!*R$90","v":{"$error":"#REF!"}},{"$f":"#REF!*S$90","v":{"$error":"#REF!"}},{"$f":"#REF!*T$90","v":{"$error":"#REF!"}},{"$f":"#REF!*U$90","v":{"$error":"#REF!"}},{"$f":"#REF!*V$90","v":{"$error":"#REF!"}},{"$f":"#REF!*W$90","v":{"$error":"#REF!"}},{"$f":"#REF!*X$90","v":{"$error":"#REF!"}},{"$f":"#REF!*Y$90","v":{"$error":"#REF!"}},{"$f":"#REF!*Z$90","v":{"$error":"#REF!"}},0,{"$error":"#N/A"},{"$error":"#N/A"},{"$error":"#N/A"},{"$error":"#N/A"}]
[null,null,{"$f":"C11*C$90","v":24},28,45,0,0,0,28,40,0,{"$error":"#N/A"},0,0,20,0,{"$f":"#REF!*Q$90","v":{"$error":"#REF!"}},{"$f":"R11*R$90","v":0},0,20,39,36,28,0,{"$f":"Q11*Y$90","v":8},{"$f":"Z11*Z$90","v":15},0,{"$error":"#N/A"},{"$error":"#N/A"},{"$error":"#N/A"},{"$error":"#N/A"}]
[null,null,{"$f":"C12*C$90","v":24},28,36,0,0,0,28,40,0,{"$error":"#N/A"},0,0,20,0,{"$f":"#REF!*Q$90","v":{"$error":"#REF!"}},0,0,20,52,48,28,0,8,15,0,{"$error":"#N/A"},{"$error":"#N/A"},{"$error":"#N/A"},{"$error":"#N/A"}]
[null,null,{"$f":"C13*C$90","v":24},28,36,0,0,0,28,30,0,{"$error":"#N/A"},0,0,20,0,{"$f":"#REF!*Q$90","v":{"$error":"#REF!"}},0,0,20,52,36,28,0,10,12,{"$f":"AA14*AA$90","v":0},{"$error":"#N/A"},{"$error":"#N/A"},{"$error":"#N/A"},{"$error":"#N/A"}]
[null,null,{"$f":"C14*C$90","v":18},21,27,0,0,0,21,30,0,{"$error":"#N/A"},0,0,12,0,{"$f":"#REF!*Q$90","v":{"$error":"#REF!"}},0,0,15,39,36,21,0,8,9,{"$f":"AA15*AA$90","v":0},{"$error":"#N/A"},{"$error":"#N/A"},{"$error":"#N/A"},{"$error":"#N/A"}]
[null,null,{"$f":"C15*C$90","v":24},28,27,0,0,0,21,30,0,{"$error":"#N/A"},0,0,20,0,{"$f":"#REF!*Q$90","v":{"$error":"#REF!"}},0,0,20,39,36,28,0,6,12,0,{"$error":"#N/A"},{"$error":"#N/A"},{"$error":"#N/A"},{"$error":"#N/A"}]
[null,null,{"$f":"C16*C$90","v":30},35,36,0,0,0,35,50,0,{"$error":"#N/A"},0,0,20,0,{"$f":"#REF!*Q$90","v":{"$error":"#REF!"}},0,0,20,65,48,35,0,10,15,0,{"$error":"#N/A"},{"$error":"#N/A"},{"$error":"#N/A"},{"$error":"#N/A"}]
[null,null,{"$f":"C17*C$90","v":18},21,27,0,0,0,21,30,0,{"$error":"#N/A"},0,0,16,0,{"$f":"#REF!*Q$90","v":{"$error":"#REF!"}},0,0,15,39,36,21,0,6,9,0,{"$error":"#N/A"},{"$error":"#N/A"},{"$error":"#N/A"},{"$error":"#N/A"}]
[null,null,{"$f":"C18*C$90","v":30},28,45,0,0,0,35,40,0,{"$error":"#N/A"},0,0,16,0,{"$f":"#REF!*Q$90","v":{"$error":"#REF!"}},0,0,20,52,48,35,0,10,15,0,{"$error":"#N/A"},{"$error":"#N/A"},{"$error":"#N/A"},{"$error":"#N/A"}]
[null,null,{"$f":"C19*C$90","v":24},21,27,0,0,0,21,30,0,{"$error":"#N/A"},0,0,20,0,{"$f":"#REF!*Q$90","v":{"$error":"#REF!"}},0,0,15,39,36,28,0,6,12,0,{"$error":"#N/A"},{"$error":"#N/A"},{"$error":"#N/A"},{"$error":"#N/A"}]
[null,null,{"$f":"C20*C$90","v":24},28,36,0,0,0,28,40,0,{"$error":"#N/A"},0,0,16,0,{"$f":"#REF!*Q$90","v":{"$error":"#REF!"}},0,0,15,52,48,28,0,10,15,0,{"$error":"#N/A"},{"$error":"#N/A"},{"$error":"#N/A"},{"$error":"#N/A"}]
[null,null,{"$f":"C21*C$90","v":24},28,45,0,0,0,35,40,0,{"$error":"#N/A"},0,0,16,0,{"$f":"#REF!*Q$90","v":{"$error":"#REF!"}},{"$f":"R21*R$90","v":0},0,20,52,48,28,0,10,15,0,{"$error":"#N/A"},{"$error":"#N/A"},{"$error":"#N/A"},{"$error":"#N/A"}]
[null,null,{"$f":"C22*C$90","v":18},21,27,0,0,0,21,30,0,{"$error":"#N/A"},0,0,16,0,{"$f":"#REF!*Q$90","v":{"$error":"#REF!"}},0,0,15,39,36,21,0,8,12,{"$f":"AA23*AA$90","v":0},{"$error":"#N/A"},{"$error":"#N/A"},{"$error":"#N/A"},{"$error":"#N/A"}]
[null,null,{"$f":"C23*C$90","v":18},21,36,0,0,0,21,30,0,{"$error":"#N/A"},0,0,20,0,{"$f":"#REF!*Q$90","v":{"$error":"#REF!"}},0,0,15,39,36,21,0,10,12,{"$f":"AA24*AA$90","v":0},{"$error":"#N/A"},{"$error":"#N/A"},{"$error":"#N/A"},{"$error":"#N/A"}]
[null,null,{"$f":"C24*C$90","v":30},35,45,0,0,0,35,50,0,{"$error":"#N/A"},0,0,20,0,{"$f":"#REF!*Q$90","v":{"$error":"#REF!"}},0,0,25,65,60,35,0,10,15,0,{"$error":"#N/A"},{"$error":"#N/A"},{"$error":"#N/A"},{"$error":"#N/A"}]
[null,null,{"$f":"C25*C$90","v":18},21,36,0,0,0,21,30,0,{"$error":"#N/A"},0,0,20,0,{"$f":"#REF!*Q$90","v":{"$error":"#REF!"}},0,0,15,39,36,21,0,10,9,0,{"$error":"#N/A"},{"$error":"#N/A"},{"$error":"#N/A"},{"$error":"#N/A"}]
[null,null,{"$f":"C26*C$90","v":24},28,36,0,0,0,28,40,0,{"$error":"#N/A"},0,0,20,0,{"$f":"#REF!*Q$90","v":{"$error":"#REF!"}},0,0,15,39,36,28,0,8,15,0,{"$error":"#N/A"},{"$error":"#N/A"},{"$error":"#N/A"},{"$error":"#N/A"}]
[null,null,{"$f":"C27*C$90","v":24},35,36,0,0,0,35,40,0,{"$error":"#N/A"},0,0,20,0,{"$f":"#REF!*Q$90","v":{"$error":"#REF!"}},0,0,20,52,48,28,0,10,15,0,{"$error":"#N/A"},{"$error":"#N/A"},{"$error":"#N/A"},{"$error":"#N/A"}]
[null,null,{"$f":"C28*C$90","v":18},21,27,0,0,0,21,30,0,{"$error":"#N/A"},0,0,12,0,{"$f":"#REF!*Q$90","v":{"$error":"#REF!"}},0,0,15,39,36,28,0,10,12,0,{"$error":"#N/A"},{"$error":"#N/A"},{"$error":"#N/A"},{"$error":"#N/A"}]
[null,null,{"$f":"C29*C$90","v":24},28,36,0,0,0,35,40,0,{"$error":"#N/A"},0,0,20,0,{"$f":"#REF!*Q$90","v":{"$error":"#REF!"}},0,0,25,52,48,35,0,10,15,0,{"$error":"#N/A"},{"$error":"#N/A"},{"$error":"#N/A"},{"$error":"#N/A"}]
[null,null,{"$f":"C30*C$90","v":24},28,36,0,0,0,35,40,0,{"$error":"#N/A"},0,0,16,0,{"$f":"#REF!*Q$90","v":{"$error":"#REF!"}},0,0,20,52,48,28,0,10,15,0,{"$error":"#N/A"},{"$error":"#N/A"},{"$error":"#N/A"},{"$error":"#N/A"}]
[null,null,{"$f":"C31*C$90","v":24},28,36,0,0,0,28,30,0,{"$error":"#N/A"},0,0,16,0,{"$f":"#REF!*Q$90","v":{"$error":"#REF!"}},{"$f":"R31*R$90","v":0},0,20,39,36,28,0,10,15,{"$f":"AA32*AA$90","v":0},{"$error":"#N/A"},{"$error":"#N/A"},{"$error":"#N/A"},{"$error":"#N/A"}]
[null,null,{"$f":"C32*C$90","v":18},21,27,0,0,0,21,30,0,{"$error":"#N/A"},0,0,16,0,{"$f":"#REF!*Q$90","v":{"$error":"#REF!"}},0,0,15,39,36,21,0,10,12,{"$f":"AA33*AA$90","v":0},{"$error":"#N/A"},{"$error":"#N/A"},{"$error":"#N/A"},{"$error":"#N/A"}]
[null,null,{"$f":"C33*C$90","v":0},0,0,0,0,0,0,0,0,{"$error":"#N/A"},0,0,0,0,{"$f":"#REF!*Q$90","v":{"$error":"#REF!"}},0,0,0,0,0,0,0,0,0,0,{"$error":"#N/A"},{"$error":"#N/A"},{"$error":"#N/A"},{"$error":"#N/A"}]
[null,null,{"$f":"#REF!*C$90","v":{"$error":"#REF!"}},{"$f":"#REF!*D$90","v":{"$error":"#REF!"}},{"$f":"#REF!*E$90","v":{"$error":"#REF!"}},{"$f":"#REF!*F$90","v":{"$error":"#REF!"}},{"$f":"#REF!*G$90","v":{"$error":"#REF!"}},{"$f":"#REF!*H$90","v":{"$error":"#REF!"}},{"$f":"#REF!*I$90","v":{"$error":"#REF!"}},{"$f":"#REF!*J$90","v":{"$error":"#REF!"}},{"$f":"#REF!*K$90","v":{"$error":"#REF!"}},{"$f":"#REF!*L$90","v":{"$error":"#REF!"}},{"$f":"#REF!*M$90","v":{"$error":"#REF!"}},{"$f":"#REF!*N$90","v":{"$error":"#REF!"}},{"$f":"#REF!*O$90","v":{"$error":"#REF!"}},{"$f":"#REF!*P$90","v":{"$error":"#REF!"}},{"$f":"#REF!*Q$90","v":{"$error":"#REF!"}},{"$f":"#REF!*R$90","v":{"$error":"#REF!"}},{"$f":"#REF!*S$90","v":{"$error":"#REF!"}},{"$f":"#REF!*T$90","v":{"$error":"#REF!"}},{"$f":"#REF!*U$90","v":{"$error":"#REF!"}},{"$f":"#REF!*V$90","v":{"$error":"#REF!"}},{"$f":"#REF!*W$90","v":{"$error":"#REF!"}},{"$f":"#REF!*X$90","v":{"$error":"#REF!"}},{"$f":"#REF!*Y$90","v":{"$error":"#REF!"}},{"$f":"#REF!*Z$90","v":{"$error":"#REF!"}},{"$f":"#REF!*AA$90","v":{"$error":"#REF!"}},{"$f":"#REF!*AB$90","v":{"$error":"#REF!"}},{"$f":"#REF!*AC$90","v":{"$error":"#REF!"}},{"$f":"#REF!*AD$90","v":{"$error":"#REF!"}},{"$f":"#REF!*AE$90","v":{"$error":"#REF!"}}]
[null,null,{"$f":"#REF!*C$90","v":{"$error":"#REF!"}},{"$f":"#REF!*D$90","v":{"$error":"#REF!"}},{"$f":"#REF!*E$90","v":{"$error":"#REF!"}},{"$f":"#REF!*F$90","v":{"$error":"#REF!"}},{"$f":"#REF!*G$90","v":{"$error":"#REF!"}},{"$f":"#REF!*H$90","v":{"$error":"#REF!"}},{"$f":"#REF!*I$90","v":{"$error":"#REF!"}},{"$f":"#REF!*J$90","v":{"$error":"#REF!"}},{"$f":"#REF!*K$90","v":{"$error":"#REF!"}},{"$f":"#REF!*L$90","v":{"$error":"#REF!"}},{"$f":"#REF!*M$90","v":{"$error":"#REF!"}},{"$f":"#REF!*N$90","v":{"$error":"#REF!"}},{"$f":"#REF!*O$90","v":{"$error":"#REF!"}},{"$f":"#REF!*P$90","v":{"$error":"#REF!"}},{"$f":"#REF!*Q$90","v":{"$error":"#REF!"}},{"$f":"#REF!*R$90","v":{"$error":"#REF!"}},{"$f":"#REF!*S$90","v":{"$error":"#REF!"}},{"$f":"#REF!*T$90","v":{"$error":"#REF!"}},{"$f":"#REF!*U$90","v":{"$error":"#REF!"}},{"$f":"#REF!*V$90","v":{"$error":"#REF!"}},{"$f":"#REF!*W$90","v":{"$error":"#REF!"}},{"$f":"#REF!*X$90","v":{"$error":"#REF!"}},{"$f":"#REF!*Y$90","v":{"$error":"#REF!"}},{"$f":"#REF!*Z$90","v":{"$error":"#REF!"}},{"$f":"#REF!*AA$90","v":{"$error":"#REF!"}},{"$f":"#REF!*AB$90","v":{"$error":"#REF!"}},{"$f":"#REF!*AC$90","v":{"$error":"#REF!"}},{"$f":"#REF!*AD$90","v":{"$error":"#REF!"}},{"$f":"#REF!*AE$90","v":{"$error":"#REF!"}}]
[null,null,{"$f":"#REF!*C$90","v":{"$error":"#REF!"}},{"$f":"#REF!*D$90","v":{"$error":"#REF!"}},{"$f":"#REF!*E$90","v":{"$error":"#REF!"}},{"$f":"#REF!*F$90","v":{"$error":"#REF!"}},{"$f":"#REF!*G$90","v":{"$error":"#REF!"}},{"$f":"#REF!*H$90","v":{"$error":"#REF!"}},{"$f":"#REF!*I$90","v":{"$error":"#REF!"}},{"$f":"#REF!*J$90","v":{"$error":"#REF!"}},{"$f":"#REF!*K$90","v":{"$error":"#REF!"}},{"$f":"#REF!*L$90","v":{"$error":"#REF!"}},{"$f":"#REF!*M$90","v":{"$error":"#REF!"}},{"$f":"#REF!*N$90","v":{"$error":"#REF!"}},{"$f":"#REF!*O$90","v":{"$error":"#REF!"}},{"$f":"#REF!*P$90","v":{"$error":"#REF!"}},{"$f":"#REF!*Q$90","v":{"$error":"#REF!"}},{"$f":"#REF!*R$90","v":{"$error":"#REF!"}},{"$f":"#REF!*S$90","v":{"$error":"#REF!"}},{"$f":"#REF!*T$90","v":{"$error":"#REF!"}},{"$f":"#REF!*U$90","v":{"$error":"#REF!"}},{"$f":"#REF!*V$90","v":{"$error":"#REF!"}},{"$f":"#REF!*W$90","v":{"$error":"#REF!"}},{"$f":"#REF!*X$90","v":{"$error":"#REF!"}},{"$f":"#REF!*Y$90","v":{"$error":"#REF!"}},{"$f":"#REF!*Z$90","v":{"$error":"#REF!"}},{"$f":"#REF!*AA$90","v":{"$error":"#REF!"}},{"$f":"#REF!*AB$90","v":{"$error":"#REF!"}},{"$f":"#REF!*AC$90","v":{"$error":"#REF!"}},{"$f":"#REF!*AD$90","v":{"$error":"#REF!"}},{"$f":"#REF!*AE$90","v":{"$error":"#REF!"}}]
[null,null,{"$f":"#REF!*C$90","v":{"$error":"#REF!"}},{"$f":"#REF!*D$90","v":{"$error":"#REF!"}},{"$f":"#REF!*E$90","v":{"$error":"#REF!"}},{"$f":"#REF!*F$90","v":{"$error":"#REF!"}},{"$f":"#REF!*G$90","v":{"$error":"#REF!"}},{"$f":"#REF!*H$90","v":{"$error":"#REF!"}},{"$f":"#REF!*I$90","v":{"$error":"#REF!"}},{"$f":"#REF!*J$90","v":{"$error":"#REF!"}},{"$f":"#REF!*K$90","v":{"$error":"#REF!"}},{"$f":"#REF!*L$90","v":{"$error":"#REF!"}},{"$f":"#REF!*M$90","v":{"$error":"#REF!"}},{"$f":"#REF!*N$90","v":{"$error":"#REF!"}},{"$f":"#REF!*O$90","v":{"$error":"#REF!"}},{"$f":"#REF!*P$90","v":{"$error":"#REF!"}},{"$f":"#REF!*Q$90","v":{"$error":"#REF!"}},{"$f":"#REF!*R$90","v":{"$error":"#REF!"}},{"$f":"#REF!*S$90","v":{"$error":"#REF!"}},{"$f":"#REF!*T$90","v":{"$error":"#REF!"}},{"$f":"#REF!*U$90","v":{"$error":"#REF!"}},{"$f":"#REF!*V$90","v":{"$error":"#REF!"}},{"$f":"#REF!*W$90","v":{"$error":"#REF!"}},{"$f":"#REF!*X$90","v":{"$error":"#REF!"}},{"$f":"#REF!*Y$90","v":{"$error":"#REF!"}},{"$f":"#REF!*Z$90","v":{"$error":"#REF!"}},{"$f":"#REF!*AA$90","v":{"$error":"#REF!"}},{"$f":"#REF!*AB$90","v":{"$error":"#REF!"}},{"$f":"#REF!*AC$90","v":{"$error":"#REF!"}},{"$f":"#REF!*AD$90","v":{"$error":"#REF!"}},{"$f":"#REF!*AE$90","v":{"$error":"#REF!"}}]
[null,null,{"$f":"#REF!*C$90","v":{"$error":"#REF!"}},{"$f":"#REF!*D$90","v":{"$error":"#REF!"}},{"$f":"#REF!*E$90","v":{"$error":"#REF!"}},{"$f":"#REF!*F$90","v":{"$error":"#REF!"}},{"$f":"#REF!*G$90","v":{"$error":"#REF!"}},{"$f":"#REF!*H$90","v":{"$error":"#REF!"}},{"$f":"#REF!*I$90","v":{"$error":"#REF!"}},{"$f":"#REF!*J$90","v":{"$error":"#REF!"}},{"$f":"#REF!*K$90","v":{"$error":"#REF!"}},{"$f":"#REF!*L$90","v":{"$error":"#REF!"}},{"$f":"#REF!*M$90","v":{"$error":"#REF!"}},{"$f":"#REF!*N$90","v":{"$error":"#REF!"}},{"$f":"#REF!*O$90","v":{"$error":"#REF!"}},{"$f":"#REF!*P$90","v":{"$error":"#REF!"}},{"$f":"#REF!*Q$90","v":{"$error":"#REF!"}},{"$f":"#REF!*R$90","v":{"$error":"#REF!"}},{"$f":"#REF!*S$90","v":{"$error":"#REF!"}},{"$f":"#REF!*T$90","v":{"$error":"#REF!"}},{"$f":"#REF!*U$90","v":{"$error":"#REF!"}},{"$f":"#REF!*V$90","v":{"$error":"#REF!"}},{"$f":"#REF!*W$90","v":{"$error":"#REF!"}},{"$f":"#REF!*X$90","v":{"$error":"#REF!"}},{"$f":"#REF!*Y$90","v":{"$error":"#REF!"}},{"$f":"#REF!*Z$90","v":{"$error":"#REF!"}},{"$f":"#REF!*AA$90","v":{"$error":"#REF!"}},{"$f":"#REF!*AB$90","v":{"$error":"#REF!"}},{"$f":"#REF!*AC$90","v":{"$error":"#REF!"}},{"$f":"#REF!*AD$90","v":{"$error":"#REF!"}},{"$f":"#REF!*AE$90","v":{"$error":"#REF!"}}]
[null,null,{"$f":"#REF!*C$90","v":{"$error":"#REF!"}},{"$f":"#REF!*D$90","v":{"$error":"#REF!"}},{"$f":"#REF!*E$90","v":{"$error":"#REF!"}},{"$f":"#REF!*F$90","v":{"$error":"#REF!"}},{"$f":"#REF!*G$90","v":{"$error":"#REF!"}},{"$f":"#REF!*H$90","v":{"$error":"#REF!"}},{"$f":"#REF!*I$90","v":{"$error":"#REF!"}},{"$f":"#REF!*J$90","v":{"$error":"#REF!"}},{"$f":"#REF!*K$90","v":{"$error":"#REF!"}},{"$f":"#REF!*L$90","v":{"$error":"#REF!"}},{"$f":"#REF!*M$90","v":{"$error":"#REF!"}},{"$f":"#REF!*N$90","v":{"$error":"#REF!"}},{"$f":"#REF!*O$90","v":{"$error":"#REF!"}},{"$f":"#REF!*P$90","v":{"$error":"#REF!"}},{"$f":"#REF!*Q$90","v":{"$error":"#REF!"}},{"$f":"#REF!*R$90","v":{"$error":"#REF!"}},{"$f":"#REF!*S$90","v":{"$error":"#REF!"}},{"$f":"#REF!*T$90","v":{"$error":"#REF!"}},{"$f":"#REF!*U$90","v":{"$error":"#REF!"}},{"$f":"#REF!*V$90","v":{"$error":"#REF!"}},{"$f":"#REF!*W$90","v":{"$error":"#REF!"}},{"$f":"#REF!*X$90","v":{"$error":"#REF!"}},{"$f":"#REF!*Y$90","v":{"$error":"#REF!"}},{"$f":"#REF!*Z$90","v":{"$error":"#REF!"}},{"$f":"#REF!*AA$90","v":{"$error":"#REF!"}},{"$f":"#REF!*AB$90","v":{"$error":"#REF!"}},{"$f":"#REF!*AC$90","v":{"$error":"#REF!"}},{"$f":"#REF!*AD$90","v":{"$error":"#REF!"}},{"$f":"#REF!*AE$90","v":{"$error":"#REF!"}}]
[null,null,{"$f":"#REF!*C$90","v":{"$error":"#REF!"}},{"$f":"#REF!*D$90","v":{"$error":"#REF!"}},{"$f":"#REF!*E$90","v":{"$error":"#REF!"}},{"$f":"#REF!*F$90","v":{"$error":"#REF!"}},{"$f":"#REF!*G$90","v":{"$error":"#REF!"}},{"$f":"#REF!*H$90","v":{"$error":"#REF!"}},{"$f":"#REF!*I$90","v":{"$error":"#REF!"}},{"$f":"#REF!*J$90","v":{"$error":"#REF!"}},{"$f":"#REF!*K$90","v":{"$error":"#REF!"}},{"$f":"#REF!*L$90","v":{"$error":"#REF!"}},{"$f":"#REF!*M$90","v":{"$error":"#REF!"}},{"$f":"#REF!*N$90","v":{"$error":"#REF!"}},{"$f":"#REF!*O$90","v":{"$error":"#REF!"}},{"$f":"#REF!*P$90","v":{"$error":"#REF!"}},{"$f":"#REF!*Q$90","v":{"$error":"#REF!"}},{"$f":"#REF!*R$90","v":{"$error":"#REF!"}},{"$f":"#REF!*S$90","v":{"$error":"#REF!"}},{"$f":"#REF!*T$90","v":{"$error":"#REF!"}},{"$f":"#REF!*U$90","v":{"$error":"#REF!"}},{"$f":"#REF!*V$90","v":{"$error":"#REF!"}},{"$f":"#REF!*W$90","v":{"$error":"#REF!"}},{"$f":"#REF!*X$90","v":{"$error":"#REF!"}},{"$f":"#REF!*Y$90","v":{"$error":"#REF!"}},{"$f":"#REF!*Z$90","v":{"$error":"#REF!"}},{"$f":"#REF!*AA$90","v":{"$error":"#REF!"}},{"$f":"#REF!*AB$90","v":{"$error":"#REF!"}},{"$f":"#REF!*AC$90","v":{"$error":"#REF!"}},{"$f":"#REF!*AD$90","v":{"$error":"#REF!"}},{"$f":"#REF!*AE$90","v":{"$error":"#REF!"}}]
[null,null,{"$f":"#REF!*C$90","v":{"$error":"#REF!"}},{"$f":"#REF!*D$90","v":{"$error":"#REF!"}},{"$f":"#REF!*E$90","v":{"$error":"#REF!"}},{"$f":"#REF!*F$90","v":{"$error":"#REF!"}},{"$f":"#REF!*G$90","v":{"$error":"#REF!"}},{"$f":"#REF!*H$90","v":{"$error":"#REF!"}},{"$f":"#REF!*I$90","v":{"$error":"#REF!"}},{"$f":"#REF!*J$90","v":{"$error":"#REF!"}},{"$f":"#REF!*K$90","v":{"$error":"#REF!"}},{"$f":"#REF!*L$90","v":{"$error":"#REF!"}},{"$f":"#REF!*M$90","v":{"$error":"#REF!"}},{"$f":"#REF!*N$90","v":{"$error":"#REF!"}},{"$f":"#REF!*O$90","v":{"$error":"#REF!"}},{"$f":"#REF!*P$90","v":{"$error":"#REF!"}},{"$f":"#REF!*Q$90","v":{"$error":"#REF!"}},{"$f":"#REF!*R$90","v":{"$error":"#REF!"}},{"$f":"#REF!*S$90","v":{"$error":"#REF!"}},{"$f":"#REF!*T$90","v":{"$error":"#REF!"}},{"$f":"#REF!*U$90","v":{"$error":"#REF!"}},{"$f":"#REF!*V$90","v":{"$error":"#REF!"}},{"$f":"#REF!*W$90","v":{"$error":"#REF!"}},{"$f":"#REF!*X$90","v":{"$error":"#REF!"}},{"$f":"#REF!*Y$90","v":{"$error":"#REF!"}},{"$f":"#REF!*Z$90","v":{"$error":"#REF!"}},{"$f":"#REF!*AA$90","v":{"$error":"#REF!"}},{"$f":"#REF!*AB$90","v":{"$error":"#REF!"}},{"$f":"#REF!*AC$90","v":{"$error":"#REF!"}},{"$f":"#REF!*AD$90","v":{"$error":"#REF!"}},{"$f":"#REF!*AE$90","v":{"$error":"#REF!"}}]
[null,null,{"$f":"#REF!*C$90","v":{"$error":"#REF!"}},{"$f":"#REF!*D$90","v":{"$error":"#REF!"}},{"$f":"#REF!*E$90","v":{"$error":"#REF!"}},{"$f":"#REF!*F$90","v":{"$error":"#REF!"}},{"$f":"#REF!*G$90","v":{"$error":"#REF!"}},{"$f":"#REF!*H$90","v":{"$error":"#REF!"}},{"$f":"#REF!*I$90","v":{"$error":"#REF!"}},{"$f":"#REF!*J$90","v":{"$error":"#REF!"}},{"$f":"#REF!*K$90","v":{"$error":"#REF!"}},{"$f":"#REF!*L$90","v":{"$error":"#REF!"}},{"$f":"#REF!*M$90","v":{"$error":"#REF!"}},{"$f":"#REF!*N$90","v":{"$error":"#REF!"}},{"$f":"#REF!*O$90","v":{"$error":"#REF!"}},{"$f":"#REF!*P$90","v":{"$error":"#REF!"}},{"$f":"#REF!*Q$90","v":{"$error":"#REF!"}},{"$f":"#REF!*R$90","v":{"$error":"#REF!"}},{"$f":"#REF!*S$90","v":{"$error":"#REF!"}},{"$f":"#REF!*T$90","v":{"$error":"#REF!"}},{"$f":"#REF!*U$90","v":{"$error":"#REF!"}},{"$f":"#REF!*V$90","v":{"$error":"#REF!"}},{"$f":"#REF!*W$90","v":{"$error":"#REF!"}},{"$f":"#REF!*X$90","v":{"$error":"#REF!"}},{"$f":"#REF!*Y$90","v":{"$error":"#REF!"}},{"$f":"#REF!*Z$90","v":{"$error":"#REF!"}},{"$f":"#REF!*AA$90","v":{"$error":"#REF!"}},{"$f":"#REF!*AB$90","v":{"$error":"#REF!"}},{"$f":"#REF!*AC$90","v":{"$error":"#REF!"}},{"$f":"#REF!*AD$90","v":{"$error":"#REF!"}},{"$f":"#REF!*AE$90","v":{"$error":"#REF!"}}]
[null,null,{"$f":"#REF!*C$90","v":{"$error":"#REF!"}},{"$f":"#REF!*D$90","v":{"$error":"#REF!"}},{"$f":"#REF!*E$90","v":{"$error":"#REF!"}},{"$f":"#REF!*F$90","v":{"$error":"#REF!"}},{"$f":"#REF!*G$90","v":{"$error":"#REF!"}},{"$f":"#REF!*H$90","v":{"$error":"#REF!"}},{"$f":"#REF!*I$90","v":{"$error":"#REF!"}},{"$f":"#REF!*J$90","v":{"$error":"#REF!"}},{"$f":"#REF!*K$90","v":{"$error":"#REF!"}},{"$f":"#REF!*L$90","v":{"$error":"#REF!"}},{"$f":"#REF!*M$90","v":{"$error":"#REF!"}},{"$f":"#REF!*N$90","v":{"$error":"#REF!"}},{"$f":"#REF!*O$90","v":{"$error":"#REF!"}},{"$f":"#REF!*P$90","v":{"$error":"#REF!"}},{"$f":"#REF!*Q$90","v":{"$error":"#REF!"}},{"$f":"#REF!*R$90","v":{"$error":"#REF!"}},{"$f":"#REF!*S$90","v":{"$error":"#REF!"}},{"$f":"#REF!*T$90","v":{"$error":"#REF!"}},{"$f":"#REF!*U$90","v":{"$error":"#REF!"}},{"$f":"#REF!*V$90","v":{"$error":"#REF!"}},{"$f":"#REF!*W$90","v":{"$error":"#REF!"}},{"$f":"#REF!*X$90","v":{"$error":"#REF!"}},{"$f":"#REF!*Y$90","v":{"$error":"#REF!"}},{"$f":"#REF!*Z$90","v":{"$error":"#REF!"}},{"$f":"#REF!*AA$90","v":{"$error":"#REF!"}},{"$f":"#REF!*AB$90","v":{"$error":"#REF!"}},{"$f":"#REF!*AC$90","v":{"$error":"#REF!"}},{"$f":"#REF!*AD$90","v":{"$error":"#REF!"}},{"$f":"#REF!*AE$90","v":{"$error":"#REF!"}}]
[null,null,{"$f":"C35*C$90","v":0},0,0,0,0,0,0,0,0,{"$error":"#N/A"},0,0,0,0,0,0,0,0,0,0,0,0,0,0,0,{"$error":"#N/A"},{"$error":"#N/A"},{"$error":"#N/A"},{"$error":"#N/A"}]

{"sheet":"9 А(2)","index":38,"n_rows":82,"n_cols":8,"rows_kept":82,"cut":false,"hidden":true,"merged":[[42,0,42,1],[52,0,52,1],[67,0,67,1],[0,0,0,3],[0,4,0,7],[1,0,1,2],[2,0,2,1],[3,0,15,0],[17,0,17,1]]}
[{"$f":"Титул!B25","v":"9 А"},null,null,null,"Страница заполняется автоматически, без участия оператора!!!"]
["Всего учащихся в классе:",null,null,{"$f":"Титул!C25","v":27},"Фамилии, имена               учащихся","Учебные предметы","Фамилии и инициалы учителей","Пояснения, примечания, причины"]
["Учатся на  \"5\":",null,{"$f":"COUNTA(E3:E17)","v":2},1,"Артемьева Ольга"]
[null,null,null,2,"Петрова Анастасия"]
[null,null,null,3]
[null,null,null,4]
[null,null,null,5]
[null,null,null,6]
[null,null,null,7]
[null,null,null,8]
[null,null,null,9]
[null,null,null,10]
[null,null,null,11]
[null,null,null,12]
[null,null,null,13]
[null,null,null,14]
[null,null,null,15]
["Учатся  на \"4\"и\"5\"",null,{"$f":"COUNTA(E18:E42)","v":6},1,"Каргова Мария"]
[null," ",null,2,"Коробкин Дмитрий"]
[null,null,null,3,"Ложников Кирилл"]
[null,null,null,4,"Проскурина Алёна"]
[null,null,null,5,"Соболевская Анна"]
[null,null,null,6,"Сотников Илья"]
[null,null,null,7]
[null,null,null,8]
[null,null,null,9]
[null,null,null,10]
[null,null,null,11]
[null,null,null,12]
[null,null,null,13]
[null,null,null,14]
[null,null,null,15]
[null,null,null,16]
[null,null,null,17]
[null,null,null,18]
[null,null,null,19]
[null,null,null,20]
[null,null,null,21]
[null,null,null,22]
[null,null,null,23]
[null,null,null,24]
[null,null,null,25]
["Не аттестованы:",null,{"$f":"COUNTA(E43:E52)","v":0},1]
[null," ",null,2]
[null,null,null,3]
[null,null,null,4]
[null,null,null,5]
[null,null,null,6]
[null,null,null,7]
[null,null,null,8]
[null,null,null,9]
[null,null,null,10]
["Не успевают:",null,{"$f":"COUNTA(E53:E67)","v":0},1]
[null," ",null,2]
[null,null,null,3]
[null,null,null,4]
[null,null,null,5]
[null,null,null,6]
[null,null,null,7]
[null,null,null,8]
[null,null,null,9]
[null,null,null,10]
[null,null,null,11]
[null,null,null,12]
[null,null,null,13]
[null,null,null,14]
[null,null,null,15]
["Освобождены:",null,{"$f":"COUNTA(E68:E82)","v":0},1]
[null," ",null,2]
[null,null,null,3]
[null,null,null,4]
[null,null,null,5]
[null,null,null,6]
[null,null,null,7]
[null,null,null,8]
[null,null,null,9]
[null,null,null,10]
[null,null,null,11]
[null,null,null,12]
[null,null,null,13]
[null,null,null,14]
[null,null,null,15]

{"sheet":"9 Б","index":39,"n_rows":130,"n_cols":35,"rows_kept":130,"cut":false,"hidden":true,"merged":[[0,0,0,2],[0,3,0,25],[0,26,0,32],[1,0,1,24],[1,25,1,28],[1,29,1,31],[2,0,2,3],[2,4,2,17],[2,18,2,22],[2,23,2,34],[3,0,4,1],[3,2,3,30],[3,31,3,34],[47,0,47,26],[47,28,47,33],[35,0,35,1],[35,31,35,34],[36,0,46,0],[36,31,36,34],[37,31,37,34],[38,31,38,34],[39,31,39,34],[40,31,40,34],[41,31,41,34],[42,31,42,34],[43,31,43,34],[44,31,44,34],[45,31,45,34],[46,31,46,34]]}
[{"$f":"Титул!B5","v":"2014/15 учебный год"},null,null,{"$f":"Титул!B4","v":"МОУ СОШ  № 15"},null,null,null,null,null,null,null,null,null,null,null,null,null,null,null,null,null,null,null,null,null,null,{"$f":"Титул!B6","v":"4 четверть"},null,null,null,null,null,null,null,"3+"]
["ВЕДОМОСТЬ  РЕЗУЛЬТАТОВ  УЧЕБНОЙ  ДЕЯТЕЛЬНОСТИ",null,null,null,null,null,null,null,null,null,null,null,null,null,null,null,null,null,null,null,null,null,null,null,null,{"$f":"Титул!B26","v":"9 Б"},null,null,null,"класса"]
["Классный руководитель:",null,null,null,{"$f":"Титул!D26","v":"Шипилова О.В."},null,null,null,null,null,null,null,null,null,null,null,null,null,"Программа:",null,null,null,null,{"$f":"Титул!G18","v":"общеобразовательный"}]
["Вручную вносятся только оценки \"5\", \"4\", \"3\", \"2\", \"1\". \nНе аттестованным проставляется \"0\", освобожденным - \"Н\".  ",null,"У  ч  е  б  н  ы  е      п  р  е  д  м  е  т  ы",null,null,null,null,null,null,null,null,null,null,null,null,null,null,null,null,null,null,null,null,null,null,null,null,null,null,null,null,"Результаты ученика:"]
[null,null,{"$f":"Нагрузка!C3","v":"Русский язык"},{"$f":"Нагрузка!D3","v":"Литература"},{"$f":"Нагрузка!E3","v":"Иностранный язык"},{"$f":"Нагрузка!F3","v":"Математика"},{"$f":"Нагрузка!G3","v":"Алгебра"},{"$f":"Нагрузка!H3","v":"Геометрия"},{"$f":"Нагрузка!I3","v":"Информатика"},{"$f":"Нагрузка!J3","v":"История"},{"$f":"Нагрузка!K3","v":"Обществознание"},{"$f":"Нагрузка!L3","v":"Окружающий мир"},{"$f":"Нагрузка!M3","v":"ИЗО"},{"$f":"Нагрузка!N3","v":"Музыка"},{"$f":"Нагрузка!O3","v":"Технология"},{"$f":"Нагрузка!P3","v":"Технология"},{"$f":"Нагрузка!Q3","v":"ФЗК"},{"$f":"Нагрузка!R3","v":"Иностранный язык"},{"$f":"Нагрузка!S3","v":"Иностранный язык"},{"$f":"Нагрузка!T3","v":"География"},{"$f":"Нагрузка!U3","v":"Физика"},{"$f":"Нагрузка!V3","v":"Химия"},{"$f":"Нагрузка!W3","v":"Биология"},{"$f":"Нагрузка!X3","v":"МХК"},{"$f":"Нагрузка!Y3","v":"ФЗК"},{"$f":"Нагрузка!Z3","v":"ОБЖ"},{"$f":"Нагрузка!AA3","v":"Природоведение"},{"$f":"Нагрузка!AB3","v":0},{"$f":"Нагрузка!AC3","v":0},{"$f":"Нагрузка!AD3","v":0},{"$f":"Нагрузка!AE3","v":0},"Средний балл:","Степень обученности (СОУ):","Качество успеваемости:","Рейтинговый учебный балл:"]
[1,{"$f":"СпискиКлассы!S4","v":"Борисенко Юрий"},3,4,3,3,null,null,4,4,4,null,null,null,5,null,5,null,null,4,3,4,4,null,null,4,null,null,null,null,null,{"$f":"AVERAGE(C6:AE6)","v":3.8571428571428572},{"$f":"(COUNTIF(C6:AE6,\"5\")+COUNTIF(C6:AE6,\"4\")*0.64+COUNTIF(C6:AE6,\"3\")*0.36+COUNTIF(C6:AE6,\"2\")*0.16)/(COUNTIF(C6:AE6,\"5\")+COUNTIF(C6:AE6,\"4\")+COUNTIF(C6:AE6,\"3\")+COUNTIF(C6:AE6,\"2\")+COUNTIF(C6:AE6,\"0\"))","v":0.61142857142857143},{"$f":"((5*COUNTIF(C6:AE6,\"5\"))+(4*COUNTIF(C6:AE6,\"4\")))/(5*(COUNTA(C6:AE6)-COUNTIF(C6:AE6,\"н\")))","v":0.6},{"$f":"SUMIF(C91:AE91,\">0\",C91:AE91)/(COUNTIF(C6:AE6,\">0\")+COUNTIF(C6:AE6,\"=0\")+COUNTIF(C6:AE6,\"Н\"))","v":22.714285714285715}]
[{"$f":"A6+1","v":2},{"$f":"СпискиКлассы!S5","v":"Вильский Павел"},3,3,3,3,null,null,3,3,3,null,null,null,5,null,5,null,null,4,3,3,3,null,null,3,null,null,null,null,null,{"$f":"AVERAGE(C7:AE7)","v":3.3571428571428572},{"$f":"(COUNTIF(C7:AE7,\"5\")+COUNTIF(C7:AE7,\"4\")*0.64+COUNTIF(C7:AE7,\"3\")*0.36+COUNTIF(C7:AE7,\"2\")*0.16)/(COUNTIF(C7:AE7,\"5\")+COUNTIF(C7:AE7,\"4\")+COUNTIF(C7:AE7,\"3\")+COUNTIF(C7:AE7,\"2\")+COUNTIF(C7:AE7,\"0\"))","v":0.47142857142857142},{"$f":"((5*COUNTIF(C7:AE7,\"5\"))+(4*COUNTIF(C7:AE7,\"4\")))/(5*(COUNTA(C7:AE7)-COUNTIF(C7:AE7,\"н\")))","v":0.2},19.428571428571427]
[3,{"$f":"СпискиКлассы!S6","v":"Жуков Дмитрий"},3,3,3,3,null,null,3,3,3,null,null,null,3,null,4,null,null,3,3,3,3,null,null,3,null,null,null,null,null,{"$f":"AVERAGE(C8:AE8)","v":3.0714285714285716},0.37999999999999995,5.7142857142857141E-2,18.357142857142858]
[4,{"$f":"СпискиКлассы!S7","v":"Жуков Никита"},3,3,3,3,null,null,3,3,3,null,null,null,3,null,3,null,null,3,3,3,3,null,null,3,null,null,null,null,null,3,0.36,0,18.214285714285715]
[5,{"$f":"СпискиКлассы!S8","v":"Махницкий Владислав"},3,3,3,3,null,null,4,3,3,null,null,null,4,null,4,null,null,3,3,3,3,null,null,3,null,null,null,null,null,3.2142857142857144,0.42,0.17142857142857143,19.142857142857142]
[6,{"$f":"СпискиКлассы!S9","v":"Наймушина Анастасия"},3,3,3,3,null,null,3,3,3,null,null,null,4,null,3,null,null,3,3,3,3,null,null,4,null,null,null,null,null,3.1428571428571428,0.4,0.11428571428571428,18.714285714285715]
[7,{"$f":"СпискиКлассы!S10","v":"Петраков Иван"},3,3,3,3,null,null,3,4,3,null,null,null,4,null,4,null,null,3,3,3,3,null,null,3,null,null,null,null,null,3.2142857142857144,0.42,0.17142857142857143,19.357142857142858]
[8,{"$f":"СпискиКлассы!S11","v":"Федосеев Вячеслав"},3,3,3,3,null,null,4,3,3,null,null,null,4,null,4,null,null,4,3,3,3,null,null,3,null,null,null,null,null,3.2857142857142856,0.44,0.22857142857142856,19.5]
[9,{"$f":"СпискиКлассы!S12","v":"Чувашова Руфина"},4,4,4,4,null,null,4,4,4,null,null,null,5,null,4,null,null,4,4,4,4,null,null,5,null,null,null,null,null,4.1428571428571432,0.69142857142857139,0.82857142857142863,24.785714285714285]
[10,{"$f":"СпискиКлассы!S13","v":"Шустова Мария"},3,3,3,3,null,null,4,4,4,null,null,null,5,null,3,null,null,3,3,3,4,null,null,4,null,null,null,null,null,3.5,0.50571428571428567,0.35714285714285715,20.714285714285715]
[11,{"$f":"СпискиКлассы!S14","v":0},null,null,null,null,null,null,null,null,null,null,null,null,null,null,null,null,null,null,null,null,null,null,null,null,null,null,null,null,null,{"$error":"#DIV/0!"},{"$error":"#DIV/0!"},{"$error":"#DIV/0!"},{"$error":"#DIV/0!"}]
[12,{"$f":"СпискиКлассы!S15","v":0},null,null,null,null,null,null,null,null,null,null,null,null,null,null,null,null,null,null,null,null,null,null,null,null,null,null,null,null,null,{"$error":"#DIV/0!"},{"$error":"#DIV/0!"},{"$error":"#DIV/0!"},{"$error":"#DIV/0!"}]
[13,{"$f":"СпискиКлассы!S16","v":0},null,null,null,null,null,null,null,null,null,null,null,null,null,null,null,null,null,null,null,null,null,null,null,null,null,null,null,null,null,{"$error":"#DIV/0!"},{"$error":"#DIV/0!"},{"$error":"#DIV/0!"},{"$error":"#DIV/0!"}]
[14,{"$f":"СпискиКлассы!S17","v":0},null,null,null,null,null,null,null,null,null,null,null,null,null,null,null,null,null,null,null,null,null,null,null,null,null,null,null,null,null,{"$error":"#DIV/0!"},{"$error":"#DIV/0!"},{"$error":"#DIV/0!"},{"$error":"#DIV/0!"}]
[15,{"$f":"СпискиКлассы!S18","v":0},null,null,null,null,null,null,null,null,null,null,null,null,null,null,null,null,null,null,null,null,null,null,null,null,null,null,null,null,null,{"$error":"#DIV/0!"},{"$error":"#DIV/0!"},{"$error":"#DIV/0!"},{"$error":"#DIV/0!"}]
[16,{"$f":"СпискиКлассы!S19","v":0},null,null,null,null,null,null,null,null,null,null,null,null,null,null,null,null,null,null,null,null,null,null,null,null,null,null,null,null,null,{"$error":"#DIV/0!"},{"$error":"#DIV/0!"},{"$error":"#DIV/0!"},{"$error":"#DIV/0!"}]
[17,{"$f":"СпискиКлассы!S20","v":0},null,null,null,null,null,null,null,null,null,null,null,null,null,null,null,null,null,null,null,null,null,null,null,null,null,null,null,null,null,{"$error":"#DIV/0!"},{"$error":"#DIV/0!"},{"$error":"#DIV/0!"},{"$error":"#DIV/0!"}]
[18,{"$f":"СпискиКлассы!S21","v":0},null,null,null,null,null,null,null,null,null,null,null,null,null,null,null,null,null,null,null,null,null,null,null,null,null,null,null,null,null,{"$error":"#DIV/0!"},{"$error":"#DIV/0!"},{"$error":"#DIV/0!"},{"$error":"#DIV/0!"}]
[19,{"$f":"СпискиКлассы!S22","v":0},null,null,null,null,null,null,null,null,null,null,null,null,null,null,null,null,null,null,null,null,null,null,null,null,null,null,null,null,null,{"$error":"#DIV/0!"},{"$error":"#DIV/0!"},{"$error":"#DIV/0!"},{"$error":"#DIV/0!"}]
[20,{"$f":"СпискиКлассы!S23","v":0},null,null,null,null,null,null,null,null,null,null,null,null,null,null,null,null,null,null,null,null,null,null,null,null,null,null,null,null,null,{"$error":"#DIV/0!"},{"$error":"#DIV/0!"},{"$error":"#DIV/0!"},{"$error":"#DIV/0!"}]
[21,{"$f":"СпискиКлассы!S24","v":0},null,null,null,null,null,null,null,null,null,null,null,null,null,null,null,null,null,null,null,null,null,null,null,null,null,null,null,null,null,{"$error":"#DIV/0!"},{"$error":"#DIV/0!"},{"$error":"#DIV/0!"},{"$error":"#DIV/0!"}]
[22,{"$f":"СпискиКлассы!S25","v":0},null,null,null,null,null,null,null,null,null,null,null,null,null,null,null,null,null,null,null,null,null,null,null,null,null,null,null,null,null,{"$error":"#DIV/0!"},{"$error":"#DIV/0!"},{"$error":"#DIV/0!"},{"$error":"#DIV/0!"}]
[23,{"$f":"СпискиКлассы!S26","v":0},null,null,null,null,null,null,null,null,null,null,null,null,null,null,null,null,null,null,null,null,null,null,null,null,null,null,null,null,null,{"$error":"#DIV/0!"},{"$error":"#DIV/0!"},{"$error":"#DIV/0!"},{"$error":"#DIV/0!"}]
[24,{"$f":"СпискиКлассы!S27","v":0},null,null,null,null,null,null,null,null,null,null,null,null,null,null,null,null,null,null,null,null,null,null,null,null,null,null,null,null,null,{"$error":"#DIV/0!"},{"$error":"#DIV/0!"},{"$error":"#DIV/0!"},{"$error":"#DIV/0!"}]
[25,{"$f":"СпискиКлассы!S28","v":0},null,null,null,null,null,null,null,null,null,null,null,null,null,null,null,null,null,null,null,null,null,null,null,null,null,null,null,null,null,{"$error":"#DIV/0!"},{"$error":"#DIV/0!"},{"$error":"#DIV/0!"},{"$error":"#DIV/0!"}]
[26,{"$f":"СпискиКлассы!S29","v":0},null,null,null,null,null,null,null,null,null,null,null,null,null,null,null,null,null,null,null,null,null,null,null,null,null,null,null,null,null,{"$error":"#DIV/0!"},{"$error":"#DIV/0!"},{"$error":"#DIV/0!"},{"$error":"#DIV/0!"}]
[27,{"$f":"СпискиКлассы!S30","v":0},null,null,null,null,null,null,null,null,null,null,null,null,null,null,null,null,null,null,null,null,null,null,null,null,null,null,null,null,null,{"$error":"#DIV/0!"},{"$error":"#DIV/0!"},{"$error":"#DIV/0!"},{"$error":"#DIV/0!"}]
[28,{"$f":"СпискиКлассы!S31","v":0},null,null,null,null,null,null,null,null,null,null,null,null,null,null,null,null,null,null,null,null,null,null,null,null,null,null,null,null,null,{"$error":"#DIV/0!"},{"$error":"#DIV/0!"},{"$error":"#DIV/0!"},{"$error":"#DIV/0!"}]
[29,{"$f":"СпискиКлассы!S32","v":0},null,null,null,null,null,null,null,null,null,null,null,null,null,null,null,null,null,null,null,null,null,null,null,null,null,null,null,null,null,{"$error":"#DIV/0!"},{"$error":"#DIV/0!"},{"$error":"#DIV/0!"},{"$error":"#DIV/0!"}]
[30,{"$f":"СпискиКлассы!S33","v":0},null,null,null,null,null,null,null,null,null,null,null,null,null,null,null,null,null,null,null,null,null,null,null,null,null,null,null,null,null,{"$error":"#DIV/0!"},{"$error":"#DIV/0!"},{"$error":"#DIV/0!"},{"$f":"SUMIF(C130:AE130,\">0\",C130:AE130)/(COUNTIF(C35:AE35,\">0\")+COUNTIF(C35:AE35,\"=0\")+COUNTIF(C35:AE35,\"Н\"))","v":{"$error":"#DIV/0!"}}]
[" Фамилия и инициалы                                           учителя - предметника",null,{"$f":"Нагрузка!C22","v":"Шипилова"},{"$f":"Нагрузка!D22","v":"Шипилова"},{"$f":"Нагрузка!E22","v":"Гулевич"},{"$f":"Нагрузка!F22","v":0},{"$f":"Нагрузка!G22","v":"Заплава"},{"$f":"Нагрузка!H22","v":"Заплава"},{"$f":"Нагрузка!I22","v":"Головырина"},{"$f":"Нагрузка!J22","v":"Астроханцева"},{"$f":"Нагрузка!K22","v":"Астроханцева"},{"$f":"Нагрузка!L22","v":0},{"$f":"Нагрузка!M22","v":"Терюшкова"},{"$f":"Нагрузка!N22","v":"Заворина"},{"$f":"Нагрузка!O22","v":"Девицын"},{"$f":"Нагрузка!P22","v":"Потьканова"},{"$f":"Нагрузка!Q22","v":"Финаева"},{"$f":"Нагрузка!R22","v":0},{"$f":"Нагрузка!S22","v":0},{"$f":"Нагрузка!T22","v":"Сидоренко"},{"$f":"Нагрузка!U22","v":"Головырина"},{"$f":"Нагрузка!V22","v":"Деревягина"},{"$f":"Нагрузка!W22","v":"Сидоренко"},{"$f":"Нагрузка!X22","v":0},{"$f":"Нагрузка!Y22","v":0},{"$f":"Нагрузка!Z22","v":"Терюшкова"},{"$f":"Нагрузка!AA22","v":0},{"$f":"Нагрузка!AB22","v":0},{"$f":"Нагрузка!AC14","v":0},{"$f":"Нагрузка!AD14","v":0},{"$f":"Нагрузка!AE14","v":0},"Показатели результатов учебной деятельности в  целом по классу:"]
["Результаты учебной деятельности класса","Количество  \"5\":",{"$f":"COUNTIF(C6:C35,5)","v":0},0,0,0,0,0,0,0,0,0,0,0,4,0,2,0,0,0,0,0,0,0,0,1,0,0,0,0,0,{"$f":"SUM(C37:AE37)","v":7}]
[null,"Количество  \"4\":",{"$f":"COUNTIF(C6:C35,4)","v":1},2,1,1,0,0,5,4,3,0,0,0,4,0,5,0,0,4,1,2,3,0,0,3,0,0,0,0,0,39]
[null,"Количество  \"3\":",{"$f":"COUNTIF(C6:C35,3)","v":9},8,9,9,0,0,5,6,7,0,0,0,2,0,3,0,0,6,9,8,7,0,0,6,0,0,0,0,0,94]
[null,"Количество  \"2\":",{"$f":"COUNTIF(C6:C35,2)","v":0},0,0,0,0,0,0,0,0,0,0,0,0,0,0,0,0,0,0,0,0,0,0,0,0,0,0,0,0,0]
[null,"Не аттестовано:",{"$f":"COUNTIF(C6:C35,0)","v":0},0,0,0,0,0,0,0,0,0,0,0,0,0,0,0,0,0,0,0,0,0,0,0,0,0,0,0,0,0]
[null,"Освобождено:",{"$f":"COUNTIF(C6:C35,\"н\")","v":0},0,0,0,0,0,0,0,0,0,0,0,0,0,0,0,0,0,0,0,0,0,0,0,0,0,0,0,0,0]
[null,"Успеваемость:",{"$f":"(C37+C38+C39)/(C37+C38+C39+C40+C41)","v":1},{"$f":"(D37+D38+D39)/(D37+D38+D39+D40+D41)","v":1},1,1,{"$error":"#DIV/0!"},{"$error":"#DIV/0!"},1,1,1,{"$error":"#DIV/0!"},{"$error":"#DIV/0!"},{"$error":"#DIV/0!"},1,{"$error":"#DIV/0!"},1,{"$error":"#DIV/0!"},{"$error":"#DIV/0!"},1,1,1,1,{"$error":"#DIV/0!"},{"$error":"#DIV/0!"},1,{"$error":"#DIV/0!"},{"$error":"#DIV/0!"},{"$error":"#DIV/0!"},{"$error":"#DIV/0!"},{"$error":"#DIV/0!"},{"$f":"('9 Б(2)'!D2-'9 Б(2)'!C43-'9 Б(2)'!C53)/'9 Б(2)'!D2","v":1}]
[null,"Качество знаний:",{"$f":"(C37+C38)/(C37+C38+C39+C40+C41)","v":0.1},{"$f":"(D37+D38)/(D37+D38+D39+D40+D41)","v":0.2},0.1,0.1,{"$error":"#DIV/0!"},{"$error":"#DIV/0!"},0.5,0.4,0.3,{"$error":"#DIV/0!"},{"$error":"#DIV/0!"},{"$error":"#DIV/0!"},0.8,{"$error":"#DIV/0!"},0.7,{"$error":"#DIV/0!"},{"$error":"#DIV/0!"},0.4,0.1,0.2,0.3,{"$error":"#DIV/0!"},{"$error":"#DIV/0!"},0.4,{"$error":"#DIV/0!"},{"$error":"#DIV/0!"},{"$error":"#DIV/0!"},{"$error":"#DIV/0!"},{"$error":"#DIV/0!"},{"$f":"('9 Б(2)'!C3+'9 Б(2)'!C18)/'9 Б(2)'!D2","v":0.1}]
[null,"Степень обученности:",{"$f":"(C37+C38*0.64+C39*0.36+C40*0.16)/(C37+C38+C39+C40+C41)","v":0.38800000000000001},{"$f":"(D37+D38*0.64+D39*0.36+D40*0.16)/(D37+D38+D39+D40+D41)","v":0.41600000000000004},0.38800000000000001,0.38800000000000001,{"$error":"#DIV/0!"},{"$error":"#DIV/0!"},0.5,0.47200000000000009,0.44399999999999995,{"$error":"#DIV/0!"},{"$error":"#DIV/0!"},{"$error":"#DIV/0!"},0.72799999999999998,{"$error":"#DIV/0!"},0.628,{"$error":"#DIV/0!"},{"$error":"#DIV/0!"},0.47200000000000009,0.38800000000000001,0.41600000000000004,0.44399999999999995,{"$error":"#DIV/0!"},{"$error":"#DIV/0!"},0.50800000000000001,{"$error":"#DIV/0!"},{"$error":"#DIV/0!"},{"$error":"#DIV/0!"},{"$error":"#DIV/0!"},{"$error":"#DIV/0!"},{"$f":"(AF37+AF38*0.64+AF39*0.36+AF40*0.16)/(AF37+AF38+AF39+AF40+AF41)","v":0.47}]
[null,"Средний балл:              ",{"$f":"(C37*5+C38*4+C39*3+C40*2)/(C37+C38+C39+C40+C41)","v":3.1},{"$f":"(D37*5+D38*4+D39*3+D40*2)/(D37+D38+D39+D40+D41)","v":3.2},3.1,3.1,{"$error":"#DIV/0!"},{"$error":"#DIV/0!"},3.5,3.4,3.3,{"$error":"#DIV/0!"},{"$error":"#DIV/0!"},{"$error":"#DIV/0!"},4.2,{"$error":"#DIV/0!"},3.9,{"$error":"#DIV/0!"},{"$error":"#DIV/0!"},3.4,3.1,3.2,3.3,{"$error":"#DIV/0!"},{"$error":"#DIV/0!"},3.5,{"$error":"#DIV/0!"},{"$error":"#DIV/0!"},{"$error":"#DIV/0!"},{"$error":"#DIV/0!"},{"$error":"#DIV/0!"},{"$f":"(AF37*5+AF38*4+AF39*3+AF40*2)/(AF37+AF38+AF39+AF40+AF41)","v":3.3785714285714286}]
[null,"Качество успеваемости:",{"$f":"(5*C37+4*C38)*0.2/(SUM(C37+C38+C39+C40+C41))","v":0.08},{"$f":"(5*COUNTIF(D6:D35,5)+4*COUNTIF(D6:D35,4))*0.2/(COUNTA(D6:D35)-COUNTIF(D6:D35,\"н\"))","v":0.16},0.08,0.08,{"$error":"#DIV/0!"},{"$error":"#DIV/0!"},0.4,0.32,0.24000000000000005,{"$error":"#DIV/0!"},{"$error":"#DIV/0!"},{"$error":"#DIV/0!"},0.72,{"$error":"#DIV/0!"},0.6,{"$error":"#DIV/0!"},{"$error":"#DIV/0!"},0.32,0.08,0.16,0.24000000000000005,{"$error":"#DIV/0!"},{"$error":"#DIV/0!"},0.34,{"$error":"#DIV/0!"},{"$error":"#DIV/0!"},{"$error":"#DIV/0!"},{"$error":"#DIV/0!"},{"$error":"#DIV/0!"},{"$f":"(5*COUNTIF(C6:AE35,5)+4*COUNTIF(C6:AE35,4))*0.2/(COUNTA(C6:AE35)-COUNTIF(C6:AE35,\"н\"))","v":0.27285714285714285}]
["Выполнено с помощью программы статистического анализа результатов учебной деятельности",null,null,null,null,null,null,null,null,null,null,null,null,null,null,null,null,null,null,null,null,null,null,null,null,null,null,null,{"$f":"Титул!G31","v":"PSORUD-Klass.v.04.11.demo"},null,null,null,null,null,"3+"]
[]
[]
[]
[]
[]
[]
[]
[]
[]
[]
[]
[]
[]
[]
[]
[]
[]
[]
[]
[]
[]
[]
[]
[]
[]
[]
[]
[]
[]
[]
[]
[]
[]
[]
[]
[]
[]
[]
[]
[]
[]
[null,"Коэф.трудн.предмета",{"$f":"VLOOKUP(C$5,ШкалаТрудн!$C$5:$N$34,LEFT($Z$2,2)+1,0)","v":6},{"$f":"VLOOKUP(D$5,ШкалаТрудн!$C$5:$N$34,LEFT($Z$2,2)+1,0)","v":7},{"$f":"VLOOKUP(E$5,ШкалаТрудн!$C$5:$N$34,LEFT($Z$2,2)+1,0)","v":9},{"$f":"VLOOKUP(F$5,ШкалаТрудн!$C$5:$N$34,LEFT($Z$2,2)+1,0)","v":0},{"$f":"VLOOKUP(G$5,ШкалаТрудн!$C$5:$N$34,LEFT($Z$2,2)+1,0)","v":7},{"$f":"VLOOKUP(H$5,ШкалаТрудн!$C$5:$N$34,LEFT($Z$2,2)+1,0)","v":8},{"$f":"VLOOKUP(I$5,ШкалаТрудн!$C$5:$N$34,LEFT($Z$2,2)+1,0)","v":7},{"$f":"VLOOKUP(J$5,ШкалаТрудн!$C$5:$N$34,LEFT($Z$2,2)+1,0)","v":10},{"$f":"VLOOKUP(K$5,ШкалаТрудн!$C$5:$N$34,LEFT($Z$2,2)+1,0)","v":0},{"$f":"VLOOKUP(L$5,ШкалаТрудн!$C$5:$N$34,LEFT($Z$2,2)+1,0)","v":{"$error":"#N/A"}},{"$f":"VLOOKUP(M$5,ШкалаТрудн!$C$5:$N$34,LEFT($Z$2,2)+1,0)","v":0},{"$f":"VLOOKUP(N$5,ШкалаТрудн!$C$5:$N$34,LEFT($Z$2,2)+1,0)","v":0},{"$f":"VLOOKUP(O$5,ШкалаТрудн!$C$5:$N$34,LEFT($Z$2,2)+1,0)","v":4},{"$f":"VLOOKUP(P$5,ШкалаТрудн!$C$5:$N$34,LEFT($Z$2,2)+1,0)","v":4},{"$f":"VLOOKUP(Q$5,ШкалаТрудн!$C$5:$N$34,LEFT($Z$2,2)+1,0)","v":2},{"$f":"VLOOKUP(R$5,ШкалаТрудн!$C$5:$N$34,LEFT($Z$2,2)+1,0)","v":9},{"$f":"VLOOKUP(S$5,ШкалаТрудн!$C$5:$N$34,LEFT($Z$2,2)+1,0)","v":9},{"$f":"VLOOKUP(T$5,ШкалаТрудн!$C$5:$N$34,LEFT($Z$2,2)+1,0)","v":5},{"$f":"VLOOKUP(U$5,ШкалаТрудн!$C$5:$N$34,LEFT($Z$2,2)+1,0)","v":13},{"$f":"VLOOKUP(V$5,ШкалаТрудн!$C$5:$N$34,LEFT($Z$2,2)+1,0)","v":12},{"$f":"VLOOKUP(W$5,ШкалаТрудн!$C$5:$N$34,LEFT($Z$2,2)+1,0)","v":7},{"$f":"VLOOKUP(X$5,ШкалаТрудн!$C$5:$N$34,LEFT($Z$2,2)+1,0)","v":5},{"$f":"VLOOKUP(Y$5,ШкалаТрудн!$C$5:$N$34,LEFT($Z$2,2)+1,0)","v":2},{"$f":"VLOOKUP(Z$5,ШкалаТрудн!$C$5:$N$34,LEFT($Z$2,2)+1,0)","v":3},{"$f":"VLOOKUP(AA$5,ШкалаТрудн!$C$5:$N$34,LEFT($Z$2,2)+1,0)","v":0},{"$f":"VLOOKUP(AB$5,ШкалаТрудн!$C$5:$N$34,LEFT($Z$2,2)+1,0)","v":{"$error":"#N/A"}},{"$f":"VLOOKUP(AC$5,ШкалаТрудн!$C$5:$N$34,LEFT($Z$2,2)+1,0)","v":{"$error":"#N/A"}},{"$f":"VLOOKUP(AD$5,ШкалаТрудн!$C$5:$N$34,LEFT($Z$2,2)+1,0)","v":{"$error":"#N/A"}},{"$f":"VLOOKUP(AE$5,ШкалаТрудн!$C$5:$N$34,LEFT($Z$2,2)+1,0)","v":{"$error":"#N/A"}}]
[null,null,{"$f":"C6*C$90","v":18},28,27,0,0,0,28,40,0,{"$error":"#N/A"},0,0,20,0,10,0,0,20,39,48,28,0,0,12,0,{"$error":"#N/A"},{"$error":"#N/A"},{"$error":"#N/A"},{"$error":"#N/A"}]
[null,null,18,21,27,0,0,0,21,30,0,{"$error":"#N/A"},0,0,20,0,10,0,0,20,39,36,21,0,0,9,0,{"$error":"#N/A"},{"$error":"#N/A"},{"$error":"#N/A"},{"$error":"#N/A"}]
[null,null,18,21,27,0,0,0,21,30,0,{"$error":"#N/A"},0,0,12,0,8,0,0,15,39,36,21,0,0,9,0,{"$error":"#N/A"},{"$error":"#N/A"},{"$error":"#N/A"},{"$error":"#N/A"}]
[null,null,18,21,27,0,0,0,21,30,0,{"$error":"#N/A"},0,0,12,0,6,0,0,15,39,36,21,0,0,9,0,{"$error":"#N/A"},{"$error":"#N/A"},{"$error":"#N/A"},{"$error":"#N/A"}]
[null,null,18,21,27,0,0,0,28,30,0,{"$error":"#N/A"},0,0,16,0,8,0,0,15,39,36,21,0,0,9,0,{"$error":"#N/A"},{"$error":"#N/A"},{"$error":"#N/A"},{"$error":"#N/A"}]
[null,null,18,21,27,0,0,0,21,30,0,{"$error":"#N/A"},0,0,16,0,6,0,0,15,39,36,21,0,0,12,0,{"$error":"#N/A"},{"$error":"#N/A"},{"$error":"#N/A"},{"$error":"#N/A"}]
[null,null,18,21,27,0,0,0,21,40,0,{"$error":"#N/A"},0,0,16,0,8,0,0,15,39,36,21,0,0,9,0,{"$error":"#N/A"},{"$error":"#N/A"},{"$error":"#N/A"},{"$error":"#N/A"}]
[null,null,18,21,27,0,0,0,28,30,0,{"$error":"#N/A"},0,0,16,0,8,0,0,20,39,36,21,0,0,9,0,{"$error":"#N/A"},{"$error":"#N/A"},{"$error":"#N/A"},{"$error":"#N/A"}]
[null,null,24,28,36,0,0,0,28,40,0,{"$error":"#N/A"},0,0,20,0,8,0,0,20,52,48,28,0,0,{"$f":"Z14*Z$90","v":15},0,{"$error":"#N/A"},{"$error":"#N/A"},{"$error":"#N/A"},{"$error":"#N/A"}]
[null,null,{"$f":"C15*C$90","v":18},21,27,0,0,0,28,40,0,{"$error":"#N/A"},0,0,20,0,6,0,0,15,39,36,28,0,0,12,0,{"$error":"#N/A"},{"$error":"#N/A"},{"$error":"#N/A"},{"$error":"#N/A"}]
[null,null,0,0,0,0,0,0,0,0,0,{"$error":"#N/A"},0,0,0,0,0,0,0,0,0,0,0,0,0,0,0,{"$error":"#N/A"},{"$error":"#N/A"},{"$error":"#N/A"},{"$error":"#N/A"}]
[null,null,0,0,0,0,0,0,0,0,0,{"$error":"#N/A"},0,0,0,0,0,0,0,0,0,0,0,0,0,0,0,{"$error":"#N/A"},{"$error":"#N/A"},{"$error":"#N/A"},{"$error":"#N/A"}]
[null,null,0,0,0,0,0,0,0,0,0,{"$error":"#N/A"},0,0,0,0,0,0,0,0,0,0,0,0,0,0,0,{"$error":"#N/A"},{"$error":"#N/A"},{"$error":"#N/A"},{"$error":"#N/A"}]
[null,null,0,0,0,0,0,0,0,0,0,{"$error":"#N/A"},0,0,0,0,0,0,0,0,0,0,0,0,0,0,0,{"$error":"#N/A"},{"$error":"#N/A"},{"$error":"#N/A"},{"$error":"#N/A"}]
[null,null,0,0,0,0,0,0,0,0,0,{"$error":"#N/A"},0,0,0,0,0,0,0,0,0,0,0,0,0,0,0,{"$error":"#N/A"},{"$error":"#N/A"},{"$error":"#N/A"},{"$error":"#N/A"}]
[null,null,0,0,0,0,0,0,0,0,0,{"$error":"#N/A"},0,0,0,0,0,0,0,0,0,0,0,0,0,0,0,{"$error":"#N/A"},{"$error":"#N/A"},{"$error":"#N/A"},{"$error":"#N/A"}]
[null,null,0,0,0,0,0,0,0,0,0,{"$error":"#N/A"},0,0,0,0,0,0,0,0,0,0,0,0,0,0,0,{"$error":"#N/A"},{"$error":"#N/A"},{"$error":"#N/A"},{"$error":"#N/A"}]
[null,null,0,0,0,0,0,0,0,0,0,{"$error":"#N/A"},0,0,0,0,0,0,0,0,0,0,0,0,0,{"$f":"Z23*Z$90","v":0},0,{"$error":"#N/A"},{"$error":"#N/A"},{"$error":"#N/A"},{"$error":"#N/A"}]
[null,null,{"$f":"C24*C$90","v":0},0,0,0,0,0,0,0,0,{"$error":"#N/A"},0,0,0,0,0,0,0,0,0,0,0,0,0,0,0,{"$error":"#N/A"},{"$error":"#N/A"},{"$error":"#N/A"},{"$error":"#N/A"}]
[null,null,0,0,0,0,0,0,0,0,0,{"$error":"#N/A"},0,0,0,0,0,0,0,0,0,0,0,0,0,0,0,{"$error":"#N/A"},{"$error":"#N/A"},{"$error":"#N/A"},{"$error":"#N/A"}]
[null,null,0,0,0,0,0,0,0,0,0,{"$error":"#N/A"},0,0,0,0,0,0,0,0,0,0,0,0,0,0,0,{"$error":"#N/A"},{"$error":"#N/A"},{"$error":"#N/A"},{"$error":"#N/A"}]
[null,null,0,0,0,0,0,0,0,0,0,{"$error":"#N/A"},0,0,0,0,0,0,0,0,0,0,0,0,0,0,0,{"$error":"#N/A"},{"$error":"#N/A"},{"$error":"#N/A"},{"$error":"#N/A"}]
[null,null,0,0,0,0,0,0,0,0,0,{"$error":"#N/A"},0,0,0,0,0,0,0,0,0,0,0,0,0,0,0,{"$error":"#N/A"},{"$error":"#N/A"},{"$error":"#N/A"},{"$error":"#N/A"}]
[null,null,0,0,0,0,0,0,0,0,0,{"$error":"#N/A"},0,0,0,0,0,0,0,0,0,0,0,0,0,0,0,{"$error":"#N/A"},{"$error":"#N/A"},{"$error":"#N/A"},{"$error":"#N/A"}]
[null,null,0,0,0,0,0,0,0,0,0,{"$error":"#N/A"},0,0,0,0,0,0,0,0,0,0,0,0,0,0,0,{"$error":"#N/A"},{"$error":"#N/A"},{"$error":"#N/A"},{"$error":"#N/A"}]
[null,null,0,0,0,0,0,0,0,0,0,{"$error":"#N/A"},0,0,0,0,0,0,0,0,0,0,0,0,0,0,0,{"$error":"#N/A"},{"$error":"#N/A"},{"$error":"#N/A"},{"$error":"#N/A"}]
[null,null,0,0,0,0,0,0,0,0,0,{"$error":"#N/A"},0,0,0,0,0,0,0,0,0,0,0,0,0,{"$f":"Z32*Z$90","v":0},0,{"$error":"#N/A"},{"$error":"#N/A"},{"$error":"#N/A"},{"$error":"#N/A"}]
[null,null,{"$f":"C33*C$90","v":0},0,0,0,0,0,0,0,0,{"$error":"#N/A"},0,0,0,0,0,0,0,0,0,0,0,0,0,0,0,{"$error":"#N/A"},{"$error":"#N/A"},{"$error":"#N/A"},{"$error":"#N/A"}]
[null,null,0,0,0,0,0,0,0,0,0,{"$error":"#N/A"},0,0,0,0,0,0,0,0,0,0,0,0,0,0,0,{"$error":"#N/A"},{"$error":"#N/A"},{"$error":"#N/A"},{"$error":"#N/A"}]
[null,null,{"$f":"#REF!*C$90","v":{"$error":"#REF!"}},{"$f":"#REF!*D$90","v":{"$error":"#REF!"}},{"$f":"#REF!*E$90","v":{"$error":"#REF!"}},{"$f":"#REF!*F$90","v":{"$error":"#REF!"}},{"$f":"#REF!*G$90","v":{"$error":"#REF!"}},{"$f":"#REF!*H$90","v":{"$error":"#REF!"}},{"$f":"#REF!*I$90","v":{"$error":"#REF!"}},{"$f":"#REF!*J$90","v":{"$error":"#REF!"}},{"$f":"#REF!*K$90","v":{"$error":"#REF!"}},{"$f":"#REF!*L$90","v":{"$error":"#REF!"}},{"$f":"#REF!*M$90","v":{"$error":"#REF!"}},{"$f":"#REF!*N$90","v":{"$error":"#REF!"}},{"$f":"#REF!*O$90","v":{"$error":"#REF!"}},{"$f":"#REF!*P$90","v":{"$error":"#REF!"}},{"$f":"#REF!*Q$90","v":{"$error":"#REF!"}},{"$f":"#REF!*R$90","v":{"$error":"#REF!"}},{"$f":"#REF!*S$90","v":{"$error":"#REF!"}},{"$f":"#REF!*T$90","v":{"$error":"#REF!"}},{"$f":"#REF!*U$90","v":{"$error":"#REF!"}},{"$f":"#REF!*V$90","v":{"$error":"#REF!"}},{"$f":"#REF!*W$90","v":{"$error":"#REF!"}},{"$f":"#REF!*X$90","v":{"$error":"#REF!"}},{"$f":"#REF!*Y$90","v":{"$error":"#REF!"}},{"$f":"#REF!*Z$90","v":{"$error":"#REF!"}},{"$f":"#REF!*AA$90","v":{"$error":"#REF!"}},{"$f":"#REF!*AB$90","v":{"$error":"#REF!"}},{"$f":"#REF!*AC$90","v":{"$error":"#REF!"}},{"$f":"#REF!*AD$90","v":{"$error":"#REF!"}},{"$f":"#REF!*AE$90","v":{"$error":"#REF!"}}]
[null,null,{"$f":"#REF!*C$90","v":{"$error":"#REF!"}},{"$f":"#REF!*D$90","v":{"$error":"#REF!"}},{"$f":"#REF!*E$90","v":{"$error":"#REF!"}},{"$f":"#REF!*F$90","v":{"$error":"#REF!"}},{"$f":"#REF!*G$90","v":{"$error":"#REF!"}},{"$f":"#REF!*H$90","v":{"$error":"#REF!"}},{"$f":"#REF!*I$90","v":{"$error":"#REF!"}},{"$f":"#REF!*J$90","v":{"$error":"#REF!"}},{"$f":"#REF!*K$90","v":{"$error":"#REF!"}},{"$f":"#REF!*L$90","v":{"$error":"#REF!"}},{"$f":"#REF!*M$90","v":{"$error":"#REF!"}},{"$f":"#REF!*N$90","v":{"$error":"#REF!"}},{"$f":"#REF!*O$90","v":{"$error":"#REF!"}},{"$f":"#REF!*P$90","v":{"$error":"#REF!"}},{"$f":"#REF!*Q$90","v":{"$error":"#REF!"}},{"$f":"#REF!*R$90","v":{"$error":"#REF!"}},{"$f":"#REF!*S$90","v":{"$error":"#REF!"}},{"$f":"#REF!*T$90","v":{"$error":"#REF!"}},{"$f":"#REF!*U$90","v":{"$error":"#REF!"}},{"$f":"#REF!*V$90","v":{"$error":"#REF!"}},{"$f":"#REF!*W$90","v":{"$error":"#REF!"}},{"$f":"#REF!*X$90","v":{"$error":"#REF!"}},{"$f":"#REF!*Y$90","v":{"$error":"#REF!"}},{"$f":"#REF!*Z$90","v":{"$error":"#REF!"}},{"$f":"#REF!*AA$90","v":{"$error":"#REF!"}},{"$f":"#REF!*AB$90","v":{"$error":"#REF!"}},{"$f":"#REF!*AC$90","v":{"$error":"#REF!"}},{"$f":"#REF!*AD$90","v":{"$error":"#REF!"}},{"$f":"#REF!*AE$90","v":{"$error":"#REF!"}}]
[null,null,{"$f":"#REF!*C$90","v":{"$error":"#REF!"}},{"$f":"#REF!*D$90","v":{"$error":"#REF!"}},{"$f":"#REF!*E$90","v":{"$error":"#REF!"}},{"$f":"#REF!*F$90","v":{"$error":"#REF!"}},{"$f":"#REF!*G$90","v":{"$error":"#REF!"}},{"$f":"#REF!*H$90","v":{"$error":"#REF!"}},{"$f":"#REF!*I$90","v":{"$error":"#REF!"}},{"$f":"#REF!*J$90","v":{"$error":"#REF!"}},{"$f":"#REF!*K$90","v":{"$error":"#REF!"}},{"$f":"#REF!*L$90","v":{"$error":"#REF!"}},{"$f":"#REF!*M$90","v":{"$error":"#REF!"}},{"$f":"#REF!*N$90","v":{"$error":"#REF!"}},{"$f":"#REF!*O$90","v":{"$error":"#REF!"}},{"$f":"#REF!*P$90","v":{"$error":"#REF!"}},{"$f":"#REF!*Q$90","v":{"$error":"#REF!"}},{"$f":"#REF!*R$90","v":{"$error":"#REF!"}},{"$f":"#REF!*S$90","v":{"$error":"#REF!"}},{"$f":"#REF!*T$90","v":{"$error":"#REF!"}},{"$f":"#REF!*U$90","v":{"$error":"#REF!"}},{"$f":"#REF!*V$90","v":{"$error":"#REF!"}},{"$f":"#REF!*W$90","v":{"$error":"#REF!"}},{"$f":"#REF!*X$90","v":{"$error":"#REF!"}},{"$f":"#REF!*Y$90","v":{"$error":"#REF!"}},{"$f":"#REF!*Z$90","v":{"$error":"#REF!"}},{"$f":"#REF!*AA$90","v":{"$error":"#REF!"}},{"$f":"#REF!*AB$90","v":{"$error":"#REF!"}},{"$f":"#REF!*AC$90","v":{"$error":"#REF!"}},{"$f":"#REF!*AD$90","v":{"$error":"#REF!"}},{"$f":"#REF!*AE$90","v":{"$error":"#REF!"}}]
[null,null,{"$f":"#REF!*C$90","v":{"$error":"#REF!"}},{"$f":"#REF!*D$90","v":{"$error":"#REF!"}},{"$f":"#REF!*E$90","v":{"$error":"#REF!"}},{"$f":"#REF!*F$90","v":{"$error":"#REF!"}},{"$f":"#REF!*G$90","v":{"$error":"#REF!"}},{"$f":"#REF!*H$90","v":{"$error":"#REF!"}},{"$f":"#REF!*I$90","v":{"$error":"#REF!"}},{"$f":"#REF!*J$90","v":{"$error":"#REF!"}},{"$f":"#REF!*K$90","v":{"$error":"#REF!"}},{"$f":"#REF!*L$90","v":{"$error":"#REF!"}},{"$f":"#REF!*M$90","v":{"$error":"#REF!"}},{"$f":"#REF!*N$90","v":{"$error":"#REF!"}},{"$f":"#REF!*O$90","v":{"$error":"#REF!"}},{"$f":"#REF!*P$90","v":{"$error":"#REF!"}},{"$f":"#REF!*Q$90","v":{"$error":"#REF!"}},{"$f":"#REF!*R$90","v":{"$error":"#REF!"}},{"$f":"#REF!*S$90","v":{"$error":"#REF!"}},{"$f":"#REF!*T$90","v":{"$error":"#REF!"}},{"$f":"#REF!*U$90","v":{"$error":"#REF!"}},{"$f":"#REF!*V$90","v":{"$error":"#REF!"}},{"$f":"#REF!*W$90","v":{"$error":"#REF!"}},{"$f":"#REF!*X$90","v":{"$error":"#REF!"}},{"$f":"#REF!*Y$90","v":{"$error":"#REF!"}},{"$f":"#REF!*Z$90","v":{"$error":"#REF!"}},{"$f":"#REF!*AA$90","v":{"$error":"#REF!"}},{"$f":"#REF!*AB$90","v":{"$error":"#REF!"}},{"$f":"#REF!*AC$90","v":{"$error":"#REF!"}},{"$f":"#REF!*AD$90","v":{"$error":"#REF!"}},{"$f":"#REF!*AE$90","v":{"$error":"#REF!"}}]
[null,null,{"$f":"#REF!*C$90","v":{"$error":"#REF!"}},{"$f":"#REF!*D$90","v":{"$error":"#REF!"}},{"$f":"#REF!*E$90","v":{"$error":"#REF!"}},{"$f":"#REF!*F$90","v":{"$error":"#REF!"}},{"$f":"#REF!*G$90","v":{"$error":"#REF!"}},{"$f":"#REF!*H$90","v":{"$error":"#REF!"}},{"$f":"#REF!*I$90","v":{"$error":"#REF!"}},{"$f":"#REF!*J$90","v":{"$error":"#REF!"}},{"$f":"#REF!*K$90","v":{"$error":"#REF!"}},{"$f":"#REF!*L$90","v":{"$error":"#REF!"}},{"$f":"#REF!*M$90","v":{"$error":"#REF!"}},{"$f":"#REF!*N$90","v":{"$error":"#REF!"}},{"$f":"#REF!*O$90","v":{"$error":"#REF!"}},{"$f":"#REF!*P$90","v":{"$error":"#REF!"}},{"$f":"#REF!*Q$90","v":{"$error":"#REF!"}},{"$f":"#REF!*R$90","v":{"$error":"#REF!"}},{"$f":"#REF!*S$90","v":{"$error":"#REF!"}},{"$f":"#REF!*T$90","v":{"$error":"#REF!"}},{"$f":"#REF!*U$90","v":{"$error":"#REF!"}},{"$f":"#REF!*V$90","v":{"$error":"#REF!"}},{"$f":"#REF!*W$90","v":{"$error":"#REF!"}},{"$f":"#REF!*X$90","v":{"$error":"#REF!"}},{"$f":"#REF!*Y$90","v":{"$error":"#REF!"}},{"$f":"#REF!*Z$90","v":{"$error":"#REF!"}},{"$f":"#REF!*AA$90","v":{"$error":"#REF!"}},{"$f":"#REF!*AB$90","v":{"$error":"#REF!"}},{"$f":"#REF!*AC$90","v":{"$error":"#REF!"}},{"$f":"#REF!*AD$90","v":{"$error":"#REF!"}},{"$f":"#REF!*AE$90","v":{"$error":"#REF!"}}]
[null,null,{"$f":"#REF!*C$90","v":{"$error":"#REF!"}},{"$f":"#REF!*D$90","v":{"$error":"#REF!"}},{"$f":"#REF!*E$90","v":{"$error":"#REF!"}},{"$f":"#REF!*F$90","v":{"$error":"#REF!"}},{"$f":"#REF!*G$90","v":{"$error":"#REF!"}},{"$f":"#REF!*H$90","v":{"$error":"#REF!"}},{"$f":"#REF!*I$90","v":{"$error":"#REF!"}},{"$f":"#REF!*J$90","v":{"$error":"#REF!"}},{"$f":"#REF!*K$90","v":{"$error":"#REF!"}},{"$f":"#REF!*L$90","v":{"$error":"#REF!"}},{"$f":"#REF!*M$90","v":{"$error":"#REF!"}},{"$f":"#REF!*N$90","v":{"$error":"#REF!"}},{"$f":"#REF!*O$90","v":{"$error":"#REF!"}},{"$f":"#REF!*P$90","v":{"$error":"#REF!"}},{"$f":"#REF!*Q$90","v":{"$error":"#REF!"}},{"$f":"#REF!*R$90","v":{"$error":"#REF!"}},{"$f":"#REF!*S$90","v":{"$error":"#REF!"}},{"$f":"#REF!*T$90","v":{"$error":"#REF!"}},{"$f":"#REF!*U$90","v":{"$error":"#REF!"}},{"$f":"#REF!*V$90","v":{"$error":"#REF!"}},{"$f":"#REF!*W$90","v":{"$error":"#REF!"}},{"$f":"#REF!*X$90","v":{"$error":"#REF!"}},{"$f":"#REF!*Y$90","v":{"$error":"#REF!"}},{"$f":"#REF!*Z$90","v":{"$error":"#REF!"}},{"$f":"#REF!*AA$90","v":{"$error":"#REF!"}},{"$f":"#REF!*AB$90","v":{"$error":"#REF!"}},{"$f":"#REF!*AC$90","v":{"$error":"#REF!"}},{"$f":"#REF!*AD$90","v":{"$error":"#REF!"}},{"$f":"#REF!*AE$90","v":{"$error":"#REF!"}}]
[null,null,{"$f":"#REF!*C$90","v":{"$error":"#REF!"}},{"$f":"#REF!*D$90","v":{"$error":"#REF!"}},{"$f":"#REF!*E$90","v":{"$error":"#REF!"}},{"$f":"#REF!*F$90","v":{"$error":"#REF!"}},{"$f":"#REF!*G$90","v":{"$error":"#REF!"}},{"$f":"#REF!*H$90","v":{"$error":"#REF!"}},{"$f":"#REF!*I$90","v":{"$error":"#REF!"}},{"$f":"#REF!*J$90","v":{"$error":"#REF!"}},{"$f":"#REF!*K$90","v":{"$error":"#REF!"}},{"$f":"#REF!*L$90","v":{"$error":"#REF!"}},{"$f":"#REF!*M$90","v":{"$error":"#REF!"}},{"$f":"#REF!*N$90","v":{"$error":"#REF!"}},{"$f":"#REF!*O$90","v":{"$error":"#REF!"}},{"$f":"#REF!*P$90","v":{"$error":"#REF!"}},{"$f":"#REF!*Q$90","v":{"$error":"#REF!"}},{"$f":"#REF!*R$90","v":{"$error":"#REF!"}},{"$f":"#REF!*S$90","v":{"$error":"#REF!"}},{"$f":"#REF!*T$90","v":{"$error":"#REF!"}},{"$f":"#REF!*U$90","v":{"$error":"#REF!"}},{"$f":"#REF!*V$90","v":{"$error":"#REF!"}},{"$f":"#REF!*W$90","v":{"$error":"#REF!"}},{"$f":"#REF!*X$90","v":{"$error":"#REF!"}},{"$f":"#REF!*Y$90","v":{"$error":"#REF!"}},{"$f":"#REF!*Z$90","v":{"$error":"#REF!"}},{"$f":"#REF!*AA$90","v":{"$error":"#REF!"}},{"$f":"#REF!*AB$90","v":{"$error":"#REF!"}},{"$f":"#REF!*AC$90","v":{"$error":"#REF!"}},{"$f":"#REF!*AD$90","v":{"$error":"#REF!"}},{"$f":"#REF!*AE$90","v":{"$error":"#REF!"}}]
[null,null,{"$f":"#REF!*C$90","v":{"$error":"#REF!"}},{"$f":"#REF!*D$90","v":{"$error":"#REF!"}},{"$f":"#REF!*E$90","v":{"$error":"#REF!"}},{"$f":"#REF!*F$90","v":{"$error":"#REF!"}},{"$f":"#REF!*G$90","v":{"$error":"#REF!"}},{"$f":"#REF!*H$90","v":{"$error":"#REF!"}},{"$f":"#REF!*I$90","v":{"$error":"#REF!"}},{"$f":"#REF!*J$90","v":{"$error":"#REF!"}},{"$f":"#REF!*K$90","v":{"$error":"#REF!"}},{"$f":"#REF!*L$90","v":{"$error":"#REF!"}},{"$f":"#REF!*M$90","v":{"$error":"#REF!"}},{"$f":"#REF!*N$90","v":{"$error":"#REF!"}},{"$f":"#REF!*O$90","v":{"$error":"#REF!"}},{"$f":"#REF!*P$90","v":{"$error":"#REF!"}},{"$f":"#REF!*Q$90","v":{"$error":"#REF!"}},{"$f":"#REF!*R$90","v":{"$error":"#REF!"}},{"$f":"#REF!*S$90","v":{"$error":"#REF!"}},{"$f":"#REF!*T$90","v":{"$error":"#REF!"}},{"$f":"#REF!*U$90","v":{"$error":"#REF!"}},{"$f":"#REF!*V$90","v":{"$error":"#REF!"}},{"$f":"#REF!*W$90","v":{"$error":"#REF!"}},{"$f":"#REF!*X$90","v":{"$error":"#REF!"}},{"$f":"#REF!*Y$90","v":{"$error":"#REF!"}},{"$f":"#REF!*Z$90","v":{"$error":"#REF!"}},{"$f":"#REF!*AA$90","v":{"$error":"#REF!"}},{"$f":"#REF!*AB$90","v":{"$error":"#REF!"}},{"$f":"#REF!*AC$90","v":{"$error":"#REF!"}},{"$f":"#REF!*AD$90","v":{"$error":"#REF!"}},{"$f":"#REF!*AE$90","v":{"$error":"#REF!"}}]
[null,null,{"$f":"#REF!*C$90","v":{"$error":"#REF!"}},{"$f":"#REF!*D$90","v":{"$error":"#REF!"}},{"$f":"#REF!*E$90","v":{"$error":"#REF!"}},{"$f":"#REF!*F$90","v":{"$error":"#REF!"}},{"$f":"#REF!*G$90","v":{"$error":"#REF!"}},{"$f":"#REF!*H$90","v":{"$error":"#REF!"}},{"$f":"#REF!*I$90","v":{"$error":"#REF!"}},{"$f":"#REF!*J$90","v":{"$error":"#REF!"}},{"$f":"#REF!*K$90","v":{"$error":"#REF!"}},{"$f":"#REF!*L$90","v":{"$error":"#REF!"}},{"$f":"#REF!*M$90","v":{"$error":"#REF!"}},{"$f":"#REF!*N$90","v":{"$error":"#REF!"}},{"$f":"#REF!*O$90","v":{"$error":"#REF!"}},{"$f":"#REF!*P$90","v":{"$error":"#REF!"}},{"$f":"#REF!*Q$90","v":{"$error":"#REF!"}},{"$f":"#REF!*R$90","v":{"$error":"#REF!"}},{"$f":"#REF!*S$90","v":{"$error":"#REF!"}},{"$f":"#REF!*T$90","v":{"$error":"#REF!"}},{"$f":"#REF!*U$90","v":{"$error":"#REF!"}},{"$f":"#REF!*V$90","v":{"$error":"#REF!"}},{"$f":"#REF!*W$90","v":{"$error":"#REF!"}},{"$f":"#REF!*X$90","v":{"$error":"#REF!"}},{"$f":"#REF!*Y$90","v":{"$error":"#REF!"}},{"$f":"#REF!*Z$90","v":{"$error":"#REF!"}},{"$f":"#REF!*AA$90","v":{"$error":"#REF!"}},{"$f":"#REF!*AB$90","v":{"$error":"#REF!"}},{"$f":"#REF!*AC$90","v":{"$error":"#REF!"}},{"$f":"#REF!*AD$90","v":{"$error":"#REF!"}},{"$f":"#REF!*AE$90","v":{"$error":"#REF!"}}]
[null,null,{"$f":"#REF!*C$90","v":{"$error":"#REF!"}},{"$f":"#REF!*D$90","v":{"$error":"#REF!"}},{"$f":"#REF!*E$90","v":{"$error":"#REF!"}},{"$f":"#REF!*F$90","v":{"$error":"#REF!"}},{"$f":"#REF!*G$90","v":{"$error":"#REF!"}},{"$f":"#REF!*H$90","v":{"$error":"#REF!"}},{"$f":"#REF!*I$90","v":{"$error":"#REF!"}},{"$f":"#REF!*J$90","v":{"$error":"#REF!"}},{"$f":"#REF!*K$90","v":{"$error":"#REF!"}},{"$f":"#REF!*L$90","v":{"$error":"#REF!"}},{"$f":"#REF!*M$90","v":{"$error":"#REF!"}},{"$f":"#REF!*N$90","v":{"$error":"#REF!"}},{"$f":"#REF!*O$90","v":{"$error":"#REF!"}},{"$f":"#REF!*P$90","v":{"$error":"#REF!"}},{"$f":"#REF!*Q$90","v":{"$error":"#REF!"}},{"$f":"#REF!*R$90","v":{"$error":"#REF!"}},{"$f":"#REF!*S$90","v":{"$error":"#REF!"}},{"$f":"#REF!*T$90","v":{"$error":"#REF!"}},{"$f":"#REF!*U$90","v":{"$error":"#REF!"}},{"$f":"#REF!*V$90","v":{"$error":"#REF!"}},{"$f":"#REF!*W$90","v":{"$error":"#REF!"}},{"$f":"#REF!*X$90","v":{"$error":"#REF!"}},{"$f":"#REF!*Y$90","v":{"$error":"#REF!"}},{"$f":"#REF!*Z$90","v":{"$error":"#REF!"}},{"$f":"#REF!*AA$90","v":{"$error":"#REF!"}},{"$f":"#REF!*AB$90","v":{"$error":"#REF!"}},{"$f":"#REF!*AC$90","v":{"$error":"#REF!"}},{"$f":"#REF!*AD$90","v":{"$error":"#REF!"}},{"$f":"#REF!*AE$90","v":{"$error":"#REF!"}}]
[null,null,{"$f":"C35*C$90","v":0},0,0,0,0,0,0,0,0,{"$error":"#N/A"},0,0,0,0,0,0,0,0,0,0,0,0,0,0,0,{"$error":"#N/A"},{"$error":"#N/A"},{"$error":"#N/A"},{"$error":"#N/A"}]

{"sheet":"9 Б(2)","index":40,"n_rows":82,"n_cols":8,"rows_kept":82,"cut":false,"hidden":true,"merged":[[42,0,42,1],[52,0,52,1],[67,0,67,1],[0,0,0,3],[0,4,0,7],[1,0,1,2],[2,0,2,1],[3,0,15,0],[17,0,17,1]]}
[{"$f":"Титул!B26","v":"9 Б"},null,null,null,"Страница заполняется автоматически, без участия оператора!!!"]
["Всего учащихся в классе:",null,null,{"$f":"Титул!C26","v":10},"Фамилии, имена               учащихся","Учебные предметы","Фамилии и инициалы учителей","Пояснения, примечания, причины"]
["Учатся на  \"5\":",null,{"$f":"COUNTA(E3:E17)","v":0},1]
[null,null,null,2]
[null,null,null,3]
[null,null,null,4]
[null,null,null,5]
[null,null,null,6]
[null,null,null,7]
[null,null,null,8]
[null,null,null,9]
[null,null,null,10]
[null,null,null,11]
[null,null,null,12]
[null,null,null,13]
[null,null,null,14]
[null,null,null,15]
["Учатся  на \"4\"и\"5\"",null,{"$f":"COUNTA(E18:E42)","v":1},1,"Чувашова Руфина"]
[null," ",null,2]
[null,null,null,3]
[null,null,null,4]
[null,null,null,5]
[null,null,null,6]
[null,null,null,7]
[null,null,null,8]
[null,null,null,9]
[null,null,null,10]
[null,null,null,11]
[null,null,null,12]
[null,null,null,13]
[null,null,null,14]
[null,null,null,15]
[null,null,null,16]
[null,null,null,17]
[null,null,null,18]
[null,null,null,19]
[null,null,null,20]
[null,null,null,21]
[null,null,null,22]
[null,null,null,23]
[null,null,null,24]
[null,null,null,25]
["Не аттестованы:",null,{"$f":"COUNTA(E43:E52)","v":0},1]
[null," ",null,2]
[null,null,null,3]
[null,null,null,4]
[null,null,null,5]
[null,null,null,6]
[null,null,null,7]
[null,null,null,8]
[null,null,null,9]
[null,null,null,10]
["Не успевают:",null,{"$f":"COUNTA(E53:E67)","v":0},1]
[null," ",null,2]
[null,null,null,3]
[null,null,null,4]
[null,null,null,5]
[null,null,null,6]
[null,null,null,7]
[null,null,null,8]
[null,null,null,9]
[null,null,null,10]
[null,null,null,11]
[null,null,null,12]
[null,null,null,13]
[null,null,null,14]
[null,null,null,15]
["Освобождены:",null,{"$f":"COUNTA(E68:E82)","v":0},1]
[null," ",null,2]
[null,null,null,3]
[null,null,null,4]
[null,null,null,5]
[null,null,null,6]
[null,null,null,7]
[null,null,null,8]
[null,null,null,9]
[null,null,null,10]
[null,null,null,11]
[null,null,null,12]
[null,null,null,13]
[null,null,null,14]
[null,null,null,15]

{"sheet":"9 В","index":41,"n_rows":130,"n_cols":43,"rows_kept":130,"cut":false,"hidden":true,"merged":[[0,0,0,2],[0,3,0,25],[0,26,0,32],[1,0,1,24],[1,25,1,28],[1,29,1,31],[2,0,2,3],[2,4,2,17],[2,18,2,22],[2,23,2,34],[3,0,4,1],[3,2,3,30],[3,31,3,34],[47,0,47,26],[47,28,47,33],[35,0,35,1],[35,31,35,34],[36,0,46,0],[36,31,36,34],[37,31,37,34],[38,31,38,34],[39,31,39,34],[40,31,40,34],[41,31,41,34],[42,31,42,34],[43,31,43,34],[44,31,44,34],[45,31,45,34],[46,31,46,34]]}
[{"$f":"Титул!B5","v":"2014/15 учебный год"},null,null,{"$f":"Титул!B4","v":"МОУ СОШ  № 15"},null,null,null,null,null,null,null,null,null,null,null,null,null,null,null,null,null,null,null,null,null,null,{"$f":"Титул!B6","v":"4 четверть"},null,null,null,null,null,null,null,"3+"]
["ВЕДОМОСТЬ  РЕЗУЛЬТАТОВ  УЧЕБНОЙ  ДЕЯТЕЛЬНОСТИ",null,null,null,null,null,null,null,null,null,null,null,null,null,null,null,null,null,null,null,null,null,null,null,null,{"$f":"Титул!B27","v":"9 В"},null,null,null,"класса"]
["Классный руководитель:",null,null,null,1,null,null,null,null,null,null,null,null,null,null,null,null,null,"Программа:",null,null,null,null,{"$f":"Титул!G18","v":"общеобразовательный"}]
["Вручную вносятся только оценки \"5\", \"4\", \"3\", \"2\", \"1\". \nНе аттестованным проставляется \"0\", освобожденным - \"Н\".  ",null,"У  ч  е  б  н  ы  е      п  р  е  д  м  е  т  ы",null,null,null,null,null,null,null,null,null,null,null,null,null,null,null,null,null,null,null,null,null,null,null,null,null,null,null,null,"Результаты ученика:"]
[null,null,{"$f":"Нагрузка!C3","v":"Русский язык"},{"$f":"Нагрузка!D3","v":"Литература"},{"$f":"Нагрузка!E3","v":"Иностранный язык"},{"$f":"Нагрузка!F3","v":"Математика"},{"$f":"Нагрузка!G3","v":"Алгебра"},{"$f":"Нагрузка!H3","v":"Геометрия"},{"$f":"Нагрузка!I3","v":"Информатика"},{"$f":"Нагрузка!J3","v":"История"},{"$f":"Нагрузка!K3","v":"Обществознание"},{"$f":"Нагрузка!L3","v":"Окружающий мир"},{"$f":"Нагрузка!M3","v":"ИЗО"},{"$f":"Нагрузка!N3","v":"Музыка"},{"$f":"Нагрузка!O3","v":"Технология"},{"$f":"Нагрузка!P3","v":"Технология"},{"$f":"Нагрузка!Q3","v":"ФЗК"},{"$f":"Нагрузка!R3","v":"Иностранный язык"},{"$f":"Нагрузка!S3","v":"Иностранный язык"},{"$f":"Нагрузка!T3","v":"География"},{"$f":"Нагрузка!U3","v":"Физика"},{"$f":"Нагрузка!V3","v":"Химия"},{"$f":"Нагрузка!W3","v":"Биология"},{"$f":"Нагрузка!X3","v":"МХК"},{"$f":"Нагрузка!Y3","v":"ФЗК"},{"$f":"Нагрузка!Z3","v":"ОБЖ"},{"$f":"Нагрузка!AA3","v":"Природоведение"},{"$f":"Нагрузка!AB3","v":0},{"$f":"Нагрузка!AC3","v":0},{"$f":"Нагрузка!AD3","v":0},{"$f":"Нагрузка!AE3","v":0},"Средний балл:","Степень обученности (СОУ):","Качество успеваемости:","Рейтинговый учебный балл:"]
[1,{"$f":"СпискиКлассы!T4","v":"Бузунова Елена"},3,3,3,3,null,null,3,3,3,null,3,null,3,null,3,null,null,3,3,3,3,null,null,3,null,null,null,null,null,{"$f":"AVERAGE(C6:AE6)","v":3},{"$f":"(COUNTIF(C6:AE6,\"5\")+COUNTIF(C6:AE6,\"4\")*0.64+COUNTIF(C6:AE6,\"3\")*0.36+COUNTIF(C6:AE6,\"2\")*0.16)/(COUNTIF(C6:AE6,\"5\")+COUNTIF(C6:AE6,\"4\")+COUNTIF(C6:AE6,\"3\")+COUNTIF(C6:AE6,\"2\")+COUNTIF(C6:AE6,\"0\"))","v":0.36},{"$f":"((5*COUNTIF(C6:AE6,\"5\"))+(4*COUNTIF(C6:AE6,\"4\")))/(5*(COUNTA(C6:AE6)-COUNTIF(C6:AE6,\"н\")))","v":0},{"$f":"SUMIF(C91:AE91,\">0\",C91:AE91)/(COUNTIF(C6:AE6,\">0\")+COUNTIF(C6:AE6,\"=0\")+COUNTIF(C6:AE6,\"Н\"))","v":17}]
[{"$f":"A6+1","v":2},{"$f":"СпискиКлассы!T5","v":"Вокарин Денис"},3,3,4,3,null,null,3,3,3,null,4,null,4,null,4,null,null,3,3,3,3,null,null,3,null,null,null,null,null,{"$f":"AVERAGE(C7:AE7)","v":3.2666666666666666},{"$f":"(COUNTIF(C7:AE7,\"5\")+COUNTIF(C7:AE7,\"4\")*0.64+COUNTIF(C7:AE7,\"3\")*0.36+COUNTIF(C7:AE7,\"2\")*0.16)/(COUNTIF(C7:AE7,\"5\")+COUNTIF(C7:AE7,\"4\")+COUNTIF(C7:AE7,\"3\")+COUNTIF(C7:AE7,\"2\")+COUNTIF(C7:AE7,\"0\"))","v":0.43466666666666665},{"$f":"((5*COUNTIF(C7:AE7,\"5\"))+(4*COUNTIF(C7:AE7,\"4\")))/(5*(COUNTA(C7:AE7)-COUNTIF(C7:AE7,\"н\")))","v":0.21333333333333335},18]
[3,{"$f":"СпискиКлассы!T6","v":"Гнатик Данил"},3,3,3,3,null,null,5,3,3,null,5,null,4,null,4,null,null,4,3,4,4,null,null,4,null,null,null,null,null,{"$f":"AVERAGE(C8:AE8)","v":3.6666666666666665},0.55733333333333335,0.45333333333333331,20.133333333333333]
[4,{"$f":"СпискиКлассы!T7","v":"Грабский Евгений"},3,3,3,3,null,null,3,3,3,null,4,null,3,null,5,null,null,3,3,3,3,null,null,3,null,null,null,null,null,3.2,0.42133333333333334,0.12,17.266666666666666]
[5,{"$f":"СпискиКлассы!T8","v":"Гурский Павел"},4,4,3,3,null,null,4,3,3,null,5,null,5,null,4,null,null,4,3,3,4,null,null,4,null,null,null,null,null,3.7333333333333334,0.57600000000000007,0.50666666666666671,20]
[6,{"$f":"СпискиКлассы!T9","v":"Зимин Роман"},3,3,3,3,null,null,4,3,3,null,4,null,4,null,4,null,null,4,3,3,3,null,null,3,null,null,null,null,null,3.3333333333333335,0.45333333333333331,0.26666666666666666,18.2]
[7,{"$f":"СпискиКлассы!T10","v":"Иванченко Роман"},3,3,3,3,null,null,3,3,3,null,5,null,3,null,5,null,null,3,3,3,3,null,null,3,null,null,null,null,null,3.2666666666666666,0.4453333333333333,0.13333333333333333,17.266666666666666]
[8,{"$f":"СпискиКлассы!T11","v":"Калинин Денис"},3,3,3,3,null,null,3,3,3,null,4,null,5,null,5,null,null,3,3,3,3,null,null,3,null,null,null,null,null,3.3333333333333335,0.46400000000000008,0.18666666666666668,17.8]
[9,{"$f":"СпискиКлассы!T12","v":"Капсамун Диана"},5,5,5,4,null,null,5,5,5,null,5,null,4,null,5,null,null,5,5,5,5,null,null,5,null,null,null,null,null,4.8666666666666663,0.95199999999999996,0.97333333333333338,28.066666666666666]
[10,{"$f":"СпискиКлассы!T13","v":"Курнакова Анастасия"},3,3,3,3,null,null,3,3,3,null,3,null,3,null,3,null,null,3,3,3,3,null,null,3,null,null,null,null,null,3,0.36,0,17]
[11,{"$f":"СпискиКлассы!T14","v":"Лиснюк Дмитрий"},3,3,3,3,null,null,4,3,3,null,4,null,3,null,5,null,null,3,3,3,3,null,null,3,null,null,null,null,null,3.2666666666666666,0.44000000000000006,0.17333333333333334,17.733333333333334]
[12,{"$f":"СпискиКлассы!T15","v":"Морозова Гюнель"},4,4,3,3,null,null,5,3,3,null,5,null,5,null,3,null,null,4,4,4,4,null,null,4,null,null,null,null,null,3.8666666666666667,0.6186666666666667,0.57333333333333336,22]
[13,{"$f":"СпискиКлассы!T16","v":"Нечаева Валерия"},3,3,3,3,null,null,3,3,3,null,3,null,3,null,3,null,null,3,3,3,3,null,null,3,null,null,null,null,null,3,0.36,0,17]
[14,{"$f":"СпискиКлассы!T17","v":"Папирная Анастасия"},3,3,3,3,null,null,3,3,3,null,3,null,3,null,3,null,null,3,3,3,3,null,null,3,null,null,null,null,null,3,0.36,0,17]
[15,{"$f":"СпискиКлассы!T18","v":"Просекова Алина"},3,4,4,3,null,null,4,4,3,null,5,null,4,null,4,null,null,4,3,3,4,null,null,4,null,null,null,null,null,3.7333333333333334,0.57066666666666654,0.54666666666666663,20.6]
[16,{"$f":"СпискиКлассы!T19","v":"Сапалова Кристина"},5,5,5,5,null,null,5,5,5,null,5,null,5,null,5,null,null,5,5,5,5,null,null,5,null,null,null,null,null,5,1,1,28.333333333333332]
[17,{"$f":"СпискиКлассы!T20","v":"Серазетдинова Ольга"},4,4,4,3,null,null,3,3,4,null,4,null,4,null,3,null,null,3,3,3,4,null,null,4,null,null,null,null,null,3.5333333333333332,0.50933333333333342,0.42666666666666669,19.399999999999999]
[18,{"$f":"СпискиКлассы!T21","v":"Скидин Владимир"},5,5,5,4,null,null,5,5,5,null,5,null,4,null,5,null,null,4,4,4,4,null,null,5,null,null,null,null,null,4.5999999999999996,0.85599999999999998,0.92,25.6]
[19,{"$f":"СпискиКлассы!T22","v":"Толмачев Юрий"},3,3,3,3,null,null,3,3,3,null,3,null,3,null,3,null,null,3,3,3,3,null,null,3,null,null,null,null,null,3,0.36,0,17]
[20,{"$f":"СпискиКлассы!T23","v":"Худиева Авсана"},3,4,3,3,null,null,5,4,4,null,5,null,5,null,3,null,null,4,3,3,4,null,null,4,null,null,null,null,null,3.8,0.6,0.52,20.6]
[21,{"$f":"СпискиКлассы!T24","v":"Чапурин Виталий"},3,3,3,3,null,null,3,3,3,null,4,null,3,null,5,null,null,3,3,3,3,null,null,3,null,null,null,null,null,3.2,0.42133333333333334,0.12,17.266666666666666]
[22,{"$f":"СпискиКлассы!T25","v":"Энсс Анастасия"},3,3,3,3,null,null,3,3,3,null,3,null,3,null,3,null,null,3,3,3,3,null,null,3,null,null,null,null,null,3,0.36,0,17]
[23,{"$f":"СпискиКлассы!T26","v":"Шорохова Полина"},4,4,4,4,null,null,5,4,4,null,5,null,4,null,4,null,null,4,4,3,4,null,null,4,null,null,null,null,null,4.0666666666666664,0.66933333333333322,0.77333333333333332,22.333333333333332]
[24,{"$f":"СпискиКлассы!T27","v":"Мясникова "},3,3,3,3,null,null,3,3,3,null,3,null,3,null,3,null,null,3,3,3,3,null,null,3,null,null,null,null,null,3,0.36,0,17]
[25,{"$f":"СпискиКлассы!T28","v":0},null,null,null,null,null,null,null,null,null,null,null,null,null,null,null,null,null,null,null,null,null,null,null,null,null,null,null,null,null,{"$error":"#DIV/0!"},{"$error":"#DIV/0!"},{"$error":"#DIV/0!"},{"$error":"#DIV/0!"}]
[26,{"$f":"СпискиКлассы!T29","v":0},null,null,null,null,null,null,null,null,null,null,null,null,null,null,null,null,null,null,null,null,null,null,null,null,null,null,null,null,null,{"$error":"#DIV/0!"},{"$error":"#DIV/0!"},{"$error":"#DIV/0!"},{"$error":"#DIV/0!"}]
[27,{"$f":"СпискиКлассы!T30","v":0},null,null,null,null,null,null,null,null,null,null,null,null,null,null,null,null,null,null,null,null,null,null,null,null,null,null,null,null,null,{"$error":"#DIV/0!"},{"$error":"#DIV/0!"},{"$error":"#DIV/0!"},{"$error":"#DIV/0!"},null,null,null,null,null,null,null," "]
[28,{"$f":"СпискиКлассы!T31","v":0},null,null,null,null,null,null,null,null,null,null,null,null,null,null,null,null,null,null,null,null,null,null,null,null,null,null,null,null,null,{"$error":"#DIV/0!"},{"$error":"#DIV/0!"},{"$error":"#DIV/0!"},{"$error":"#DIV/0!"}]
[29,{"$f":"СпискиКлассы!T32","v":0},null,null,null,null,null,null,null,null,null,null,null,null,null,null,null,null,null,null,null,null,null,null,null,null,null,null,null,null,null,{"$error":"#DIV/0!"},{"$error":"#DIV/0!"},{"$error":"#DIV/0!"},{"$error":"#DIV/0!"}]
[30,{"$f":"СпискиКлассы!T33","v":0},null,null,null,null,null,null,null,null,null,null,null,null,null,null,null,null,null,null,null,null,null,null,null,null,null,null,null,null,null,{"$error":"#DIV/0!"},{"$error":"#DIV/0!"},{"$error":"#DIV/0!"},{"$f":"SUMIF(C130:AE130,\">0\",C130:AE130)/(COUNTIF(C35:AE35,\">0\")+COUNTIF(C35:AE35,\"=0\")+COUNTIF(C35:AE35,\"Н\"))","v":{"$error":"#DIV/0!"}}]
[" Фамилия и инициалы                                           учителя - предметника",null,{"$f":"Нагрузка!C23","v":"Годова"},{"$f":"Нагрузка!D23","v":"Годова"},{"$f":"Нагрузка!E23","v":0},{"$f":"Нагрузка!F23","v":0},{"$f":"Нагрузка!G23","v":"Желтова"},{"$f":"Нагрузка!H23","v":"Желтова"},{"$f":"Нагрузка!I23","v":"Горнышкова"},{"$f":"Нагрузка!J23","v":"Астроханцева"},{"$f":"Нагрузка!K23","v":"Астроханцева"},{"$f":"Нагрузка!L23","v":0},{"$f":"Нагрузка!M23","v":"Терюшкова"},{"$f":"Нагрузка!N23","v":"Заворина"},{"$f":"Нагрузка!O23","v":"Девицын"},{"$f":"Нагрузка!P23","v":"Потьканова"},{"$f":"Нагрузка!Q23","v":"Финаева"},{"$f":"Нагрузка!R23","v":"Каплан "},{"$f":"Нагрузка!S23","v":"Гулевич"},{"$f":"Нагрузка!T23","v":"Сидоренко"},{"$f":"Нагрузка!U23","v":"Головырина"},{"$f":"Нагрузка!V23","v":"Чжан"},{"$f":"Нагрузка!W23","v":"Сидоренко"},{"$f":"Нагрузка!X23","v":0},{"$f":"Нагрузка!Y23","v":0},{"$f":"Нагрузка!Z23","v":"Терюшкова"},{"$f":"Нагрузка!AA23","v":0},{"$f":"Нагрузка!AB14","v":0},{"$f":"Нагрузка!AC14","v":0},{"$f":"Нагрузка!AD14","v":0},{"$f":"Нагрузка!AE14","v":0},"Показатели результатов учебной деятельности в  целом по классу:"]
["Результаты учебной деятельности класса","Количество  \"5\":",{"$f":"COUNTIF(C6:C35,5)","v":3},3,3,1,0,0,7,3,3,0,10,0,5,0,8,0,0,2,2,2,2,0,0,3,0,0,0,0,0,{"$f":"SUM(C37:AE37)","v":57}]
[null,"Количество  \"4\":",{"$f":"COUNTIF(C6:C35,4)","v":4},6,4,3,0,0,4,3,3,0,7,0,8,0,6,0,0,8,3,3,8,0,0,7,0,0,0,0,0,77]
[null,"Количество  \"3\":",{"$f":"COUNTIF(C6:C35,3)","v":17},15,17,20,0,0,13,18,18,0,7,0,11,0,10,0,0,14,19,19,14,0,0,14,0,0,0,0,0,226]
[null,"Количество  \"2\":",{"$f":"COUNTIF(C6:C35,2)","v":0},0,0,0,0,0,0,0,0,0,0,0,0,0,0,0,0,0,0,0,0,0,0,0,0,0,0,0,0,0]
[null,"Не аттестовано:",{"$f":"COUNTIF(C6:C35,0)","v":0},0,0,0,0,0,0,0,0,0,0,0,0,0,0,0,0,0,0,0,0,0,0,0,0,0,0,0,0,0]
[null,"Освобождено:",{"$f":"COUNTIF(C6:C35,\"н\")","v":0},0,0,0,0,0,0,0,0,0,0,0,0,0,0,0,0,0,0,0,0,0,0,0,0,0,0,0,0,0]
[null,"Успеваемость:",{"$f":"(C37+C38+C39)/(C37+C38+C39+C40+C41)","v":1},{"$f":"(D37+D38+D39)/(D37+D38+D39+D40+D41)","v":1},1,1,{"$error":"#DIV/0!"},{"$error":"#DIV/0!"},1,1,1,{"$error":"#DIV/0!"},1,{"$error":"#DIV/0!"},1,{"$error":"#DIV/0!"},1,{"$error":"#DIV/0!"},{"$error":"#DIV/0!"},1,1,1,1,{"$error":"#DIV/0!"},{"$error":"#DIV/0!"},1,{"$error":"#DIV/0!"},{"$error":"#DIV/0!"},{"$error":"#DIV/0!"},{"$error":"#DIV/0!"},{"$error":"#DIV/0!"},{"$f":"('9 В(2)'!D2-'9 В(2)'!C43-'9 В(2)'!C53)/'9 В(2)'!D2","v":1}]
[null,"Качество знаний:",{"$f":"(C37+C38)/(C37+C38+C39+C40+C41)","v":0.29166666666666669},{"$f":"(D37+D38)/(D37+D38+D39+D40+D41)","v":0.375},0.29166666666666669,0.16666666666666666,{"$error":"#DIV/0!"},{"$error":"#DIV/0!"},0.45833333333333331,0.25,0.25,{"$error":"#DIV/0!"},0.70833333333333337,{"$error":"#DIV/0!"},0.54166666666666663,{"$error":"#DIV/0!"},0.58333333333333337,{"$error":"#DIV/0!"},{"$error":"#DIV/0!"},0.41666666666666669,0.20833333333333334,0.20833333333333334,0.41666666666666669,{"$error":"#DIV/0!"},{"$error":"#DIV/0!"},0.41666666666666669,{"$error":"#DIV/0!"},{"$error":"#DIV/0!"},{"$error":"#DIV/0!"},{"$error":"#DIV/0!"},{"$error":"#DIV/0!"},{"$f":"('9 В(2)'!C3+'9 В(2)'!C18)/'9 В(2)'!D2","v":0.13043478260869565}]
[null,"Степень обученности:",{"$f":"(C37+C38*0.64+C39*0.36+C40*0.16)/(C37+C38+C39+C40+C41)","v":0.48666666666666664},{"$f":"(D37+D38*0.64+D39*0.36+D40*0.16)/(D37+D38+D39+D40+D41)","v":0.5099999999999999},0.48666666666666664,0.42166666666666663,{"$error":"#DIV/0!"},{"$error":"#DIV/0!"},0.59333333333333338,0.47499999999999992,0.47499999999999992,{"$error":"#DIV/0!"},0.70833333333333337,{"$error":"#DIV/0!"},0.58666666666666678,{"$error":"#DIV/0!"},0.64333333333333331,{"$error":"#DIV/0!"},{"$error":"#DIV/0!"},0.50666666666666671,0.44833333333333331,0.44833333333333331,0.50666666666666671,{"$error":"#DIV/0!"},{"$error":"#DIV/0!"},0.52166666666666661,{"$error":"#DIV/0!"},{"$error":"#DIV/0!"},{"$error":"#DIV/0!"},{"$error":"#DIV/0!"},{"$error":"#DIV/0!"},{"$f":"(AF37+AF38*0.64+AF39*0.36+AF40*0.16)/(AF37+AF38+AF39+AF40+AF41)","v":0.52122222222222214}]
[null,"Средний балл:              ",{"$f":"(C37*5+C38*4+C39*3+C40*2)/(C37+C38+C39+C40+C41)","v":3.4166666666666665},{"$f":"(D37*5+D38*4+D39*3+D40*2)/(D37+D38+D39+D40+D41)","v":3.5},3.4166666666666665,3.2083333333333335,{"$error":"#DIV/0!"},{"$error":"#DIV/0!"},3.75,3.375,3.375,{"$error":"#DIV/0!"},4.125,{"$error":"#DIV/0!"},3.75,{"$error":"#DIV/0!"},3.9166666666666665,{"$error":"#DIV/0!"},{"$error":"#DIV/0!"},3.5,3.2916666666666665,3.2916666666666665,3.5,{"$error":"#DIV/0!"},{"$error":"#DIV/0!"},3.5416666666666665,{"$error":"#DIV/0!"},{"$error":"#DIV/0!"},{"$error":"#DIV/0!"},{"$error":"#DIV/0!"},{"$error":"#DIV/0!"},{"$f":"(AF37*5+AF38*4+AF39*3+AF40*2)/(AF37+AF38+AF39+AF40+AF41)","v":3.5305555555555554}]
[null,"Качество успеваемости:",{"$f":"(5*C37+4*C38)*0.2/(SUM(C37+C38+C39+C40+C41))","v":0.25833333333333336},{"$f":"(5*COUNTIF(D6:D35,5)+4*COUNTIF(D6:D35,4))*0.2/(COUNTA(D6:D35)-COUNTIF(D6:D35,\"н\"))","v":0.32500000000000001},0.25833333333333336,0.14166666666666669,{"$error":"#DIV/0!"},{"$error":"#DIV/0!"},0.42500000000000004,0.22500000000000001,0.22500000000000001,{"$error":"#DIV/0!"},0.65,{"$error":"#DIV/0!"},0.47500000000000003,{"$error":"#DIV/0!"},0.53333333333333333,{"$error":"#DIV/0!"},{"$error":"#DIV/0!"},0.35000000000000003,0.18333333333333335,0.18333333333333335,0.35000000000000003,{"$error":"#DIV/0!"},{"$error":"#DIV/0!"},0.35833333333333334,{"$error":"#DIV/0!"},{"$error":"#DIV/0!"},{"$error":"#DIV/0!"},{"$error":"#DIV/0!"},{"$error":"#DIV/0!"},{"$f":"(5*COUNTIF(C6:AE35,5)+4*COUNTIF(C6:AE35,4))*0.2/(COUNTA(C6:AE35)-COUNTIF(C6:AE35,\"н\"))","v":0.32944444444444448}]
["Выполнено с помощью программы статистического анализа результатов учебной деятельности",null,null,null,null,null,null,null,null,null,null,null,null,null,null,null,null,null,null,null,null,null,null,null,null,null,null,null,{"$f":"Титул!G31","v":"PSORUD-Klass.v.04.11.demo"},null,null,null,null,null,"3+"]
[]
[]
[]
[]
[]
[]
[]
[]
[]
[]
[]
[]
[]
[]
[]
[]
[]
[]
[]
[]
[]
[]
[]
[]
[]
[]
[]
[]
[]
[]
[]
[]
[]
[]
[]
[]
[]
[]
[]
[]
[]
[null,"Коэф.трудн.предмета",{"$f":"VLOOKUP(C$5,ШкалаТрудн!$C$5:$N$34,LEFT($Z$2,2)+1,0)","v":6},{"$f":"VLOOKUP(D$5,ШкалаТрудн!$C$5:$N$34,LEFT($Z$2,2)+1,0)","v":7},{"$f":"VLOOKUP(E$5,ШкалаТрудн!$C$5:$N$34,LEFT($Z$2,2)+1,0)","v":9},{"$f":"VLOOKUP(F$5,ШкалаТрудн!$C$5:$N$34,LEFT($Z$2,2)+1,0)","v":0},{"$f":"VLOOKUP(G$5,ШкалаТрудн!$C$5:$N$34,LEFT($Z$2,2)+1,0)","v":7},{"$f":"VLOOKUP(H$5,ШкалаТрудн!$C$5:$N$34,LEFT($Z$2,2)+1,0)","v":8},{"$f":"VLOOKUP(I$5,ШкалаТрудн!$C$5:$N$34,LEFT($Z$2,2)+1,0)","v":7},{"$f":"VLOOKUP(J$5,ШкалаТрудн!$C$5:$N$34,LEFT($Z$2,2)+1,0)","v":10},{"$f":"VLOOKUP(K$5,ШкалаТрудн!$C$5:$N$34,LEFT($Z$2,2)+1,0)","v":0},{"$f":"VLOOKUP(L$5,ШкалаТрудн!$C$5:$N$34,LEFT($Z$2,2)+1,0)","v":{"$error":"#N/A"}},{"$f":"VLOOKUP(M$5,ШкалаТрудн!$C$5:$N$34,LEFT($Z$2,2)+1,0)","v":0},{"$f":"VLOOKUP(N$5,ШкалаТрудн!$C$5:$N$34,LEFT($Z$2,2)+1,0)","v":0},{"$f":"VLOOKUP(O$5,ШкалаТрудн!$C$5:$N$34,LEFT($Z$2,2)+1,0)","v":4},{"$f":"VLOOKUP(P$5,ШкалаТрудн!$C$5:$N$34,LEFT($Z$2,2)+1,0)","v":4},{"$f":"VLOOKUP(Q$5,ШкалаТрудн!$C$5:$N$34,LEFT($Z$2,2)+1,0)","v":2},{"$f":"VLOOKUP(R$5,ШкалаТрудн!$C$5:$N$34,LEFT($Z$2,2)+1,0)","v":9},{"$f":"VLOOKUP(S$5,ШкалаТрудн!$C$5:$N$34,LEFT($Z$2,2)+1,0)","v":9},{"$f":"VLOOKUP(T$5,ШкалаТрудн!$C$5:$N$34,LEFT($Z$2,2)+1,0)","v":5},{"$f":"VLOOKUP(U$5,ШкалаТрудн!$C$5:$N$34,LEFT($Z$2,2)+1,0)","v":13},{"$f":"VLOOKUP(V$5,ШкалаТрудн!$C$5:$N$34,LEFT($Z$2,2)+1,0)","v":12},{"$f":"VLOOKUP(W$5,ШкалаТрудн!$C$5:$N$34,LEFT($Z$2,2)+1,0)","v":7},{"$f":"VLOOKUP(X$5,ШкалаТрудн!$C$5:$N$34,LEFT($Z$2,2)+1,0)","v":5},{"$f":"VLOOKUP(Y$5,ШкалаТрудн!$C$5:$N$34,LEFT($Z$2,2)+1,0)","v":2},{"$f":"VLOOKUP(Z$5,ШкалаТрудн!$C$5:$N$34,LEFT($Z$2,2)+1,0)","v":3},{"$f":"VLOOKUP(AA$5,ШкалаТрудн!$C$5:$N$34,LEFT($Z$2,2)+1,0)","v":0},{"$f":"VLOOKUP(AB$5,ШкалаТрудн!$C$5:$N$34,LEFT($Z$2,2)+1,0)","v":{"$error":"#N/A"}},{"$f":"VLOOKUP(AC$5,ШкалаТрудн!$C$5:$N$34,LEFT($Z$2,2)+1,0)","v":{"$error":"#N/A"}},{"$f":"VLOOKUP(AD$5,ШкалаТрудн!$C$5:$N$34,LEFT($Z$2,2)+1,0)","v":{"$error":"#N/A"}},{"$f":"VLOOKUP(AE$5,ШкалаТрудн!$C$5:$N$34,LEFT($Z$2,2)+1,0)","v":{"$error":"#N/A"}}]
[null,null,{"$f":"C6*C$90","v":18},21,27,0,0,0,21,30,0,{"$error":"#N/A"},0,0,12,0,6,0,0,15,39,36,21,0,0,9,0,{"$error":"#N/A"},{"$error":"#N/A"},{"$error":"#N/A"},{"$error":"#N/A"}]
[null,null,18,21,36,0,0,0,21,30,0,{"$error":"#N/A"},0,0,16,0,8,0,0,15,39,36,21,0,0,9,0,{"$error":"#N/A"},{"$error":"#N/A"},{"$error":"#N/A"},{"$error":"#N/A"}]
[null,null,18,21,27,0,0,0,35,30,0,{"$error":"#N/A"},0,0,16,0,8,0,0,20,39,48,28,0,0,12,0,{"$error":"#N/A"},{"$error":"#N/A"},{"$error":"#N/A"},{"$error":"#N/A"}]
[null,null,18,21,27,0,0,0,21,30,0,{"$error":"#N/A"},0,0,12,0,10,0,0,15,39,36,21,0,0,9,0,{"$error":"#N/A"},{"$error":"#N/A"},{"$error":"#N/A"},{"$error":"#N/A"}]
[null,null,24,28,27,0,0,0,28,30,0,{"$error":"#N/A"},0,0,20,0,8,0,0,20,39,36,28,0,0,12,0,{"$error":"#N/A"},{"$error":"#N/A"},{"$error":"#N/A"},{"$error":"#N/A"}]
[null,null,18,21,27,0,0,0,28,30,0,{"$error":"#N/A"},0,0,16,0,8,0,0,20,39,36,21,0,0,9,0,{"$error":"#N/A"},{"$error":"#N/A"},{"$error":"#N/A"},{"$error":"#N/A"}]
[null,null,18,21,27,0,0,0,21,30,0,{"$error":"#N/A"},0,0,12,0,10,0,0,15,39,36,21,0,0,9,0,{"$error":"#N/A"},{"$error":"#N/A"},{"$error":"#N/A"},{"$error":"#N/A"}]
[null,null,18,21,27,0,0,0,21,30,0,{"$error":"#N/A"},0,0,20,0,10,0,0,15,39,36,21,0,0,9,0,{"$error":"#N/A"},{"$error":"#N/A"},{"$error":"#N/A"},{"$error":"#N/A"}]
[null,null,30,35,45,0,0,0,35,50,0,{"$error":"#N/A"},0,0,16,0,10,0,0,25,65,60,35,0,0,{"$f":"Z14*Z$90","v":15},0,{"$error":"#N/A"},{"$error":"#N/A"},{"$error":"#N/A"},{"$error":"#N/A"}]
[null,null,{"$f":"C15*C$90","v":18},21,27,0,0,0,21,30,0,{"$error":"#N/A"},0,0,12,0,6,0,0,15,39,36,21,0,0,9,0,{"$error":"#N/A"},{"$error":"#N/A"},{"$error":"#N/A"},{"$error":"#N/A"}]
[null,null,18,21,27,0,0,0,28,30,0,{"$error":"#N/A"},0,0,12,0,10,0,0,15,39,36,21,0,0,9,0,{"$error":"#N/A"},{"$error":"#N/A"},{"$error":"#N/A"},{"$error":"#N/A"}]
[null,null,24,28,27,0,0,0,35,30,0,{"$error":"#N/A"},0,0,20,0,6,0,0,20,52,48,28,0,0,12,0,{"$error":"#N/A"},{"$error":"#N/A"},{"$error":"#N/A"},{"$error":"#N/A"}]
[null,null,18,21,27,0,0,0,21,30,0,{"$error":"#N/A"},0,0,12,0,6,0,0,15,39,36,21,0,0,9,0,{"$error":"#N/A"},{"$error":"#N/A"},{"$error":"#N/A"},{"$error":"#N/A"}]
[null,null,18,21,27,0,0,0,21,30,0,{"$error":"#N/A"},0,0,12,0,6,0,0,15,39,36,21,0,0,9,0,{"$error":"#N/A"},{"$error":"#N/A"},{"$error":"#N/A"},{"$error":"#N/A"}]
[null,null,18,28,36,0,0,0,28,40,0,{"$error":"#N/A"},0,0,16,0,8,0,0,20,39,36,28,0,0,12,0,{"$error":"#N/A"},{"$error":"#N/A"},{"$error":"#N/A"},{"$error":"#N/A"}]
[null,null,30,35,45,0,0,0,35,50,0,{"$error":"#N/A"},0,0,20,0,10,0,0,25,65,60,35,0,0,15,0,{"$error":"#N/A"},{"$error":"#N/A"},{"$error":"#N/A"},{"$error":"#N/A"}]
[null,null,24,28,36,0,0,0,21,30,0,{"$error":"#N/A"},0,0,16,0,6,0,0,15,39,36,28,0,0,12,0,{"$error":"#N/A"},{"$error":"#N/A"},{"$error":"#N/A"},{"$error":"#N/A"}]
[null,null,30,35,45,0,0,0,35,50,0,{"$error":"#N/A"},0,0,16,0,10,0,0,20,52,48,28,0,0,{"$f":"Z23*Z$90","v":15},0,{"$error":"#N/A"},{"$error":"#N/A"},{"$error":"#N/A"},{"$error":"#N/A"}]
[null,null,{"$f":"C24*C$90","v":18},21,27,0,0,0,21,30,0,{"$error":"#N/A"},0,0,12,0,6,0,0,15,39,36,21,0,0,9,0,{"$error":"#N/A"},{"$error":"#N/A"},{"$error":"#N/A"},{"$error":"#N/A"}]
[null,null,18,28,27,0,0,0,35,40,0,{"$error":"#N/A"},0,0,20,0,6,0,0,20,39,36,28,0,0,12,0,{"$error":"#N/A"},{"$error":"#N/A"},{"$error":"#N/A"},{"$error":"#N/A"}]
[null,null,18,21,27,0,0,0,21,30,0,{"$error":"#N/A"},0,0,12,0,10,0,0,15,39,36,21,0,0,9,0,{"$error":"#N/A"},{"$error":"#N/A"},{"$error":"#N/A"},{"$error":"#N/A"}]
[null,null,18,21,27,0,0,0,21,30,0,{"$error":"#N/A"},0,0,12,0,6,0,0,15,39,36,21,0,0,9,0,{"$error":"#N/A"},{"$error":"#N/A"},{"$error":"#N/A"},{"$error":"#N/A"}]
[null,null,24,28,36,0,0,0,35,40,0,{"$error":"#N/A"},0,0,16,0,8,0,0,20,52,36,28,0,0,12,0,{"$error":"#N/A"},{"$error":"#N/A"},{"$error":"#N/A"},{"$error":"#N/A"}]
[null,null,18,21,27,0,0,0,21,30,0,{"$error":"#N/A"},0,0,12,0,6,0,0,15,39,36,21,0,0,9,0,{"$error":"#N/A"},{"$error":"#N/A"},{"$error":"#N/A"},{"$error":"#N/A"}]
[null,null,0,0,0,0,0,0,0,0,0,{"$error":"#N/A"},0,0,0,0,0,0,0,0,0,0,0,0,0,0,0,{"$error":"#N/A"},{"$error":"#N/A"},{"$error":"#N/A"},{"$error":"#N/A"}]
[null,null,0,0,0,0,0,0,0,0,0,{"$error":"#N/A"},0,0,0,0,0,0,0,0,0,0,0,0,0,0,0,{"$error":"#N/A"},{"$error":"#N/A"},{"$error":"#N/A"},{"$error":"#N/A"}]
[null,null,0,0,0,0,0,0,0,0,0,{"$error":"#N/A"},0,0,0,0,0,0,0,0,0,0,0,0,0,{"$f":"Z32*Z$90","v":0},0,{"$error":"#N/A"},{"$error":"#N/A"},{"$error":"#N/A"},{"$error":"#N/A"}]
[null,null,{"$f":"C33*C$90","v":0},0,0,0,0,0,0,0,0,{"$error":"#N/A"},0,0,0,0,0,0,0,0,0,0,0,0,0,0,0,{"$error":"#N/A"},{"$error":"#N/A"},{"$error":"#N/A"},{"$error":"#N/A"}]
[null,null,0,0,0,0,0,0,0,0,0,{"$error":"#N/A"},0,0,0,0,0,0,0,0,0,0,0,0,0,0,0,{"$error":"#N/A"},{"$error":"#N/A"},{"$error":"#N/A"},{"$error":"#N/A"}]
[null,null,{"$f":"#REF!*C$90","v":{"$error":"#REF!"}},{"$f":"#REF!*D$90","v":{"$error":"#REF!"}},{"$f":"#REF!*E$90","v":{"$error":"#REF!"}},{"$f":"#REF!*F$90","v":{"$error":"#REF!"}},{"$f":"#REF!*G$90","v":{"$error":"#REF!"}},{"$f":"#REF!*H$90","v":{"$error":"#REF!"}},{"$f":"#REF!*I$90","v":{"$error":"#REF!"}},{"$f":"#REF!*J$90","v":{"$error":"#REF!"}},{"$f":"#REF!*K$90","v":{"$error":"#REF!"}},{"$f":"#REF!*L$90","v":{"$error":"#REF!"}},{"$f":"#REF!*M$90","v":{"$error":"#REF!"}},{"$f":"#REF!*N$90","v":{"$error":"#REF!"}},{"$f":"#REF!*O$90","v":{"$error":"#REF!"}},{"$f":"#REF!*P$90","v":{"$error":"#REF!"}},{"$f":"#REF!*Q$90","v":{"$error":"#REF!"}},{"$f":"#REF!*R$90","v":{"$error":"#REF!"}},{"$f":"#REF!*S$90","v":{"$error":"#REF!"}},{"$f":"#REF!*T$90","v":{"$error":"#REF!"}},{"$f":"#REF!*U$90","v":{"$error":"#REF!"}},{"$f":"#REF!*V$90","v":{"$error":"#REF!"}},{"$f":"#REF!*W$90","v":{"$error":"#REF!"}},{"$f":"#REF!*X$90","v":{"$error":"#REF!"}},{"$f":"#REF!*Y$90","v":{"$error":"#REF!"}},{"$f":"#REF!*Z$90","v":{"$error":"#REF!"}},{"$f":"#REF!*AA$90","v":{"$error":"#REF!"}},{"$f":"#REF!*AB$90","v":{"$error":"#REF!"}},{"$f":"#REF!*AC$90","v":{"$error":"#REF!"}},{"$f":"#REF!*AD$90","v":{"$error":"#REF!"}},{"$f":"#REF!*AE$90","v":{"$error":"#REF!"}}]
[null,null,{"$f":"#REF!*C$90","v":{"$error":"#REF!"}},{"$f":"#REF!*D$90","v":{"$error":"#REF!"}},{"$f":"#REF!*E$90","v":{"$error":"#REF!"}},{"$f":"#REF!*F$90","v":{"$error":"#REF!"}},{"$f":"#REF!*G$90","v":{"$error":"#REF!"}},{"$f":"#REF!*H$90","v":{"$error":"#REF!"}},{"$f":"#REF!*I$90","v":{"$error":"#REF!"}},{"$f":"#REF!*J$90","v":{"$error":"#REF!"}},{"$f":"#REF!*K$90","v":{"$error":"#REF!"}},{"$f":"#REF!*L$90","v":{"$error":"#REF!"}},{"$f":"#REF!*M$90","v":{"$error":"#REF!"}},{"$f":"#REF!*N$90","v":{"$error":"#REF!"}},{"$f":"#REF!*O$90","v":{"$error":"#REF!"}},{"$f":"#REF!*P$90","v":{"$error":"#REF!"}},{"$f":"#REF!*Q$90","v":{"$error":"#REF!"}},{"$f":"#REF!*R$90","v":{"$error":"#REF!"}},{"$f":"#REF!*S$90","v":{"$error":"#REF!"}},{"$f":"#REF!*T$90","v":{"$error":"#REF!"}},{"$f":"#REF!*U$90","v":{"$error":"#REF!"}},{"$f":"#REF!*V$90","v":{"$error":"#REF!"}},{"$f":"#REF!*W$90","v":{"$error":"#REF!"}},{"$f":"#REF!*X$90","v":{"$error":"#REF!"}},{"$f":"#REF!*Y$90","v":{"$error":"#REF!"}},{"$f":"#REF!*Z$90","v":{"$error":"#REF!"}},{"$f":"#REF!*AA$90","v":{"$error":"#REF!"}},{"$f":"#REF!*AB$90","v":{"$error":"#REF!"}},{"$f":"#REF!*AC$90","v":{"$error":"#REF!"}},{"$f":"#REF!*AD$90","v":{"$error":"#REF!"}},{"$f":"#REF!*AE$90","v":{"$error":"#REF!"}}]
[null,null,{"$f":"#REF!*C$90","v":{"$error":"#REF!"}},{"$f":"#REF!*D$90","v":{"$error":"#REF!"}},{"$f":"#REF!*E$90","v":{"$error":"#REF!"}},{"$f":"#REF!*F$90","v":{"$error":"#REF!"}},{"$f":"#REF!*G$90","v":{"$error":"#REF!"}},{"$f":"#REF!*H$90","v":{"$error":"#REF!"}},{"$f":"#REF!*I$90","v":{"$error":"#REF!"}},{"$f":"#REF!*J$90","v":{"$error":"#REF!"}},{"$f":"#REF!*K$90","v":{"$error":"#REF!"}},{"$f":"#REF!*L$90","v":{"$error":"#REF!"}},{"$f":"#REF!*M$90","v":{"$error":"#REF!"}},{"$f":"#REF!*N$90","v":{"$error":"#REF!"}},{"$f":"#REF!*O$90","v":{"$error":"#REF!"}},{"$f":"#REF!*P$90","v":{"$error":"#REF!"}},{"$f":"#REF!*Q$90","v":{"$error":"#REF!"}},{"$f":"#REF!*R$90","v":{"$error":"#REF!"}},{"$f":"#REF!*S$90","v":{"$error":"#REF!"}},{"$f":"#REF!*T$90","v":{"$error":"#REF!"}},{"$f":"#REF!*U$90","v":{"$error":"#REF!"}},{"$f":"#REF!*V$90","v":{"$error":"#REF!"}},{"$f":"#REF!*W$90","v":{"$error":"#REF!"}},{"$f":"#REF!*X$90","v":{"$error":"#REF!"}},{"$f":"#REF!*Y$90","v":{"$error":"#REF!"}},{"$f":"#REF!*Z$90","v":{"$error":"#REF!"}},{"$f":"#REF!*AA$90","v":{"$error":"#REF!"}},{"$f":"#REF!*AB$90","v":{"$error":"#REF!"}},{"$f":"#REF!*AC$90","v":{"$error":"#REF!"}},{"$f":"#REF!*AD$90","v":{"$error":"#REF!"}},{"$f":"#REF!*AE$90","v":{"$error":"#REF!"}}]
[null,null,{"$f":"#REF!*C$90","v":{"$error":"#REF!"}},{"$f":"#REF!*D$90","v":{"$error":"#REF!"}},{"$f":"#REF!*E$90","v":{"$error":"#REF!"}},{"$f":"#REF!*F$90","v":{"$error":"#REF!"}},{"$f":"#REF!*G$90","v":{"$error":"#REF!"}},{"$f":"#REF!*H$90","v":{"$error":"#REF!"}},{"$f":"#REF!*I$90","v":{"$error":"#REF!"}},{"$f":"#REF!*J$90","v":{"$error":"#REF!"}},{"$f":"#REF!*K$90","v":{"$error":"#REF!"}},{"$f":"#REF!*L$90","v":{"$error":"#REF!"}},{"$f":"#REF!*M$90","v":{"$error":"#REF!"}},{"$f":"#REF!*N$90","v":{"$error":"#REF!"}},{"$f":"#REF!*O$90","v":{"$error":"#REF!"}},{"$f":"#REF!*P$90","v":{"$error":"#REF!"}},{"$f":"#REF!*Q$90","v":{"$error":"#REF!"}},{"$f":"#REF!*R$90","v":{"$error":"#REF!"}},{"$f":"#REF!*S$90","v":{"$error":"#REF!"}},{"$f":"#REF!*T$90","v":{"$error":"#REF!"}},{"$f":"#REF!*U$90","v":{"$error":"#REF!"}},{"$f":"#REF!*V$90","v":{"$error":"#REF!"}},{"$f":"#REF!*W$90","v":{"$error":"#REF!"}},{"$f":"#REF!*X$90","v":{"$error":"#REF!"}},{"$f":"#REF!*Y$90","v":{"$error":"#REF!"}},{"$f":"#REF!*Z$90","v":{"$error":"#REF!"}},{"$f":"#REF!*AA$90","v":{"$error":"#REF!"}},{"$f":"#REF!*AB$90","v":{"$error":"#REF!"}},{"$f":"#REF!*AC$90","v":{"$error":"#REF!"}},{"$f":"#REF!*AD$90","v":{"$error":"#REF!"}},{"$f":"#REF!*AE$90","v":{"$error":"#REF!"}}]
[null,null,{"$f":"#REF!*C$90","v":{"$error":"#REF!"}},{"$f":"#REF!*D$90","v":{"$error":"#REF!"}},{"$f":"#REF!*E$90","v":{"$error":"#REF!"}},{"$f":"#REF!*F$90","v":{"$error":"#REF!"}},{"$f":"#REF!*G$90","v":{"$error":"#REF!"}},{"$f":"#REF!*H$90","v":{"$error":"#REF!"}},{"$f":"#REF!*I$90","v":{"$error":"#REF!"}},{"$f":"#REF!*J$90","v":{"$error":"#REF!"}},{"$f":"#REF!*K$90","v":{"$error":"#REF!"}},{"$f":"#REF!*L$90","v":{"$error":"#REF!"}},{"$f":"#REF!*M$90","v":{"$error":"#REF!"}},{"$f":"#REF!*N$90","v":{"$error":"#REF!"}},{"$f":"#REF!*O$90","v":{"$error":"#REF!"}},{"$f":"#REF!*P$90","v":{"$error":"#REF!"}},{"$f":"#REF!*Q$90","v":{"$error":"#REF!"}},{"$f":"#REF!*R$90","v":{"$error":"#REF!"}},{"$f":"#REF!*S$90","v":{"$error":"#REF!"}},{"$f":"#REF!*T$90","v":{"$error":"#REF!"}},{"$f":"#REF!*U$90","v":{"$error":"#REF!"}},{"$f":"#REF!*V$90","v":{"$error":"#REF!"}},{"$f":"#REF!*W$90","v":{"$error":"#REF!"}},{"$f":"#REF!*X$90","v":{"$error":"#REF!"}},{"$f":"#REF!*Y$90","v":{"$error":"#REF!"}},{"$f":"#REF!*Z$90","v":{"$error":"#REF!"}},{"$f":"#REF!*AA$90","v":{"$error":"#REF!"}},{"$f":"#REF!*AB$90","v":{"$error":"#REF!"}},{"$f":"#REF!*AC$90","v":{"$error":"#REF!"}},{"$f":"#REF!*AD$90","v":{"$error":"#REF!"}},{"$f":"#REF!*AE$90","v":{"$error":"#REF!"}}]
[null,null,{"$f":"#REF!*C$90","v":{"$error":"#REF!"}},{"$f":"#REF!*D$90","v":{"$error":"#REF!"}},{"$f":"#REF!*E$90","v":{"$error":"#REF!"}},{"$f":"#REF!*F$90","v":{"$error":"#REF!"}},{"$f":"#REF!*G$90","v":{"$error":"#REF!"}},{"$f":"#REF!*H$90","v":{"$error":"#REF!"}},{"$f":"#REF!*I$90","v":{"$error":"#REF!"}},{"$f":"#REF!*J$90","v":{"$error":"#REF!"}},{"$f":"#REF!*K$90","v":{"$error":"#REF!"}},{"$f":"#REF!*L$90","v":{"$error":"#REF!"}},{"$f":"#REF!*M$90","v":{"$error":"#REF!"}},{"$f":"#REF!*N$90","v":{"$error":"#REF!"}},{"$f":"#REF!*O$90","v":{"$error":"#REF!"}},{"$f":"#REF!*P$90","v":{"$error":"#REF!"}},{"$f":"#REF!*Q$90","v":{"$error":"#REF!"}},{"$f":"#REF!*R$90","v":{"$error":"#REF!"}},{"$f":"#REF!*S$90","v":{"$error":"#REF!"}},{"$f":"#REF!*T$90","v":{"$error":"#REF!"}},{"$f":"#REF!*U$90","v":{"$error":"#REF!"}},{"$f":"#REF!*V$90","v":{"$error":"#REF!"}},{"$f":"#REF!*W$90","v":{"$error":"#REF!"}},{"$f":"#REF!*X$90","v":{"$error":"#REF!"}},{"$f":"#REF!*Y$90","v":{"$error":"#REF!"}},{"$f":"#REF!*Z$90","v":{"$error":"#REF!"}},{"$f":"#REF!*AA$90","v":{"$error":"#REF!"}},{"$f":"#REF!*AB$90","v":{"$error":"#REF!"}},{"$f":"#REF!*AC$90","v":{"$error":"#REF!"}},{"$f":"#REF!*AD$90","v":{"$error":"#REF!"}},{"$f":"#REF!*AE$90","v":{"$error":"#REF!"}}]
[null,null,{"$f":"#REF!*C$90","v":{"$error":"#REF!"}},{"$f":"#REF!*D$90","v":{"$error":"#REF!"}},{"$f":"#REF!*E$90","v":{"$error":"#REF!"}},{"$f":"#REF!*F$90","v":{"$error":"#REF!"}},{"$f":"#REF!*G$90","v":{"$error":"#REF!"}},{"$f":"#REF!*H$90","v":{"$error":"#REF!"}},{"$f":"#REF!*I$90","v":{"$error":"#REF!"}},{"$f":"#REF!*J$90","v":{"$error":"#REF!"}},{"$f":"#REF!*K$90","v":{"$error":"#REF!"}},{"$f":"#REF!*L$90","v":{"$error":"#REF!"}},{"$f":"#REF!*M$90","v":{"$error":"#REF!"}},{"$f":"#REF!*N$90","v":{"$error":"#REF!"}},{"$f":"#REF!*O$90","v":{"$error":"#REF!"}},{"$f":"#REF!*P$90","v":{"$error":"#REF!"}},{"$f":"#REF!*Q$90","v":{"$error":"#REF!"}},{"$f":"#REF!*R$90","v":{"$error":"#REF!"}},{"$f":"#REF!*S$90","v":{"$error":"#REF!"}},{"$f":"#REF!*T$90","v":{"$error":"#REF!"}},{"$f":"#REF!*U$90","v":{"$error":"#REF!"}},{"$f":"#REF!*V$90","v":{"$error":"#REF!"}},{"$f":"#REF!*W$90","v":{"$error":"#REF!"}},{"$f":"#REF!*X$90","v":{"$error":"#REF!"}},{"$f":"#REF!*Y$90","v":{"$error":"#REF!"}},{"$f":"#REF!*Z$90","v":{"$error":"#REF!"}},{"$f":"#REF!*AA$90","v":{"$error":"#REF!"}},{"$f":"#REF!*AB$90","v":{"$error":"#REF!"}},{"$f":"#REF!*AC$90","v":{"$error":"#REF!"}},{"$f":"#REF!*AD$90","v":{"$error":"#REF!"}},{"$f":"#REF!*AE$90","v":{"$error":"#REF!"}}]
[null,null,{"$f":"#REF!*C$90","v":{"$error":"#REF!"}},{"$f":"#REF!*D$90","v":{"$error":"#REF!"}},{"$f":"#REF!*E$90","v":{"$error":"#REF!"}},{"$f":"#REF!*F$90","v":{"$error":"#REF!"}},{"$f":"#REF!*G$90","v":{"$error":"#REF!"}},{"$f":"#REF!*H$90","v":{"$error":"#REF!"}},{"$f":"#REF!*I$90","v":{"$error":"#REF!"}},{"$f":"#REF!*J$90","v":{"$error":"#REF!"}},{"$f":"#REF!*K$90","v":{"$error":"#REF!"}},{"$f":"#REF!*L$90","v":{"$error":"#REF!"}},{"$f":"#REF!*M$90","v":{"$error":"#REF!"}},{"$f":"#REF!*N$90","v":{"$error":"#REF!"}},{"$f":"#REF!*O$90","v":{"$error":"#REF!"}},{"$f":"#REF!*P$90","v":{"$error":"#REF!"}},{"$f":"#REF!*Q$90","v":{"$error":"#REF!"}},{"$f":"#REF!*R$90","v":{"$error":"#REF!"}},{"$f":"#REF!*S$90","v":{"$error":"#REF!"}},{"$f":"#REF!*T$90","v":{"$error":"#REF!"}},{"$f":"#REF!*U$90","v":{"$error":"#REF!"}},{"$f":"#REF!*V$90","v":{"$error":"#REF!"}},{"$f":"#REF!*W$90","v":{"$error":"#REF!"}},{"$f":"#REF!*X$90","v":{"$error":"#REF!"}},{"$f":"#REF!*Y$90","v":{"$error":"#REF!"}},{"$f":"#REF!*Z$90","v":{"$error":"#REF!"}},{"$f":"#REF!*AA$90","v":{"$error":"#REF!"}},{"$f":"#REF!*AB$90","v":{"$error":"#REF!"}},{"$f":"#REF!*AC$90","v":{"$error":"#REF!"}},{"$f":"#REF!*AD$90","v":{"$error":"#REF!"}},{"$f":"#REF!*AE$90","v":{"$error":"#REF!"}}]
[null,null,{"$f":"#REF!*C$90","v":{"$error":"#REF!"}},{"$f":"#REF!*D$90","v":{"$error":"#REF!"}},{"$f":"#REF!*E$90","v":{"$error":"#REF!"}},{"$f":"#REF!*F$90","v":{"$error":"#REF!"}},{"$f":"#REF!*G$90","v":{"$error":"#REF!"}},{"$f":"#REF!*H$90","v":{"$error":"#REF!"}},{"$f":"#REF!*I$90","v":{"$error":"#REF!"}},{"$f":"#REF!*J$90","v":{"$error":"#REF!"}},{"$f":"#REF!*K$90","v":{"$error":"#REF!"}},{"$f":"#REF!*L$90","v":{"$error":"#REF!"}},{"$f":"#REF!*M$90","v":{"$error":"#REF!"}},{"$f":"#REF!*N$90","v":{"$error":"#REF!"}},{"$f":"#REF!*O$90","v":{"$error":"#REF!"}},{"$f":"#REF!*P$90","v":{"$error":"#REF!"}},{"$f":"#REF!*Q$90","v":{"$error":"#REF!"}},{"$f":"#REF!*R$90","v":{"$error":"#REF!"}},{"$f":"#REF!*S$90","v":{"$error":"#REF!"}},{"$f":"#REF!*T$90","v":{"$error":"#REF!"}},{"$f":"#REF!*U$90","v":{"$error":"#REF!"}},{"$f":"#REF!*V$90","v":{"$error":"#REF!"}},{"$f":"#REF!*W$90","v":{"$error":"#REF!"}},{"$f":"#REF!*X$90","v":{"$error":"#REF!"}},{"$f":"#REF!*Y$90","v":{"$error":"#REF!"}},{"$f":"#REF!*Z$90","v":{"$error":"#REF!"}},{"$f":"#REF!*AA$90","v":{"$error":"#REF!"}},{"$f":"#REF!*AB$90","v":{"$error":"#REF!"}},{"$f":"#REF!*AC$90","v":{"$error":"#REF!"}},{"$f":"#REF!*AD$90","v":{"$error":"#REF!"}},{"$f":"#REF!*AE$90","v":{"$error":"#REF!"}}]
[null,null,{"$f":"#REF!*C$90","v":{"$error":"#REF!"}},{"$f":"#REF!*D$90","v":{"$error":"#REF!"}},{"$f":"#REF!*E$90","v":{"$error":"#REF!"}},{"$f":"#REF!*F$90","v":{"$error":"#REF!"}},{"$f":"#REF!*G$90","v":{"$error":"#REF!"}},{"$f":"#REF!*H$90","v":{"$error":"#REF!"}},{"$f":"#REF!*I$90","v":{"$error":"#REF!"}},{"$f":"#REF!*J$90","v":{"$error":"#REF!"}},{"$f":"#REF!*K$90","v":{"$error":"#REF!"}},{"$f":"#REF!*L$90","v":{"$error":"#REF!"}},{"$f":"#REF!*M$90","v":{"$error":"#REF!"}},{"$f":"#REF!*N$90","v":{"$error":"#REF!"}},{"$f":"#REF!*O$90","v":{"$error":"#REF!"}},{"$f":"#REF!*P$90","v":{"$error":"#REF!"}},{"$f":"#REF!*Q$90","v":{"$error":"#REF!"}},{"$f":"#REF!*R$90","v":{"$error":"#REF!"}},{"$f":"#REF!*S$90","v":{"$error":"#REF!"}},{"$f":"#REF!*T$90","v":{"$error":"#REF!"}},{"$f":"#REF!*U$90","v":{"$error":"#REF!"}},{"$f":"#REF!*V$90","v":{"$error":"#REF!"}},{"$f":"#REF!*W$90","v":{"$error":"#REF!"}},{"$f":"#REF!*X$90","v":{"$error":"#REF!"}},{"$f":"#REF!*Y$90","v":{"$error":"#REF!"}},{"$f":"#REF!*Z$90","v":{"$error":"#REF!"}},{"$f":"#REF!*AA$90","v":{"$error":"#REF!"}},{"$f":"#REF!*AB$90","v":{"$error":"#REF!"}},{"$f":"#REF!*AC$90","v":{"$error":"#REF!"}},{"$f":"#REF!*AD$90","v":{"$error":"#REF!"}},{"$f":"#REF!*AE$90","v":{"$error":"#REF!"}}]
[null,null,{"$f":"C35*C$90","v":0},0,0,0,0,0,0,0,0,{"$error":"#N/A"},0,0,0,0,0,0,0,0,0,0,0,0,0,0,0,{"$error":"#N/A"},{"$error":"#N/A"},{"$error":"#N/A"},{"$error":"#N/A"}]

{"sheet":"9 В(2)","index":42,"n_rows":82,"n_cols":8,"rows_kept":82,"cut":false,"hidden":true,"merged":[[42,0,42,1],[52,0,52,1],[67,0,67,1],[0,0,0,3],[0,4,0,7],[1,0,1,2],[2,0,2,1],[3,0,15,0],[17,0,17,1]]}
[{"$f":"Титул!B27","v":"9 В"},null,null,null,"Страница заполняется автоматически, без участия оператора!!!"]
["Всего учащихся в классе:",null,null,{"$f":"Титул!C27","v":23},"Фамилии, имена               учащихся","Учебные предметы","Фамилии и инициалы учителей","Пояснения, примечания, причины"]
["Учатся на  \"5\":",null,{"$f":"COUNTA(E3:E17)","v":1},1,"Сапалова Кристина"]
[null,null,null,2]
[null,null,null,3]
[null,null,null,4]
[null,null,null,5]
[null,null,null,6]
[null,null,null,7]
[null,null,null,8]
[null,null,null,9]
[null,null,null,10]
[null,null,null,11]
[null,null,null,12]
[null,null,null,13]
[null,null,null,14]
[null,null,null,15]
["Учатся  на \"4\"и\"5\"",null,{"$f":"COUNTA(E18:E42)","v":2},1,"Капсамун Диана"]
[null," ",null,2,"Скидин Владимир"]
[null,null,null,3]
[null,null,null,4]
[null,null,null,5]
[null,null,null,6]
[null,null,null,7]
[null,null,null,8]
[null,null,null,9]
[null,null,null,10]
[null,null,null,11]
[null,null,null,12]
[null,null,null,13]
[null,null,null,14]
[null,null,null,15]
[null,null,null,16]
[null,null,null,17]
[null,null,null,18]
[null,null,null,19]
[null,null,null,20]
[null,null,null,21]
[null,null,null,22]
[null,null,null,23]
[null,null,null,24]
[null,null,null,25]
["Не аттестованы:",null,{"$f":"COUNTA(E43:E52)","v":0},1]
[null," ",null,2]
[null,null,null,3]
[null,null,null,4]
[null,null,null,5]
[null,null,null,6]
[null,null,null,7]
[null,null,null,8]
[null,null,null,9]
[null,null,null,10]
["Не успевают:",null,{"$f":"COUNTA(E53:E67)","v":0},1]
[null," ",null,2]
[null,null,null,3]
[null,null,null,4]
[null,null,null,5]
[null,null,null,6]
[null,null,null,7]
[null,null,null,8]
[null,null,null,9]
[null,null,null,10]
[null,null,null,11]
[null,null,null,12]
[null,null,null,13]
[null,null,null,14]
[null,null,null,15]
["Освобождены:",null,{"$f":"COUNTA(E68:E82)","v":0},1]
[null," ",null,2]
[null,null,null,3]
[null,null,null,4]
[null,null,null,5]
[null,null,null,6]
[null,null,null,7]
[null,null,null,8]
[null,null,null,9]
[null,null,null,10]
[null,null,null,11]
[null,null,null,12]
[null,null,null,13]
[null,null,null,14]
[null,null,null,15]

{"sheet":"11 А","index":43,"n_rows":130,"n_cols":35,"rows_kept":130,"cut":false,"hidden":true,"merged":[[0,0,0,2],[0,3,0,25],[0,26,0,32],[1,0,1,24],[1,25,1,28],[1,29,1,31],[2,0,2,3],[2,4,2,17],[2,18,2,22],[2,23,2,34],[3,0,4,1],[3,2,3,30],[3,31,3,34],[47,0,47,26],[47,28,47,33],[35,0,35,1],[35,31,35,34],[36,0,46,0],[36,31,36,34],[37,31,37,34],[38,31,38,34],[39,31,39,34],[40,31,40,34],[41,31,41,34],[42,31,42,34],[43,31,43,34],[44,31,44,34],[45,31,45,34],[46,31,46,34]]}
[{"$f":"Титул!B5","v":"2014/15 учебный год"},null,null,{"$f":"Титул!B4","v":"МОУ СОШ  № 15"},null,null,null,null,null,null,null,null,null,null,null,null,null,null,null,null,null,null,null,null,null,null,{"$f":"Титул!B6","v":"4 четверть"},null,null,null,null,null,null,null,"3+"]
["ВЕДОМОСТЬ  РЕЗУЛЬТАТОВ  УЧЕБНОЙ  ДЕЯТЕЛЬНОСТИ",null,null,null,null,null,null,null,null,null,null,null,null,null,null,null,null,null,null,null,null,null,null,null,null,{"$f":"Титул!B28","v":"11 А"},null,null,null,"класса"]
["Классный руководитель:",null,null,null,{"$f":"Титул!D28","v":"Сидоренко Т.А."},null,null,null,null,null,null,null,null,null,null,null,null,null,"Программа:",null,null,null,null,{"$f":"Титул!G18","v":"общеобразовательный"}]
["Вручную вносятся только оценки \"5\", \"4\", \"3\", \"2\", \"1\". \nНе аттестованным проставляется \"0\", освобожденным - \"Н\".  ",null,"У  ч  е  б  н  ы  е      п  р  е  д  м  е  т  ы",null,null,null,null,null,null,null,null,null,null,null,null,null,null,null,null,null,null,null,null,null,null,null,null,null,null,null,null,"Результаты ученика:"]
[null,null,{"$f":"Нагрузка!C3","v":"Русский язык"},{"$f":"Нагрузка!D3","v":"Литература"},{"$f":"Нагрузка!E3","v":"Иностранный язык"},{"$f":"Нагрузка!F3","v":"Математика"},{"$f":"Нагрузка!G3","v":"Алгебра"},{"$f":"Нагрузка!H3","v":"Геометрия"},{"$f":"Нагрузка!I3","v":"Информатика"},{"$f":"Нагрузка!J3","v":"История"},{"$f":"Нагрузка!K3","v":"Обществознание"},{"$f":"Нагрузка!L3","v":"Окружающий мир"},{"$f":"Нагрузка!M3","v":"ИЗО"},{"$f":"Нагрузка!N3","v":"Музыка"},{"$f":"Нагрузка!O3","v":"Технология"},{"$f":"Нагрузка!P3","v":"Технология"},{"$f":"Нагрузка!Q3","v":"ФЗК"},{"$f":"Нагрузка!R3","v":"Иностранный язык"},{"$f":"Нагрузка!S3","v":"Иностранный язык"},{"$f":"Нагрузка!T3","v":"География"},{"$f":"Нагрузка!U3","v":"Физика"},{"$f":"Нагрузка!V3","v":"Химия"},{"$f":"Нагрузка!W3","v":"Биология"},{"$f":"Нагрузка!X3","v":"МХК"},{"$f":"Нагрузка!Y3","v":"ФЗК"},{"$f":"Нагрузка!Z3","v":"ОБЖ"},{"$f":"Нагрузка!AA3","v":"Природоведение"},{"$f":"Нагрузка!AB3","v":0},{"$f":"Нагрузка!AC3","v":0},{"$f":"Нагрузка!AD3","v":0},{"$f":"Нагрузка!AE3","v":0},"Средний балл:","Степень обученности (СОУ):","Качество успеваемости:","Рейтинговый учебный балл:"]
[1,{"$f":"СпискиКлассы!U4","v":"Афанасьев Антон"},3,3,null,3,null,null,3,3,3,null,null,null,4,null,4,null,4,4,4,3,4,4,null,5,null,null,null,null,null,{"$f":"AVERAGE(C6:AE6)","v":3.6},{"$f":"(COUNTIF(C6:AE6,\"5\")+COUNTIF(C6:AE6,\"4\")*0.64+COUNTIF(C6:AE6,\"3\")*0.36+COUNTIF(C6:AE6,\"2\")*0.16)/(COUNTIF(C6:AE6,\"5\")+COUNTIF(C6:AE6,\"4\")+COUNTIF(C6:AE6,\"3\")+COUNTIF(C6:AE6,\"2\")+COUNTIF(C6:AE6,\"0\"))","v":0.53333333333333333},{"$f":"((5*COUNTIF(C6:AE6,\"5\"))+(4*COUNTIF(C6:AE6,\"4\")))/(5*(COUNTA(C6:AE6)-COUNTIF(C6:AE6,\"н\")))","v":0.44},{"$f":"SUMIF(C91:AE91,\">0\",C91:AE91)/(COUNTIF(C6:AE6,\">0\")+COUNTIF(C6:AE6,\"=0\")+COUNTIF(C6:AE6,\"Н\"))","v":19.066666666666666}]
[{"$f":"A6+1","v":2},{"$f":"СпискиКлассы!U5","v":"Белобородов Сергей"},3,3,null,4,null,null,4,4,4,null,null,null,4,null,4,4,null,4,4,3,4,4,null,5,null,null,null,null,null,{"$f":"AVERAGE(C7:AE7)","v":3.8666666666666667},{"$f":"(COUNTIF(C7:AE7,\"5\")+COUNTIF(C7:AE7,\"4\")*0.64+COUNTIF(C7:AE7,\"3\")*0.36+COUNTIF(C7:AE7,\"2\")*0.16)/(COUNTIF(C7:AE7,\"5\")+COUNTIF(C7:AE7,\"4\")+COUNTIF(C7:AE7,\"3\")+COUNTIF(C7:AE7,\"2\")+COUNTIF(C7:AE7,\"0\"))","v":0.60799999999999998},{"$f":"((5*COUNTIF(C7:AE7,\"5\"))+(4*COUNTIF(C7:AE7,\"4\")))/(5*(COUNTA(C7:AE7)-COUNTIF(C7:AE7,\"н\")))","v":0.65333333333333332},20.133333333333333]
[3,{"$f":"СпискиКлассы!U6","v":"Балябин Александр"},3,3,null,3,null,null,3,3,3,null,null,null,3,null,3,null,3,4,3,3,3,3,null,4,null,null,null,null,null,{"$f":"AVERAGE(C8:AE8)","v":3.1333333333333333},0.39733333333333332,0.10666666666666667,16.733333333333334]
[4,{"$f":"СпискиКлассы!U7","v":"Быстров Александр"},3,3,null,3,null,null,4,4,4,null,null,null,4,null,4,5,null,4,4,4,4,3,null,4,null,null,null,null,null,3.8,0.58933333333333338,0.6,20.933333333333334]
[5,{"$f":"СпискиКлассы!U8","v":"Вдовина Дарья"},5,5,null,4,null,null,4,4,4,null,null,null,null,5,5,4,null,5,4,4,4,4,null,5,null,null,null,null,null,4.4000000000000004,0.78400000000000003,0.88,23.4]
[6,{"$f":"СпискиКлассы!U9","v":"Зубов Матвей"},3,3,null,3,null,null,4,4,3,null,null,null,4,null,5,null,4,3,4,3,4,3,null,5,null,null,null,null,null,3.6666666666666665,0.55733333333333335,0.45333333333333331,19.333333333333332]
[7,{"$f":"СпискиКлассы!U10","v":"Дрозд Владимир"},4,4,null,4,null,null,4,4,4,null,null,null,5,null,5,null,4,4,4,4,4,4,null,5,null,null,null,null,null,4.2,0.71199999999999997,0.84,22.066666666666666]
[8,{"$f":"СпискиКлассы!U11","v":"Иванова Кристина"},3,3,null,3,null,null,4,4,3,null,null,null,null,5,4,null,4,3,4,3,4,3,null,5,null,null,null,null,null,3.6666666666666665,0.55733333333333335,0.45333333333333331,19.266666666666666]
[9,{"$f":"СпискиКлассы!U12","v":"Кожанова Евгения"},5,5,null,5,null,null,5,5,5,null,null,null,null,5,5,5,null,5,5,5,5,5,null,5,null,null,null,null,null,5,1,1,27.333333333333332]
[10,{"$f":"СпискиКлассы!U13","v":"Коретникова Юлия"},3,3,null,3,null,null,3,3,3,null,null,null,null,4,3,null,3,3,3,3,3,3,null,3,null,null,null,null,null,3.0666666666666669,0.37866666666666665,5.3333333333333337E-2,16.399999999999999]
[11,{"$f":"СпискиКлассы!U14","v":"Лесик Екатерина"},4,4,null,4,null,null,4,4,4,null,null,null,null,5,4,4,null,5,5,4,4,5,null,5,null,null,null,null,null,4.333333333333333,0.76,0.8666666666666667,23.333333333333332]
[12,{"$f":"СпискиКлассы!U15","v":"Ляпин Иван"},4,4,null,4,null,null,4,4,4,null,null,null,5,null,5,null,4,4,4,4,4,5,null,5,null,null,null,null,null,{"$f":"AVERAGE(C17:AE17)","v":4.2666666666666666},{"$f":"(COUNTIF(C17:AE17,\"5\")+COUNTIF(C17:AE17,\"4\")*0.64+COUNTIF(C17:AE17,\"3\")*0.36+COUNTIF(C17:AE17,\"2\")*0.16)/(COUNTIF(C17:AE17,\"5\")+COUNTIF(C17:AE17,\"4\")+COUNTIF(C17:AE17,\"3\")+COUNTIF(C17:AE17,\"2\")+COUNTIF(C17:AE17,\"0\"))","v":0.73599999999999999},{"$f":"((5*COUNTIF(C17:AE17,\"5\"))+(4*COUNTIF(C17:AE17,\"4\")))/(5*(COUNTA(C17:AE17)-COUNTIF(C17:AE17,\"н\")))","v":0.85333333333333339},{"$f":"SUMIF(C102:AE102,\">0\",C102:AE102)/(COUNTIF(C17:AE17,\">0\")+COUNTIF(C17:AE17,\"=0\")+COUNTIF(C17:AE17,\"Н\"))","v":25.4}]
[13,{"$f":"СпискиКлассы!U16","v":"Матвеева Елена"},3,3,null,3,null,null,4,3,3,null,null,null,null,null,null,null,4,4,4,3,4,null,null,null,null,null,null,null,null,3.4545454545454546,0.4872727272727273,0.36363636363636365,30.545454545454547]
[14,{"$f":"СпискиКлассы!U17","v":"Мелихов Дмитрий"},3,3,null,3,null,null,3,3,3,null,null,null,3,null,3,null,3,3,3,3,3,3,null,4,null,null,null,null,null,3.0666666666666669,0.37866666666666665,5.3333333333333337E-2,17.2]
[15,{"$f":"СпискиКлассы!U18","v":"Москаленко Вероника"},4,5,null,3,null,null,3,3,4,null,null,null,null,4,null,null,4,4,3,3,4,3,null,4,null,null,null,null,null,{"$f":"AVERAGE(C20:AE20)","v":3.6428571428571428},{"$f":"(COUNTIF(C20:AE20,\"5\")+COUNTIF(C20:AE20,\"4\")*0.64+COUNTIF(C20:AE20,\"3\")*0.36+COUNTIF(C20:AE20,\"2\")*0.16)/(COUNTIF(C20:AE20,\"5\")+COUNTIF(C20:AE20,\"4\")+COUNTIF(C20:AE20,\"3\")+COUNTIF(C20:AE20,\"2\")+COUNTIF(C20:AE20,\"0\"))","v":0.54571428571428571},{"$f":"((5*COUNTIF(C20:AE20,\"5\"))+(4*COUNTIF(C20:AE20,\"4\")))/(5*(COUNTA(C20:AE20)-COUNTIF(C20:AE20,\"н\")))","v":0.47142857142857142},{"$f":"SUMIF(C105:AE105,\">0\",C105:AE105)/(COUNTIF(C20:AE20,\">0\")+COUNTIF(C20:AE20,\"=0\")+COUNTIF(C20:AE20,\"Н\"))","v":17.714285714285715}]
[16,{"$f":"СпискиКлассы!U19","v":"Овчарова Кристина"},4,4,null,3,null,null,4,4,3,null,null,null,null,5,5,null,4,4,5,3,4,4,null,5,null,null,null,null,null,4.0666666666666664,0.68,0.69333333333333336,19.533333333333335]
[17,{"$f":"СпискиКлассы!U20","v":"Попкова Татьяна"},3,3,null,3,null,null,3,4,3,null,null,null,null,5,5,null,null,4,4,3,4,4,null,4,null,null,null,null,null,3.7142857142857144,0.5714285714285714,0.48571428571428571,23.071428571428573]
[18,{"$f":"СпискиКлассы!U21","v":"Рябов Максим"},4,4,null,4,null,null,4,4,4,null,null,null,4,4,5,4,null,4,4,4,5,4,null,4,null,null,null,null,null,4.125,0.68500000000000005,0.82499999999999996,20.4375]
[19,{"$f":"СпискиКлассы!U22","v":"Сидорова Наталья"},4,4,null,4,null,null,4,4,4,null,null,null,null,4,5,4,null,4,4,3,4,5,null,4,null,null,null,null,null,4.0666666666666664,0.66933333333333322,0.77333333333333332,17.2]
[20,{"$f":"СпискиКлассы!U23","v":"Сластина Алена"},4,4,null,3,null,null,4,4,4,null,null,null,null,5,null,4,null,4,4,3,4,4,null,4,null,null,null,null,null,3.9285714285714284,0.62571428571428567,0.7,24]
[21,{"$f":"СпискиКлассы!U24","v":"Солодилов Александр"},4,4,null,4,null,null,4,4,3,null,null,null,null,4,3,4,null,4,4,3,4,3,null,4,null,null,null,null,null,3.7333333333333334,0.56533333333333335,0.58666666666666667,20.399999999999999]
[22,{"$f":"СпискиКлассы!U25","v":"Белоусов Олег"},3,4,null,3,null,null,4,4,3,null,null,null,3,null,null,4,null,4,4,3,4,4,null,5,null,null,null,null,null,{"$f":"AVERAGE(C27:AE27)","v":3.7142857142857144},{"$f":"(COUNTIF(C27:AE27,\"5\")+COUNTIF(C27:AE27,\"4\")*0.64+COUNTIF(C27:AE27,\"3\")*0.36+COUNTIF(C27:AE27,\"2\")*0.16)/(COUNTIF(C27:AE27,\"5\")+COUNTIF(C27:AE27,\"4\")+COUNTIF(C27:AE27,\"3\")+COUNTIF(C27:AE27,\"2\")+COUNTIF(C27:AE27,\"0\"))","v":0.56571428571428573},{"$f":"((5*COUNTIF(C27:AE27,\"5\"))+(4*COUNTIF(C27:AE27,\"4\")))/(5*(COUNTA(C27:AE27)-COUNTIF(C27:AE27,\"н\")))","v":0.52857142857142858},{"$f":"SUMIF(C112:AE112,\">0\",C112:AE112)/(COUNTIF(C27:AE27,\">0\")+COUNTIF(C27:AE27,\"=0\")+COUNTIF(C27:AE27,\"Н\"))","v":22.357142857142858}]
[23,{"$f":"СпискиКлассы!U26","v":"Вершинина Алина"},4,4,null,4,null,null,4,4,4,null,null,null,5,null,5,null,4,4,4,4,4,4,null,4,null,null,null,null,null,4.1333333333333337,0.68800000000000006,0.82666666666666666,21.933333333333334]
[24,{"$f":"СпискиКлассы!U27","v":"Тарасикова Алина"},3,3,null,3,null,null,4,4,4,null,null,null,null,5,null,null,4,4,4,3,4,4,null,4,null,null,null,null,null,3.7857142857142856,0.58571428571428563,0.58571428571428574,21.142857142857142]
[25,{"$f":"СпискиКлассы!U28","v":"Самсонова Кристина"},5,5,null,4,null,null,5,4,4,null,null,null,null,5,5,4,null,5,5,4,5,5,null,5,null,null,null,null,null,{"$f":"AVERAGE(C30:AE30)","v":4.666666666666667},{"$f":"(COUNTIF(C30:AE30,\"5\")+COUNTIF(C30:AE30,\"4\")*0.64+COUNTIF(C30:AE30,\"3\")*0.36+COUNTIF(C30:AE30,\"2\")*0.16)/(COUNTIF(C30:AE30,\"5\")+COUNTIF(C30:AE30,\"4\")+COUNTIF(C30:AE30,\"3\")+COUNTIF(C30:AE30,\"2\")+COUNTIF(C30:AE30,\"0\"))","v":0.88},{"$f":"((5*COUNTIF(C30:AE30,\"5\"))+(4*COUNTIF(C30:AE30,\"4\")))/(5*(COUNTA(C30:AE30)-COUNTIF(C30:AE30,\"н\")))","v":0.93333333333333335},{"$f":"SUMIF(C115:AE115,\">0\",C115:AE115)/(COUNTIF(C30:AE30,\">0\")+COUNTIF(C30:AE30,\"=0\")+COUNTIF(C30:AE30,\"Н\"))","v":20.066666666666666}]
[26,{"$f":"СпискиКлассы!U29","v":0},null,null,null,null,null,null,null,null,null,null,null,null,null,null,null,null,null,null,null,null,null,null,null,null,null,null,null,null,null,{"$error":"#DIV/0!"},{"$error":"#DIV/0!"},{"$error":"#DIV/0!"},{"$error":"#DIV/0!"}]
[27,{"$f":"СпискиКлассы!U30","v":0},null,null,null,null,null,null,null,null,null,null,null,null,null,null,null,null,null,null,null,null,null,null,null,null,null,null,null,null,null,{"$error":"#DIV/0!"},{"$error":"#DIV/0!"},{"$error":"#DIV/0!"},{"$error":"#DIV/0!"}]
[28,{"$f":"СпискиКлассы!U31","v":0},null,null,null,null,null,null,null,null,null,null,null,null,null,null,null,null,null,null,null,null,null,null,null,null,null,null,null,null,null,{"$f":"AVERAGE(C33:AE33)","v":{"$error":"#DIV/0!"}},{"$f":"(COUNTIF(C33:AE33,\"5\")+COUNTIF(C33:AE33,\"4\")*0.64+COUNTIF(C33:AE33,\"3\")*0.36+COUNTIF(C33:AE33,\"2\")*0.16)/(COUNTIF(C33:AE33,\"5\")+COUNTIF(C33:AE33,\"4\")+COUNTIF(C33:AE33,\"3\")+COUNTIF(C33:AE33,\"2\")+COUNTIF(C33:AE33,\"0\"))","v":{"$error":"#DIV/0!"}},{"$f":"((5*COUNTIF(C33:AE33,\"5\"))+(4*COUNTIF(C33:AE33,\"4\")))/(5*(COUNTA(C33:AE33)-COUNTIF(C33:AE33,\"н\")))","v":{"$error":"#DIV/0!"}},{"$f":"SUMIF(C118:AE118,\">0\",C118:AE118)/(COUNTIF(C33:AE33,\">0\")+COUNTIF(C33:AE33,\"=0\")+COUNTIF(C33:AE33,\"Н\"))","v":{"$error":"#DIV/0!"}}]
[29,{"$f":"СпискиКлассы!U32","v":0},null,null,null,null,null,null,null,null,null,null,null,null,null,null,null,null,null,null,null,null,null,null,null,null,null,null,null,null,null,{"$error":"#DIV/0!"},{"$error":"#DIV/0!"},{"$error":"#DIV/0!"},{"$error":"#DIV/0!"}]
[30,{"$f":"СпискиКлассы!U33","v":0},null,null,null,null,null,null,null,null,null,null,null,null,null,null,null,null,null,null,null,null,null,null,null,null,null,null,null,null,null,{"$f":"AVERAGE(C35:AE35)","v":{"$error":"#DIV/0!"}},{"$f":"(COUNTIF(C35:AE35,\"5\")+COUNTIF(C35:AE35,\"4\")*0.64+COUNTIF(C35:AE35,\"3\")*0.36+COUNTIF(C35:AE35,\"2\")*0.16)/(COUNTIF(C35:AE35,\"5\")+COUNTIF(C35:AE35,\"4\")+COUNTIF(C35:AE35,\"3\")+COUNTIF(C35:AE35,\"2\")+COUNTIF(C35:AE35,\"0\"))","v":{"$error":"#DIV/0!"}},{"$f":"((5*COUNTIF(C35:AE35,\"5\"))+(4*COUNTIF(C35:AE35,\"4\")))/(5*(COUNTA(C35:AE35)-COUNTIF(C35:AE35,\"н\")))","v":{"$error":"#DIV/0!"}},{"$f":"SUMIF(C130:AE130,\">0\",C130:AE130)/(COUNTIF(C35:AE35,\">0\")+COUNTIF(C35:AE35,\"=0\")+COUNTIF(C35:AE35,\"Н\"))","v":{"$error":"#DIV/0!"}}]
[" Фамилия и инициалы                                           учителя - предметника",null,{"$f":"Нагрузка!C24","v":"Дышлевич"},{"$f":"Нагрузка!D24","v":"Дышлевич"},{"$f":"Нагрузка!E24","v":0},{"$f":"Нагрузка!F24","v":"Кочарова"},{"$f":"Нагрузка!G24","v":0},{"$f":"Нагрузка!H24","v":0},{"$f":"Нагрузка!I24","v":"Головырина"},{"$f":"Нагрузка!J24","v":"Быкова"},{"$f":"Нагрузка!K24","v":"Быкова"},{"$f":"Нагрузка!L24","v":0},{"$f":"Нагрузка!M24","v":0},{"$f":"Нагрузка!N24","v":0},{"$f":"Нагрузка!O24","v":"Девицын"},{"$f":"Нагрузка!P24","v":"Потьканова"},{"$f":"Нагрузка!Q24","v":"Финаева"},{"$f":"Нагрузка!R24","v":"Каплан"},{"$f":"Нагрузка!S24","v":"Сахарюк"},{"$f":"Нагрузка!T24","v":"Деревягина"},{"$f":"Нагрузка!U24","v":"Горнышкова"},{"$f":"Нагрузка!V24","v":"чжан"},{"$f":"Нагрузка!W24","v":"Сидоренко"},{"$f":"Нагрузка!X24","v":"Черкасова"},{"$f":"Нагрузка!Y24","v":"Перфильев"},{"$f":"Нагрузка!Z24","v":"Терюшкова"},{"$f":"Нагрузка!AA24","v":0},{"$f":"Нагрузка!AB24","v":0},{"$f":"Нагрузка!AC14","v":0},{"$f":"Нагрузка!AD14","v":0},{"$f":"Нагрузка!AE14","v":0},"Показатели результатов учебной деятельности в  целом по классу:"]
["Результаты учебной деятельности класса","Количество  \"5\":",{"$f":"COUNTIF(C6:C34,5)","v":3},4,0,1,0,0,2,1,1,0,0,0,3,9,11,2,0,4,4,1,3,5,0,12,{"$f":"COUNTIF(AA6:AA35,5)","v":0},0,0,0,0,{"$f":"SUM(C37:AE37)","v":66}]
[null,"Количество  \"4\":",{"$f":"COUNTIF(C6:C34,4)","v":10},10,0,10,0,0,17,18,13,0,0,0,5,5,5,9,10,17,17,8,19,11,0,11,{"$f":"COUNTIF(AA6:AA35,4)","v":0},0,0,0,0,195]
[null,"Количество  \"3\":",{"$f":"COUNTIF(C6:C34,3)","v":12},11,0,14,0,0,6,6,11,0,0,0,3,0,4,0,3,4,4,16,3,8,0,1,{"$f":"COUNTIF(AA6:AA35,3)","v":0},0,0,0,0,106]
[null,"Количество  \"2\":",{"$f":"COUNTIF(C6:C34,2)","v":0},0,0,0,0,0,0,0,0,0,0,0,0,0,0,0,0,0,0,0,0,0,0,0,{"$f":"COUNTIF(AA6:AA35,2)","v":0},0,0,0,0,0]
[null,"Не аттестовано:",{"$f":"COUNTIF(C6:C34,0)","v":0},0,0,0,0,0,0,0,0,0,0,0,0,0,0,0,0,0,0,0,0,0,0,0,{"$f":"COUNTIF(AA6:AA35,0)","v":0},0,0,0,0,0]
[null,"Освобождено:",{"$f":"COUNTIF(C6:C34,\"н\")","v":0},0,0,0,0,0,0,0,0,0,0,0,0,0,0,0,0,0,0,0,0,0,0,0,{"$f":"COUNTIF(AA6:AA35,\"н\")","v":0},0,0,0,0,0]
[null,"Успеваемость:",{"$f":"(C37+C38+C39)/(C37+C38+C39+C40+C41)","v":1},{"$f":"(D37+D38+D39)/(D37+D38+D39+D40+D41)","v":1},{"$error":"#DIV/0!"},1,{"$error":"#DIV/0!"},{"$error":"#DIV/0!"},1,1,1,{"$error":"#DIV/0!"},{"$error":"#DIV/0!"},{"$error":"#DIV/0!"},1,1,1,1,1,1,1,1,1,1,{"$error":"#DIV/0!"},1,{"$error":"#DIV/0!"},{"$error":"#DIV/0!"},{"$error":"#DIV/0!"},{"$error":"#DIV/0!"},{"$error":"#DIV/0!"},{"$f":"('11 А(2)'!D2-'11 А(2)'!C43-'11 А(2)'!C53)/'11 А(2)'!D2","v":1}]
[null,"Качество знаний:",{"$f":"(C37+C38)/(C37+C38+C39+C40+C41)","v":0.52},{"$f":"(D37+D38)/(D37+D38+D39+D40+D41)","v":0.56000000000000005},{"$error":"#DIV/0!"},0.44,{"$error":"#DIV/0!"},{"$error":"#DIV/0!"},0.76,0.76,0.56000000000000005,{"$error":"#DIV/0!"},{"$error":"#DIV/0!"},{"$error":"#DIV/0!"},0.72727272727272729,1,0.8,1,0.76923076923076927,0.84,0.84,0.36,0.88,0.66666666666666663,{"$error":"#DIV/0!"},0.95833333333333337,{"$error":"#DIV/0!"},{"$error":"#DIV/0!"},{"$error":"#DIV/0!"},{"$error":"#DIV/0!"},{"$error":"#DIV/0!"},{"$f":"('11 А(2)'!C3+'11 А(2)'!C18)/'11 А(2)'!D2","v":0.32}]
[null,"Степень обученности:",{"$f":"(C37+C38*0.64+C39*0.36+C40*0.16)/(C37+C38+C39+C40+C41)","v":0.54880000000000007},{"$f":"(D37+D38*0.64+D39*0.36+D40*0.16)/(D37+D38+D39+D40+D41)","v":0.57440000000000002},{"$error":"#DIV/0!"},0.49760000000000004,{"$error":"#DIV/0!"},{"$error":"#DIV/0!"},0.60160000000000002,0.58719999999999994,0.53120000000000001,{"$error":"#DIV/0!"},{"$error":"#DIV/0!"},{"$error":"#DIV/0!"},0.66181818181818186,0.87142857142857133,0.78199999999999992,0.70545454545454545,0.57538461538461538,0.65280000000000005,0.65280000000000005,0.47519999999999996,0.64960000000000007,0.62166666666666659,{"$error":"#DIV/0!"},0.80833333333333324,{"$error":"#DIV/0!"},{"$error":"#DIV/0!"},{"$error":"#DIV/0!"},{"$error":"#DIV/0!"},{"$error":"#DIV/0!"},{"$f":"(AF37+AF38*0.64+AF39*0.36+AF40*0.16)/(AF37+AF38+AF39+AF40+AF41)","v":0.6238692098092643}]
[null,"Средний балл:              ",{"$f":"(C37*5+C38*4+C39*3+C40*2)/(C37+C38+C39+C40+C41)","v":3.64},{"$f":"(D37*5+D38*4+D39*3+D40*2)/(D37+D38+D39+D40+D41)","v":3.72},{"$error":"#DIV/0!"},3.48,{"$error":"#DIV/0!"},{"$error":"#DIV/0!"},3.84,3.8,3.6,{"$error":"#DIV/0!"},{"$error":"#DIV/0!"},{"$error":"#DIV/0!"},4,4.6428571428571432,4.3499999999999996,4.1818181818181817,3.7692307692307692,4,4,3.4,4,3.875,{"$error":"#DIV/0!"},4.458333333333333,{"$error":"#DIV/0!"},{"$error":"#DIV/0!"},{"$error":"#DIV/0!"},{"$error":"#DIV/0!"},{"$error":"#DIV/0!"},{"$f":"(AF37*5+AF38*4+AF39*3+AF40*2)/(AF37+AF38+AF39+AF40+AF41)","v":3.8910081743869211}]
[null,"Качество успеваемости:",{"$f":"(5*C37+4*C38)*0.2/(SUM(C37+C38+C39+C40+C41))","v":0.44},{"$f":"(5*COUNTIF(D6:D34,5)+4*COUNTIF(D6:D34,4))*0.2/(COUNTA(D6:D34)-COUNTIF(D6:D34,\"н\"))","v":0.48},{"$error":"#DIV/0!"},0.36,{"$error":"#DIV/0!"},{"$error":"#DIV/0!"},0.62400000000000011,0.61599999999999999,0.45600000000000002,{"$error":"#DIV/0!"},{"$error":"#DIV/0!"},{"$error":"#DIV/0!"},0.63636363636363635,0.9285714285714286,0.75,0.83636363636363642,0.61538461538461542,0.70400000000000007,0.70400000000000007,0.29600000000000004,0.72799999999999998,0.57500000000000007,{"$error":"#DIV/0!"},0.8666666666666667,{"$f":"(5*COUNTIF(AA6:AA35,5)+4*COUNTIF(AA6:AA35,4))*0.2/(COUNTA(AA6:AA35)-COUNTIF(AA6:AA35,\"н\"))","v":{"$error":"#DIV/0!"}},{"$error":"#DIV/0!"},{"$error":"#DIV/0!"},{"$error":"#DIV/0!"},{"$error":"#DIV/0!"},{"$f":"(5*COUNTIF(C6:AE35,5)+4*COUNTIF(C6:AE35,4))*0.2/(COUNTA(C6:AE35)-COUNTIF(C6:AE35,\"н\"))","v":0.60490463215258861}]
["Выполнено с помощью программы статистического анализа результатов учебной деятельности",null,null,null,null,null,null,null,null,null,null,null,null,null,null,null,null,null,null,null,null,null,null,null,null,null,null,null,{"$f":"Титул!G31","v":"PSORUD-Klass.v.04.11.demo"},null,null,null,null,null,"3+"]
[]
[]
[]
[]
[]
[]
[]
[]
[]
[]
[]
[]
[]
[]
[]
[]
[]
[]
[]
[]
[]
[]
[]
[]
[]
[]
[]
[]
[]
[]
[]
[]
[]
[]
[]
[]
[]
[]
[]
[]
[]
[null,"Коэф.трудн.предмета",{"$f":"VLOOKUP(C$5,ШкалаТрудн!$C$5:$N$34,LEFT($Z$2,2)+1,0)","v":9},{"$f":"VLOOKUP(D$5,ШкалаТрудн!$C$5:$N$34,LEFT($Z$2,2)+1,0)","v":8},{"$f":"VLOOKUP(E$5,ШкалаТрудн!$C$5:$N$34,LEFT($Z$2,2)+1,0)","v":8},{"$f":"VLOOKUP(F$5,ШкалаТрудн!$C$5:$N$34,LEFT($Z$2,2)+1,0)","v":0},{"$f":"VLOOKUP(G$5,ШкалаТрудн!$C$5:$N$34,LEFT($Z$2,2)+1,0)","v":10},{"$f":"VLOOKUP(H$5,ШкалаТрудн!$C$5:$N$34,LEFT($Z$2,2)+1,0)","v":11},{"$f":"VLOOKUP(I$5,ШкалаТрудн!$C$5:$N$34,LEFT($Z$2,2)+1,0)","v":6},{"$f":"VLOOKUP(J$5,ШкалаТрудн!$C$5:$N$34,LEFT($Z$2,2)+1,0)","v":5},{"$f":"VLOOKUP(K$5,ШкалаТрудн!$C$5:$N$34,LEFT($Z$2,2)+1,0)","v":5},{"$f":"VLOOKUP(L$5,ШкалаТрудн!$C$5:$N$34,LEFT($Z$2,2)+1,0)","v":{"$error":"#N/A"}},{"$f":"VLOOKUP(M$5,ШкалаТрудн!$C$5:$N$34,LEFT($Z$2,2)+1,0)","v":0},{"$f":"VLOOKUP(N$5,ШкалаТрудн!$C$5:$N$34,LEFT($Z$2,2)+1,0)","v":0},{"$f":"VLOOKUP(O$5,ШкалаТрудн!$C$5:$N$34,LEFT($Z$2,2)+1,0)","v":0},{"$f":"VLOOKUP(P$5,ШкалаТрудн!$C$5:$N$34,LEFT($Z$2,2)+1,0)","v":0},{"$f":"VLOOKUP(Q$5,ШкалаТрудн!$C$5:$N$34,LEFT($Z$2,2)+1,0)","v":1},{"$f":"VLOOKUP(R$5,ШкалаТрудн!$C$5:$N$34,LEFT($Z$2,2)+1,0)","v":8},{"$f":"VLOOKUP(S$5,ШкалаТрудн!$C$5:$N$34,LEFT($Z$2,2)+1,0)","v":8},{"$f":"VLOOKUP(T$5,ШкалаТрудн!$C$5:$N$34,LEFT($Z$2,2)+1,0)","v":3},{"$f":"VLOOKUP(U$5,ШкалаТрудн!$C$5:$N$34,LEFT($Z$2,2)+1,0)","v":12},{"$f":"VLOOKUP(V$5,ШкалаТрудн!$C$5:$N$34,LEFT($Z$2,2)+1,0)","v":11},{"$f":"VLOOKUP(W$5,ШкалаТрудн!$C$5:$N$34,LEFT($Z$2,2)+1,0)","v":7},{"$f":"VLOOKUP(X$5,ШкалаТрудн!$C$5:$N$34,LEFT($Z$2,2)+1,0)","v":5},{"$f":"VLOOKUP(Y$5,ШкалаТрудн!$C$5:$N$34,LEFT($Z$2,2)+1,0)","v":1},{"$f":"VLOOKUP(Z$5,ШкалаТрудн!$C$5:$N$34,LEFT($Z$2,2)+1,0)","v":2},{"$f":"VLOOKUP(AA$5,ШкалаТрудн!$C$5:$N$34,LEFT($Z$2,2)+1,0)","v":0},{"$f":"VLOOKUP(AB$5,ШкалаТрудн!$C$5:$N$34,LEFT($Z$2,2)+1,0)","v":{"$error":"#N/A"}},{"$f":"VLOOKUP(AC$5,ШкалаТрудн!$C$5:$N$34,LEFT($Z$2,2)+1,0)","v":{"$error":"#N/A"}},{"$f":"VLOOKUP(AD$5,ШкалаТрудн!$C$5:$N$34,LEFT($Z$2,2)+1,0)","v":{"$error":"#N/A"}},{"$f":"VLOOKUP(AE$5,ШкалаТрудн!$C$5:$N$34,LEFT($Z$2,2)+1,0)","v":{"$error":"#N/A"}}]
[null,null,{"$f":"C6*C$90","v":27},24,0,0,0,0,18,15,15,{"$error":"#N/A"},0,0,0,0,4,0,32,12,48,33,28,20,0,10,0,{"$error":"#N/A"},{"$error":"#N/A"},{"$error":"#N/A"},{"$error":"#N/A"}]
[null,null,27,24,0,0,0,0,24,20,20,{"$error":"#N/A"},0,0,0,0,4,32,0,12,48,33,28,20,0,10,0,{"$error":"#N/A"},{"$error":"#N/A"},{"$error":"#N/A"},{"$error":"#N/A"}]
[null,null,27,24,0,0,0,0,18,15,15,{"$error":"#N/A"},0,0,0,0,3,0,24,12,36,33,21,15,0,8,0,{"$error":"#N/A"},{"$error":"#N/A"},{"$error":"#N/A"},{"$error":"#N/A"}]
[null,null,27,24,0,0,0,0,24,20,20,{"$error":"#N/A"},0,0,0,0,4,40,0,12,48,44,28,15,0,8,0,{"$error":"#N/A"},{"$error":"#N/A"},{"$error":"#N/A"},{"$error":"#N/A"}]
[null,null,45,40,0,0,0,0,24,20,20,{"$error":"#N/A"},0,0,0,0,5,32,0,15,48,44,28,20,0,10,0,{"$error":"#N/A"},{"$error":"#N/A"},{"$error":"#N/A"},{"$error":"#N/A"}]
[null,null,27,24,0,0,0,0,24,20,15,{"$error":"#N/A"},0,0,0,0,5,0,32,9,48,33,28,15,0,10,0,{"$error":"#N/A"},{"$error":"#N/A"},{"$error":"#N/A"},{"$error":"#N/A"}]
[null,null,36,32,0,0,0,0,24,20,20,{"$error":"#N/A"},0,0,0,0,5,0,32,12,48,44,28,20,0,10,0,{"$error":"#N/A"},{"$error":"#N/A"},{"$error":"#N/A"},{"$error":"#N/A"}]
[null,null,27,24,0,0,0,0,24,20,15,{"$error":"#N/A"},0,0,0,0,4,0,32,9,48,33,28,15,0,10,0,{"$error":"#N/A"},{"$error":"#N/A"},{"$error":"#N/A"},{"$error":"#N/A"}]
[null,null,45,40,0,0,0,0,30,25,25,{"$error":"#N/A"},0,0,0,0,5,40,0,15,60,55,35,25,0,{"$f":"Z14*Z$90","v":10},0,{"$error":"#N/A"},{"$error":"#N/A"},{"$error":"#N/A"},{"$error":"#N/A"}]
[null,null,{"$f":"C15*C$90","v":27},24,0,0,0,0,18,15,15,{"$error":"#N/A"},0,0,0,0,3,0,24,9,36,33,21,15,0,6,0,{"$error":"#N/A"},{"$error":"#N/A"},{"$error":"#N/A"},{"$error":"#N/A"}]
[null,null,36,32,0,0,0,0,24,20,20,{"$error":"#N/A"},0,0,0,0,4,32,0,15,60,44,28,25,0,10,0,{"$error":"#N/A"},{"$error":"#N/A"},{"$error":"#N/A"},{"$error":"#N/A"}]
[null,null,{"$f":"C30*C$90","v":45},40,0,0,0,0,30,20,20,{"$error":"#N/A"},0,0,0,0,5,32,0,15,60,44,35,25,0,10,0,{"$error":"#N/A"},{"$error":"#N/A"},{"$error":"#N/A"},{"$error":"#N/A"}]
[null,null,{"$f":"C17*C$90","v":36},32,0,0,0,0,24,20,20,{"$error":"#N/A"},0,0,0,0,5,0,32,12,48,44,28,25,0,10,0,{"$error":"#N/A"},{"$error":"#N/A"},{"$error":"#N/A"},{"$error":"#N/A"}]
[null,null,{"$f":"C18*C$90","v":27},24,0,0,0,0,24,15,15,{"$error":"#N/A"},0,0,0,0,0,0,32,12,48,33,28,0,0,0,0,{"$error":"#N/A"},{"$error":"#N/A"},{"$error":"#N/A"},{"$error":"#N/A"}]
[null,null,{"$f":"C19*C$90","v":27},24,0,0,0,0,18,15,15,{"$error":"#N/A"},0,0,0,0,3,0,24,9,36,33,21,15,0,8,0,{"$error":"#N/A"},{"$error":"#N/A"},{"$error":"#N/A"},{"$error":"#N/A"}]
[null,null,{"$f":"C20*C$90","v":36},40,0,0,0,0,18,15,20,{"$error":"#N/A"},0,0,0,0,0,0,32,12,36,33,28,15,0,8,0,{"$error":"#N/A"},{"$error":"#N/A"},{"$error":"#N/A"},{"$error":"#N/A"}]
[null,null,{"$f":"C24*C$90","v":36},32,0,0,0,0,24,20,20,{"$error":"#N/A"},0,0,0,0,5,32,0,12,48,33,28,25,0,8,0,{"$error":"#N/A"},{"$error":"#N/A"},{"$error":"#N/A"},{"$error":"#N/A"}]
[null,null,{"$f":"C21*C$90","v":36},32,0,0,0,0,24,20,15,{"$error":"#N/A"},0,0,0,0,5,0,32,12,60,33,28,20,0,10,{"$f":"AA23*AA$90","v":0},{"$error":"#N/A"},{"$error":"#N/A"},{"$error":"#N/A"},{"$error":"#N/A"}]
[null,null,{"$f":"C22*C$90","v":27},24,0,0,0,0,18,20,15,{"$error":"#N/A"},0,0,0,0,5,0,0,12,48,33,28,20,0,8,{"$f":"AA24*AA$90","v":0},{"$error":"#N/A"},{"$error":"#N/A"},{"$error":"#N/A"},{"$error":"#N/A"}]
[null,null,{"$f":"C23*C$90","v":36},32,0,0,0,0,24,20,20,{"$error":"#N/A"},0,0,0,0,5,32,0,12,48,44,35,20,0,8,0,{"$error":"#N/A"},{"$error":"#N/A"},{"$error":"#N/A"},{"$error":"#N/A"}]
[null,null,36,32,0,0,0,0,24,20,15,{"$error":"#N/A"},0,0,0,0,3,32,0,12,48,33,28,15,0,8,0,{"$error":"#N/A"},{"$error":"#N/A"},{"$error":"#N/A"},{"$error":"#N/A"}]
[null,null,{"$f":"C25*C$90","v":36},32,0,0,0,0,24,20,20,{"$error":"#N/A"},0,0,0,0,0,32,0,12,48,33,28,20,0,8,0,{"$error":"#N/A"},{"$error":"#N/A"},{"$error":"#N/A"},{"$error":"#N/A"}]
[null,null,36,32,0,0,0,0,24,20,20,{"$error":"#N/A"},0,0,0,0,5,0,32,12,48,44,28,20,0,8,0,{"$error":"#N/A"},{"$error":"#N/A"},{"$error":"#N/A"},{"$error":"#N/A"}]
[null,null,27,24,0,0,0,0,24,20,20,{"$error":"#N/A"},0,0,0,0,0,0,32,12,48,33,28,20,0,8,0,{"$error":"#N/A"},{"$error":"#N/A"},{"$error":"#N/A"},{"$error":"#N/A"}]
[null,null,{"$f":"C27*C$90","v":27},32,0,0,0,0,24,20,15,{"$error":"#N/A"},0,0,0,0,0,32,0,12,48,33,28,20,0,10,0,{"$error":"#N/A"},{"$error":"#N/A"},{"$error":"#N/A"},{"$error":"#N/A"}]
[null,null,0,0,0,0,0,0,0,0,0,{"$error":"#N/A"},0,0,0,0,0,0,0,0,0,0,0,0,0,0,0,{"$error":"#N/A"},{"$error":"#N/A"},{"$error":"#N/A"},{"$error":"#N/A"}]
[null,null,0,0,0,0,0,0,0,0,0,{"$error":"#N/A"},0,0,0,0,0,0,0,0,0,0,0,0,0,{"$f":"Z32*Z$90","v":0},0,{"$error":"#N/A"},{"$error":"#N/A"},{"$error":"#N/A"},{"$error":"#N/A"}]
[null,null,{"$f":"#REF!*C$90","v":{"$error":"#REF!"}},{"$f":"#REF!*D$90","v":{"$error":"#REF!"}},{"$f":"#REF!*E$90","v":{"$error":"#REF!"}},{"$f":"#REF!*F$90","v":{"$error":"#REF!"}},{"$f":"#REF!*G$90","v":{"$error":"#REF!"}},{"$f":"#REF!*H$90","v":{"$error":"#REF!"}},{"$f":"#REF!*I$90","v":{"$error":"#REF!"}},{"$f":"#REF!*J$90","v":{"$error":"#REF!"}},{"$f":"#REF!*K$90","v":{"$error":"#REF!"}},{"$f":"#REF!*L$90","v":{"$error":"#REF!"}},{"$f":"#REF!*M$90","v":{"$error":"#REF!"}},{"$f":"#REF!*N$90","v":{"$error":"#REF!"}},{"$f":"#REF!*O$90","v":{"$error":"#REF!"}},{"$f":"#REF!*P$90","v":{"$error":"#REF!"}},{"$f":"#REF!*Q$90","v":{"$error":"#REF!"}},{"$f":"#REF!*R$90","v":{"$error":"#REF!"}},{"$f":"#REF!*S$90","v":{"$error":"#REF!"}},{"$f":"#REF!*T$90","v":{"$error":"#REF!"}},{"$f":"#REF!*U$90","v":{"$error":"#REF!"}},{"$f":"#REF!*V$90","v":{"$error":"#REF!"}},{"$f":"#REF!*W$90","v":{"$error":"#REF!"}},{"$f":"#REF!*X$90","v":{"$error":"#REF!"}},{"$f":"#REF!*Y$90","v":{"$error":"#REF!"}},{"$f":"#REF!*Z$90","v":{"$error":"#REF!"}},{"$f":"AA33*AA$90","v":0},{"$error":"#N/A"},{"$error":"#N/A"},{"$error":"#N/A"},{"$error":"#N/A"}]
[null,null,0,0,0,0,0,0,0,0,0,{"$error":"#N/A"},0,0,0,0,0,0,0,0,0,0,0,0,0,0,0,{"$error":"#N/A"},{"$error":"#N/A"},{"$error":"#N/A"},{"$error":"#N/A"}]
[null,null,{"$f":"#REF!*C$90","v":{"$error":"#REF!"}},{"$f":"#REF!*D$90","v":{"$error":"#REF!"}},{"$f":"#REF!*E$90","v":{"$error":"#REF!"}},{"$f":"#REF!*F$90","v":{"$error":"#REF!"}},{"$f":"#REF!*G$90","v":{"$error":"#REF!"}},{"$f":"#REF!*H$90","v":{"$error":"#REF!"}},{"$f":"#REF!*I$90","v":{"$error":"#REF!"}},{"$f":"#REF!*J$90","v":{"$error":"#REF!"}},{"$f":"#REF!*K$90","v":{"$error":"#REF!"}},{"$f":"#REF!*L$90","v":{"$error":"#REF!"}},{"$f":"#REF!*M$90","v":{"$error":"#REF!"}},{"$f":"#REF!*N$90","v":{"$error":"#REF!"}},{"$f":"#REF!*O$90","v":{"$error":"#REF!"}},{"$f":"#REF!*P$90","v":{"$error":"#REF!"}},{"$f":"#REF!*Q$90","v":{"$error":"#REF!"}},{"$f":"#REF!*R$90","v":{"$error":"#REF!"}},{"$f":"#REF!*S$90","v":{"$error":"#REF!"}},{"$f":"#REF!*T$90","v":{"$error":"#REF!"}},{"$f":"#REF!*U$90","v":{"$error":"#REF!"}},{"$f":"#REF!*V$90","v":{"$error":"#REF!"}},{"$f":"#REF!*W$90","v":{"$error":"#REF!"}},{"$f":"#REF!*X$90","v":{"$error":"#REF!"}},{"$f":"#REF!*Y$90","v":{"$error":"#REF!"}},{"$f":"#REF!*Z$90","v":{"$error":"#REF!"}},{"$f":"#REF!*AA$90","v":{"$error":"#REF!"}},{"$f":"#REF!*AB$90","v":{"$error":"#REF!"}},{"$f":"#REF!*AC$90","v":{"$error":"#REF!"}},{"$f":"#REF!*AD$90","v":{"$error":"#REF!"}},{"$f":"#REF!*AE$90","v":{"$error":"#REF!"}}]
[null,null,{"$f":"#REF!*C$90","v":{"$error":"#REF!"}},{"$f":"#REF!*D$90","v":{"$error":"#REF!"}},{"$f":"#REF!*E$90","v":{"$error":"#REF!"}},{"$f":"#REF!*F$90","v":{"$error":"#REF!"}},{"$f":"#REF!*G$90","v":{"$error":"#REF!"}},{"$f":"#REF!*H$90","v":{"$error":"#REF!"}},{"$f":"#REF!*I$90","v":{"$error":"#REF!"}},{"$f":"#REF!*J$90","v":{"$error":"#REF!"}},{"$f":"#REF!*K$90","v":{"$error":"#REF!"}},{"$f":"#REF!*L$90","v":{"$error":"#REF!"}},{"$f":"#REF!*M$90","v":{"$error":"#REF!"}},{"$f":"#REF!*N$90","v":{"$error":"#REF!"}},{"$f":"#REF!*O$90","v":{"$error":"#REF!"}},{"$f":"#REF!*P$90","v":{"$error":"#REF!"}},{"$f":"#REF!*Q$90","v":{"$error":"#REF!"}},{"$f":"#REF!*R$90","v":{"$error":"#REF!"}},{"$f":"#REF!*S$90","v":{"$error":"#REF!"}},{"$f":"#REF!*T$90","v":{"$error":"#REF!"}},{"$f":"#REF!*U$90","v":{"$error":"#REF!"}},{"$f":"#REF!*V$90","v":{"$error":"#REF!"}},{"$f":"#REF!*W$90","v":{"$error":"#REF!"}},{"$f":"#REF!*X$90","v":{"$error":"#REF!"}},{"$f":"#REF!*Y$90","v":{"$error":"#REF!"}},{"$f":"#REF!*Z$90","v":{"$error":"#REF!"}},{"$f":"#REF!*AA$90","v":{"$error":"#REF!"}},{"$f":"#REF!*AB$90","v":{"$error":"#REF!"}},{"$f":"#REF!*AC$90","v":{"$error":"#REF!"}},{"$f":"#REF!*AD$90","v":{"$error":"#REF!"}},{"$f":"#REF!*AE$90","v":{"$error":"#REF!"}}]
[null,null,{"$f":"#REF!*C$90","v":{"$error":"#REF!"}},{"$f":"#REF!*D$90","v":{"$error":"#REF!"}},{"$f":"#REF!*E$90","v":{"$error":"#REF!"}},{"$f":"#REF!*F$90","v":{"$error":"#REF!"}},{"$f":"#REF!*G$90","v":{"$error":"#REF!"}},{"$f":"#REF!*H$90","v":{"$error":"#REF!"}},{"$f":"#REF!*I$90","v":{"$error":"#REF!"}},{"$f":"#REF!*J$90","v":{"$error":"#REF!"}},{"$f":"#REF!*K$90","v":{"$error":"#REF!"}},{"$f":"#REF!*L$90","v":{"$error":"#REF!"}},{"$f":"#REF!*M$90","v":{"$error":"#REF!"}},{"$f":"#REF!*N$90","v":{"$error":"#REF!"}},{"$f":"#REF!*O$90","v":{"$error":"#REF!"}},{"$f":"#REF!*P$90","v":{"$error":"#REF!"}},{"$f":"#REF!*Q$90","v":{"$error":"#REF!"}},{"$f":"#REF!*R$90","v":{"$error":"#REF!"}},{"$f":"#REF!*S$90","v":{"$error":"#REF!"}},{"$f":"#REF!*T$90","v":{"$error":"#REF!"}},{"$f":"#REF!*U$90","v":{"$error":"#REF!"}},{"$f":"#REF!*V$90","v":{"$error":"#REF!"}},{"$f":"#REF!*W$90","v":{"$error":"#REF!"}},{"$f":"#REF!*X$90","v":{"$error":"#REF!"}},{"$f":"#REF!*Y$90","v":{"$error":"#REF!"}},{"$f":"#REF!*Z$90","v":{"$error":"#REF!"}},{"$f":"#REF!*AA$90","v":{"$error":"#REF!"}},{"$f":"#REF!*AB$90","v":{"$error":"#REF!"}},{"$f":"#REF!*AC$90","v":{"$error":"#REF!"}},{"$f":"#REF!*AD$90","v":{"$error":"#REF!"}},{"$f":"#REF!*AE$90","v":{"$error":"#REF!"}}]
[null,null,{"$f":"#REF!*C$90","v":{"$error":"#REF!"}},{"$f":"#REF!*D$90","v":{"$error":"#REF!"}},{"$f":"#REF!*E$90","v":{"$error":"#REF!"}},{"$f":"#REF!*F$90","v":{"$error":"#REF!"}},{"$f":"#REF!*G$90","v":{"$error":"#REF!"}},{"$f":"#REF!*H$90","v":{"$error":"#REF!"}},{"$f":"#REF!*I$90","v":{"$error":"#REF!"}},{"$f":"#REF!*J$90","v":{"$error":"#REF!"}},{"$f":"#REF!*K$90","v":{"$error":"#REF!"}},{"$f":"#REF!*L$90","v":{"$error":"#REF!"}},{"$f":"#REF!*M$90","v":{"$error":"#REF!"}},{"$f":"#REF!*N$90","v":{"$error":"#REF!"}},{"$f":"#REF!*O$90","v":{"$error":"#REF!"}},{"$f":"#REF!*P$90","v":{"$error":"#REF!"}},{"$f":"#REF!*Q$90","v":{"$error":"#REF!"}},{"$f":"#REF!*R$90","v":{"$error":"#REF!"}},{"$f":"#REF!*S$90","v":{"$error":"#REF!"}},{"$f":"#REF!*T$90","v":{"$error":"#REF!"}},{"$f":"#REF!*U$90","v":{"$error":"#REF!"}},{"$f":"#REF!*V$90","v":{"$error":"#REF!"}},{"$f":"#REF!*W$90","v":{"$error":"#REF!"}},{"$f":"#REF!*X$90","v":{"$error":"#REF!"}},{"$f":"#REF!*Y$90","v":{"$error":"#REF!"}},{"$f":"#REF!*Z$90","v":{"$error":"#REF!"}},{"$f":"#REF!*AA$90","v":{"$error":"#REF!"}},{"$f":"#REF!*AB$90","v":{"$error":"#REF!"}},{"$f":"#REF!*AC$90","v":{"$error":"#REF!"}},{"$f":"#REF!*AD$90","v":{"$error":"#REF!"}},{"$f":"#REF!*AE$90","v":{"$error":"#REF!"}}]
[null,null,{"$f":"#REF!*C$90","v":{"$error":"#REF!"}},{"$f":"#REF!*D$90","v":{"$error":"#REF!"}},{"$f":"#REF!*E$90","v":{"$error":"#REF!"}},{"$f":"#REF!*F$90","v":{"$error":"#REF!"}},{"$f":"#REF!*G$90","v":{"$error":"#REF!"}},{"$f":"#REF!*H$90","v":{"$error":"#REF!"}},{"$f":"#REF!*I$90","v":{"$error":"#REF!"}},{"$f":"#REF!*J$90","v":{"$error":"#REF!"}},{"$f":"#REF!*K$90","v":{"$error":"#REF!"}},{"$f":"#REF!*L$90","v":{"$error":"#REF!"}},{"$f":"#REF!*M$90","v":{"$error":"#REF!"}},{"$f":"#REF!*N$90","v":{"$error":"#REF!"}},{"$f":"#REF!*O$90","v":{"$error":"#REF!"}},{"$f":"#REF!*P$90","v":{"$error":"#REF!"}},{"$f":"#REF!*Q$90","v":{"$error":"#REF!"}},{"$f":"#REF!*R$90","v":{"$error":"#REF!"}},{"$f":"#REF!*S$90","v":{"$error":"#REF!"}},{"$f":"#REF!*T$90","v":{"$error":"#REF!"}},{"$f":"#REF!*U$90","v":{"$error":"#REF!"}},{"$f":"#REF!*V$90","v":{"$error":"#REF!"}},{"$f":"#REF!*W$90","v":{"$error":"#REF!"}},{"$f":"#REF!*X$90","v":{"$error":"#REF!"}},{"$f":"#REF!*Y$90","v":{"$error":"#REF!"}},{"$f":"#REF!*Z$90","v":{"$error":"#REF!"}},{"$f":"#REF!*AA$90","v":{"$error":"#REF!"}},{"$f":"#REF!*AB$90","v":{"$error":"#REF!"}},{"$f":"#REF!*AC$90","v":{"$error":"#REF!"}},{"$f":"#REF!*AD$90","v":{"$error":"#REF!"}},{"$f":"#REF!*AE$90","v":{"$error":"#REF!"}}]
[null,null,{"$f":"#REF!*C$90","v":{"$error":"#REF!"}},{"$f":"#REF!*D$90","v":{"$error":"#REF!"}},{"$f":"#REF!*E$90","v":{"$error":"#REF!"}},{"$f":"#REF!*F$90","v":{"$error":"#REF!"}},{"$f":"#REF!*G$90","v":{"$error":"#REF!"}},{"$f":"#REF!*H$90","v":{"$error":"#REF!"}},{"$f":"#REF!*I$90","v":{"$error":"#REF!"}},{"$f":"#REF!*J$90","v":{"$error":"#REF!"}},{"$f":"#REF!*K$90","v":{"$error":"#REF!"}},{"$f":"#REF!*L$90","v":{"$error":"#REF!"}},{"$f":"#REF!*M$90","v":{"$error":"#REF!"}},{"$f":"#REF!*N$90","v":{"$error":"#REF!"}},{"$f":"#REF!*O$90","v":{"$error":"#REF!"}},{"$f":"#REF!*P$90","v":{"$error":"#REF!"}},{"$f":"#REF!*Q$90","v":{"$error":"#REF!"}},{"$f":"#REF!*R$90","v":{"$error":"#REF!"}},{"$f":"#REF!*S$90","v":{"$error":"#REF!"}},{"$f":"#REF!*T$90","v":{"$error":"#REF!"}},{"$f":"#REF!*U$90","v":{"$error":"#REF!"}},{"$f":"#REF!*V$90","v":{"$error":"#REF!"}},{"$f":"#REF!*W$90","v":{"$error":"#REF!"}},{"$f":"#REF!*X$90","v":{"$error":"#REF!"}},{"$f":"#REF!*Y$90","v":{"$error":"#REF!"}},{"$f":"#REF!*Z$90","v":{"$error":"#REF!"}},{"$f":"#REF!*AA$90","v":{"$error":"#REF!"}},{"$f":"#REF!*AB$90","v":{"$error":"#REF!"}},{"$f":"#REF!*AC$90","v":{"$error":"#REF!"}},{"$f":"#REF!*AD$90","v":{"$error":"#REF!"}},{"$f":"#REF!*AE$90","v":{"$error":"#REF!"}}]
[null,null,{"$f":"#REF!*C$90","v":{"$error":"#REF!"}},{"$f":"#REF!*D$90","v":{"$error":"#REF!"}},{"$f":"#REF!*E$90","v":{"$error":"#REF!"}},{"$f":"#REF!*F$90","v":{"$error":"#REF!"}},{"$f":"#REF!*G$90","v":{"$error":"#REF!"}},{"$f":"#REF!*H$90","v":{"$error":"#REF!"}},{"$f":"#REF!*I$90","v":{"$error":"#REF!"}},{"$f":"#REF!*J$90","v":{"$error":"#REF!"}},{"$f":"#REF!*K$90","v":{"$error":"#REF!"}},{"$f":"#REF!*L$90","v":{"$error":"#REF!"}},{"$f":"#REF!*M$90","v":{"$error":"#REF!"}},{"$f":"#REF!*N$90","v":{"$error":"#REF!"}},{"$f":"#REF!*O$90","v":{"$error":"#REF!"}},{"$f":"#REF!*P$90","v":{"$error":"#REF!"}},{"$f":"#REF!*Q$90","v":{"$error":"#REF!"}},{"$f":"#REF!*R$90","v":{"$error":"#REF!"}},{"$f":"#REF!*S$90","v":{"$error":"#REF!"}},{"$f":"#REF!*T$90","v":{"$error":"#REF!"}},{"$f":"#REF!*U$90","v":{"$error":"#REF!"}},{"$f":"#REF!*V$90","v":{"$error":"#REF!"}},{"$f":"#REF!*W$90","v":{"$error":"#REF!"}},{"$f":"#REF!*X$90","v":{"$error":"#REF!"}},{"$f":"#REF!*Y$90","v":{"$error":"#REF!"}},{"$f":"#REF!*Z$90","v":{"$error":"#REF!"}},{"$f":"#REF!*AA$90","v":{"$error":"#REF!"}},{"$f":"#REF!*AB$90","v":{"$error":"#REF!"}},{"$f":"#REF!*AC$90","v":{"$error":"#REF!"}},{"$f":"#REF!*AD$90","v":{"$error":"#REF!"}},{"$f":"#REF!*AE$90","v":{"$error":"#REF!"}}]
[null,null,{"$f":"#REF!*C$90","v":{"$error":"#REF!"}},{"$f":"#REF!*D$90","v":{"$error":"#REF!"}},{"$f":"#REF!*E$90","v":{"$error":"#REF!"}},{"$f":"#REF!*F$90","v":{"$error":"#REF!"}},{"$f":"#REF!*G$90","v":{"$error":"#REF!"}},{"$f":"#REF!*H$90","v":{"$error":"#REF!"}},{"$f":"#REF!*I$90","v":{"$error":"#REF!"}},{"$f":"#REF!*J$90","v":{"$error":"#REF!"}},{"$f":"#REF!*K$90","v":{"$error":"#REF!"}},{"$f":"#REF!*L$90","v":{"$error":"#REF!"}},{"$f":"#REF!*M$90","v":{"$error":"#REF!"}},{"$f":"#REF!*N$90","v":{"$error":"#REF!"}},{"$f":"#REF!*O$90","v":{"$error":"#REF!"}},{"$f":"#REF!*P$90","v":{"$error":"#REF!"}},{"$f":"#REF!*Q$90","v":{"$error":"#REF!"}},{"$f":"#REF!*R$90","v":{"$error":"#REF!"}},{"$f":"#REF!*S$90","v":{"$error":"#REF!"}},{"$f":"#REF!*T$90","v":{"$error":"#REF!"}},{"$f":"#REF!*U$90","v":{"$error":"#REF!"}},{"$f":"#REF!*V$90","v":{"$error":"#REF!"}},{"$f":"#REF!*W$90","v":{"$error":"#REF!"}},{"$f":"#REF!*X$90","v":{"$error":"#REF!"}},{"$f":"#REF!*Y$90","v":{"$error":"#REF!"}},{"$f":"#REF!*Z$90","v":{"$error":"#REF!"}},{"$f":"#REF!*AA$90","v":{"$error":"#REF!"}},{"$f":"#REF!*AB$90","v":{"$error":"#REF!"}},{"$f":"#REF!*AC$90","v":{"$error":"#REF!"}},{"$f":"#REF!*AD$90","v":{"$error":"#REF!"}},{"$f":"#REF!*AE$90","v":{"$error":"#REF!"}}]
[null,null,{"$f":"#REF!*C$90","v":{"$error":"#REF!"}},{"$f":"#REF!*D$90","v":{"$error":"#REF!"}},{"$f":"#REF!*E$90","v":{"$error":"#REF!"}},{"$f":"#REF!*F$90","v":{"$error":"#REF!"}},{"$f":"#REF!*G$90","v":{"$error":"#REF!"}},{"$f":"#REF!*H$90","v":{"$error":"#REF!"}},{"$f":"#REF!*I$90","v":{"$error":"#REF!"}},{"$f":"#REF!*J$90","v":{"$error":"#REF!"}},{"$f":"#REF!*K$90","v":{"$error":"#REF!"}},{"$f":"#REF!*L$90","v":{"$error":"#REF!"}},{"$f":"#REF!*M$90","v":{"$error":"#REF!"}},{"$f":"#REF!*N$90","v":{"$error":"#REF!"}},{"$f":"#REF!*O$90","v":{"$error":"#REF!"}},{"$f":"#REF!*P$90","v":{"$error":"#REF!"}},{"$f":"#REF!*Q$90","v":{"$error":"#REF!"}},{"$f":"#REF!*R$90","v":{"$error":"#REF!"}},{"$f":"#REF!*S$90","v":{"$error":"#REF!"}},{"$f":"#REF!*T$90","v":{"$error":"#REF!"}},{"$f":"#REF!*U$90","v":{"$error":"#REF!"}},{"$f":"#REF!*V$90","v":{"$error":"#REF!"}},{"$f":"#REF!*W$90","v":{"$error":"#REF!"}},{"$f":"#REF!*X$90","v":{"$error":"#REF!"}},{"$f":"#REF!*Y$90","v":{"$error":"#REF!"}},{"$f":"#REF!*Z$90","v":{"$error":"#REF!"}},{"$f":"#REF!*AA$90","v":{"$error":"#REF!"}},{"$f":"#REF!*AB$90","v":{"$error":"#REF!"}},{"$f":"#REF!*AC$90","v":{"$error":"#REF!"}},{"$f":"#REF!*AD$90","v":{"$error":"#REF!"}},{"$f":"#REF!*AE$90","v":{"$error":"#REF!"}}]
[null,null,{"$f":"#REF!*C$90","v":{"$error":"#REF!"}},{"$f":"#REF!*D$90","v":{"$error":"#REF!"}},{"$f":"#REF!*E$90","v":{"$error":"#REF!"}},{"$f":"#REF!*F$90","v":{"$error":"#REF!"}},{"$f":"#REF!*G$90","v":{"$error":"#REF!"}},{"$f":"#REF!*H$90","v":{"$error":"#REF!"}},{"$f":"#REF!*I$90","v":{"$error":"#REF!"}},{"$f":"#REF!*J$90","v":{"$error":"#REF!"}},{"$f":"#REF!*K$90","v":{"$error":"#REF!"}},{"$f":"#REF!*L$90","v":{"$error":"#REF!"}},{"$f":"#REF!*M$90","v":{"$error":"#REF!"}},{"$f":"#REF!*N$90","v":{"$error":"#REF!"}},{"$f":"#REF!*O$90","v":{"$error":"#REF!"}},{"$f":"#REF!*P$90","v":{"$error":"#REF!"}},{"$f":"#REF!*Q$90","v":{"$error":"#REF!"}},{"$f":"#REF!*R$90","v":{"$error":"#REF!"}},{"$f":"#REF!*S$90","v":{"$error":"#REF!"}},{"$f":"#REF!*T$90","v":{"$error":"#REF!"}},{"$f":"#REF!*U$90","v":{"$error":"#REF!"}},{"$f":"#REF!*V$90","v":{"$error":"#REF!"}},{"$f":"#REF!*W$90","v":{"$error":"#REF!"}},{"$f":"#REF!*X$90","v":{"$error":"#REF!"}},{"$f":"#REF!*Y$90","v":{"$error":"#REF!"}},{"$f":"#REF!*Z$90","v":{"$error":"#REF!"}},{"$f":"#REF!*AA$90","v":{"$error":"#REF!"}},{"$f":"#REF!*AB$90","v":{"$error":"#REF!"}},{"$f":"#REF!*AC$90","v":{"$error":"#REF!"}},{"$f":"#REF!*AD$90","v":{"$error":"#REF!"}},{"$f":"#REF!*AE$90","v":{"$error":"#REF!"}}]
[null,null,{"$f":"#REF!*C$90","v":{"$error":"#REF!"}},{"$f":"#REF!*D$90","v":{"$error":"#REF!"}},{"$f":"#REF!*E$90","v":{"$error":"#REF!"}},{"$f":"#REF!*F$90","v":{"$error":"#REF!"}},{"$f":"#REF!*G$90","v":{"$error":"#REF!"}},{"$f":"#REF!*H$90","v":{"$error":"#REF!"}},{"$f":"#REF!*I$90","v":{"$error":"#REF!"}},{"$f":"#REF!*J$90","v":{"$error":"#REF!"}},{"$f":"#REF!*K$90","v":{"$error":"#REF!"}},{"$f":"#REF!*L$90","v":{"$error":"#REF!"}},{"$f":"#REF!*M$90","v":{"$error":"#REF!"}},{"$f":"#REF!*N$90","v":{"$error":"#REF!"}},{"$f":"#REF!*O$90","v":{"$error":"#REF!"}},{"$f":"#REF!*P$90","v":{"$error":"#REF!"}},{"$f":"#REF!*Q$90","v":{"$error":"#REF!"}},{"$f":"#REF!*R$90","v":{"$error":"#REF!"}},{"$f":"#REF!*S$90","v":{"$error":"#REF!"}},{"$f":"#REF!*T$90","v":{"$error":"#REF!"}},{"$f":"#REF!*U$90","v":{"$error":"#REF!"}},{"$f":"#REF!*V$90","v":{"$error":"#REF!"}},{"$f":"#REF!*W$90","v":{"$error":"#REF!"}},{"$f":"#REF!*X$90","v":{"$error":"#REF!"}},{"$f":"#REF!*Y$90","v":{"$error":"#REF!"}},{"$f":"#REF!*Z$90","v":{"$error":"#REF!"}},{"$f":"AA35*AA$90","v":0},{"$error":"#N/A"},{"$error":"#N/A"},{"$error":"#N/A"},{"$error":"#N/A"}]

{"sheet":"11 А(2)","index":44,"n_rows":82,"n_cols":8,"rows_kept":82,"cut":false,"hidden":true,"merged":[[42,0,42,1],[52,0,52,1],[67,0,67,1],[0,0,0,3],[0,4,0,7],[1,0,1,2],[2,0,2,1],[3,0,15,0],[17,0,17,1]]}
[{"$f":"Титул!B28","v":"11 А"},null,null,null,"Страница заполняется автоматически, без участия оператора!!!"]
["Всего учащихся в классе:",null,null,{"$f":"Титул!C28","v":25},"Фамилии, имена               учащихся","Учебные предметы","Фамилии и инициалы учителей","Пояснения, примечания, причины"]
["Учатся на  \"5\":",null,{"$f":"COUNTA(E3:E17)","v":1},1,"Кожанова Евгения"]
[null,null,null,2]
[null,null,null,3]
[null,null,null,4]
[null,null,null,5]
[null,null,null,6]
[null,null,null,7]
[null,null,null,8]
[null,null,null,9]
[null,null,null,10]
[null,null,null,11]
[null,null,null,12]
[null,null,null,13]
[null,null,null,14]
[null,null,null,15]
["Учатся  на \"4\"и\"5\"",null,{"$f":"COUNTA(E18:E42)","v":7},1,"Вдовина Дарья"]
[null," ",null,2,"Дрозд Владимир"]
[null,null,null,3,"Лесик Екатерина"]
[null,null,null,4,"Ляпин Иван"]
[null,null,null,5,"Рябов Максим"]
[null,null,null,6,"Вершинина Алина"]
[null,null,null,7,"Самсонова Кристина"]
[null,null,null,8]
[null,null,null,9]
[null,null,null,10]
[null,null,null,11]
[null,null,null,12]
[null,null,null,13]
[null,null,null,14]
[null,null,null,15]
[null,null,null,16]
[null,null,null,17]
[null,null,null,18]
[null,null,null,19]
[null,null,null,20]
[null,null,null,21]
[null,null,null,22]
[null,null,null,23]
[null,null,null,24]
[null,null,null,25]
["Не аттестованы:",null,{"$f":"COUNTA(E43:E52)","v":0},1]
[null," ",null,2]
[null,null,null,3]
[null,null,null,4]
[null,null,null,5]
[null,null,null,6]
[null,null,null,7]
[null,null,null,8]
[null,null,null,9]
[null,null,null,10]
["Не успевают:",null,{"$f":"COUNTA(E53:E67)","v":0},1]
[null," ",null,2]
[null,null,null,3]
[null,null,null,4]
[null,null,null,5]
[null,null,null,6]
[null,null,null,7]
[null,null,null,8]
[null,null,null,9]
[null,null,null,10]
[null,null,null,11]
[null,null,null,12]
[null,null,null,13]
[null,null,null,14]
[null,null,null,15]
["Освобождены:",null,{"$f":"COUNTA(E68:E82)","v":0},1]
[null," ",null,2]
[null,null,null,3]
[null,null,null,4]
[null,null,null,5]
[null,null,null,6]
[null,null,null,7]
[null,null,null,8]
[null,null,null,9]
[null,null,null,10]
[null,null,null,11]
[null,null,null,12]
[null,null,null,13]
[null,null,null,14]
[null,null,null,15]

{"sheet":"мониторинг","index":45,"n_rows":576,"n_cols":91,"rows_kept":576,"cut":false,"hidden":false,"merged":[[31,44,31,63],[31,65,31,85],[32,2,32,11],[32,12,32,22],[32,23,32,32],[32,33,32,43],[32,44,32,53],[32,54,32,63],[32,65,32,74],[32,75,32,85],[30,0,33,0],[30,1,33,1],[30,2,30,43],[31,2,31,22],[31,23,31,43],[7,65,7,74],[6,65,6,85],[7,75,7,85],[5,0,8,0],[5,1,8,1],[5,2,5,43],[6,2,6,22],[6,23,6,43],[7,2,7,11],[7,12,7,22],[7,23,7,32],[7,33,7,43],[6,44,6,63],[7,44,7,53],[7,54,7,63],[571,1,574,1],[571,2,574,2],[571,3,571,44],[572,3,572,23],[572,24,572,44],[573,3,573,12],[573,13,573,23],[573,24,573,33],[573,34,573,44]]}
[]
[]
[null,"2018-2019 год ",null,null,null,null,null,null,null,null,null,null,null,null,null,null,null,null,null,null,null,null,null,null,null,null,null,null,null,null,null,null,null,null,null,null,null,"Мониторинг за 2018-2019 учебный год "]
[]
[]
["Класс ","Классный руководитель ","Предмет (%)"]
[null,null,"Математика ",null,null,null,null,null,null,null,null,null,null,null,null,null,null,null,null,null,null,null,null,"Русский яз",null,null,null,null,null,null,null,null,null,null,null,null,null,null,null,null,null,null,null,null,"окружающий мир ",null,null,null,null,null,null,null,null,null,null,null,null,null,null,null,null,null,null,null,null,"кабардино черкесский язык (родной)"]
[null,null,"Усп",null,null,null,null,null,null,null,null,null,"Кач ",null,null,null,null,null,null,null,null,null,null,"Усп",null,null,null,null,null,null,null,null,null,"Кач ",null,null,null,null,null,null,null,null,null,null,"Усп",null,null,null,null,null,null,null,null,null,"Кач ",null,null,null,null,null,null,null,null,null,null,"Усп",null,null,null,null,null,null,null,null,null,"Кач "]
[null,null,"На начало года ","Д/О ","Раз-ца ","3 чет /срез","Раз-ца ","итгог за 3 четверть по Журналу","итоговая А/работа ","4 четверть/по журналу  ","итоговая /годовая ","Раз-ца ","На начало года ","Д/О ","Раз-ца ","3 чет /срез","Раз-ца ","итгог за 3 четверть по Журналу","итоговая А/работа ","4 четверть/по журналу  ","итоговая /годовая ","уровень обучености ","Раз-ца ","На начало года ","Д/О ","Раз-ца ","3 чет /срез","Раз-ца ","итгог за 3 четверть по Журналу","итоговая А/работа ","4 четверть/по журналу  ","итоговая /годовая ","Раз-ца ","На начало года ","Д/О ","Раз-ца ","3 чет /срез","Раз-ца ","итгог за 3 четверть по Журналу","итоговая А/работа ","4 четверть/по журналу  ","итоговая /годовая ","Раз-ца ","уровень обучености ","На начало года ","Д/О ","Раз-ца ","3 чет /срез","Раз-ца ","итгог за 3 четверть по Журналу","итоговая А/работа ","4 четверть/по журналу  ","итоговая /годовая ","Раз-ца ","На начало года ","Д/О ","Раз-ца ","3 чет /срез","Раз-ца ","итгог за 3 четверть по Журналу","итоговая А/работа ","4 четверть/по журналу  ","итоговая /годовая ","Раз-ца ","уровень обучения  ","На начало года ","Д/О ","Раз-ца ","3 чет /срез","Раз-ца ","итгог за 3 четверть по Журналу","итоговая А/работа ","4 четверть/по журналу  ","итоговая /годовая ","Раз-ца ","На начало года ","Д/О ","Раз-ца ","3 чет /срез","Раз-ца ","итгог за 3 четверть по Журналу","итоговая А/работа ","4 четверть/по журналу  ","итоговая /годовая ","Раз-ца ","уровень обучености "]
["1а ","Эльмесова Л.Х.",0,0,0,0,0,0,0,0,0.83,0,0,0,0,0,0,0,0,0,0.76,0.56999999999999995,0,0,0,0,0,0,0,0,0,0.66,0,0,0,0,0,0,0,0,0.51,0,0,0.5,0,0,0,0,0,0,0,0,0.82,0,0,0,0,0,0,0,0,0,0.47,0,0.51,0,0,0,0,0,0,0,0,0.66,0,0,0,0,0,0,0,0,0.51,0,0,0.5]
["1б","Уметова М.М.",0,0,0,0,0,0,0,0,0.85,0,0,0,0,0,0,0,0,0,0.8,0.66,0,0,0,0,0,0,0,0,0,0.7,0,0,0,0,0,0,0,0,0.55000000000000004,0,0,0.55000000000000004,0,0,0,0,0,0,0,0,0.84,0,0,0,0,0,0,0,0,0,0.48,0,0.53,0,0,0,0,0,0,0,0,0.7,0,0,0,0,0,0,0,0,0.55000000000000004,0,0,0.55000000000000004]
["1 в","Сонова И.К.",0,0,0,0,0,0,0,0,0.89,0,0,0,0,0,0,0,0,0,0.47,0.53,0,0,0,0,0,0,0,0,0,0.89,0,0,0,0,0,0,0,0,0.47,0,0,0.51,0,0,0,0,0,0,0,0,0.9,0,0,0,0,0,0,0,0,0,0.47,0,0.53,0,0,0,0,0,0,0,0,0.89,0,0,0,0,0,0,0,0,0.47,0,0,0.51]
["1кА","Ажахова А.И.",0,0,0,0,0,0,0,0,0.88,0,0,0,0,0,0,0,0,0,0.55000000000000004,0.55000000000000004,0,0,0,0,0,0,0,0,0,0.66,0,0,0,0,0,0,0,0,0.5,0,0,0.43,0,0,0,0,0,0,0,0,0.82,0,0,0,0,0,0,0,0,0,0.47,0,0.51,0,0,0,0,0,0,0,0,0.66,0,0,0,0,0,0,0,0,0.5,0,0,0.43]
["1кБ","Ахабекрва Р.А.",0,0,0,0,0,0,0,0,0.81,0,0,0,0,0,0,0,0,0,0.42,0.49,0,0,0,0,0,0,0,0,0,0.81,0,0,0,0,0,0,0,0,0.46,0,0,0.5,0,0,0,0,0,0,0,0,0.84,0,0,0,0,0,0,0,0,0,0.48,0,0.53,0,0,0,0,0,0,0,0,0.81,0,0,0,0,0,0,0,0,0.46,0,0,0.5]
["2а","Бирмамитова А.Х.",82,66,-16,0.85,19,1,0.8,1,1,0.15,52,43,-9,0.4,-3,0.35,0.64,0.64,0.64,0.63,-0.05,80,75,-5,0.83,-8,1,0.76,1,1,0.17,47,40,-7,0.43,3,0.35,0.44,0.6,0.6,0,0.56999999999999995,82,66,-16,0.85,19,1,0.96,1,1,0.15,52,43,-9,0.4,-3,0.35,0.8,0.8,0.8,-0.05,0.71,80,75,-5,0.83,-8,1,0.76,1,1,0.17,47,40,-7,0.43,3,0.35,0.44,0.6,0.6,0,0.56999999999999995]
["2б ","Куржиева А.Х.",68,76,-8,0.87,11,1,0.92,1,1,0.13,44,66,22,0.31,-35,0.36,0.8,0.8,0.92,0.79,0.05,76,76,0,0.95,19,1,1,1,1,0.15,52,42,-10,0.37,-4,0.36,0.56000000000000005,0.56000000000000005,0.8,0,0.71,68,76,-8,0.87,11,1,0.92,1,1,0.13,44,66,22,0.31,-35,0.36,0.8,1,1,0,0.81,76,76,0,0.95,19,1,1,1,1,0.15,52,42,-10,0.37,-4,0.36,0.56000000000000005,0.56000000000000005,0.8,0,0.71]
["2в ","Додохова Ж.Х.",86,52,-34,0.57999999999999996,5,1,0.76,0.9,1,0.42,73,38,-35,0.52,14,0.47,0.67,0.76,0.76,0.73,-0.09,73,60,-13,0.83,-23,1,0.86,0.9,1,0.17,55,47,-8,0.61,-4,0.47,0.62,0.76,0.76,0,0.73,86,52,-34,0.57999999999999996,5,1,0.95,1,1,0.42,73,38,-35,0.52,14,0.47,0.81,0.81,0.9,-0.09,0.75,73,60,-13,0.83,-23,1,0.86,0.9,1,0.17,55,47,-8,0.61,-4,0.47,0.62,0.76,0.76,0,0.73,null,null,null,null," "]
["2е","Ташилова Н.З.",84,84,0,0.82,-2,1,0.89,1,1,0.18,60,45,-15,0.45,0,0.39,0.5,0.46,0.46,0.6,-0.06,81,91,-10,0.95,4,1,0.93,1,1,0.05,60,43,-27,0.41,-2,0.39,0.64,0.68,0.68,0,0.63,84,84,0,0.82,-2,1,0.95,1,1,0.18,60,45,-15,0.45,0,0.39,0.81,0.79,0.79,-0.06,0.72,81,91,-10,0.95,4,1,0.93,1,1,0.05,60,43,-27,0.41,-2,0.39,0.64,0.68,0.68,0,0.63]
["2ф","Гетаова А.М.",94,79,-15,0.28000000000000003,-44,1,0.82,1,1,0.72,64,29,-35,0.33,4,0.53,0.47,0.53,0.53,0.64,-0.2,70,76,6,0.7,-6,1,0.71,1,1,0.3,64,48,-16,0.47,-1,0.59,0.59,0.59,0.65,0,0.6,94,79,-15,0.28000000000000003,-44,1,0.88,1,1,0.72,64,29,-35,0.33,4,0.53,0.71,0.71,0.71,-0.2,0.73,70,76,6,0.7,-6,1,0.71,1,1,0.3,64,48,-16,0.47,-1,0.59,0.59,0.59,0.65,0,0.6]
["3а ","Куржива К.З.",92,90,-2,0.84,-6,0.91,1,1,1,7.0000000000000007E-2,74,59,-15,0.53,-6,0.48,0.61,0.61,0.65,0.65,-0.05,84,81,-3,0.82,-1,0.91,0.74,1,1,0.09,60,43,-27,0.45,2,0.48,0.48,0.65,0.61,0,0.61,92,90,-2,0.84,-6,0.91,0.96,1,1,7.0000000000000007E-2,74,59,-15,0.53,-6,0.48,0.52,0.87,0.87,-0.05,0.84,84,81,-3,0.82,-1,0.91,0.74,1,1,0.09,60,43,-27,0.45,2,0.48,0.48,0.65,0.61,0,0.61]
["3б","Хаваяшхова Р.Т.",80,80,0,0.88,8,0.91,0.88,1,1,0.03,45,60,{"$f":"+Q1126","v":0},0.46,1,0.46,0.42,0.57999999999999996,0.57999999999999996,0.61,0,85,85,0,0.71,-14,0.91,0.83,1,1,0.2,47,42,-5,0.42,0,0.46,0.5,0.46,0.46,0,0.64,80,80,0,0.88,8,0.91,0.96,1,1,0.03,45,60,{"$f":"+BG1126","v":0},0.46,1,0.46,0.71,0.76,0.76,0,0.75,85,85,0,0.71,-14,0.91,0.83,1,1,0.2,47,42,-5,0.42,0,0.46,0.5,0.46,0.46,0,0.64]
["3в","Тутова Е.Б.",75,74,-1,0.68,-6,0.91,0.82,1,1,0.23,45,42,-3,0.47,2,0.35,0.45,0.55000000000000004,0.55000000000000004,0.57999999999999996,-0.12,77,75,-2,0.65,-10,0.91,0.95,0.95,1,0.26,52,42,-10,0.45,3,0.35,0.64,0.55000000000000004,0.55000000000000004,0,0.59,75,74,-1,0.68,-6,0.91,0.95,1,1,0.23,45,42,-3,0.47,2,0.35,0.54,0.66,0.68,-0.12,0.64,77,75,-2,0.65,-10,0.91,0.95,0.95,1,0.26,52,42,-10,0.45,3,0.35,0.64,0.55000000000000004,0.55000000000000004,0,0.59]
["3к","Кумыкова Л.А.",95,78,-17,0.5,-45,0.88,0.77,1,1,0.33,48,46,-2,0.31,-7,0.35,0.5,0.54,0.54,0.61,-0.04,100,76,-24,0.55000000000000004,-21,0.88,0.64,0.9,1,0.33,48,42,-6,0.76,28,0.35,0.48,0.5,0.6,0,0.5,95,78,-17,0.5,-45,0.88,0.89,1,1,0.33,48,46,-2,0.31,-7,0.35,0.52,0.57999999999999996,0.57999999999999996,-0.04,0.66,100,76,-24,0.55000000000000004,-21,0.88,0.64,0.9,1,0.33,48,42,-6,0.76,28,0.35,0.48,0.5,0.6,0,0.5]
["4а ","Эльмесова Е.Х.",80,81,-1,0.52,-29,1,0.84,0.84,1,0.48,48,40,-8,0.32,-8,0.39,0.56000000000000005,0.56000000000000005,0.6,0.6,-7.0000000000000007E-2,80,81,-1,0.6,-19,1,0.84,0.92,1,0.4,60,39,-23,0.38,-1,0.39,0.4,0.48,0.52,0,0.55000000000000004,80,81,-1,0.52,-29,1,0.89,1,1,0.48,48,40,-8,0.32,-8,0.39,0.48,0.48,0.52,-7.0000000000000007E-2,0.54,80,81,-1,0.6,-19,1,0.84,0.92,1,0.4,60,39,-23,0.38,-1,0.39,0.4,0.48,0.52,0,0.55000000000000004]
["4б ","Карданова И.М.",78,78,0,0.86,8,1,0.89,1,1,0.14000000000000001,43,40,-3,0.38,-2,0.36,0.37,0.42,0.43,0.53,-0.02,78,82,-3,0.88,6,1,0.89,1,1,0.12,42,42,0,0.38,-4,0.36,0.37,0.32,0.32,0,0.51,78,78,0,0.86,8,1,1,1,1,0.14000000000000001,43,40,-3,0.38,-2,0.36,0.68,0.68,0.68,-0.02,0.65,78,82,-3,0.88,6,1,0.89,1,1,0.12,42,42,0,0.38,-4,0.36,0.37,0.32,0.32,0,0.51]
["4в","Дышекова И.А. ",61,70,-9,0.56000000000000005,-14,1,0.79,1,1,0.44,33,30,-3,0.25,-5,0.31,0.42,0.57999999999999996,0.57999999999999996,0.57999999999999996,0.06,66,62,-4,0.59,-3,1,0.79,1,1,0.41,33,25,-8,0.4,15,0.31,0.37,0.47,0.55000000000000004,0,0.47,61,70,-9,0.56000000000000005,-14,1,1,1,1,0.44,33,30,-3,0.25,-5,0.31,0.42,0.47,0.53,0.06,0.57999999999999996,66,62,-4,0.59,-3,1,0.79,1,1,0.41,33,25,-8,0.4,15,0.31,0.37,0.47,0.55000000000000004,0,0.47]
[12,"средняя единица по 2-4 ",{"$f":"AVERAGE(C15:C26)","v":81.25},75.666666666666671,-8.5833333333333339,0.68666666666666654,-7.916666666666667,0.96750000000000014,{"$f":"AVERAGE(I10:I26)","v":0.59882352941176464},{"$f":"AVERAGE(J10:J26)","v":0.69058823529411761},{"$f":"AVERAGE(K10:K26)","v":0.95647058823529396},0.27666666666666667,52.416666666666664,44.833333333333336,-8.8333333333333339,0.39416666666666661,-3.75,0.39999999999999997,{"$f":"AVERAGE(S10:S26)","v":0.37705882352941184},{"$f":"AVERAGE(T10:T26)","v":0.41352941176470587},{"$f":"AVERAGE(U10:U26)","v":0.60235294117647076},{"$f":"AVERAGE(V10:V26)","v":0.60882352941176454},{"$f":"AVERAGE(W15:W26)","v":-4.9166666666666671E-2},{"$f":"AVERAGE(X15:X26)","v":79.166666666666671},76.666666666666671,-4.916666666666667,0.755,-6.333333333333333,0.96750000000000014,{"$f":"AVERAGE(AD10:AD26)","v":0.5847058823529413},{"$f":"AVERAGE(AE10:AE26)","v":0.68647058823529417},{"$f":"AVERAGE(AF10:AF26)","v":0.92470588235294127},0.22083333333333335,51.666666666666664,41.25,-12.25,0.46083333333333337,2.9166666666666665,0.40499999999999997,{"$f":"AVERAGE(AN10:AN26)","v":0.35823529411764704},{"$f":"AVERAGE(AO10:AO26)","v":0.53588235294117659},{"$f":"AVERAGE(AP10:AP26)","v":0.41764705882352943},0,{"$f":"AVERAGE(AR10:AR26)","v":0.56470588235294128},{"$f":"AVERAGE(AS15:AS26)","v":81.25},75.666666666666671,-8.5833333333333339,0.68666666666666654,-7.916666666666667,0.96750000000000014,{"$f":"AVERAGE(AY10:AY26)","v":0.66529411764705881},{"$f":"AVERAGE(AZ10:AZ26)","v":0.70588235294117652},{"$f":"AVERAGE(BA10:BA26)","v":0.95411764705882351},{"$f":"AVERAGE(BB15:BB26)","v":0.27666666666666667},52.416666666666664,44.833333333333336,-8.8333333333333339,0.39416666666666661,-3.75,0.39999999999999997,{"$f":"AVERAGE(BI10:BI26)","v":0.45882352941176474},{"$f":"AVERAGE(BJ10:BJ26)","v":0.50647058823529423},{"$f":"AVERAGE(BK10:BK26)","v":0.65823529411764703},{"$f":"AVERAGE(BL15:BL26)","v":-5.3333333333333344E-2},{"$f":"AVERAGE(BM10:BM26)","v":0.64647058823529424},{"$f":"AVERAGE(BN15:BN26)","v":79.166666666666671},76.666666666666671,-4.916666666666667,0.755,-6.333333333333333,0.96750000000000014,{"$f":"AVERAGE(BT10:BT26)","v":0.5847058823529413},{"$f":"AVERAGE(BU10:BU26)","v":0.68647058823529417},{"$f":"AVERAGE(BV10:BV26)","v":0.92470588235294127},{"$f":"AVERAGE(BW15:BW26)","v":0.22083333333333335},51.666666666666664,41.25,-12.25,0.46083333333333337,2.9166666666666665,0.40499999999999997,{"$f":"AVERAGE(CD10:CD26)","v":0.35823529411764704},{"$f":"AVERAGE(CE10:CE26)","v":0.53588235294117659},{"$f":"AVERAGE(CF10:CF26)","v":0.41764705882352943},0,{"$f":"AVERAGE(CH10:CH26)","v":0.56470588235294128}]
[]
[null,"2020-2021 год "]
[]
["Класс ","Классный руководитель ","Предмет (%)"]
[null,null,"Математика ",null,null,null,null,null,null,null,null,null,null,null,null,null,null,null,null,null,null,null,null,"Русский яз",null,null,null,null,null,null,null,null,null,null,null,null,null,null,null,null,null,null,null,null,"окружающий мир ",null,null,null,null,null,null,null,null,null,null,null,null,null,null,null,null,null,null,null,null,"кабардино черкесский язык (родной)"]
[null,null,"Усп",null,null,null,null,null,null,null,null,null,"Кач ",null,null,null,null,null,null,null,null,null,null,"Усп",null,null,null,null,null,null,null,null,null,"Кач ",null,null,null,null,null,null,null,null,null,null,"Усп",null,null,null,null,null,null,null,null,null,"Кач ",null,null,null,null,null,null,null,null,null,null,"Усп",null,null,null,null,null,null,null,null,null,"Кач "]
[null,null,"На начало года ","Д/О ","Раз-ца ","3 чет /срез","Раз-ца ","итгог за 3 четверть по Журналу","итоговая А/работа ","4 четверть/по журналу  ","итоговая /годовая ","Раз-ца ","На начало года ","Д/О ","Раз-ца ","3 чет /срез","Раз-ца ","итгог за 3 четверть по Журналу","итоговая А/работа ","4 четверть/по журналу  ","итоговая /годовая ","уровень обучености ","Раз-ца ","На начало года ","Д/О ","Раз-ца ","3 чет /срез","Раз-ца ","итгог за 3 четверть по Журналу","итоговая А/работа ","4 четверть/по журналу  ","итоговая /годовая ","Раз-ца ","На начало года ","Д/О ","Раз-ца ","3 чет /срез","Раз-ца ","итгог за 3 четверть по Журналу","итоговая А/работа ","4 четверть/по журналу  ","итоговая /годовая ","Раз-ца ","уровень обучености ","На начало года ","Д/О ","Раз-ца ","3 чет /срез","Раз-ца ","итгог за 3 четверть по Журналу","итоговая А/работа ","4 четверть/по журналу  ","итоговая /годовая ","Раз-ца ","На начало года ","Д/О ","Раз-ца ","3 чет /срез","Раз-ца ","итгог за 3 четверть по Журналу","итоговая А/работа ","4 четверть/по журналу  ","итоговая /годовая ","Раз-ца ","уровень обучения  ","На начало года ","Д/О ","Раз-ца ","3 чет /срез","Раз-ца ","итгог за 3 четверть по Журналу","итоговая А/работа ","4 четверть/по журналу  ","итоговая /годовая ","Раз-ца ","На начало года ","Д/О ","Раз-ца ","3 чет /срез","Раз-ца ","итгог за 3 четверть по Журналу","итоговая А/работа ","4 четверть/по журналу  ","итоговая /годовая ","Раз-ца ","уровень обучености "]
["1а ","Хаваяшхова Р.Т.",0.7,0,0,0.75,0,0.75,0,0,0.75,0,0.43,0,0,0.43,-0.02,0,0.41,0,0.45,{"$f":"AVERAGE(C35:U35)","v":0.24473684210526317},0,0.85,0,0,0.85,0,0,0.85,0,0.8,0,0.41,0,0,0.45,0,0,0.45,0,0.47,0.02,"3.1%",0,0,0,0,0,0,0,0,0,0,0,0,0,0,0,0,0,0,0,0,0,0,0,0,0,0,0,0,0,0,0,0,0,0,0,0,0,0,0,0,0,0]
["1б","Тутова Е.Б.",0.7,0,0,0.75,0,0.75,0,0,0.77,0,0.43,0,0,0.43,0,0,0.43,0,0.46,0.24842105263157899,0,0.78,0,0,0.78,0,0,0.77,0,0.77,0,0.45,0,0,0.45,-7.0000000000000007E-2,0,0.38,0,0.38,0,"3.5%",0,0,0,0,0,0,0,0,0,0,0,0,0,0,0,0,0,0,0,0,0,0,0,0,0,0,0,0,0,0,0,0,0,0,0,0,0,0,0,0,0,0]
["1 в","Молова О.М",0.7,0,0,0.64,0.09,0.75,0,0,0.81,0,0.28999999999999998,0,0.02,0.31,0.04,0,0.35,0,0.45,0.23421052631578948,0,0.65,0,0,0.63,0,0,0.63,0,0.63,0,0.37,0,0,0.37,-0.1,0,0.27,0,0.27,0,"2.5%",0,0,0,0,0,0,0,0,0,0,0,0,0,0,0,0,0,0,0,0,0,0,0,0,0,0,0,0,0,0,0,0,0,0,0,0,0,0,0,0,0,0]
["1 г к","Жемгуразова З.Л.",0.7,0,0,0.63,0,0.63,0,0,0.87,0,0.37,0,-0.22,0.37,0.05,0,0.43,0,0.43,0.22421052631578947,0,0.75,0,0,0.75,0,0,0.75,0,0.75,0,0.35,0,0,0.35,-0.05,0,0.3,0,0.3,0,"3.0%",0,0,0,0,0,0,0,0,0,0,0,0,0,0,0,0,0,0,0,0,0,0,0,0,0,0,0,0,0,0,0,0,0,0,0,0,0,0,0,0,0,0]
["2а ","Куржиева К.З",0.9,0,0,0.83,0.12,0.95,0.83,1,0.72,-0.13,0.65,0,0,0.38,-0.23,0.56999999999999995,0.38,0.47,0.47,0.41631578947368419,0,0.7,0,7.0000000000000007E-2,0.77,-0.23,1,0.77,1,0.78,-0.22,0.47,0,0,0.5,0.03,0.52,0.5,0.54,0.5,-0.04,"3.5%",0.9,0,-0.1,1,0,1,1,1,1,0,0.6,0,0.23,0.83,0,0,0,0,0,-0.05,"3.09%",0.83,0,0,0.73,-0.1,0.9,0.73,1,0.76,-0.24,0.48,0,0,0.4,0.02,0.47,0.38,0.38,0.37,-0.01,{"$f":"AVERAGE(BN39:CG39)","v":0.35499999999999998}]
["2 б ","Карданова И.М.",0.8,0,0,0.8,-0.01,1,0.81,1,1,0.19,0.38,0,0,0.4,-0.02,0.37,0.37,0.39,0.37,0.41315789473684217,0,0.81,0,0,0.83,-7.0000000000000007E-2,1,0.82,0.82,1,-0.18,0.37,0,0,0.39,-0.02,0.4,0.39,0.37,0.37,-0.02,"3.2%",0.8,0,-0.2,1,0,1,0.81,1,1,0,0.38,0,0,0.37,-0.01,0.37,0.37,0.35,0.37,-0.02,"3.7%",0.79,0,-0.03,0.76,-0.24,1,0.76,1,0.76,-0.24,0.49,0,0.1,0.39,-0.01,0.4,0.34,0.39,0.39,-0.05,0.35]
["2 в ","Дышекова И.А. ",0.75,0,0,0.85,-0.15,1,0.85,1,1,-0.15,0.34,0,0,0.35,-0.01,0.42,0.35,0.42,0.37,0.3889473684210526,0,0.75,0,0.06,0.81,-0.02,1,0.89,1,1,-0.11,0.34,0,0.01,0.35,0.04,0.39,0.39,0.39,0.41,0.02,"3.3%",0.81,0,0.04,0.85,0,1,0.85,1,0.85,-0.15,0.41,0,-0.02,0.39,-0.05,0.44,0.41,0.44,0.41,-0.03,"3.1%",0.82,0,0.03,0.85,0.15,1,0.85,1,0.85,-0.15,0.28000000000000003,0,-0.06,0.32,7.0000000000000007E-2,0.39,0.32,0.39,0.37,-0.02,0.373]
["2  г К","Аргашокова Л.З. ",0.75,0,0,0.75,-0.25,1,0.85,1,1,-7.0000000000000007E-2,0.28000000000000003,0,0,0.28000000000000003,0.02,0.31,0.35,0.42,0.37,0.37157894736842101,0,0.82,0,-7.0000000000000007E-2,0.75,0,0.86,0.75,1,1,-0.04,0.34,0,0.03,0.37,0.14000000000000001,0.51,0.31,0.55000000000000004,0.5,-0.05,"3.5%",0.89,0,0,0.82,-0.06,0.89,0.98,1,1,0,0.35,0,-0.01,0.34,0,0.35,0.38,0.38,0.37,-0.01,"3.3%",0.93,0,7.0000000000000007E-2,1,0,1,1,1,1,0,0.34,0,-0.02,0.32,0,0.34,0.41,0.41,0.41,0,0.41050000000000003,null,null,null,null," "]
["3 а ","Эльмесова Е.Х.",0.8,0,0,0.87,-0.14000000000000001,1,0.87,1,0.85,-0.15,0.38,0,0.06,0.44,0.03,0.47,0.44,0.47,0.44,0.41210526315789475,0,0.8,0,0.05,0.85,0,1,0.85,1,1,-0.15,0.38,0,0,0.41,0.06,0.47,0.41,0.47,0.42,-0.06,{"$f":"AVERAGE(AR25:AR42)","v":0.51490196078431383},1,0,0,1,0,0,0,1,1,0,0.38,0,-0.06,0.44,0.03,0.47,0.44,0.44,0.47,-0.03,"3.3%",0.78,0,-0.02,0.8,-0.2,1,0.8,1,1,-0.2,0.43,0,0,0.4,-0.08,0.48,0.41,0.49,0.49,-0.08,0.375]
["3 б ","Уметова М.М",0.8,0,7.0000000000000007E-2,0.87,-7.0000000000000007E-2,0.96,0.96,1,1,-0.04,0.44,0,0.04,0.48,0.05,0.53,0.46,0.5,0.04,0.4257894736842105,0,0.87,0,-0.03,0.84,0.06,1,0.88,1,1,-0.12,0.45,0,0.03,0.48,-0.02,0.46,0.39,0.46,0.46,-0.37,"3.5%",0.88,0,0.04,0.92,-0.06,1,0.92,1,1,0,0.46,0,0.08,0.54,0.03,0.56999999999999995,0.54,0.65,0.69,0.04,"6.0%",0.78,0,0,0.83,0.17,1,0.96,1,0.96,-0.04,0.43,0,-0.02,0.41,0.01,0.42,0.41,0.42,0.42,0,0.40800000000000003]
["3 в ","Сонова И.К. ",0.83,0,0.01,0.84,-0.16,1,0.88,1,1,-0.12,0.45,0,-0.01,0.44,0.16,0.6,0.62,0.6,0.02,0.42947368421052634,0,0.86,0,0.01,0.87,0.13,1,0.87,1,1,-0.13,0.54,0,-0.18,0.36,0.12,0.48,0.49,0.5,0.52,0.02,"3.6 %",0.83,0,0.17,1,0,1,1,1,1,0,0.5,0,0.1,0.6,0.08,0.68,0.6,0.68,0.7,0.02,"6.0%",0.77,0,-0.02,0.75,-0.09,0.96,0.75,1,1,0,0.4,0,0.1,0.5,-0.06,0.44,0.57999999999999996,0.52,0.44,-0.08,0.39800000000000002]
[" 3 г К","Ажахова А.И.",0.92,0,0.02,0.94,-0.06,1,0.94,1,1,-0.16,0.64,0,0.02,0.66,0,0.66,0.64,0.61,0.64,0.49842105263157888,0,0.7,0,-0.13,0.56999999999999995,-0.43,1,0.56999999999999995,1,1,-0.43,0.23,0,0.12,0.35,-0.26,0.61,0.35,0.44,0.5,0.06,"3.6%",1,0,0,1,0,1,1,1,1,0,0.88,0,-0.05,0.83,0,0.83,0.88,0.83,0.83,0,"4.0 %",0.22,0,0.28000000000000003,0.6,-0.4,1,0.93,1,0.93,-7.0000000000000007E-2,0.11,0,0.22,0.33,0.05,0.38,0.33,0.22,0.38,0.16,0.33350000000000002]
["3 д К","Ахобекова ",0.75,0,0,0.75,0,0.75,-0.25,1,0.75,-0.25,0.37,0,0,0.37,0,0.37,0,0.41,0.37,0.28368421052631582,0,0.8,0,-0.05,0.75,-0.25,1,0.75,1,0.75,-0.25,0.33,0,0.04,0.37,0,0.37,0.37,0.37,0.33,-0.04,"3.0%",0.85,0,-0.04,0.81,0,1,0.87,1,1,0,0.31,0,-0.01,0.3,0,0.3,0.3,0.3,0.3,0,"3.05%",0.81,0,0,0.81,0,0.81,0.81,1,0.91,-0.08,0.31,0,0,0.31,0,0.31,0.31,0.31,0.31,0,0.34649999999999992]
["4 а ","Бирмамитова А.Х.",0.81,0,-0.08,0.73,0.23,0.96,0.73,1,0.95,-0.05,0.4,0,-0.19,0.59,-0.03,0.56000000000000005,0.35,0.56000000000000005,0.6,0.42736842105263156,0,0.91,0,-0.05,0.86,0,1,0.86,1,0.86,-0.14000000000000001,0.5,0,-0.27,0.23,-0.42,0.65,0.6,0.61,0.61,0.01,"3.7%",1,0,0,1,0,1,0,1,0.95,-0.05,0.77,0,-0.12,0.65,{"$f":"-BH4","v":0},0.65,0.68,0.78,0.78,0,"4.1%",0.95,0,0,0.76,0,1,0.77,1,1,-0.23,0.5,0,-0.31,0.19,-0.34,0.65,0.45,0.61,0.56000000000000005,-0.05,0.37550000000000011]
["4 б ","Маршенова А.Х.",0.84,0,0,0.84,-0.16,1,0.84,1,0.95,-0.05,0.68,0,0.1,0.78,-0.39,0.96,0.47,0.95,0.88,0.51,-0.48,0.64,0,-0.16,0.8,-0.2,1,0.8,1,1,-0.2,0.48,0,-0.08,0.4,-0.2,0.8,0.6,0.68,0.76,0.08,"4.0%",1,0,0,1,0,1,0,1,1,0,0.96,0,-0.04,0.92,0,1,1,1,1,1,"5.0%",1,0,1,1,0,1,1,1,1,0,0.44,0,0.2,0.64,0,0.64,0.4,0.52,0.52,-0.08,0.51400000000000001]
["4 в ","Додохова Ж.Х.",0.73,0,0,0.77,-0.23,1,0.77,1,0.94,-0.06,0.41,0,0.09,0.5,0.08,0.57999999999999996,0.5,0.61,0.66,0.43947368421052641,0,0.73,0,0.04,0.77,0,1,0.77,1,0.94,-0.06,0.47,0,-0.09,0.38,-0.26,0.64,0.39,0.66,0.6,-0.06,"3.1%",0.68,0,-0.32,1,0,1,1,1,1,0,0.36,0,0,0.7,0.01,0.71,0.71,0.88,0.72,-0.06,"4.4%",0.63,0,-0.2,0.83,0,1,0.83,1,0.94,-0.06,0.31,0,-0.24,0.55000000000000004,0,0.64,0.55000000000000004,0.66,0.61,-0.05,0.39999999999999997]
["4г","Ташилова Н.З.",0.63,0,0.21,0.84,-0.16,1,0.85,1,0.85,-0.15,0.46,0,-0.08,0.38,0.01,0.39,0.34,0.4,0.36,0.38578947368421046,0,0.84,0,0,0.86,0,1,0.86,1,1,-0.14000000000000001,0.32,0,0.01,0.33,0.06,0.39,0.33,0.4,0.3,-0.1,"3.8%",0.86,0,0.04,0.9,0,1,0.9,1,1,-0.1,0.42,0,-0.02,0.4,0,0.4,0.38,0.4,0.4,-0.02,"3.05%",0.86,0,-0.01,0.85,-0.15,1,0.85,1,1,-0.15,0.49,0,-0.16,0.33,0.06,0.4,0.33,0.41,0.38,-0.03,0.373]
["4 д ","Гетаова А.М.",0.56000000000000005,0,-0.08,0.64,-0.26,1,0.64,0.94,0.76,-0.18,0.31,0,0.04,0.35,0,0.57999999999999996,0.35,0.47,0.57999999999999996,0.35263157894736841,0,0.59,0,0,0.73,0,0.94,0.86,0.94,1,-0.06,0.41,0,0,0.65,0,0.57999999999999996,0.65,0.57999999999999996,0.57999999999999996,-7.0000000000000007E-2,"3.8%",1,0,0,1,0,1,1,1,1,0,0.52,0,-0.06,0.57999999999999996,0,0.57999999999999996,0.57999999999999996,0.57999999999999996,0.64,0.06,"4.0%",0.57999999999999996,0,0.04,0.62,0,1,0.62,0.94,1,-0.06,0.38,0,-0.2,0.57999999999999996,0,0.57999999999999996,0.56000000000000005,0.57999999999999996,0.57999999999999996,-0.02,0.38900000000000007]
[12,"средняя единица по 2-4 ",{"$f":"AVERAGE(C40:C52)","v":0.76692307692307693},{"$f":"AVERAGE(D40:D52)","v":0},1.1538461538461536E-2,0.80692307692307697,-0.10923076923076924,0.97461538461538466,{"$f":"AVERAGE(I35:I52)","v":0.5872222222222222},{"$f":"AVERAGE(J35:J52)","v":0.77444444444444438},{"$f":"AVERAGE(K35:K52)","v":0.88722222222222202},-9.5384615384615387E-2,0.42615384615384616,0,5.3846153846153853E-3,0.46307692307692311,-7.6923076923076927E-3,0.52307692307692311,{"$f":"AVERAGE(S35:S52)","v":0.40222222222222215},{"$f":"AVERAGE(T35:T52)","v":0.40444444444444444},{"$f":"AVERAGE(U35:U52)","v":0.44222222222222224},{"$f":"AVERAGE(V35:V52)","v":0.37257309941520461},{"$f":"AVERAGE(W40:W52)","v":-3.692307692307692E-2},{"$f":"AVERAGE(X40:X52)","v":0.77846153846153843},0,-2.5384615384615387E-2,0.79153846153846164,-6.0000000000000005E-2,0.98461538461538456,{"$f":"AVERAGE(AD35:AD52)","v":0.79444444444444429},{"$f":"AVERAGE(AE35:AE52)","v":0.76444444444444448},{"$f":"AVERAGE(AF35:AF52)","v":0.9044444444444445},-0.1546153846153846,0.39692307692307693,0,-2.923076923076923E-2,0.39,-5.8461538461538461E-2,0.51923076923076916,0.43615384615384617,0.49846153846153851,0.48923076923076919,-4.4615384615384605E-2,0.51490196078431383,{"$f":"AVERAGE(AS40:AS52)","v":0.89230769230769214},0,-2.0769230769230769E-2,0.94615384615384623,-9.2307692307692299E-3,0.91461538461538461,0.71769230769230774,1,0.98461538461538456,{"$f":"AVERAGE(BB40:BB52)","v":-2.3076923076923082E-2},0.51538461538461533,0,-1.6153846153846154E-2,0.54307692307692312,6.9230769230769216E-3,0.56538461538461549,{"$f":"AVERAGE(BI35:BI52)","v":0.40388888888888885},{"$f":"AVERAGE(BJ35:BJ52)","v":0.4283333333333334},{"$f":"AVERAGE(BK35:BK52)","v":0.42666666666666664},{"$f":"AVERAGE(BL40:BL52)","v":7.3076923076923067E-2},"3.05%",{"$f":"AVERAGE(BN40:BN52)","v":0.7630769230769231},0,8.7692307692307708E-2,0.80461538461538451,-5.8461538461538468E-2,0.98230769230769233,{"$f":"AVERAGE(BT35:BT52)","v":0.64777777777777767},{"$f":"AVERAGE(BU35:BU52)","v":0.77444444444444438},{"$f":"AVERAGE(BV35:BV52)","v":0.72833333333333328},{"$f":"AVERAGE(BW40:BW52)","v":-9.8461538461538475E-2},0.37769230769230772,0,-3.0000000000000002E-2,0.4053846153846154,-2.3076923076923075E-2,0.46692307692307694,{"$f":"AVERAGE(CD35:CD52)","v":0.32111111111111118},{"$f":"AVERAGE(CE35:CE52)","v":0.35055555555555556},{"$f":"AVERAGE(CF35:CF52)","v":0.34611111111111115},{"$f":"AVERAGE(CG35:CG52)","v":-1.7222222222222226E-2},{"$f":"AVERAGE(CH35:CH52)","v":0.30005555555555558}]
[]
[]
[]
[]
[]
[]
[]
[]
[]
[]
[]
[]
[]
[]
[]
[]
[]
[]
[]
[]
[]
[]
[]
[]
[]
[]
[]
[]
[]
[]
[]
[]
[]
[]
[]
[]
[]
[]
[]
[]
[]
[]
[]
[]
[]
[]
[]
[]
[]
[]
[]
[]
[]
[]
[]
[]
[]
[]
[]
[]
[]
[]
[]
[]
[]
[]
[]
[]
[]
[]
[]
[]
[]
[]
[]
[]
[]
[]
[]
[]
[]
[]
[]
[]
[]
[]
[]
[]
[]
[]
[]
[]
[]
[]
[]
[]
[]
[]
[]
[]
[]
[]
[]
[]
[]
[]
[]
[]
[]
[]
[]
[]
[]
[]
[]
[]
[]
[]
[]
[]
[]
[]
[]
[]
[]
[]
[]
[]
[]
[]
[]
[]
[]
[]
[]
[]
[]
[]
[]
[]
[]
[]
[]
[]
[]
[]
[]
[]
[]
[]
[]
[]
[]
[]
[]
[]
[]
[]
[]
[]
[]
[]
[]
[]
[]
[]
[]
[]
[]
[]
[]
[]
[]
[]
[]
[]
[]
[]
[]
[]
[]
[]
[]
[]
[]
[]
[]
[]
[]
[]
[]
[]
[]
[]
[]
[]
[]
[]
[]
[]
[]
[]
[]
[]
[]
[]
[]
[]
[]
[]
[]
[]
[]
[]
[]
[]
[]
[]
[]
[]
[]
[]
[]
[]
[]
[]
[]
[]
[]
[]
[]
[]
[]
[]
[]
[]
[]
[]
[]
[]
[]
[]
[]
[]
[]
[]
[]
[]
[]
[]
[]
[]
[]
[]
[]
[]
[]
[]
[]
[]
[]
[]
[]
[]
[]
[]
[]
[]
[]
[]
[]
[]
[]
[]
[]
[]
[]
[]
[]
[]
[]
[]
[]
[]
[]
[]
[]
[]
[]
[]
[]
[]
[]
[]
[]
[]
[]
[]
[]
[]
[]
[]
[]
[]
[]
[]
[]
[]
[]
[]
[]
[]
[]
[]
[]
[]
[]
[]
[]
[]
[]
[]
[]
[]
[]
[]
[]
[]
[]
[]
[]
[]
[]
[]
[]
[]
[]
[]
[]
[]
[]
[]
[]
[]
[]
[]
[]
[]
[]
[]
[]
[]
[]
[]
[]
[]
[]
[]
[]
[]
[]
[]
[]
[]
[]
[]
[]
[]
[]
[]
[]
[]
[]
[]
[]
[]
[]
[]
[]
[]
[]
[]
[]
[]
[]
[]
[]
[]
[]
[]
[]
[]
[]
[]
[]
[]
[]
[]
[]
[]
[]
[]
[]
[]
[]
[]
[]
[]
[]
[]
[]
[]
[]
[]
[]
[]
[]
[]
[]
[]
[]
[]
[]
[]
[]
[]
[]
[]
[]
[]
[]
[]
[]
[]
[]
[]
[]
[]
[]
[]
[]
[]
[]
[]
[]
[]
[]
[]
[]
[]
[]
[]
[]
[]
[]
[]
[]
[]
[]
[]
[]
[]
[]
[]
[]
[]
[]
[]
[]
[]
[]
[]
[]
[]
[]
[]
[]
[]
[]
[]
[]
[]
[]
[]
[]
[]
[]
[]
[]
[]
[]
[]
[]
[]
[]
[]
[]
[]
[]
[]
[]
[]
[]
[]
[]
[]
[]
[]
[]
[]
[]
[]
[]
[]
[]
[]
[]
[]
[null,"Класс ","Классный руководитель ","Предмет (%)"]
[null,null,null,"Математика ",null,null,null,null,null,null,null,null,null,null,null,null,null,null,null,null,null,null,null,null,"Русский яз"]
[null,null,null,"Усп",null,null,null,null,null,null,null,null,null,"Кач ",null,null,null,null,null,null,null,null,null,null,"Усп",null,null,null,null,null,null,null,null,null,"Кач "]
[null,null,null,"На начало ","Д/О ","Раз-ца ","3 чет /срез","Раз-ца ",null,null,null,"итог за 3 четверть по Журналу","Раз-ца ","На начало ","Д/О ","Раз-ца ","3 чет /срез","Раз-ца ",null,null,null,null,"итог за 3 четверть по Журналу","Раз-ца ","На начало ","Д/О ","Раз-ца ","3 чет /срез","Раз-ца ",null,null,null,"итог за 3 четверть по Журналу","Раз-ца ","На начало ","Д/О ","Раз-ца ","3 чет /срез","Раз-ца ",null,null,null,null,null,"Раз-ца ",null,null,null,null,null,null,null,null,null,null,null,null,null,null,null,null,null,null,null,null,"Раз-ца "]
[null,12,"средняя единица по 2-4 ",81.25,75.666669999999996,-8.5833300000000001,0.69,-7.9166699999999999,null,null,null,0.97,0.28000000000000003,52.416670000000003,44.833329999999997,-8.8333300000000001,0.39400000000000002,-3.75,null,null,null,null,0.4,-4.9000000000000002E-2,79.166669999999996,76.666669999999996,-4.9166699999999999,0.76,-6.3333300000000001,null,null,null,0.97,0.22,51.666670000000003,41.25,-12.25,0.46,3.1818179999999998]

{"sheet":"СводнаяКлассы","index":46,"n_rows":126,"n_cols":17,"rows_kept":126,"cut":false,"hidden":false,"merged":[[123,2,123,4],[124,2,124,4],[125,2,125,4],[115,2,115,4],[116,2,116,4],[117,2,117,4],[118,1,118,10],[118,11,118,14],[89,2,89,4],[89,5,89,12],[89,13,89,15],[90,2,90,15],[114,2,114,4],[71,2,71,4],[72,2,72,4],[73,2,73,4],[74,2,74,4],[33,2,33,4],[34,2,34,4],[35,2,35,4],[0,2,0,4],[1,2,1,15],[0,13,0,15],[0,5,0,12],[28,11,28,14],[28,1,28,10],[26,2,26,4],[25,2,25,4],[24,2,24,4],[27,2,27,4]]}
[null,null,"2018-2019 учебный год ,  по итогам  3 четверти",null,null,"МКОУ СОШ №2 им.А.А. Шогенцукова г. Баксана, 1-4 классы"]
[null,"вбк","Сводная таблица результатов учебной деятельности по классам начальной школы школы"]
["вбк",null,"Класс","Образовательная                         программа","Фамилия и инициалы                         классного руководителя","Аттестовано учащихся:","Учатся на \"Отл\"","Учатся на \"Хор\" и \"Отл\"","Не успе-вают","Не аттес-тованы","Освобо- ждены","Успевае- мость","Кач-во знаний","СОК","Средний балл","Рейтинговый балл класса"]
[1,null,"1а ","УМК \"Школа России\"","Эльмесова Л.Х.",22,4,6,2,0,0,0.9,0.45,null,0.03,{"$f":"AVERAGE(L4:O4)","v":0.46},88]
[2,null,"1б","УМК \"Школа России\"","Уметова М.М.",26,2,7,1,0,0,0.96,0.35,null,0.04,{"$f":"AVERAGE(L5:O5)","v":0.45},87]
[4,null,"1 в","УМК \"Школа России\"","Сонова И.К.",21,3,5,2,0,"2/н",0.88,0.44,null,0.03,{"$f":"AVERAGE(L6:O6)","v":0.45},83]
[5,null,"1кА","УМК \"Школа России\"","Ажахова А.И.",21,0,6,2,0,0,0.9,0.28000000000000003,null,0.03,{"$f":"AVERAGE(L7:O7)","v":0.40333333333333338},83]
[7,null,"1кБ","УМК \"Школа России\"","Ахабекрва Р.А.",19,null,null,null,null,null,null,null,null,null,null,82]
[null,null,null,"итого ",null,null,null,null,null,null,null,{"$f":"AVERAGE(L4:L8)","v":0.90999999999999992},{"$f":"AVERAGE(M5:M8)","v":0.35666666666666669},null,{"$f":"AVERAGE(O5:O8)","v":3.3333333333333333E-2},{"$f":"AVERAGE(L9:O9)","v":0.43333333333333335},85]
[8,null,"2а","УМК \"Школа России\"","Бирмамитова А.Х.",26,2,7,0,0,0,1,0.35,null,0.03,0.46,69]
[9,null,"2б ","УМК \"Школа России\"","Куржиева А.Х.",26,4,5,0,0,0,1,0.36,null,0.04,0.46666666666666662,82]
[10,null,"2в ","УМК \"Школа России\"","Додохова Ж.Х.",21,6,4,0,0,0,1,0.47,null,0.04,0.5033333333333333,72]
[11,null,"2е","УМК \"Школа России\"","Ташилова Н.З.",28,5,6,0,0,0,1,0.39,null,0.04,0.47666666666666674,78]
[12,null,"2ф","УМК \"Школа России\"","Гетаова А.М.",17,4,5,0,0,0,1,0.53,null,0.03,0.52,{"$f":"AVERAGE(Q10:Q13)","v":75.25}]
[null,null,null,"итого ",null,null,null,null,null,null,null,{"$f":"AVERAGE(L10:L14)","v":1},{"$f":"AVERAGE(M10:M14)","v":0.41999999999999993},null,{"$f":"AVERAGE(O10:O14)","v":3.6000000000000004E-2},0.48533333333333334,{"$f":"AVERAGE(Q11:Q14)","v":76.8125}]
[13,null,"3а ","УМК \"Школа России\"","Куржива К.З.",25,4,7,2,0,0,0.91,0.48,null,0.03,0.47333333333333338,75]
[14,null,"3б","УМК \"Школа России\"","Хаваяшхова Р.Т.",24,3,8,2,0,0,0.91,0.46,null,0.03,0.46666666666666673,72]
[15,null,"3в","УМК \"Школа России\"","Тутова Е.Б.",23,2,6,2,0,0,0.91,0.35,null,0.03,0.43,67]
[16,null,"3к","УМК \"Школа России\"","Кумыкова Л.А.",26,4,5,0,0,0,0.88,0.35,null,0.03,0.42,68]
[null,null,null,"итого ",null,null,null,null,null,null,null,{"$f":"AVERAGE(L16:L19)","v":0.90249999999999997},{"$f":"AVERAGE(M16:M19)","v":0.41000000000000003},null,{"$f":"AVERAGE(O16:O19)","v":0.03},0.44750000000000001,{"$f":"AVERAGE(Q16:Q19)","v":70.5}]
[17,null,"4а ","УМК \"Школа России\"","Эльмесова Е.Х.",25,3,10,0,0,0,1,0.39,null,0.03,0.47333333333333338,62]
[18,null,"4б ","УМК \"Школа России\"","Карданова И.М.",19,3,4,0,0,0,1,0.36,null,0.03,0.46333333333333332,76]
[null,null,"4в","УМК \"Школа России\"","Дышекова И.А. ",19,1,4,0,0,0,1,0.31,null,0.03,0.44666666666666671,58]
[19,null,null,"итого ",null,null,null,null,null,null,null,{"$f":"AVERAGE(L21:L23)","v":1},{"$f":"AVERAGE(M21:M23)","v":0.35333333333333333},null,{"$f":"AVERAGE(O21:O23)","v":0.03},0.46111111111111108,{"$f":"AVERAGE(Q21:Q23)","v":65.333333333333329}]
[null,null,"по 1 - 4 классам:",null,null,{"$f":"SUM(F4:F24)","v":388},{"$f":"SUM(G5:G23)","v":46},{"$f":"SUM(H5:H23)","v":89},{"$f":"SUM(I5:I23)","v":11},null,2,{"$f":"AVERAGE(L5:L23)","v":0.95347222222222228},{"$f":"AVERAGE(M5:M23)","v":0.39203703703703696},null,{"$f":"AVERAGE(O5:O23)","v":3.2740740740740758E-2},0.45941666666666664]
[null,null,"ИТОГО ПО ШКОЛЕ:"]
[null,null,null,null,null,{"$f":"SUMIF($C4:$C23,\"10 *\",F4:F23)+SUMIF($C4:$C23,\"11 *\",F4:F23)","v":0}]
[null,null,"ИТОГО ПО ШКОЛЕ:",null,null,{"$f":"SUM(F25:F27)","v":388}]
[null,"Выполнено с помощью программы статистического анализа результатов учебных достижений",null,null,null,null,null,null,null,null,null,{"$f":"Титул!D531","v":0}]
[]
[]
[]
[null,null,"Класс","Образовательная                         программа","Фамилия и инициалы                         классного руководителя","Аттестовано учащихся:","Учатся на \"Отл\"","Учатся на \"Хор\" и \"Отл\"","Не успе-вают","Не аттес-тованы","Освобо- ждены","Успевае- мость","Кач-во знаний","Средний балл","Рейтинговый балл класса"]
[null,null,"по 1 - 4 классам:",null,null,366,46,89,11,null,2,0.96,0.39100000000000001,3.3000000000000002E-2]
[null,null,"ИТОГО ПО ШКОЛЕ:"]
[null,null,null,null,null,0]
[]
[]
[]
[]
[]
[]
[]
[]
[]
[]
[]
[]
[]
[null,null,"Класс","Образовательная                         программа","Фамилия и инициалы                         классного руководителя","Аттестовано учащихся:","Учатся на \"Отл\"","Учатся на \"Хор\" и \"Отл\"","Не успе-вают","Не аттес-тованы","Освобо- ждены","Успевае- мость","Кач-во знаний","СОК","Средний балл","Рейтинговый балл класса"]
[null,null,"1а ","УМК \"Школа России\"","Эльмесова Л.Х.",22,4,6,2,0,0,0.9,0.45,null,0.03,{"$f":"AVERAGE(J51:O51)","v":0.27600000000000002}]
[null,null,"1б","УМК \"Школа России\"","Уметова М.М.",26,2,7,1,0,0,0.96,0.35,null,0.04,{"$f":"AVERAGE(J52:O52)","v":0.27}]
[null,null,"1 в","УМК \"Школа России\"","Сонова И.К.",21,3,5,2,0,"2/н",0.88,0.44,null,0.03,{"$f":"AVERAGE(J53:O53)","v":0.33750000000000002}]
[null,null,"1кА","УМК \"Школа России\"","Ажахова А.И.",21,0,6,2,0,0,0.9,0.28000000000000003,null,0.03,{"$f":"AVERAGE(J54:O54)","v":0.24200000000000005}]
[null,null,"1кБ","УМК \"Школа России\"","Ахабекрва Р.А.",19]
[null,null,null,"итого ",null,null,null,null,null,null,null,{"$f":"AVERAGE(L51:L55)","v":0.90999999999999992},{"$f":"AVERAGE(M52:M55)","v":0.35666666666666669},null,{"$f":"AVERAGE(O52:O55)","v":3.3333333333333333E-2}]
[null,null,"2а","УМК \"Школа России\"","Бирмамитова А.Х.",26,2,7,0,0,0,1,0.35,null,0.03]
[null,null,"2б ","УМК \"Школа России\"","Куржиева А.Х.",26,4,5,0,0,0,1,0.36,null,0.04]
[null,null,"2в ","УМК \"Школа России\"","Додохова Ж.Х.",21,6,4,0,0,0,1,0.47,null,0.04]
[null,null,"2е","УМК \"Школа России\"","Ташилова Н.З.",28,5,6,0,0,0,1,0.39,null,0.04]
[null,null,"2ф","УМК \"Школа России\"","Гетаова А.М.",17,4,5,0,0,0,1,0.53,null,0.03]
[null,null,null,"итого ",null,null,null,null,null,null,null,{"$f":"AVERAGE(L57:L61)","v":1},{"$f":"AVERAGE(M57:M61)","v":0.41999999999999993},null,{"$f":"AVERAGE(O57:O61)","v":3.6000000000000004E-2}]
[null,null,"3а ","УМК \"Школа России\"","Куржива К.З.",25,4,7,2,0,0,0.91,0.48,null,0.03]
[null,null,"3б","УМК \"Школа России\"","Хаваяшхова Р.Т.",24,3,8,2,0,0,0.91,0.46,null,0.03]
[null,null,"3в","УМК \"Школа России\"","Тутова Е.Б.",23,2,6,2,0,0,0.91,0.35,null,0.03]
[null,null,"3к","УМК \"Школа России\"","Кумыкова Л.А.",26,4,5,0,0,0,0.88,0.35,null,0.03]
[null,null,null,"итого ",null,null,null,null,null,null,null,{"$f":"AVERAGE(L63:L66)","v":0.90249999999999997},{"$f":"AVERAGE(M63:M66)","v":0.41000000000000003},null,{"$f":"AVERAGE(O63:O66)","v":0.03}]
[null,null,"4а ","УМК \"Школа России\"","Эльмесова Е.Х.",25,3,10,0,0,0,1,0.39,null,0.03]
[null,null,"4б ","УМК \"Школа России\"","Карданова И.М.",19,3,4,0,0,0,1,0.36,null,0.03]
[null,null,"4в","УМК \"Школа России\"","Дышекова И.А. ",19,1,4,0,0,0,1,0.31,null,0.03]
[null,null,null,"итого ",null,null,null,null,null,null,null,{"$f":"AVERAGE(L68:L70)","v":1},{"$f":"AVERAGE(M68:M70)","v":0.35333333333333333},null,{"$f":"AVERAGE(O68:O70)","v":0.03}]
[null,null,"по 1 - 4 классам:",null,null,{"$f":"SUM(F51:F71)","v":388},{"$f":"SUM(G52:G70)","v":46},{"$f":"SUM(H52:H70)","v":89},{"$f":"SUM(I52:I70)","v":11},null,2,{"$f":"AVERAGE(L52:L70)","v":0.95347222222222228},{"$f":"AVERAGE(M52:M70)","v":0.39203703703703696},null,{"$f":"AVERAGE(O52:O70)","v":3.2740740740740758E-2}]
[null,null,"ИТОГО ПО ШКОЛЕ:"]
[null,null,null,null,null,{"$f":"SUMIF($C51:$C70,\"10 *\",F51:F70)+SUMIF($C51:$C70,\"11 *\",F51:F70)","v":0}]
[null,null,"ИТОГО ПО ШКОЛЕ:",null,null,{"$f":"SUM(F72:F74)","v":388}]
[]
[]
[]
[]
[]
[]
[]
[]
[]
[]
[]
[]
[]
[]
[null,null,"итого 2020-2021 учебный год ",null,null,"МКОУ СОШ №2 им.А.А. Шогенцукова г. Баксана, 1-4 классы"]
[null,"вбк","Сводная таблица результатов учебной деятельности по классам начальной школы школы"]
["вбк",null,"Класс","Образовательная                         программа","Фамилия и инициалы                         классного руководителя","Аттестовано учащихся:","Учатся на \"Отл\"","Учатся на \"Хор\" и \"Отл\"","Не успе-вают","Не аттес-тованы","Освобо- ждены","Успевае- мость","Кач-во знаний","СОК","Средний балл","Рейтинговый балл класса"]
[1,null,"1а ","УМК \"Школа России\"","Хаваяшхова Р.Т.",25,0,0,0,0,0,0,0,0,0,0,0]
[2,null,"1б","УМК \"Школа России\"","Тутова Е.Б.",26,0,0,0,0,0,0,0,0,0,0,0]
[4,null,"1в ","УМК \"Школа России\"","Молова О.М",23,0,0,0,0,0,0,0,0,0,0,0]
[5,null,"1 г к ","УМК \"Школа России\"","Жемгуразова З.Л.",22,0,0,0,0,0,0,0,0,0,0,0]
[null,null,null,"итого ",null,null,0,0,0,0,0,0,0,0,0,0,0]
[8,null,"2а","УМК \"Школа России\"","Куржиева К.З",22,0,0,0,0,0,0,0,0,0,0,0]
[9,null,"2б ","УМК \"Школа России\"","Карданова И.М.",27,0,0,0,0,0,0,0,0,0,0,0]
[10,null,"2в ","УМК \"Школа России\"","Дышекова И.А. ",29,0,0,0,0,0,0,0,0,0,0,0]
[11,null,"2е","УМК \"Школа России\"","Аргашокова Л.З",30,0,0,0,0,0,0,0,0,0,0,0]
[null,null,null,"итого ",null,null,0,0,0,0,0,0,0,0,0,0,0]
[13,null,"3а ","УМК \"Школа России\"","Эльмесова Е.Х.",22,0,0,0,0,0,0,0,0,0,0,0]
[14,null,"3б","УМК \"Школа России\"","Уметова М.М",26,0,0,0,0,0,0,0,0,0,0,0]
[15,null,"3в","УМК \"Школа России\"","Сонова И.К",27,0,0,0,0,0,0,0,0,0,0,0]
[16,null,"3 г К","УМК \"Школа России\"","Ажахова А.И.",18,0,0,0,0,0,0,0,0,0,0,0]
[16,null,"3 д К","УМК \"Школа России\"","Ахобекова Р.А.",18,0,0,0,0,0,0,0,0,0,0,0]
[null,null,null,"итого ",null,null,0,0,0,0,0,0,0,0,0,0,0]
[17,null,"4а К","УМК \"Школа России\"","Бирмамитова А.Х.",22,0,0,0,0,0,0,0,0,0,0,0]
[18,null,"4б К","УМК \"Школа России\"","Маршенова А.Х.",25,0,0,0,0,0,0,0,0,0,0,0]
[null,null,"4в К","УМК \"Школа России\"","Додохова Ж.Х.",20,0,0,0,0,0,0,0,0,0,0,0]
[null,null,"4 г ","УМК \"Школа России\"","Ташилова Н.З.",30,0,0,0,0,0,0,0,0,0,0,0]
[null,null,"4 д","УМК \"Школа России\"","Гетаова А.М.",17,0,0,0,0,0,0,0,0,0,0,0]
[19,null,null,"итого ",null,null,0,0,0,0,0,0,0,0,0,0,0]
[null,null,"по 1 - 4 классам:",null,null,{"$f":"SUM(F93:F114)","v":429},0,{"$f":"SUM(H94:H113)","v":0},0,0,0,0,0,0,0,0,0]
[null,null,"ИТОГО ПО ШКОЛЕ:"]
[null,null,null,null,null,{"$f":"SUMIF($C93:$C113,\"10 *\",F93:F113)+SUMIF($C93:$C113,\"11 *\",F93:F113)","v":0}]
[null,null,"ИТОГО ПО ШКОЛЕ:",null,null,{"$f":"SUM(F115:F117)","v":429}]
[null,"Выполнено с помощью программы статистического анализа результатов учебных достижений",null,null,null,null,null,null,null,null,null,{"$f":"Титул!D620","v":0}]
[]
[]
[]
[null,null,"Класс","Образовательная                         программа","Фамилия и инициалы                         классного руководителя","Аттестовано учащихся:","Учатся на \"Отл\"","Учатся на \"Хор\" и \"Отл\"","Не успе-вают","Не аттес-тованы","Освобо- ждены","Успевае- мость","Кач-во знаний","Средний балл","Рейтинговый балл класса"]
[null,null,"по 1 - 4 классам:",null,null,366,46,89,11,null,2,0.96,0.39100000000000001,3.3000000000000002E-2]
[null,null,"ИТОГО ПО ШКОЛЕ:"]
[null,null,null,null,null,0]

{"sheet":"в сравнении с итогом","index":47,"n_rows":108,"n_cols":7,"rows_kept":108,"cut":false,"hidden":false,"merged":[[82,4,83,4],[107,0,107,2],[79,0,79,2],[82,0,83,0],[82,1,83,1],[82,2,83,2],[82,3,83,3],[26,3,27,3],[26,4,27,4],[49,0,49,2],[23,0,23,2],[26,0,27,0],[26,1,27,1],[26,2,27,2]]}
[]
["Класс","Образовательная                         программа","Фамилия и инициалы                         классного руководителя","Успевае- мость","%результаты по срезам"]
["1а ","УМК \"Школа России\"","Эльмесова Л.Х.",0.9,88]
["1б","УМК \"Школа России\"","Уметова М.М.",0.96,87]
["1 в","УМК \"Школа России\"","Сонова И.К.",0.88,83]
["1кА","УМК \"Школа России\"","Ажахова А.И.",0.9,83]
["1кБ","УМК \"Школа России\"","Ахабекрва Р.А.",null,82]
[null,"итого ",null,0.91]
["2а","УМК \"Школа России\"","Бирмамитова А.Х.",1,69]
["2б ","УМК \"Школа России\"","Куржиева А.Х.",1,82]
["2в ","УМК \"Школа России\"","Додохова Ж.Х.",1,72]
["2е","УМК \"Школа России\"","Ташилова Н.З.",1,78]
["2ф","УМК \"Школа России\"","Гетаова А.М.",1,75]
[null,"итого ",null,1]
["3а ","УМК \"Школа России\"","Куржива К.З.",0.91,75]
["3б","УМК \"Школа России\"","Хаваяшхова Р.Т.",0.91,72]
["3в","УМК \"Школа России\"","Тутова Е.Б.",0.91,67]
["3к","УМК \"Школа России\"","Кумыкова Л.А.",0.88,68]
[null,"итого ",null,0.9]
["4а ","УМК \"Школа России\"","Эльмесова Е.Х.",1,62]
["4б ","УМК \"Школа России\"","Карданова И.М.",1,76]
["4в","УМК \"Школа России\"","Дышекова И.А. ",1,58]
[null,"итого ",null,1]
["по 1 - 4 классам:",null,null,0.95,0.752]
[]
[]
["Класс","Образовательная                         программа","Фамилия и инициалы                         классного руководителя","Успеваемость","%результаты по срезам","Расхождение"]
[null,null,null,null,null,"со срезами  "]
["1а ","УМК \"Школа России\"","Эльмесова Л.Х.",0.9,88,-0.02]
["1б","УМК \"Школа России\"","Уметова М.М.",0.96,87,-0.09]
["1 в","УМК \"Школа России\"","Сонова И.К.",0.88,83,-0.05]
["1кА","УМК \"Школа России\"","Ажахова А.И.",0.9,83,-7.0000000000000007E-2]
["1кБ","УМК \"Школа России\"","Ахабекрва Р.А.",null,82]
[null,"итого "]
["2а","УМК \"Школа России\"","Бирмамитова А.Х.",1,69,-0.31]
["2б ","УМК \"Школа России\"","Куржиева А.Х.",1,82,-0.18]
["2в ","УМК \"Школа России\"","Додохова Ж.Х.",1,72,-0.28000000000000003]
["2е","УМК \"Школа России\"","Ташилова Н.З.",1,78,-0.22]
["2ф","УМК \"Школа России\"","Гетаова А.М.",1,75,-0.25]
[null,"итого "]
["3а ","УМК \"Школа России\"","Куржива К.З.",0.91,75,-0.16]
["3б","УМК \"Школа России\"","Хаваяшхова Р.Т.",0.91,72,-0.18]
["3в","УМК \"Школа России\"","Тутова Е.Б.",0.91,67,-0.24]
["3к","УМК \"Школа России\"","Кумыкова Л.А.",0.88,68,-0.2]
[null,"итого "]
["4а ","УМК \"Школа России\"","Эльмесова Е.Х.",1,62,-0.38]
["4б ","УМК \"Школа России\"","Карданова И.М.",1,76,-0.24]
["4в","УМК \"Школа России\"","Дышекова И.А. ",1,58,-0.62]
[null,"итого ",null,1]
["по 1 - 4 классам:",null,null,0.95,0.752,{"$f":"AVERAGE(F29:F49)","v":-0.21812500000000001}]
[]
[]
[" 2020-2021 учебныйсравнительный АНАЛИЗ по результатам срезов на конец полугодия и по итогам года."," 2020-2021 учебныйсравнительный АНАЛИЗ по результатам срезов на конец полугодия и по итогам года."," 2020-2021 учебныйсравнительный АНАЛИЗ по результатам срезов на конец полугодия и по итогам года."," 2020-2021 учебныйсравнительный АНАЛИЗ по результатам срезов на конец полугодия и по итогам года."," 2020-2021 учебныйсравнительный АНАЛИЗ по результатам срезов на конец полугодия и по итогам года."," 2020-2021 учебныйсравнительный АНАЛИЗ по результатам срезов на конец полугодия и по итогам года."," 2020-2021 учебныйсравнительный АНАЛИЗ по результатам срезов на конец полугодия и по итогам года."]
[]
[]
[]
["Класс","Образовательная                         программа","Фамилия и инициалы                         классного руководителя","Успевае- мость","%результаты по срезам"]
["1а ","УМК \"Школа России\"","Хаваяшхова Р.Т.",0,0]
["1б","УМК \"Школа России\"","Тутова Е.Б.",0,0]
["1 в","УМК \"Школа России\"","Молова О.М",0,0]
["1кА","УМК \"Школа России\"","Жемгуразова З.Л.",0,0]
[null,"итого ",null,0,0]
["2а","УМК \"Школа России\"","Куржиева К.З",0,0]
["2б ","УМК \"Школа России\"","Карданова И.М.",0,0]
["2в ","УМК \"Школа России\"","Дышекова И.А. ",0,0]
["2е","УМК \"Школа России\"","Аргашокова Л.З. ",0,0]
[null,"итого ",null,0,0]
["3а ","УМК \"Школа России\"","Эльмесова Е.Х.",0,0]
["3б","УМК \"Школа России\"","Уметова М.М",0,0]
["3в","УМК \"Школа России\"","Сонова И.К. ",0,0]
["3 г К",null,"Ажахова А.И.",0,0]
["3 д К","УМК \"Школа России\"","Ахобекова Р.А.",0,0]
[null,"итого ",null,0,0]
["4а К","УМК \"Школа России\"","Бирмамитова А.Х.",0,0]
["4б К","УМК \"Школа России\"","Маршенова А.Х.",0,0]
["4в К","УМК \"Школа России\"","Додохова Ж.Х.",0,0]
["4 Г",null,"Ташилова Н.З.",0,0]
["4 Д",null,"Гетаова А.М.",0,0]
[null,"итого ",null,0,0]
["по 1 - 4 классам:",null,null,0,0]
[]
[]
["Класс","Образовательная                         программа","Фамилия и инициалы                         классного руководителя","Успеваемость","%результаты по срезам","Расхождение"]
[null,null,null,null,null,"со срезами  "]
["Класс","Образовательная                         программа","Фамилия и инициалы                         классного руководителя",0,0,0]
["1а ","УМК \"Школа России\"","Хаваяшхова Р.Т.",0,0,0]
["1б","УМК \"Школа России\"","Тутова Е.Б.",0,0,0]
["1 в","УМК \"Школа России\"","Молова О.М",0,0,0]
["1кА","УМК \"Школа России\"","Жемгуразова З.Л.",0,0,0]
[null,"итого ",null,0,0,0]
["2а","УМК \"Школа России\"","Куржиева К.З",0,0,0]
["2б ","УМК \"Школа России\"","Карданова И.М.",0,0,0]
["2в ","УМК \"Школа России\"","Дышекова И.А. ",0,0,0]
["2е","УМК \"Школа России\"","Аргашокова Л.З. ",0,0,0]
[null,"итого ",null,0,0,0]
["3а ","УМК \"Школа России\"","Эльмесова Е.Х.",0,0,0]
["3б","УМК \"Школа России\"","Уметова М.М",0,0,0]
["3в","УМК \"Школа России\"","Сонова И.К. ",0,0,0]
["3 г К",null,"Ажахова А.И.",0,0,0]
["3 д К","УМК \"Школа России\"","Ахобекова Р.А.",0,0,0]
[null,"итого ",null,0,0,0]
["4а К","УМК \"Школа России\"","Бирмамитова А.Х.",0,0,0]
["4б К","УМК \"Школа России\"","Маршенова А.Х.",0,0,0]
["4в К","УМК \"Школа России\"","Додохова Ж.Х.",0,0,0]
["4 Г",null,"Ташилова Н.З.",0,0,0]
["4 Д",null,"Гетаова А.М.",0,0,0]
[null,"итого ",null,0,0,0]
["по 1 - 4 классам:",null,null,0,0,0]

{"sheet":"ДО","index":48,"n_rows":17,"n_cols":50,"rows_kept":17,"cut":false,"hidden":false,"merged":[[13,42,13,43],[8,42,8,43],[9,42,9,43],[10,42,10,43],[11,42,11,43],[12,42,12,43],[3,42,3,43],[4,42,4,43],[5,42,5,43],[6,42,6,43],[7,42,7,43],[0,32,0,49],[1,32,1,44],[1,45,1,49],[2,32,2,37],[2,38,2,44],[8,24,8,25],[0,0,3,0],[0,1,3,1],[0,2,0,31],[1,2,1,13],[1,14,1,26],[1,27,1,31],[2,2,2,7],[2,8,2,13],[2,14,2,19],[2,20,2,26],[3,24,3,25],[4,24,4,25],[5,24,5,25],[6,24,6,25],[7,24,7,25],[9,24,9,25],[10,24,10,25],[11,24,11,25],[12,24,12,25],[13,24,13,25]]}
["Класс ","Классный руководитель ","Предмет (%)"]
[null,null,"Математика ",null,null,null,null,null,null,null,null,null,null,null,"Русский яз",null,null,null,null,null,null,null,null,null,null,null,null,"Литературное чтение ",null,null,null,null,"Кабардино-черкесский язык(родной)",null,null,null,null,null,null,null,null,null,null,null,null,"Литературное чтение на кабардино-черкеском языке "]
[null,null,"Усп",null,null,null,null,null,"Кач ",null,null,null,null,null,"Усп",null,null,null,null,null,"Кач ",null,null,null,null,null,null,"Норма ","Ниже нормы","Сверх нормы","Только слоговое чтение ","Другое  ","Усп",null,null,null,null,null,"Кач ",null,null,null,null,null,null,"Норма ","Ниже нормы","Сверх нормы","Только слоговое чтение ","Другое  "]
[null,null,"На начало ","Д/О ","Раз-ца ","3 чет ","Год","Раз-ца ","На начало ","Д/О ","Раз-ца ","3 чет ","Год","Раз-ца ","На начало ","Д/О ","Раз-ца ","3 чет ","Год","Раз-ца ","На начало ","Д/О ","Раз-ца ","3 чет ","Год",null,"Раз-ца ",0,0,0,0,0,"На начало ","Д/О ","Раз-ца ","3 чет ","Год","Раз-ца ","На начало ","Д/О ","Раз-ца ","3 чет ","Год",null,"Раз-ца ",0,0,0,0,0]
["2а","Бирмамитова А.Х.",82,66,-16,0.85,null,19,52,43,-9,0.4,null,-3,80,75,-5,0.83,null,-8,47,40,-7,0.43,null,null,3,80,-5,0.83,null,-8,80,75,-5,0.83,null,-8,47,40,-7,0.43,null,null,3,82,-16,0.85,null,19]
["2б ","Куржиева А.Х.",68,76,-8,0.87,null,11,44,66,22,0.31,null,-35,76,76,0,0.95,null,19,52,42,-10,0.37,null,null,-4,76,0,0.95,null,19,76,76,0,0.95,null,19,52,42,-10,0.37,null,null,-4,68,-8,0.87,null,11]
["2в ","Додохова Ж.Х.",86,52,-34,0.57999999999999996,null,5,73,38,-35,0.52,null,14,73,60,-13,0.83,null,-23,55,47,-8,0.61,null,null,-4,73,-13,0.83,null,-23,73,60,-13,0.83,null,-23,55,47,-8,0.61,null,null,-4,86,-34,0.57999999999999996,null,5]
["2е","Ташилова Н.З.",84,84,0,0.82,null,-2,60,45,-15,0.45,null,null,81,91,-10,0.95,null,4,60,43,-27,0.41,null,null,-2,81,-10,0.95,null,4,81,91,-10,0.95,null,4,60,43,-27,0.41,null,null,-2,84,0,0.82,null,-2]
["2ф","Гетаова А.М.",94,79,-15,0.28000000000000003,null,-44,64,29,-35,0.33,null,4,70,76,6,0.7,null,-6,64,48,-16,0.47,null,null,-1,70,6,0.7,null,-6,70,76,6,0.7,null,-6,64,48,-16,0.47,null,null,-1,94,-15,0.28000000000000003,null,-44]
["3а ","Куржива К.З.",92,90,-2,0.84,null,-6,74,59,-15,0.53,null,-6,84,81,-3,0.82,null,-1,60,43,-27,0.45,null,null,2,84,-3,0.82,null,-1,84,81,-3,0.82,null,-1,60,43,-27,0.45,null,null,2,92,-2,0.84,null,-6]
["3б","Хаваяшхова Р.Т.",80,80,0,0.88,null,8,45,60,{"$f":"+M1115","v":0},0.46,null,1,85,85,0,0.71,null,-14,47,42,-5,0.42,null,null,null,85,0,0.71,null,-14,85,85,0,0.71,null,-14,47,42,-5,0.42,null,null,null,80,0,0.88,null,8]
["3в","Тутова Е.Б.",75,74,-1,0.68,null,-6,45,42,-3,0.47,null,2,77,75,-2,0.65,null,-10,52,42,-10,0.45,null,null,3,77,-2,0.65,null,-10,77,75,-2,0.65,null,-10,52,42,-10,0.45,null,null,3,75,-1,0.68,null,-6]
["3к","Кумыкова Л.А.",95,78,-17,0.5,null,-45,48,46,-2,0.31,null,-7,100,76,-24,0.55000000000000004,null,-21,48,42,-6,0.76,null,null,28,100,-24,0.55000000000000004,null,-21,100,76,-24,0.55000000000000004,null,-21,48,42,-6,0.76,null,null,28,95,-17,0.5,null,-45]
["4а ","Эльмесова Е.Х.",80,81,-1,0.52,null,-29,48,40,-8,0.32,null,-8,80,81,-1,0.6,null,-19,60,39,-23,0.38,null,null,-1,80,-1,0.6,null,-19,80,81,-1,0.6,null,-19,60,39,-23,0.38,null,null,-1,80,-1,0.52,null,-29]
["4б ","Карданова И.М.",78,78,0,0.86,null,8,43,40,-3,0.38,null,-2,78,82,-3,0.88,null,6,42,42,0,0.38,null,null,-4,78,-3,0.88,null,6,78,82,-3,0.88,null,6,42,42,0,0.38,null,null,-4,78,0,0.86,null,8]
["4в","Дышекова И.А. ",61,70,-9,0.56000000000000005,null,-14,33,30,-3,0.25,null,-5,66,62,-4,0.59,null,-3,33,25,-8,0.4,null,null,15,66,-4,0.59,null,-3,66,62,-4,0.59,null,-3,33,25,-8,0.4,null,null,15,61,-9,0.56000000000000005,null,-14]
[12,"средняя единица по 2-4 ",{"$f":"AVERAGE(C5:C16)","v":81.25},{"$f":"AVERAGE(D5:D16)","v":75.666666666666671},{"$f":"AVERAGE(E5:E16)","v":-8.5833333333333339},{"$f":"AVERAGE(F5:F16)","v":0.68666666666666654},null,{"$f":"AVERAGE(H5:H16)","v":-7.916666666666667},{"$f":"AVERAGE(I5:I16)","v":52.416666666666664},{"$f":"AVERAGE(J5:J16)","v":44.833333333333336},{"$f":"AVERAGE(K5:K16)","v":-8.8333333333333339},{"$f":"AVERAGE(L5:L16)","v":0.39416666666666661},null,{"$f":"AVERAGE(N5:N16)","v":-4.0909090909090908},{"$f":"AVERAGE(O5:O16)","v":79.166666666666671},{"$f":"AVERAGE(P5:P16)","v":76.666666666666671},{"$f":"AVERAGE(Q5:Q16)","v":-4.916666666666667},{"$f":"AVERAGE(R5:R16)","v":0.755},null,{"$f":"AVERAGE(T5:T16)","v":-6.333333333333333},{"$f":"AVERAGE(U5:U16)","v":51.666666666666664},{"$f":"AVERAGE(V5:V16)","v":41.25},{"$f":"AVERAGE(W5:W16)","v":-12.25},{"$f":"AVERAGE(X5:X16)","v":0.46083333333333337},null,null,{"$f":"AVERAGE(AA5:AA16)","v":3.1818181818181817},{"$f":"AVERAGE(AB5:AB16)","v":79.166666666666671},{"$f":"AVERAGE(AC5:AC16)","v":-4.916666666666667},{"$f":"AVERAGE(AD5:AD16)","v":0.755},null,{"$f":"AVERAGE(AF5:AF16)","v":-6.333333333333333},{"$f":"AVERAGE(AG5:AG16)","v":79.166666666666671},{"$f":"AVERAGE(AH5:AH16)","v":76.666666666666671},{"$f":"AVERAGE(AI5:AI16)","v":-4.916666666666667},{"$f":"AVERAGE(AJ5:AJ16)","v":0.755},null,{"$f":"AVERAGE(AL5:AL16)","v":-6.333333333333333},{"$f":"AVERAGE(AM5:AM16)","v":51.666666666666664},{"$f":"AVERAGE(AN5:AN16)","v":41.25},{"$f":"AVERAGE(AO5:AO16)","v":-12.25},{"$f":"AVERAGE(AP5:AP16)","v":0.46083333333333337},null,null,{"$f":"AVERAGE(AS5:AS16)","v":3.1818181818181817},{"$f":"AVERAGE(AT5:AT16)","v":81.25},{"$f":"AVERAGE(AU5:AU16)","v":-8.5833333333333339},{"$f":"AVERAGE(AV5:AV16)","v":0.68666666666666654},null,{"$f":"AVERAGE(AX5:AX16)","v":-7.916666666666667}]

{"sheet":"ДиаграммыКлассы","index":49,"n_rows":21,"n_cols":14,"rows_kept":21,"cut":false,"hidden":false,"merged":[[0,0,0,3],[0,13,0,15],[0,4,0,11],[21,0,21,3],[21,4,21,11],[21,13,21,15],[82,0,82,3],[82,4,82,11],[82,13,82,15],[41,0,41,3],[41,13,41,15]]}
["2018-2019",null,null,null,"МКОУ СОШ №2 им.А.А.Шогенцукова г. Баксана, НШ",null,null,null,null,null,null,null,null,"на конец года"]
[]
[]
[]
[]
[]
[]
[]
[]
[]
[]
[]
[]
[]
[]
[]
[]
[]
[]
[]
["вбк"]

{"sheet":"Успеваемость","index":50,"n_rows":171,"n_cols":9,"rows_kept":171,"cut":false,"hidden":false,"merged":[[0,1,0,6]]}
[null,"2018-2019 по итогам года"]
[null,"Русский язык","литература ","кабардинский язык","иностранный ","математика ","Окружающий мир"]
["1а ",0.9,null,null,null,0.85,null,{"$f":"AVERAGE(B3:G3)","v":0.875}]
["1б",0.88,null,null,null,0.85,null,0.86499999999999999]
["1 в",0.85,null,null,null,0.81,null,0.83000000000000007]
["1кА",0.82,null,null,null,0.83,null,0.82499999999999996]
["1кБ",0.78,null,null,null,0.85,null,0.81499999999999995]
["итого ",0.85,null,null,null,0.84,null,0.84499999999999997]
["2а",0.83,null,0.8,0.36,0.85,0.62,0.69199999999999995]
["2б ",0.95,null,0.87,0.91,0.87,0.48,0.81600000000000006]
["2в ",0.83,null,0.73,0.52,0.57999999999999996,0.95,0.72200000000000009]
["2е",0.95,null,0.61,0.92,0.82,0.62,0.78400000000000003]
["2ф",0.7,null,0.75,0.75,0.28000000000000003,0.69,0.63400000000000012]
["итого ",0.88,null,0.79,0.74,0.68,0.73,0.76400000000000001]
["3а ",0.82,null,0.75,0.42,0.84,0.9,0.74599999999999989]
["3б",0.71,null,0.5,0.71,0.88,0.79,0.71799999999999997]
["3в",0.65,null,0.65,0.6,0.68,0.75,0.66600000000000004]
["3к",0.55000000000000004,null,0.8,0.77,0.5,0.8,0.68399999999999994]
["итого ",0.68,null,0.68,0.63,0.72,0.73,0.68799999999999994]
["4а ",0.6,null,0.72,0.68,0.52,0.6,0.624]
["4б ",0.88,null,0.86,0.88,0.86,0.84,0.8640000000000001]
["84%4в",0.59,null,0.62,0.38,0.56000000000000005,0.57999999999999996,0.54600000000000004]
["итого ",0.69,null,0.73,0.65,0.65,0.67,0.67799999999999994]
["по всем 1-4 ",0.8,null,0.74,0.68,0.84,0.74,0.76]
[null,"4в",0.59,null,0.62,0.38,0.56000000000000005,0.57999999999999996]
[null,"итого ",{"$f":"AVERAGE(C23:C25)","v":0.59},null,{"$f":"AVERAGE(E23:E25)","v":0.65},{"$f":"AVERAGE(F23:F25)","v":0.62333333333333341},{"$f":"AVERAGE(G23:G25)","v":0.65666666666666673},{"$f":"AVERAGE(H23:H25)","v":0.67266666666666663}]
[null,"по всем 1-4 ",{"$f":"AVERAGE(C5:C25)","v":0.59},null,{"$f":"AVERAGE(E11:E25)","v":0.66333333333333322},{"$f":"AVERAGE(F11:F25)","v":0.65266666666666673},{"$f":"AVERAGE(G5:G12)","v":0.66749999999999998},0.69719999999999993]
[null,null,{"$f":"AVERAGE(C5:C27)","v":0.59},null,{"$f":"SUM(E5:E27)","v":12.533333333333335},{"$f":"AVERAGE(F5:F27)","v":0.70069565217391305},{"$f":"COUNT(G5:G27)","v":19},{"$f":"AVERAGE(H11:H25)","v":0.69719999999999993}]
[null,null,null,null,{"$f":"AVERAGE(E5:E28)","v":1.2533333333333334},null,{"$f":"AVERAGE(G5:G28)","v":1.6187083333333334}]
[null,null,null,null,null,null,{"$f":"AVERAGE(G11:G25)","v":0.73}]
[null,null,null,null,null,null,{"$f":"AVERAGE(G5:G25)","v":0.70882352941176474}]
[null,null,null,null,null,null,{"$f":"AVERAGE(G5:G27)","v":0.70390350877192986}]
[]
[]
[]
[]
[]
[]
[]
[]
[]
[]
[]
[]
[]
[]
[]
[]
[]
[]
[]
[]
[]
[]
[]
[]
[]
[]
[]
[]
[]
[]
[]
[]
[]
[]
[]
[]
[]
[]
[]
[]
[]
[]
[]
[]
[]
[]
[]
[]
[]
[]
[]
[]
[]
[]
[]
[]
[]
[]
[]
[]
[]
[]
[]
[]
[]
[]
[]
[]
[]
[]
[]
[]
[]
[]
[]
[]
[]
[]
[]
[]
[]
[]
[]
[]
[]
[]
[]
[]
[]
[]
[]
[]
[]
[]
[]
[]
[]
[]
[]
[]
[]
[]
[]
[]
[]
[]
[]
[]
[]
[]
[]
[]
[]
[]
[]
[]
[null,null,"Русский язык","литература ","кабардинский язык","иностранный ","математика ","Окружающий мир"]
[null,"1а ",0.9,null,null,null,0.85,null,{"$f":"AVERAGE(C150:H150)","v":0.875}]
[null,"1б",0.88,null,null,null,0.85,null,0.86499999999999999]
[null,"1 в",0.85,null,null,null,0.81,null,0.83000000000000007]
[null,"1кА",0.82,null,null,null,0.83,null,0.82499999999999996]
[null,"1кБ",0.78,null,null,null,0.85,null,0.81499999999999995]
[null,"итого ",0.85,null,null,null,0.84,null,0.84499999999999997]
[null,"2а",0.83,null,0.8,0.36,0.85,0.62,0.69199999999999995]
[null,"2б ",0.95,null,0.87,0.91,0.87,0.48,0.81600000000000006]
[null,"2в ",0.83,null,0.73,0.52,0.57999999999999996,0.95,0.72200000000000009]
[null,"2е",0.95,null,0.61,0.92,0.82,0.62,0.78400000000000003]
[null,"2ф",0.7,null,0.75,0.75,0.28000000000000003,0.69,0.63400000000000012]
[null,"итого ",0.88,null,0.79,0.74,0.68,0.73]
[null,"3а ",0.82,null,0.75,0.42,0.84,0.9,{"$f":"AVERAGE(C162:H162)","v":0.74599999999999989}]
[null,"3б",0.71,null,0.5,0.71,0.88,0.79,{"$f":"AVERAGE(C163:H163)","v":0.71799999999999997}]
[null,"3в",0.65,null,0.65,0.6,0.68,0.75,{"$f":"AVERAGE(C164:H164)","v":0.66600000000000004}]
[null,"3к",0.55000000000000004,null,0.8,0.77,0.5,0.8,{"$f":"AVERAGE(C165:H165)","v":0.68399999999999994}]
[null,"итого ",0.68,null,0.68,0.63,0.72,0.73]
[null,"4а ",0.6,null,0.72,0.68,0.52,0.6,{"$f":"AVERAGE(C167:H167)","v":0.624}]
[null,"4б ",0.88,null,0.86,0.88,0.86,0.84,{"$f":"AVERAGE(C168:H168)","v":0.8640000000000001}]
[null,"84%4в",0.59,null,0.62,0.38,0.56000000000000005,0.57999999999999996,{"$f":"AVERAGE(C169:H169)","v":0.54600000000000004}]
[null,"итого ",0.69,null,0.73,0.65,0.65,0.67,{"$f":"AVERAGE(C170:H170)","v":0.67799999999999994}]
[null,"по всем 1-4 ",0.8,null,0.74,0.68,0.84,0.74,{"$f":"AVERAGE(C171:H171)","v":0.76}]

{"sheet":"КачествоЗнаний","index":51,"n_rows":26,"n_cols":9,"rows_kept":26,"cut":false,"hidden":false,"merged":[[0,1,0,6],[1,2,1,3],[1,4,1,7]]}
[null,"2018-2019 учебный год ",null,null,null,null,null,"МКОУ СОШ № 2 им. А.А. Шогенцукова г. Баксана"]
[null,null,null,null,"Качество знаний учащихся начальной  школы  по  предметам  учебного  плана"]
[null,null,{"$f":"Нагрузка!C3","v":"Русский язык"},"литература ","кабардинский язык","иностранный ","математика ",{"$f":"Нагрузка!L3","v":"Окружающий мир"},"итог по классу "]
[null,"1а ",0.5,null,null,null,0.45,null,{"$f":"AVERAGE(C4:H4)","v":0.47499999999999998}]
[null,"1б",0.48,null,null,null,0.44,null,{"$f":"AVERAGE(C5:H5)","v":0.45999999999999996}]
[null,"1 в",0.44,null,null,null,0.43,null,{"$f":"AVERAGE(C6:H6)","v":0.435}]
[null,"1кА",0.47,null,null,null,0.44,null,{"$f":"AVERAGE(C7:H7)","v":0.45499999999999996}]
[null,"1кБ",0.47,null,null,null,0.45,null,{"$f":"AVERAGE(C8:H8)","v":0.45999999999999996}]
[null,null,{"$f":"AVERAGE(C4:C8)","v":0.47199999999999998},null,null,null,{"$f":"AVERAGE(G4:G8)","v":0.442},null,{"$f":"AVERAGE(I4:I8)","v":0.45699999999999996}]
[null,"2а",0.43,null,0.36,0.12,0.4,0.28999999999999998,{"$f":"AVERAGE(C10:H10)","v":0.32}]
[null,"2б ",0.37,null,0.43,0.52,0.31,0.34,0.39400000000000002]
[null,"2в ",0.61,null,0.66,0.1,0.52,0.52,0.48200000000000004]
[null,"2в ",0,0,0,0,0,0,0]
[null,"2е",0.41,null,0.36,0.72,0.45,0.25,0.438]
[null,"2ф",0.47,null,0.3,0.37,0.33,0.44,0.38200000000000001]
[null,null,{"$f":"AVERAGE(C10:C15)","v":0.38166666666666665},0,0.35166666666666663,0.30499999999999999,0.33499999999999996,0.30666666666666664,0.33600000000000002]
[null,"3а ",0.45,null,0.4,0,0.53,0.45,{"$f":"AVERAGE(C17:H17)","v":0.36599999999999999}]
[null,"3б",0.42,null,0.33,0.25,0.46,0.17,{"$f":"AVERAGE(C18:H18)","v":0.32599999999999996}]
[null,"3в",0.45,null,0.45,0.25,0.47,0.05,{"$f":"AVERAGE(C19:H19)","v":0.33399999999999996}]
[null,"3к",0.76,null,0.23,0.4,0.31,0.38,{"$f":"AVERAGE(C20:H20)","v":0.41600000000000004}]
[null,null,{"$f":"AVERAGE(C17:C20)","v":0.52},null,{"$f":"AVERAGE(E17:E20)","v":0.35249999999999998},{"$f":"AVERAGE(F17:F20)","v":0.22500000000000001},{"$f":"AVERAGE(G17:G20)","v":0.4425},{"$f":"AVERAGE(H17:H20)","v":0.26250000000000001},{"$f":"AVERAGE(I17:I20)","v":0.36049999999999993}]
[null,"4а ",0.38,null,0.44,0.28000000000000003,0.32,0.2,{"$f":"AVERAGE(C22:H22)","v":0.32400000000000001}]
[null,"4б ",0.38,null,0.28000000000000003,0.28999999999999998,0.38,0.4,{"$f":"AVERAGE(C23:H23)","v":0.34599999999999997}]
[null,"4в",0.4,null,0.3,0.25,0.25,0.35,{"$f":"AVERAGE(C24:H24)","v":0.30999999999999994}]
[null,null,{"$f":"AVERAGE(C22:C24)","v":0.38666666666666671},null,{"$f":"AVERAGE(E22:E24)","v":0.34},{"$f":"AVERAGE(F22:F24)","v":0.27333333333333337},{"$f":"AVERAGE(G22:G24)","v":0.31666666666666665},{"$f":"AVERAGE(H22:H24)","v":0.31666666666666671},{"$f":"AVERAGE(I22:I24)","v":0.32666666666666661}]
[null,null,{"$f":"AVERAGE(C4:C24)","v":0.44112698412698426},null,{"$f":"AVERAGE(E4:E24)","v":0.34961111111111109},{"$f":"AVERAGE(F10:F24)","v":0.27200000000000002},{"$f":"AVERAGE(G4:G24)","v":0.38854761904761903},{"$f":"AVERAGE(H10:H24)","v":0.29394444444444445},{"$f":"AVERAGE(C26:H26)","v":0.34904603174603183}]

{"sheet":"СреднийБалл","index":52,"n_rows":126,"n_cols":9,"rows_kept":126,"cut":false,"hidden":false,"merged":[[0,1,0,7],[1,4,1,7],[1,2,1,3]]}
[null,"2018-2019учебный год"]
[null,null,null,null,"Средний  балл  успеваемости  учащихся  начальной школы  по  предметам  учебного  плана"]
[]
[null,null,{"$f":"Нагрузка!C3","v":"Русский язык"},"литература ","кабардинский язык","иностранный ","математика ",{"$f":"Нагрузка!L3","v":"Окружающий мир"}]
[null,"1а ",3,null,null,null,3]
[null,"1б",3,null,null,null,3]
[null,"1 в",3,null,null,null,3]
[null,"1кА",3,null,null,null,3]
[null,"1кБ",3,null,null,null,3]
[null,"2а",3,null,3,2,3,3]
[null,"2б ",3,null,3,3,4,2]
[null,"2в ",5,null,4,3,3,3]
[null,"2е",3,null,3,3,3,2]
[null,"2ф",3,null,3,3,3,3]
[null,"3а ",3,null,3]
[null,"3б",3,null,3]
[null,"3а ",3,null,3,2,2,3]
[null,"3б",3,null,2,2,3,2]
[null,"3в",3,null,3,2,3,2]
[null,"3к",3,null,3,3,2,3]
[null,"4а ",3,null,2,3,3,3]
[null,"4б ",3,null,2,3,3,3]
[null,"4в",3,null,2,3,2,2]
[null,17,{"$f":"AVERAGE(C5:C23)","v":3.1052631578947367},null,{"$f":"AVERAGE(E10:E23)","v":2.7857142857142856},{"$f":"AVERAGE(F10:F23)","v":2.6666666666666665},{"$f":"AVERAGE(G5:G23)","v":2.8823529411764706},{"$f":"AVERAGE(H10:H23)","v":2.5833333333333335}]
[]
[]
[]
[]
[]
[]
[]
[]
[]
[]
[]
[]
[]
[]
[]
[]
[]
[]
[]
[]
[]
[]
[]
[]
[]
[]
[]
[]
[]
[]
[]
[]
[]
[]
[]
[]
[]
[]
[]
[]
[]
[]
[]
[]
[]
[]
[]
[]
[]
[]
[]
[]
[]
[]
[]
[]
[]
[]
[]
[]
[]
[]
[]
[null,null,{"$f":"Нагрузка!C87","v":0},"литература ","кабардинский язык","иностранный ","математика ","окружающий мир ","по классам "]
[null,"1а ",3,null,null,null,3,null,{"$f":"AVERAGE(C89:H89)","v":3}]
[null,"1б",3,null,null,null,3,null,3]
[null,"1 в",3,null,null,null,3,null,3]
[null,"1кА",3,null,null,null,3,null,3]
[null,"1кБ",3,null,null,null,3,null,3]
[null,"2а",3,null,3,2,3,3,2.8]
[null,"2б ",3,null,3,3,4,2,3]
[null,"2в ",5,null,4,3,3,3,3.6]
[null,"2е",3,null,3,3,3,2,2.8]
[null,"2ф",3,null,3,3,3,3,3]
[null,"3а ",3,null,3,2,2,3,2.6]
[null,"3б",3,null,2,2,3,2,2.4]
[null,"3а ",3,null,3,2,2,3,{"$f":"AVERAGE(C101:H101)","v":2.6}]
[null,"3б",3,null,2,2,3,2,2.4]
[null,"3в",3,null,3,2,3,2,2.6]
[null,"3к",3,null,3,3,2,3,2.8]
[null,"4а ",3,null,2,3,3,3,2.8]
[null,"4б ",3,null,2,3,3,3,2.8]
[null,"4в",3,null,2,3,2,2,2.4]
[null,17,{"$f":"AVERAGE(C89:C107)","v":3.1052631578947367},null,{"$f":"AVERAGE(E94:E107)","v":2.7142857142857144},{"$f":"AVERAGE(F94:F107)","v":2.5714285714285716},{"$f":"AVERAGE(G89:G107)","v":2.8421052631578947},{"$f":"AVERAGE(H94:H107)","v":2.5714285714285716},2.7609022556390981]
[null,null,{"$f":"AVERAGE(C89:C108)","v":3.1052631578947372},null,{"$f":"AVERAGE(E89:E108)","v":2.7142857142857144},{"$f":"AVERAGE(F89:F108)","v":2.5714285714285712},{"$f":"AVERAGE(G89:G108)","v":2.8421052631578947},{"$f":"AVERAGE(H89:H108)","v":2.5714285714285712},2.7609022556390981]
[]
[]
[]
[]
[null,null,0,"литература ","кабардинский язык","иностранный ","математика ","окружающий мир ","по классам "]
[null,"2а",3,null,3,2,3,3,2.8]
[null,"2е",3,null,3,3,3,2,2.8]
[null,"3а ",3,null,3,2,2,3,2.6]
[null,"3б",3,null,2,2,3,2,2.4]
[null,"3а ",3,null,3,2,2,3,2.6]
[null,"3б",3,null,2,2,3,2,2.4]
[null,"3в",3,null,3,2,3,2,2.6]
[null,"3к",3,null,3,3,2,3,2.8]
[null,"4а ",3,null,2,3,3,3,2.8]
[null,"4б ",3,null,2,3,3,3,2.8]
[null,"4в",3,null,2,3,2,2,2.4]
[null,17,3.11,null,2.71,2.57,2.84,2.57,2.76]

{"sheet":"\"Отличники\"","index":53,"n_rows":22,"n_cols":2,"rows_kept":22,"cut":false,"hidden":true,"merged":[[0,0,0,1],[1,0,1,1]]}
[{"$f":"Титул!B4","v":"МОУ СОШ  № 15"}]
["Учащиеся, освоившие учебную программу на \"отлично\""]
[{"$f":"Титул!B6","v":"4 четверть"},{"$f":"Титул!B5","v":"2014/15 учебный год"}]
["Класс","Фамилия и имя"]
["3 А","Власенко Данил"]
["3 А","Сердюк Алена"]
["3 А","Яремей Виктория"]
["4 Б","Бобылева Алена"]
["4 Б","Липский Иван"]
["4 Б","Полозов Матвей"]
["5 А","Монастыршина Вероника"]
["5 Б","Кристалинская Виктория"]
["6 А","Павлова Ксения"]
["6 А","Потьканова Вероника"]
["6 А","Шкварова Виолета"]
["6 Б","Дышлевич Екатерина"]
["7 Б","Сухарев Владимир"]
["8 А","Красненков Сергей"]
["8 А","Пироган Никита"]
["9 А","Артемьева Ольга"]
["9 А","Петрова Анастасия"]
["9 В","Сапалова Кристина"]

{"sheet":"\"Хорошисты\"","index":54,"n_rows":130,"n_cols":2,"rows_kept":130,"cut":false,"hidden":true,"merged":[[1,0,1,1],[0,0,0,1]]}
[{"$f":"Титул!B4","v":"МОУ СОШ  № 15"}]
["Учащиеся, освоившие учебную программу на \"хорошо\" и \"отлично\""]
[{"$f":"Титул!B6","v":"4 четверть"},{"$f":"Титул!B5","v":"2014/15 учебный год"}]
["Класс","Фамилия и имя"]
["3 А","Бочкарева Дарья"]
["3 А","Васильеву Алису"]
["3 А","Наумова Софья"]
["3 А","Салимгореева Кристина"]
["3 А","Сергеева Ксения"]
["3 А","Сердюк Алиса"]
["3 А","Солодкову Дарью"]
["3 А","Сударева Анжелика"]
["3 А","Тимофи Карина"]
["4 А","Алябьев Владислав"]
["4 А","Вахрушев Никита"]
["4 А","Губенко София"]
["4 А","Кравченко Ксения"]
["4 А","Кузина Алена"]
["4 А","Кулиев Артур"]
["4 А","Позняк Анастасия"]
["4 А","Силиванов Илья"]
["4 А","Стаскевич Анастасия"]
["4 А","Сушков Евгений"]
["4 Б","Барабаш Дана"]
["4 Б","Барановская Диана"]
["4 Б","Белан Татьяна"]
["4 Б","Белова Елизавета"]
["4 Б","Денежкина Эмилия"]
["4 Б","Козлова Софья"]
["4 Б","Репина Полина"]
["4 Б","Сейдахмедова Зарина"]
["4 Б","Храпкова Анастасия"]
["4 В","Бельфер Дарина"]
["4 В","Велиев Анар"]
["4 В","Жмурко Лев"]
["4 В","Казаков Константин"]
["4 В","Ким Эмилия"]
["4 В","Крюкова Дарья"]
["4 В","Михеев Павел"]
["4 В","Тищенко Диана"]
["4 В","Широкова Карина"]
["4 В","Игнатенко Всеволод"]
["4 В","Мазуренко Ярослав"]
["5 А","Голостенова Екатерина"]
["5 А","Долгачева Полина"]
["5 А","Еськова Ксения"]
["5 А","Куличенко Мария"]
["5 А","Лунева Полина"]
["5 А","Новикова Софья"]
["5 А","Пономарев Артем"]
["5 А","Терещенко Николай"]
["5 А","Толкачева Виктория"]
["5 А","Турченко Ирина"]
["5 Б","Ахмадеев Руслан"]
["5 Б","Гуляева Кристина"]
["5 Б","Квецинская Евгения"]
["5 Б","Полякова Наталья"]
["5 Б","Яримей Анастасия"]
["5 Б","Балашова Анастасия"]
["5 Б","Осипов Арсений"]
["5 Б","Суржиков Михаил"]
["6 А","Бычкова Ирина"]
["6 А","Коновалова Ксения"]
["6 А","Короткин Семен"]
["6 А","Латышев Артем"]
["6 А","Левина Татьяна"]
["6 А","Ливанова Анастасия"]
["6 А","Мирошникова Полина"]
["6 А","Рысина Дарья"]
["6 А","Сафронова Анастасия"]
["6 А","Сергеев Владислав"]
["6 А","Сулягина Екатерина"]
["6 А","Тараканов Евгений"]
["6 А","Чечина Ксения"]
["6 А","Чигрина Валерия"]
["6 А","Винокурова Юлия"]
["6 Б","Бирко Александра"]
["6 Б","Ворошилов Степан"]
["6 Б","Кузнецов Егор"]
["6 Б","Малкина Алена"]
["6 Б","Олифер Владислав"]
["6 Б","Стаценко Даниил"]
["6 Б","Харьков Влад"]
["6 Б","Холов Владислав"]
["6 Б","Хорикова Анастасия"]
["6 Б","Шапкова Диана"]
["6 Б","Шокин Андрей"]
["6 Б","Евлоева Анастасия"]
["7 А","Ворошилов Семен"]
["7 А","Гарин Кирилл"]
["7 А","Демирова Сабина"]
["7 А","Евдокимова Алена"]
["7 А","Емельянов Алексей"]
["7 А","Лопатюк Екатерина"]
["7 А","Набиулина Полина"]
["7 А","Овчарова Антонина"]
["7 А","Кропачева Алина"]
["7 А","Малов Максим"]
["7 Б","Гранина Анастасия"]
["7 Б","Жмурко Вячеслав"]
["7 Б","Ипатова Виктория"]
["7 Б","Капсамун Милана"]
["7 Б","Кириков Дмитрий"]
["7 Б","Лебедева Дарья"]
["7 Б","Линник Екатерина"]
["7 Б","Наумов Андрей"]
["7 Б","Новикова Виктория"]
["7 Б","Петина Кристина"]
["7 Б","Петрова Полина"]
["7 Б","Сердюк Полина"]
["7 Б","Серкин Егор"]
["7 Б","Хорошенькая Наталья"]
["8 А","Андронов Дмитрий"]
["8 А","Аргуткин Роман"]
["8 А","Барабаш Максим"]
["8 А","Варфоломеев Роман"]
["8 А","Ковалева Ксения"]
["8 А","Костина Наталья"]
["8 А","Сидоренко Владислав"]
["8 А","Тянутова Анна"]
["9 А","Зарудная Екатерина"]
["9 А","Каргова Мария"]
["9 А","Коробкин Дмитрий"]
["9 А","Лемешев Николай"]
["9 А","Ложников Кирилл"]
["9 А","Проскурина Алёна"]
["9 А","Сотников Илья"]
["9 Б","Чувашова Руфина"]
["9 В","Капсамун Диана"]
["9 В","Скидин Владимир"]

{"sheet":"\"Неуспевающие\"","index":55,"n_rows":4,"n_cols":5,"rows_kept":4,"cut":false,"hidden":true,"merged":[[0,0,0,4],[1,0,1,4]]}
[{"$f":"Титул!B4","v":"МОУ СОШ  № 15"}]
["Список учащихся, имеющих неудовлетворительные оценки"]
[{"$f":"COUNTA(B5:B600)","v":0},"чел.",{"$f":"Титул!B5","v":"2014/15 учебный год"},{"$f":"Титул!B6","v":"4 четверть"}]
["Класс","Фамилия и имя","Учебные предметы","Учитель","Причины неусвоения"]

{"sheet":"\"Неаттестованые\"","index":56,"n_rows":4,"n_cols":5,"rows_kept":4,"cut":false,"hidden":true,"merged":[[0,0,0,3],[1,0,1,3]]}
[{"$f":"Титул!B4","v":"МОУ СОШ  № 15"}]
["Список неаттестованных учащихся"]
[{"$f":"COUNTA(B5:B500)","v":0},"чел.",{"$f":"Титул!B5","v":"2014/15 учебный год"},{"$f":"Титул!B6","v":"4 четверть"}]
["Класс","Фамилия и имя","Учебные предметы","Учитель","Причины неаттестации"]

{"sheet":"\"Освобожденные\"","index":57,"n_rows":4,"n_cols":5,"rows_kept":4,"cut":false,"hidden":true,"merged":[[0,0,0,4],[1,0,1,4]]}
[{"$f":"Титул!B4","v":"МОУ СОШ  № 15"}]
["Список учащихся, освобожденных от изучения отдельных предметов"]
[{"$f":"COUNTA(B5:B500)","v":0},"чел.",{"$f":"Титул!B5","v":"2014/15 учебный год"},null,{"$f":"Титул!B6","v":"4 четверть"}]
["Класс","Фамилия и имя","Учебные предметы","Учитель","Основания для освобождения, причины"]

{"sheet":"Резерв\"Отл\"","index":58,"n_rows":13,"n_cols":5,"rows_kept":13,"cut":false,"hidden":true,"merged":[[1,0,1,4],[0,0,0,4]]}
[{"$f":"Титул!B4","v":"МОУ СОШ  № 15"}]
["Список учащихся, имеющих одну \"четверку\" при остальных отличных оценках"]
[null,{"$f":"COUNTA(C6:C500)","v":8},"чел.",{"$f":"Титул!B5","v":"2014/15 учебный год"},{"$f":"Титул!B6","v":"4 четверть"}]
["№","Класс","Фамилия и имя","Учебный предмет","Учитель"]
[]
[1,"3 А","Наумова Софья","Математика","Литвиненко"]
[2,"3 А","Сердюк Алиса","Математика","Литвиненко"]
[3,"4 В","Михеев Павел","Иностранный язык",0]
[4,"4 Б","Сейдахмедова Зарина","Математика","Варюшина"]
[5,"5 А","Толкачева Виктория","Иностранный язык",0]
[6,"6 А","Коновалова Ксения","Математика","Кочарова"]
[7,"7 Б","Лебедева Дарья","Иностранный язык",0]
[8,"9 В","Капсамун Диана","Математика",0]

{"sheet":"Резерв\"Хор\"","index":59,"n_rows":26,"n_cols":5,"rows_kept":26,"cut":false,"hidden":true,"merged":[[1,1,1,4],[0,0,0,4]]}
[{"$f":"Титул!B4","v":"МОУ СОШ  № 15"}]
[null,"Список учащихся, имеющих одну \"тройку\" при остальных оценках \"4\" и \"5\""]
[null,{"$f":"COUNTA(C6:C500)","v":21},"чел.",{"$f":"Титул!B5","v":"2014/15 учебный год"},{"$f":"Титул!B6","v":"4 четверть"}]
["№","Класс","Фамилия и имя","Учебный предмет","Учитель"]
[]
[1,"3 А","Заикин Андрей","Русский язык","Литвиненко"]
[2,"3 А","Зудин Владислав","Русский язык","Литвиненко"]
[3,"3 А","Капустин Никита","Русский язык","Литвиненко"]
[4,"3 А","Морозков Иван","Русский язык","Литвиненко"]
[5,"3 А","Таскина Валерия","Математика","Литвиненко"]
[6,"3 А","Хайрулин Артур","Русский язык","Литвиненко"]
[7,"3 А","Шишкин Никита","Русский язык","Литвиненко"]
[8,"4 В","Адинкова Александра","Иностранный язык",0]
[9,"4 А","Буданцев Виталий","Математика","Сологуб"]
[10,"4 А","Макаров Георгий","Русский язык","Сологуб"]
[11,"4 В","Мухина Елизавета","Математика","Ржанова"]
[12,"4 Б","Сероватова Елизавета","Математика","Варюшина"]
[13,"4 Б","Циаменко Анастасия","Математика","Варюшина"]
[14,"4 А","Юрченко Дарина","Математика","Сологуб"]
[15,"5 Б","Плаунова Юлия","Русский язык","Есипова"]
[16,"5 А","Тропина Виталия","Русский язык","Адова"]
[17,"6 Б","Васильева Регина","Русский язык","Шипилова"]
[18,"6 А","Мухина Елена","Математика","Кочарова"]
[19,"9 А","Иванова Екатерина","Химия","Чжан"]
[20,"9 А","Соболевская Анна","Химия","Чжан"]
[21,"9 В","Шорохова Полина","Химия","Чжан"]

{"sheet":"Рейтинг","index":60,"n_rows":206,"n_cols":65,"rows_kept":206,"cut":false,"hidden":true,"merged":[[0,48,0,58],[1,49,1,53],[1,55,1,57],[0,24,0,34],[1,25,1,29],[1,31,1,33],[0,36,0,46],[1,37,1,41],[1,43,1,45],[0,0,0,10],[0,12,0,22],[1,13,1,17],[1,19,1,21],[1,1,1,5],[1,7,1,9],[2,0,2,3],[2,6,2,9],[2,12,2,15],[2,18,2,21],[2,24,2,27],[2,30,2,33],[2,36,2,39],[2,42,2,45],[2,48,2,51],[2,54,2,57],[3,27,3,28],[3,26,4,26],[3,38,4,38],[3,37,4,37],[3,36,4,36],[3,33,3,34],[3,32,4,32],[3,31,4,31],[3,30,4,30],[3,25,4,25],[3,24,4,24],[3,21,3,22],[3,20,4,20],[3,19,4,19],[3,18,4,18],[3,15,3,16],[3,14,4,14],[3,13,4,13],[3,12,4,12],[3,9,3,10],[3,8,4,8],[3,7,4,7],[3,6,4,6],[3,3,3,4],[3,2,4,2],[3,1,4,1],[3,0,4,0],[3,57,3,58],[3,56,4,56],[3,55,4,55],[3,54,4,54],[3,51,3,52],[3,50,4,50],[3,49,4,49],[3,48,4,48],[3,45,3,46],[3,44,4,44],[3,43,4,43],[3,42,4,42],[3,39,3,40],[3,60,4,60],[3,61,4,61],[3,62,4,62],[3,63,3,64],[2,60,2,63]]}
[{"$f":"Титул!$B$4","v":"МОУ СОШ  № 15"},null,null,null,null,null,null,null,null,null,null,null,{"$f":"Титул!$B$4","v":"МОУ СОШ  № 15"},null,null,null,null,null,null,null,null,null,null,null,{"$f":"Титул!$B$4","v":"МОУ СОШ  № 15"},null,null,null,null,null,null,null,null,null,null,null,{"$f":"Титул!$B$4","v":"МОУ СОШ  № 15"},null,null,null,null,null,null,null,null,null,null,null,{"$f":"Титул!$B$4","v":"МОУ СОШ  № 15"}]
[null,{"$f":"Титул!$B$5","v":"2014/15 учебный год"},null,null,null,null,null,{"$f":"Титул!$B$6","v":"4 четверть"},null,null,null,null,null,{"$f":"Титул!$B$5","v":"2014/15 учебный год"},null,null,null,null,null,{"$f":"Титул!$B$6","v":"4 четверть"},null,null,null,null,null,{"$f":"Титул!$B$5","v":"2014/15 учебный год"},null,null,null,null,null,{"$f":"Титул!$B$6","v":"4 четверть"},null,null,null,null,null,{"$f":"Титул!$B$5","v":"2014/15 учебный год"},null,null,null,null,null,{"$f":"Титул!$B$6","v":"4 четверть"},null,null,null,null,null,{"$f":"Титул!$B$5","v":"2014/15 учебный год"},null,null,null,null,null,{"$f":"Титул!$B$6","v":"4 четверть"}]
["1-е классы",null,null,null,null,null,"2-е классы",null,null,null,null,null,"3-и классы",null,null,null,null,null,"4-е классы",null,null,null,null,null,"5-е классы",null,null,null,null,null,"6-е классы",null,null,null,null,null,"7-е классы",null,null,null,null,null,"8-е классы",null,null,null,null,null,"9-е классы",null,null,null,null,null,"10-е классы",null,null,null,null,null,"11-е классы"]
["№№ пп","Класс","Фамилия и имя","Рейтинговый",null,null,"№№ пп","Класс","Фамилия и имя","Рейтинговый",null,null,"№№ пп","Класс","Фамилия и имя","Рейтинговый",null,null,"№№ пп","Класс","Фамилия и имя","Рейтинговый",null,null,"№№ пп","Класс","Фамилия и имя","Рейтинговый",null,null,"№№ пп","Класс","Фамилия и имя","Рейтинговый",null,null,"№№ пп","Класс","Фамилия и имя","Рейтинговый",null,null,"№№ пп","Класс","Фамилия и имя","Рейтинговый",null,null,"№№ пп","Класс","Фамилия и имя","Рейтинговый",null,null,"№№ пп","Класс","Фамилия и имя","Рейтинговый",null,null,"№№ пп","Класс","Фамилия и имя","Рейтинговый"]
[null,null,null,"балл","№",null,null,null,null,"балл","№",null,null,null,null,"балл","№",null,null,null,null,"балл","№",null,null,null,null,"балл","№",null,null,null,null,"балл","№",null,null,null,null,"балл","№",null,null,null,null,"балл","№",null,null,null,null,"балл","№",null,null,null,null,"балл","№",null,null,null,null,"балл","№"]
[]
[null,null,null,null,{"$f":"COUNT(1/FREQUENCY((D$7:D$206>D7)*D$7:D$206,D$7:D$206))","v":1},null,1,"2 В","Баженов Егор",{"$error":"#DIV/0!"},{"$f":"COUNT(1/FREQUENCY((J$7:J$206>J7)*J$7:J$206,J$7:J$206))","v":0},null,1,"3 А","Сердюк Алена",20.625,{"$f":"COUNT(1/FREQUENCY((P$7:P$206>P7)*P$7:P$206,P$7:P$206))","v":1},null,1,"4 В","Михеев Павел",20,{"$f":"COUNT(1/FREQUENCY((V$7:V$206>V7)*V$7:V$206,V$7:V$206))","v":1},null,1,"5 Б","Кристалинская Виктория",27.5,{"$f":"COUNT(1/FREQUENCY((AB$7:AB$206>AB7)*AB$7:AB$206,AB$7:AB$206))","v":1},null,1,"6 Б","Дышлевич Екатерина",31.666666666666668,{"$f":"COUNT(1/FREQUENCY((AH$7:AH$206>AH7)*AH$7:AH$206,AH$7:AH$206))","v":1},null,1,"7 Б","Сухарев Владимир",22.307692307692307,{"$f":"COUNT(1/FREQUENCY((AN$7:AN$206>AN7)*AN$7:AN$206,AN$7:AN$206))","v":1},null,1,"8 А","Красненков Сергей",24.333333333333332,{"$f":"COUNT(1/FREQUENCY((AT$7:AT$206>AT7)*AT$7:AT$206,AT$7:AT$206))","v":1},null,1,"9 В","Капсамун Диана",30.357142857142858,{"$f":"COUNT(1/FREQUENCY((AZ$7:AZ$206>AZ7)*AZ$7:AZ$206,AZ$7:AZ$206))","v":1},null,null,null,null,null,{"$f":"COUNT(1/FREQUENCY((BF$7:BF$206>BF7)*BF$7:BF$206,BF$7:BF$206))","v":1},null,1,"11 А","Афанасьев Антон",{"$error":"#DIV/0!"},{"$f":"COUNT(1/FREQUENCY((BL$7:BL$206>BL7)*BL$7:BL$206,BL$7:BL$206))","v":0}]
[null,null,null,null,{"$f":"COUNT(1/FREQUENCY((D$7:D$206>D8)*D$7:D$206,D$7:D$206))","v":1},null,2,"2 Б","Белокопытов Егор",{"$error":"#DIV/0!"},{"$f":"COUNT(1/FREQUENCY((J$7:J$206>J8)*J$7:J$206,J$7:J$206))","v":0},null,2,"3 А","Власенко Данил",18.888888888888889,{"$f":"COUNT(1/FREQUENCY((P$7:P$206>P8)*P$7:P$206,P$7:P$206))","v":2},null,2,"4 Б","Бобылева Алена",18.888888888888889,{"$f":"COUNT(1/FREQUENCY((V$7:V$206>V8)*V$7:V$206,V$7:V$206))","v":2},null,2,"5 А","Монастыршина Вероника",27.5,{"$f":"COUNT(1/FREQUENCY((AB$7:AB$206>AB8)*AB$7:AB$206,AB$7:AB$206))","v":1},null,2,"6 А","Павлова Ксения",31.666666666666668,{"$f":"COUNT(1/FREQUENCY((AH$7:AH$206>AH8)*AH$7:AH$206,AH$7:AH$206))","v":1},null,2,"7 А","Евдокимова Алена",21.53846153846154,{"$f":"COUNT(1/FREQUENCY((AN$7:AN$206>AN8)*AN$7:AN$206,AN$7:AN$206))","v":2},null,2,"8 А","Пироган Никита",24.333333333333332,{"$f":"COUNT(1/FREQUENCY((AT$7:AT$206>AT8)*AT$7:AT$206,AT$7:AT$206))","v":1},null,2,"9 В","Сапалова Кристина",30.357142857142858,{"$f":"COUNT(1/FREQUENCY((AZ$7:AZ$206>AZ8)*AZ$7:AZ$206,AZ$7:AZ$206))","v":1},null,null,null,null,null,{"$f":"COUNT(1/FREQUENCY((BF$7:BF$206>BF8)*BF$7:BF$206,BF$7:BF$206))","v":1},null,2,"11 А","Балябин Александр",{"$error":"#DIV/0!"},{"$f":"COUNT(1/FREQUENCY((BL$7:BL$206>BL8)*BL$7:BL$206,BL$7:BL$206))","v":0}]
[null,null,null,null,1,null,3,"2 А","Богданова Алина",{"$error":"#DIV/0!"},0,null,3,"3 А","Яремей Виктория",18.888888888888889,2,null,3,"4 Б","Липский Иван",18.888888888888889,2,null,3,"5 А","Толкачева Виктория",26.6,2,null,3,"6 А","Потьканова Вероника",31.666666666666668,1,null,3,"7 Б","Лебедева Дарья",21.53846153846154,2,null,3,"8 А","Костина Наталья",21.2,2,null,3,"9 А","Артемьева Ольга",28.333333333333332,2,null,null,null,null,null,1,null,3,"11 А","Белобородов Сергей",{"$error":"#DIV/0!"},0]
[null,null,null,null,1,null,4,"2 А","Ботников Артем",{"$error":"#DIV/0!"},0,null,4,"3 А","Наумова Софья",18,3,null,4,"4 Б","Полозов Матвей",18.888888888888889,2,null,4,"5 А","Голостенова Екатерина",26.3,3,null,4,"6 А","Шкварова Виолета",31.666666666666668,1,null,4,"7 Б","Линник Екатерина",21,3,null,4,"8 А","Аргуткин Роман",20.8,3,null,4,"9 А","Полстьянов Эдуард",28.333333333333332,2,null,null,null,null,null,1,null,4,"11 А","Белоусов Олег",{"$error":"#DIV/0!"},0]
[null,null,null,null,1,null,5,"2 Б","Будько Роман",{"$error":"#DIV/0!"},0,null,5,"3 А","Сердюк Алиса",18,3,null,5,"4 В","Крюкова Дарья",18.75,3,null,5,"5 Б","Ахмадеев Руслан",25.8,4,null,5,"6 А","Коновалова Ксения",30.583333333333332,2,null,5,"7 Б","Петина Кристина",20.23076923076923,4,null,5,"8 А","Михеева Евгения",20.733333333333334,4,null,5,"9 В","Скидин Владимир",28.071428571428573,3,null,null,null,null,null,1,null,5,"11 А","Быстров Александр",{"$error":"#DIV/0!"},0]
[null,null,null,null,1,null,6,"2 Б","Быкова Ксения",{"$error":"#DIV/0!"},0,null,6,"3 А","Сергеева Ксения",16.666666666666668,4,null,6,"4 В","Широкова Карина",18.75,3,null,6,"5 Б","Яримей Анастасия",25.8,4,null,6,"6 А","Рысина Дарья",29.75,3,null,6,"7 Б","Кириков Дмитрий",19.846153846153847,5,null,6,"8 А","Сидоренко Владислав",20.733333333333334,4,null,6,"9 А","Копылова Алина",25.733333333333334,4,null,null,null,null,null,1,null,6,"11 А","Вдовина Дарья",{"$error":"#DIV/0!"},0]
[null,null,null,null,1,null,7,"2 А","Ващук Михаил",{"$error":"#DIV/0!"},0,null,7,"3 А","Солодкову Дарью",16.666666666666668,4,null,7,"4 В","Велиев Анар",18.5,4,null,7,"5 Б","Квецинская Евгения",25,5,null,7,"6 А","Чигрина Валерия",29.583333333333332,4,null,7,"7 Б","Наумов Андрей",19.846153846153847,5,null,7,"8 А","Андронов Дмитрий",20.2,5,null,7,"9 Б","Чувашова Руфина",24.785714285714285,5,null,null,null,null,null,1,null,7,"11 А","Вершинина Алина",{"$error":"#DIV/0!"},0]
[null,null,null,null,1,null,8,"2 В","Вдовченок Мария",{"$error":"#DIV/0!"},0,null,8,"3 А","Бочкарева Дарья",16.555555555555557,5,null,8,"4 В","Ким Эмилия",18.125,5,null,8,"5 Б","Осипов Арсений",25,5,null,8,"6 А","Чечина Ксения",28.583333333333332,5,null,8,"7 Б","Гранина Анастасия",19.692307692307693,6,null,8,"8 В","Иваненко Илья",20.133333333333333,6,null,8,"9 В","Шорохова Полина",24.214285714285715,6,null,null,null,null,null,1,null,8,"11 А","Дрозд Владимир",{"$error":"#DIV/0!"},0]
[null,null,null,null,1,null,9,"2 А","Власов Александр",{"$error":"#DIV/0!"},0,null,9,"3 А","Салимгореева Кристина",16.555555555555557,5,null,9,"4 Б","Барановская Диана",18,6,null,9,"5 А","Новикова Софья",24.8,6,null,9,"6 Б","Олифер Владислав",28.166666666666668,6,null,9,"7 Б","Капсамун Милана",19.46153846153846,7,null,9,"8 А","Матвеева Елизавета",19.933333333333334,7,null,9,"9 А","Костина Виктория",24.066666666666666,7,null,null,null,null,null,1,null,9,"11 А","Зубов Матвей",{"$error":"#DIV/0!"},0]
[null,null,null,null,1,null,10,"2 В","Воробьев Владислав",{"$error":"#DIV/0!"},0,null,10,"3 А","Капустин Никита",16.444444444444443,6,null,10,"4 Б","Сейдахмедова Зарина",18,6,null,10,"5 Б","Полякова Наталья",24.5,7,null,10,"6 Б","Хорикова Анастасия",27.916666666666668,7,null,10,"7 Б","Петрова Полина",19.384615384615383,8,null,10,"8 А","Тянутова Анна",19.933333333333334,7,null,10,"9 А","Майнетти Анастасия",24.066666666666666,7,null,null,null,null,null,1,null,10,"11 А","Иванова Кристина",{"$error":"#DIV/0!"},0]
[null,null,null,null,1,null,11,"2 Б","Галайда Степан",{"$error":"#DIV/0!"},0,null,11,"3 А","Васильеву Алису",16.111111111111111,7,null,11,"4 В","Игнатенко Всеволод",17.75,7,null,11,"5 А","Лунева Полина",24.1,8,null,11,"6 А","Мирошникова Полина",27.666666666666668,8,null,11,"7 Б","Ипатова Виктория",19.076923076923077,9,null,11,"8 А","Варфоломеев Роман",19.600000000000001,8,null,11,"9 А","Ложников Кирилл",23.466666666666665,8,null,null,null,null,null,1,null,11,"11 А","Кожанова Евгения",{"$error":"#DIV/0!"},0]
[null,null,null,null,1,null,12,"2 А","Голостенова Елизавета",{"$error":"#DIV/0!"},0,null,12,"3 А","Сударева Анжелика",16.111111111111111,7,null,12,"4 В","Бельфер Дарина",17.5,8,null,12,"5 Б","Гуляева Кристина",23.9,9,null,12,"6 Б","Шапкова Диана",27.5,9,null,12,"7 А","Кропачева Алина",19.076923076923077,9,null,12,"8 А","Ковалева Ксения",19.600000000000001,8,null,12,"9 А","Федорин Константин",23.466666666666665,8,null,null,null,null,null,1,null,12,"11 А","Коретникова Юлия",{"$error":"#DIV/0!"},0]
[null,null,null,null,1,null,13,"2 Б","Грехова Ярослава",{"$error":"#DIV/0!"},0,null,13,"3 А","Тимофи Карина",16,8,null,13,"4 В","Казаков Константин",17.5,8,null,13,"5 А","Терещенко Николай",23.7,10,null,13,"6 А","Сафронова Анастасия",27.416666666666668,10,null,13,"7 А","Демирова Сабина",18.923076923076923,10,null,13,"8 А","Барабаш Максим",19.533333333333335,9,null,13,"9 В","Морозова Гюнель",23.285714285714285,9,null,null,null,null,null,1,null,13,"11 А","Лесик Екатерина",{"$error":"#DIV/0!"},0]
[null,null,null,null,1,null,14,"2 В","Грибов Алексей",{"$error":"#DIV/0!"},0,null,14,"3 А","Зудин Владислав",15.333333333333334,9,null,14,"4 В","Тищенко Диана",17.5,8,null,14,"5 Б","Балашова Анастасия",23.6,11,null,14,"6 А","Левина Татьяна",27.166666666666668,11,null,14,"7 А","Набиулина Полина",18.923076923076923,10,null,14,"8 В","Ференчук Виктория",19.2,10,null,14,"9 А","Иванова Екатерина",23.133333333333333,10,null,null,null,null,null,1,null,14,"11 А","Ляпин Иван",{"$error":"#DIV/0!"},0]
[null,null,null,null,1,null,15,"2 А","Давыдова Вероника",{"$error":"#DIV/0!"},0,null,15,"3 А","Морозков Иван",15.333333333333334,9,null,15,"4 Б","Барабаш Дана",17.222222222222221,9,null,15,"5 А","Турченко Ирина",23.6,11,null,15,"6 Б","Стаценко Даниил",27.083333333333332,12,null,15,"7 Б","Новикова Виктория",18.923076923076923,10,null,15,"8 А","Слугина Валерия",18.8,11,null,15,"9 Б","Борисенко Юрий",23,11,null,null,null,null,null,1,null,15,"11 А","Матвеева Елена",{"$error":"#DIV/0!"},0]
[null,null,null,null,1,null,16,"2 А","Евсеева Арина",{"$error":"#DIV/0!"},0,null,16,"3 А","Заикин Андрей",15.222222222222221,10,null,16,"4 Б","Денежкина Эмилия",17.222222222222221,9,null,16,"5 А","Куличенко Мария",23.5,12,null,16,"6 А","Ливанова Анастасия",26.916666666666668,13,null,16,"7 А","Малов Максим",18.76923076923077,11,null,16,"8 А","Коноплев Виталий",18.399999999999999,12,null,16,"9 А","Ризаева Валентина",23,11,null,null,null,null,null,1,null,16,"11 А","Мелихов Дмитрий",{"$error":"#DIV/0!"},0]
[null,null,null,null,1,null,17,"2 А","Зайцева Наталья",{"$error":"#DIV/0!"},0,null,17,"3 А","Хайрулин Артур",15.222222222222221,10,null,17,"4 А","Кравченко Ксения",17.222222222222221,9,null,17,"5 А","Еськова Ксения",23.2,13,null,17,"6 Б","Харьков Влад",26.833333333333332,14,null,17,"7 А","Овчарова Антонина",18.76923076923077,11,null,17,"8 Б","Курдуманов Максим",18.2,13,null,17,"9 А","Сотников Илья",22.933333333333334,12,null,null,null,null,null,1,null,17,"11 А","Москаленко Вероника",{"$error":"#DIV/0!"},0]
[null,null,null,null,1,null,18,"2 В","Запорожан Олег",{"$error":"#DIV/0!"},0,null,18,"3 А","Шишкин Никита",15.222222222222221,10,null,18,"4 А","Позняк Анастасия",17.222222222222221,9,null,18,"5 Б","Суржиков Михаил",23.2,13,null,18,"6 А","Винокурова Юлия",26.75,15,null,18,"7 Б","Агеева Юлия",18.692307692307693,12,null,18,"8 В","Корнилов Кирилл",18.133333333333333,14,null,18,"9 В","Гнатик Данил",22.785714285714285,13,null,null,null,null,null,1,null,18,"11 А","Овчарова Кристина",{"$error":"#DIV/0!"},0]
[null,null,null,null,1,null,19,"2 Б","Зырянова Ирина",{"$error":"#DIV/0!"},0,null,19,"3 А","Таскина Валерия",15.111111111111111,11,null,19,"4 Б","Храпкова Анастасия",17.222222222222221,9,null,19,"5 А","Девицына Алиса",23,14,null,19,"6 А","Бычкова Ирина",26.5,16,null,19,"7 Б","Серкин Егор",18.615384615384617,13,null,19,"8 А","Пяткова Екатерина",18,15,null,19,"9 А","Ильин Сергей",22.733333333333334,14,null,null,null,null,null,1,null,19,"11 А","Попкова Татьяна",{"$error":"#DIV/0!"},0]
[null,null,null,null,1,null,20,"2 В","Илларионов Дмитрий",{"$error":"#DIV/0!"},0,null,20,"3 А","Посталова Любовь",14.444444444444445,12,null,20,"4 В","Адинкова Александра",16.875,10,null,20,"5 А","Долгачева Полина",22.8,15,null,20,"6 Б","Малкина Алена",26.5,16,null,20,"7 Б","Хорошенькая Наталья",18.53846153846154,14,null,20,"8 А","Шеховец Настя",17.933333333333334,16,null,20,"9 В","Худиева Авсана",22.714285714285715,15,null,null,null,null,null,1,null,20,"11 А","Рябов Максим",{"$error":"#DIV/0!"},0]
[null,null,null,null,1,null,21,"2 Б","Капустина Полина",{"$error":"#DIV/0!"},0,null,21,"3 А","Воронков Игорь",14.333333333333334,13,null,21,"4 В","Мазуренко Ярослав",16.875,10,null,21,"5 А","Тропина Виталия",22.5,16,null,21,"6 Б","Бирко Александра",26.25,17,null,21,"7 Б","Сердюк Полина",18.46153846153846,15,null,21,"8 А","Голумбиевский Илья",17.8,17,null,21,"9 А","Бахман Григорий",22.466666666666665,16,null,null,null,null,null,1,null,21,"11 А","Самсонова Кристина",{"$error":"#DIV/0!"},0]
[null,null,null,null,1,null,22,"2 Б","Карпов Максим",{"$error":"#DIV/0!"},0,null,22,"3 А","Сатановский Максим",14,14,null,22,"4 Б","Белова Елизавета",16.666666666666668,11,null,22,"5 А","Пономарев Артем",21.8,17,null,22,"6 А","Сергеев Владислав",26.25,17,null,22,"7 Б","Жмурко Вячеслав",18.384615384615383,16,null,22,"8 Б","Леухин Данил",17.666666666666668,18,null,22,"9 В","Просекова Алина",22.357142857142858,17,null,null,null,null,null,1,null,22,"11 А","Сидорова Наталья",{"$error":"#DIV/0!"},0]
[null,null,null,null,1,null,23,"2 В","Карпов Роман",{"$error":"#DIV/0!"},0,null,23,"3 А","Ромашина Стелла",13.888888888888889,15,null,23,"4 А","Кузина Алена",16.666666666666668,11,null,23,"5 А","Дерюжков Сергей",21.6,18,null,23,"6 А","Сулягина Екатерина",26.25,17,null,23,"7 А","Емельянов Алексей",18.23076923076923,17,null,23,"8 А","Косякова Анастасия",17.266666666666666,19,null,23,"9 В","Серазетдинова Ольга",22.357142857142858,17,null,null,null,null,null,1,null,23,"11 А","Сластина Алена",{"$error":"#DIV/0!"},0]
[null,null,null,null,1,null,24,"2 Б","Карташова Анастасия",{"$error":"#DIV/0!"},0,null,24,"3 А","Плесовских Наталья",13.777777777777779,16,null,24,"4 А","Вахрушев Никита",16.555555555555557,12,null,24,"5 Б","Плаунова Юлия",21.4,19,null,24,"6 Б","Холов Владислав",26.25,17,null,24,"7 А","Лопатюк Екатерина",18.153846153846153,18,null,24,"8 А","Храпова Алена",17.266666666666666,19,null,24,"9 В","Гурский Павел",22.142857142857142,18,null,null,null,null,null,1,null,24,"11 А","Солодилов Александр",{"$error":"#DIV/0!"},0]
[null,null,null,null,1,null,25,"2 В","Ковалев Владислав",{"$error":"#DIV/0!"},0,null,25,"3 А","Харченко Валерия",13.222222222222221,17,null,25,"4 В","Жмурко Лев",16.5,13,null,25,"5 Б","Беляева Дарья",21.2,20,null,25,"6 А","Латышев Артем",26,18,null,25,"7 А","Ворошилов Семен",18,19,null,25,"8 В","Воробьев Алексей",17.2,20,null,25,"9 А","Зарудная Екатерина",21.466666666666665,19,null,null,null,null,null,1,null,25,"11 А","Тарасикова Алина",{"$error":"#DIV/0!"},0]
[null,null,null,null,1,null,26,"2 В","Конакова Вероника",{"$error":"#DIV/0!"},0,null,26,"3 А","Бабаев Вячеслав",12.888888888888889,18,null,26,"4 В","Мухина Елизавета",16.5,13,null,26,"5 А","Александрова Полина",20.5,21,null,26,"6 А","Тараканов Евгений",26,18,null,26,"7 А","Гарин Кирилл",18,19,null,26,"8 В","Бусыгин Михаил",16.933333333333334,21,null,26,"9 А","Проскурина Алёна",21.133333333333333,20,null,null,null,null,null,1,null,26,"11 А","Мулындина Валерия",16.533333333333335,0]
[null,null,null,null,1,null,27,"2 Б","Коростелева Ева",{"$error":"#DIV/0!"},0,null,null,null,null,null,18,null,27,"4 Б","Белан Татьяна",16.111111111111111,14,null,27,"5 Б","Косогор Всеволод",20.3,22,null,27,"6 Б","Ворошилов Степан",25.916666666666668,19,null,27,"7 Б","Лялько Вера",17.923076923076923,20,null,27,"8 В","Громик Дмитрий",16.733333333333334,22,null,27,"9 А","Хлопова Светлана",21.066666666666666,21,null,null,null,null,null,1,null,27,"11 В","Воронков Владимир",20.53846153846154,0]
[null,null,null,null,1,null,28,"2 А","Котелевкий Илья",{"$error":"#DIV/0!"},0,null,null,null,null,null,18,null,28,"4 Б","Козлова Софья",16.111111111111111,14,null,28,"5 А","Елизаров Александр",20.2,23,null,28,"6 Б","Евлоева Анастасия",25.666666666666668,20,null,28,"7 Б","Четвертных Наталья",17.692307692307693,21,null,28,"8 Б","Стрельников Никита",16.466666666666665,23,null,28,"9 Б","Шустова Мария",20.857142857142858,22,null,null,null,null,null,1,null,28,"11 В","Чернышев Илья",20.53846153846154,0]
[null,null,null,null,1,null,29,"2 Б","Кристалинская Олеся",{"$error":"#DIV/0!"},0,null,null,null,null,null,18,null,29,"4 Б","Репина Полина",16.111111111111111,14,null,29,"5 А","Масличенко Владислав",20.2,23,null,29,"6 А","Короткин Семен",25.666666666666668,20,null,29,"7 Б","Горбунова Анна",17.307692307692307,22,null,29,"8 А","Футчик Дмитрий",16.399999999999999,24,null,29,"9 В","Зимин Роман",19.642857142857142,23,null,null,null,null,null,1]
[null,null,null,null,1,null,30,"2 Б","Крисюк Ксения",{"$error":"#DIV/0!"},0,null,null,null,null,null,18,null,30,"4 А","Губенко София",16,15,null,30,"5 А","Лупарев Алексей",20.100000000000001,24,null,30,"6 Б","Кузнецов Егор",25.583333333333332,21,null,30,"7 А","Аверкиева Екатерина",17.153846153846153,23,null,30,"8 В","Махницкий Константин",16.2,25,null,30,"9 Б","Федосеев Вячеслав",19.642857142857142,23,null,null,null,null,null,1]
[null,null,null,null,1,null,31,"2 Б","Кужель Юлия",{"$error":"#DIV/0!"},0,null,null,null,null,null,18,null,31,"4 А","Стаскевич Анастасия",16,15,null,31,"5 А","Полякова Полина",20.100000000000001,24,null,31,"6 Б","Шокин Андрей",25.583333333333332,21,null,31,"7 А","Прушинская Виктория",17.076923076923077,24,null,31,"8 В","Щетинина Татьяна",16.2,25,null,31,"9 Б","Вильский Павел",19.571428571428573,24,null,null,null,null,null,1]
[null,null,null,null,1,null,32,"2 В","Кузьменко Александр",{"$error":"#DIV/0!"},0,null,null,null,null,null,18,null,32,"4 А","Алябьев Владислав",15.777777777777779,16,null,32,"5 А","Ищенко Вячеслав",19.899999999999999,25,null,32,"6 Б","Васильева Регина",25.5,22,null,32,"7 А","Белозерова Елизавета",17,25,null,32,"8 А","Кузнецов Данил",16.133333333333333,26,null,32,"9 А","Лемешев Николай",19.399999999999999,25,null,null,null,null,null,1]
[null,null,null,null,1,null,33,"2 А","Лаврентьев Руслан",{"$error":"#DIV/0!"},0,null,null,null,null,null,18,null,33,"4 А","Кулиев Артур",15.777777777777779,16,null,33,"5 Б","Очкин Кирилл",19.899999999999999,25,null,33,"6 А","Мухина Елена",24.916666666666668,23,null,33,"7 А","Дубинина Виктория",17,25,null,33,"8 А","Чесноков Павел",16.066666666666666,27,null,33,"9 В","Вокарин Денис",19.285714285714285,26,null,null,null,null,null,1]
[null,null,null,null,1,null,34,"2 Б","Лазаренкова Ангелина",{"$error":"#DIV/0!"},0,null,null,null,null,null,18,null,34,"4 А","Силиванов Илья",15.777777777777779,16,null,34,"5 Б","Энсс Александр",19.899999999999999,25,null,34,"6 А","Бобырева Татьяна",24.25,24,null,34,"7 Б","Матвеенко Ульяна",17,25,null,34,"8 А","Аверкиев Максим",15.8,28,null,34,"9 Б","Махницкий Владислав",19.285714285714285,26,null,null,null,null,null,1]
[null,null,null,null,1,null,35,"2 А","Лепехина Полина",{"$error":"#DIV/0!"},0,null,null,null,null,null,18,null,35,"4 А","Сушков Евгений",15.666666666666666,17,null,35,"5 Б","Мишко Леонид",19.600000000000001,26,null,35,"6 Б","Каплун Анастасия",24,25,null,35,"7 Б","Воронкова Мария",16.615384615384617,26,null,35,"8 А","Диодоров Данил",15.666666666666666,29,null,35,"9 А","Соболевская Анна",19.133333333333333,27,null,null,null,null,null,1]
[null,null,null,null,1,null,36,"2 Б","Ловейко Виктория",{"$error":"#DIV/0!"},0,null,null,null,null,null,18,null,36,"4 Б","Циаменко Анастасия",15.666666666666666,17,null,36,"5 Б","Прушинский Сергей",19.600000000000001,26,null,36,"6 А","Дерюгин Даниэль",23.916666666666668,26,null,36,"7 Б","Адиканкова Наталья",16.46153846153846,27,null,36,"8 А","Юрьев Сергей",15.466666666666667,30,null,36,"9 В","Калинин Денис",19.071428571428573,28,null,null,null,null,null,1]
[null,null,null,null,1,null,37,"2 А","Логашева Кристина",{"$error":"#DIV/0!"},0,null,null,null,null,null,18,null,37,"4 В","Потьканова Екатерина",15.375,18,null,37,"5 Б","Бабаев Владислав",19.5,27,null,37,"6 А","Новоклинова Полина",23.25,27,null,37,"7 Б","Лаптев Денис",16.23076923076923,28,null,37,"8 В","Юдина Карина",15.4,31,null,37,"9 А","Петрова Анастасия",19.066666666666666,29,null,null,null,null,null,1]
[null,null,null,null,1,null,38,"2 А","Лойко Роман",{"$error":"#DIV/0!"},0,null,null,null,null,null,18,null,38,"4 Б","Сероватова Елизавета",15.111111111111111,19,null,38,"5 Б","Докукина Виктория",19.3,28,null,38,"6 Б","Цветкова Светлана",23.083333333333332,28,null,38,"7 Б","Гирко Александра",15.846153846153847,29,null,38,"8 Б","Ибрагимов Владислав",15.333333333333334,32,null,38,"9 В","Лиснюк Дмитрий",19,30,null,null,null,null,null,1]
[null,null,null,null,1,null,39,"2 А","Лунева Ксения",{"$error":"#DIV/0!"},0,null,null,null,null,null,18,null,39,"4 А","Юрченко Дарина",15.111111111111111,19,null,39,"5 Б","Рекин Даниил",19.3,28,null,39,"6 А","Самар Кирилл",23,29,null,39,"7 Б","Варданян Герман",15.615384615384615,30,null,39,"8 В","Люцков Руслан",15.333333333333334,32,null,39,"9 В","Чапурин Виталий",19,30,null,null,null,null,null,1]
[null,null,null,null,1,null,40,"2 А","Маматкулов Санжабек",{"$error":"#DIV/0!"},0,null,null,null,null,null,18,null,40,"4 А","Буданцев Виталий",15,20,null,40,"5 Б","Крючков Александр",19.2,29,null,40,"6 Б","Герасимова Елена",22.333333333333332,30,null,40,"7 А","Кизима Ялан",15.461538461538462,31,null,40,"8 Б","Самсонов Сергей",15.333333333333334,32,null,40,"9 Б","Петраков Иван",18.642857142857142,31,null,null,null,null,null,1]
[null,null,null,null,1,null,41,"2 Б","Марценюк Ангелина",{"$error":"#DIV/0!"},0,null,null,null,null,null,18,null,41,"4 В","Пельменев Сергей",15,20,null,41,"5 Б","Михеев Иван",19,30,null,41,"6 Б","Киян Максим",22.333333333333332,30,null,41,"7 А","Татьмянина Екатерина",15.384615384615385,32,null,41,"8 Б","Шустов Вадим",15.333333333333334,32,null,41,"9 А","Каргова Мария",18.600000000000001,32,null,null,null,null,null,1]
[null,null,null,null,1,null,42,"2 Б","Мордвинский Георгий",{"$error":"#DIV/0!"},0,null,null,null,null,null,18,null,42,"4 В","Коновчук Анна",14.625,21,null,42,"5 А","Левина Алена",18.899999999999999,31,null,42,"6 Б","Меркулов Дмитрий",22.333333333333332,30,null,42,"7 Б","Федоров Максим",15.384615384615385,32,null,42,"8 А","Апальков Александр",15.266666666666667,33,null,42,"9 В","Грабский Евгений",18.5,33,null,null,null,null,null,1]
[null,null,null,null,1,null,43,"2 Б","Мордвинский Роман",{"$error":"#DIV/0!"},0,null,null,null,null,null,18,null,43,"4 В","Федоров Артем",14.625,21,null,43,"5 А","Черниченко Ангелина",18.899999999999999,31,null,43,"6 А","Гурская Анна",22.083333333333332,31,null,43,"7 Б","Зимин Егор",15.23076923076923,33,null,43,"8 А","Павлушев Герман",14.8,34,null,43,"9 В","Иванченко Роман",18.5,33,null,null,null,null,null,1]
[null,null,null,null,1,null,44,"2 В","Москвичев Сергей",{"$error":"#DIV/0!"},0,null,null,null,null,null,18,null,44,"4 А","Набиулина Лолита",14.555555555555555,22,null,44,"5 А","Котельников Владислав",18.7,32,null,44,"6 А","Зайко Роман",21.75,32,null,44,"7 А","Бодрова Ирина",15,34,null,44,"8 А","Шипицин Максим",14.8,34,null,44,"9 Б","Наймушина Анастасия",18.5,33,null,null,null,null,null,1]
[null,null,null,null,1,null,45,"2 Б","Ожигов Даниил",{"$error":"#DIV/0!"},0,null,null,null,null,null,18,null,45,"4 А","Бестужева Екатерина",14.444444444444445,23,null,45,"5 А","Набок Данила",18.7,32,null,45,"6 Б","Леонов Анатолий",21.75,32,null,45,"7 А","Белявская Виктория",14.692307692307692,35,null,45,"8 А","Никифоров Кирилл",14.666666666666666,35,null,45,"9 А","Полякова Таисия",18.399999999999999,34,null,null,null,null,null,1]
[null,null,null,null,1,null,46,"2 А","Панфилова Надежда",{"$error":"#DIV/0!"},0,null,null,null,null,null,18,null,46,"4 Б","Калекин Никита",14.444444444444445,23,null,46,"5 Б","Киселев Евгений",18.600000000000001,33,null,46,"6 А","Трошина Ангелина",21.583333333333332,33,null,46,"7 А","Волобуева Юлия",14.538461538461538,36,null,46,"8 А","Чернышев Максим",14.666666666666666,35,null,46,"9 Б","Жуков Дмитрий",18.357142857142858,35,null,null,null,null,null,1]
[null,null,null,null,1,null,47,"2 А","Плесовских Жанна",{"$error":"#DIV/0!"},0,null,null,null,null,null,18,null,47,"4 Б","Логачева Анастасия",14.444444444444445,23,null,47,"5 Б","Фоминых Арина",18.600000000000001,33,null,47,"6 А","Семенов Сергей",21.333333333333332,34,null,47,"7 А","Волков Сергей",14.461538461538462,37,null,null,null,null,null,35,null,47,"9 В","Бузунова Елена",18.214285714285715,36,null,null,null,null,null,1]
[null,null,null,null,1,null,48,"2 А","Плохих Данил",{"$error":"#DIV/0!"},0,null,null,null,null,null,18,null,48,"4 Б","Шевцова Виктория",14.444444444444445,23,null,48,"5 Б","Чернышова Валентина",18.600000000000001,33,null,48,"6 А","Пугачев Данил",20.833333333333332,35,null,48,"7 А","Носачёв Владимир",14.307692307692308,38,null,null,null,null,null,35,null,48,"9 Б","Жуков Никита",18.214285714285715,36,null,null,null,null,null,1]
[null,null,null,null,1,null,49,"2 В","Пыленок Максимильян",{"$error":"#DIV/0!"},0,null,null,null,null,null,18,null,49,"4 Б","Шинкоренко Анастасия",14.444444444444445,23,null,49,"5 А","Гиллазиев Владислав",18.399999999999999,34,null,49,"6 А","Недренко Олег",20.75,36,null,49,"7 А","Иванова Анастасия",14.23076923076923,39,null,null,null,null,null,35,null,49,"9 В","Курнакова Анастасия",18.214285714285715,36,null,null,null,null,null,1]
[null,null,null,null,1,null,50,"2 Б","Русакова Кристина",{"$error":"#DIV/0!"},0,null,null,null,null,null,18,null,50,"4 В","Берчанская Анна",14.375,24,null,50,"5 Б","Мирошниченко Иван",18.399999999999999,34,null,50,"6 Б","Варданян Сурик",20.5,37,null,50,"7 А","Баслов Федор",14.076923076923077,40,null,null,null,null,null,35,null,50,"9 В","Мясникова ",18.214285714285715,36,null,null,null,null,null,1]
[null,null,null,null,1,null,51,"2 Б","Саулина Ольга",{"$error":"#DIV/0!"},0,null,null,null,null,null,18,null,51,"4 В","Ивченко Михаил",14.375,24,null,51,"5 А","Сизова Ксения",18.399999999999999,34,null,51,"6 Б","Кузнецова Елизавета",20.25,38,null,51,"7 Б","Забиров Константин",13.923076923076923,41,null,null,null,null,null,35,null,51,"9 В","Нечаева Валерия",18.214285714285715,36,null,null,null,null,null,1]
[null,null,null,null,1,null,52,"2 А","Сахно Илья",{"$error":"#DIV/0!"},0,null,null,null,null,null,18,null,52,"4 А","Гладкова Ульяна",14.333333333333334,25,null,52,"5 Б","Смольников Максим",18.399999999999999,34,null,52,"6 Б","Шмелькова Екатерина",20.166666666666668,39,null,52,"7 Б","Усик Никита",13.923076923076923,41,null,null,null,null,null,35,null,52,"9 В","Папирная Анастасия",18.214285714285715,36,null,null,null,null,null,1]
[null,null,null,null,1,null,53,"2 А","Селина Евгения",{"$error":"#DIV/0!"},0,null,null,null,null,null,18,null,53,"4 А","Макаров Георгий",14.333333333333334,25,null,53,"5 Б","Вахмистрова Алина",18.2,35,null,53,"6 Б","Колмогорцев Виктор",19.916666666666668,40,null,53,"7 А","Ялова Виктория",13.846153846153847,42,null,null,null,null,null,35,null,53,"9 В","Толмачев Юрий",18.214285714285715,36,null,null,null,null,null,1]
[null,null,null,null,1,null,54,"2 А","Син Дмитрий",{"$error":"#DIV/0!"},0,null,null,null,null,null,18,null,54,"4 Б","Нечай Дмитрий",14.333333333333334,25,null,54,"5 Б","Ступко Тимофей",17.5,36,null,54,"6 А","Волошинович Виктор",19.583333333333332,41,null,54,"7 А","Бойко Кристина",13.615384615384615,43,null,null,null,null,null,35,null,54,"9 В","Энсс Анастасия",18.214285714285715,36,null,null,null,null,null,1]
[null,null,null,null,1,null,55,"2 Б","Смолянская Валерия",{"$error":"#DIV/0!"},0,null,null,null,null,null,18,null,55,"4 В","Птухина Евгения",14,26,null,55,"5 Б","Ракута Марина",16.7,37,null,55,"6 Б","Зубков Евгений",19.416666666666668,42,null,55,"7 А","Казакова Екатерина",13.538461538461538,44,null,null,null,null,null,35,null,55,"9 А","Виндец Никита",18.2,37,null,null,null,null,null,1]
[null,null,null,null,1,null,56,"2 А","Соколова Юлия",{"$error":"#DIV/0!"},0,null,null,null,null,null,18,null,56,"4 В","Платонов Дмитрий",13.75,27,null,56,"5 А","Пяточков Михаил",10.8,38,null,null,null,null,null,42,null,56,"7 Б","Лаптев Дмитрий",13.538461538461538,44,null,null,null,null,null,35,null,56,"9 А","Виндец Максим",18,38,null,null,null,null,null,1]
[null,null,null,null,1,null,57,"2 Б","Спицын Илья",{"$error":"#DIV/0!"},0,null,null,null,null,null,18,null,57,"4 А","Гошко Даниил",13.444444444444445,28,null,null,null,null,null,38,null,null,null,null,null,42,null,null,null,null,null,44,null,null,null,null,null,35,null,57,"9 А","Мостовая Вероника",17.600000000000001,39,null,null,null,null,null,1]
[null,null,null,null,1,null,58,"2 Б","Цилина Диана",{"$error":"#DIV/0!"},0,null,null,null,null,null,18,null,58,"4 В","Зотов Александр",13.375,29,null,null,null,null,null,38,null,null,null,null,null,42,null,null,null,null,null,44,null,null,null,null,null,35,null,58,"9 А","Калиниченко Валерия",17.266666666666666,40,null,null,null,null,null,1]
[null,null,null,null,1,null,59,"2 В","Черных Игнат",{"$error":"#DIV/0!"},0,null,null,null,null,null,18,null,59,"4 В","Маслова Виктория",13.375,29,null,null,null,null,null,38,null,null,null,null,null,42,null,null,null,null,null,44,null,null,null,null,null,35,null,59,"9 А","Коробкин Дмитрий",17.266666666666666,40,null,null,null,null,null,1]
[null,null,null,null,1,null,60,"2 Б","Чиркина Милена",{"$error":"#DIV/0!"},0,null,null,null,null,null,18,null,60,"4 Б","Дупик Артур",13.333333333333334,30,null,null,null,null,null,38,null,null,null,null,null,42,null,null,null,null,null,44,null,null,null,null,null,35,null,60,"9 А","Волков Владислав",17,41,null,null,null,null,null,1]
[null,null,null,null,1,null,61,"2 А","Чубенко Кристина",{"$error":"#DIV/0!"},0,null,null,null,null,null,18,null,61,"4 Б","Першин Никита",13.333333333333334,30,null,null,null,null,null,38,null,null,null,null,null,42,null,null,null,null,null,44,null,null,null,null,null,35,null,61,"9 А","Елизарова Дарья",0,42,null,null,null,null,null,1]
[null,null,null,null,1,null,62,"2 А","Ягайлова Варвара",{"$error":"#DIV/0!"},0,null,null,null,null,null,18,null,62,"4 Б","Гречановский Дмитрий",13.222222222222221,31,null,null,null,null,null,38,null,null,null,null,null,42,null,null,null,null,null,44,null,null,null,null,null,35,null,null,null,null,null,42,null,null,null,null,null,1]
[null,null,null,null,1,null,63,"2 А","Яковленко Анастасия",{"$error":"#DIV/0!"},0,null,null,null,null,null,18,null,63,"4 А","Кухоренко Алина",13,32,null,null,null,null,null,38,null,null,null,null,null,42,null,null,null,null,null,44,null,null,null,null,null,35,null,null,null,null,null,42,null,null,null,null,null,1]
[null,null,null,null,1,null,null,null,null,null,0,null,null,null,null,null,18,null,64,"4 А","Лунев Владислав",13,32,null,null,null,null,null,38,null,null,null,null,null,42,null,null,null,null,null,44,null,null,null,null,null,35,null,null,null,null,null,42,null,null,null,null,null,1]
[null,null,null,null,1,null,null,null,null,null,0,null,null,null,null,null,18,null,65,"4 В","Семенкова Диана",13,32,null,null,null,null,null,38,null,null,null,null,null,42,null,null,null,null,null,44,null,null,null,null,null,35,null,null,null,null,null,42,null,null,null,null,null,1]
[null,null,null,null,{"$f":"COUNT(1/FREQUENCY((D$7:D$206>D72)*D$7:D$206,D$7:D$206))","v":1},null,null,null,null,null,{"$f":"COUNT(1/FREQUENCY((J$7:J$206>J72)*J$7:J$206,J$7:J$206))","v":0},null,null,null,null,null,{"$f":"COUNT(1/FREQUENCY((P$7:P$206>P72)*P$7:P$206,P$7:P$206))","v":18},null,66,"4 А","Быков Иван",12.444444444444445,{"$f":"COUNT(1/FREQUENCY((V$7:V$206>V72)*V$7:V$206,V$7:V$206))","v":33},null,null,null,null,null,{"$f":"COUNT(1/FREQUENCY((AB$7:AB$206>AB72)*AB$7:AB$206,AB$7:AB$206))","v":38},null,null,null,null,null,{"$f":"COUNT(1/FREQUENCY((AH$7:AH$206>AH72)*AH$7:AH$206,AH$7:AH$206))","v":42},null,null,null,null,null,{"$f":"COUNT(1/FREQUENCY((AN$7:AN$206>AN72)*AN$7:AN$206,AN$7:AN$206))","v":44},null,null,null,null,null,{"$f":"COUNT(1/FREQUENCY((AT$7:AT$206>AT72)*AT$7:AT$206,AT$7:AT$206))","v":35},null,null,null,null,null,{"$f":"COUNT(1/FREQUENCY((AZ$7:AZ$206>AZ72)*AZ$7:AZ$206,AZ$7:AZ$206))","v":42},null,null,null,null,null,{"$f":"COUNT(1/FREQUENCY((BF$7:BF$206>BF72)*BF$7:BF$206,BF$7:BF$206))","v":1}]
[null,null,null,null,1,null,null,null,null,null,0,null,null,null,null,null,18,null,67,"4 А","Егоров Максим",12.444444444444445,33,null,null,null,null,null,38,null,null,null,null,null,42,null,null,null,null,null,44,null,null,null,null,null,35,null,null,null,null,null,42,null,null,null,null,null,1]
[null,null,null,null,1,null,null,null,null,null,0,null,null,null,null,null,18,null,68,"4 А","Афанасьев Кирилл",12.333333333333334,34,null,null,null,null,null,38,null,null,null,null,null,42,null,null,null,null,null,44,null,null,null,null,null,35,null,null,null,null,null,42,null,null,null,null,null,1]
[null,null,null,null,1,null,null,null,null,null,0,null,null,null,null,null,18,null,69,"4 А","Жуков Денис",12.333333333333334,34,null,null,null,null,null,38,null,null,null,null,null,42,null,null,null,null,null,44,null,null,null,null,null,35,null,null,null,null,null,42,null,null,null,null,null,1]
[null,null,null,null,1,null,null,null,null,null,0,null,null,null,null,null,18,null,null,null,null,null,34,null,null,null,null,null,38,null,null,null,null,null,42,null,null,null,null,null,44,null,null,null,null,null,35,null,null,null,null,null,42,null,null,null,null,null,1]
[null,null,null,null,1,null,null,null,null,null,0,null,null,null,null,null,18,null,null,null,null,null,34,null,null,null,null,null,38,null,null,null,null,null,42,null,null,null,null,null,44,null,null,null,null,null,35,null,null,null,null,null,42,null,null,null,null,null,1]
[null,null,null,null,1,null,null,null,null,null,0,null,null,null,null,null,18,null,null,null,null,null,34,null,null,null,null,null,38,null,null,null,null,null,42,null,null,null,null,null,44,null,null,null,null,null,35,null,null,null,null,null,42,null,null,null,null,null,1]
[null,null,null,null,1,null,null,null,null,null,0,null,null,null,null,null,18,null,null,null,null,null,34,null,null,null,null,null,38,null,null,null,null,null,42,null,null,null,null,null,44,null,null,null,null,null,35,null,null,null,null,null,42,null,null,null,null,null,1]
[null,null,null,null,1,null,null,null,null,null,0,null,null,null,null,null,18,null,null,null,null,null,34,null,null,null,null,null,38,null,null,null,null,null,42,null,null,null,null,null,44,null,null,null,null,null,35,null,null,null,null,null,42,null,null,null,null,null,1]
[null,null,null,null,1,null,null,null,null,null,0,null,null,null,null,null,18,null,null,null,null,null,34,null,null,null,null,null,38,null,null,null,null,null,42,null,null,null,null,null,44,null,null,null,null,null,35,null,null,null,null,null,42,null,null,null,null,null,1]
[null,null,null,null,1,null,null,null,null,null,0,null,null,null,null,null,18,null,null,null,null,null,34,null,null,null,null,null,38,null,null,null,null,null,42,null,null,null,null,null,44,null,null,null,null,null,35,null,null,null,null,null,42,null,null,null,null,null,1]
[null,null,null,null,1,null,null,null,null,null,0,null,null,null,null,null,18,null,null,null,null,null,34,null,null,null,null,null,38,null,null,null,null,null,42,null,null,null,null,null,44,null,null,null,null,null,35,null,null,null,null,null,42,null,null,null,null,null,1]
[null,null,null,null,1,null,null,null,null,null,0,null,null,null,null,null,18,null,null,null,null,null,34,null,null,null,null,null,38,null,null,null,null,null,42,null,null,null,null,null,44,null,null,null,null,null,35,null,null,null,null,null,42,null,null,null,null,null,1]
[null,null,null,null,1,null,null,null,null,null,0,null,null,null,null,null,18,null,null,null,null,null,34,null,null,null,null,null,38,null,null,null,null,null,42,null,null,null,null,null,44,null,null,null,null,null,35,null,null,null,null,null,42,null,null,null,null,null,1]
[null,null,null,null,1,null,null,null,null,null,0,null,null,null,null,null,18,null,null,null,null,null,34,null,null,null,null,null,38,null,null,null,null,null,42,null,null,null,null,null,44,null,null,null,null,null,35,null,null,null,null,null,42,null,null,null,null,null,1]
[null,null,null,null,1,null,null,null,null,null,0,null,null,null,null,null,18,null,null,null,null,null,34,null,null,null,null,null,38,null,null,null,null,null,42,null,null,null,null,null,44,null,null,null,null,null,35,null,null,null,null,null,42,null,null,null,null,null,1]
[null,null,null,null,1,null,null,null,null,null,0,null,null,null,null,null,18,null,null,null,null,null,34,null,null,null,null,null,38,null,null,null,null,null,42,null,null,null,null,null,44,null,null,null,null,null,35,null,null,null,null,null,42,null,null,null,null,null,1]
[null,null,null,null,1,null,null,null,null,null,0,null,null,null,null,null,18,null,null,null,null,null,34,null,null,null,null,null,38,null,null,null,null,null,42,null,null,null,null,null,44,null,null,null,null,null,35,null,null,null,null,null,42,null,null,null,null,null,1]
[null,null,null,null,1,null,null,null,null,null,0,null,null,null,null,null,18,null,null,null,null,null,34,null,null,null,null,null,38,null,null,null,null,null,42,null,null,null,null,null,44,null,null,null,null,null,35,null,null,null,null,null,42,null,null,null,null,null,1]
[null,null,null,null,1,null,null,null,null,null,0,null,null,null,null,null,18,null,null,null,null,null,34,null,null,null,null,null,38,null,null,null,null,null,42,null,null,null,null,null,44,null,null,null,null,null,35,null,null,null,null,null,42,null,null,null,null,null,1]
[null,null,null,null,1,null,null,null,null,null,0,null,null,null,null,null,18,null,null,null,null,null,34,null,null,null,null,null,38,null,null,null,null,null,42,null,null,null,null,null,44,null,null,null,null,null,35,null,null,null,null,null,42,null,null,null,null,null,1]
[null,null,null,null,1,null,null,null,null,null,0,null,null,null,null,null,18,null,null,null,null,null,34,null,null,null,null,null,38,null,null,null,null,null,42,null,null,null,null,null,44,null,null,null,null,null,35,null,null,null,null,null,42,null,null,null,null,null,1]
[null,null,null,null,1,null,null,null,null,null,0,null,null,null,null,null,18,null,null,null,null,null,34,null,null,null,null,null,38,null,null,null,null,null,42,null,null,null,null,null,44,null,null,null,null,null,35,null,null,null,null,null,42,null,null,null,null,null,1]
[null,null,null,null,1,null,null,null,null,null,0,null,null,null,null,null,18,null,null,null,null,null,34,null,null,null,null,null,38,null,null,null,null,null,42,null,null,null,null,null,44,null,null,null,null,null,35,null,null,null,null,null,42,null,null,null,null,null,1]
[null,null,null,null,1,null,null,null,null,null,0,null,null,null,null,null,18,null,null,null,null,null,34,null,null,null,null,null,38,null,null,null,null,null,42,null,null,null,null,null,44,null,null,null,null,null,35,null,null,null,null,null,42,null,null,null,null,null,1]
[null,null,null,null,1,null,null,null,null,null,0,null,null,null,null,null,18,null,null,null,null,null,34,null,null,null,null,null,38,null,null,null,null,null,42,null,null,null,null,null,44,null,null,null,null,null,35,null,null,null,null,null,42,null,null,null,null,null,1]
[null,null,null,null,1,null,null,null,null,null,0,null,null,null,null,null,18,null,null,null,null,null,34,null,null,null,null,null,38,null,null,null,null,null,42,null,null,null,null,null,44,null,null,null,null,null,35,null,null,null,null,null,42,null,null,null,null,null,1]
[null,null,null,null,1,null,null,null,null,null,0,null,null,null,null,null,18,null,null,null,null,null,34,null,null,null,null,null,38,null,null,null,null,null,42,null,null,null,null,null,44,null,null,null,null,null,35,null,null,null,null,null,42,null,null,null,null,null,1]
[null,null,null,null,1,null,null,null,null,null,0,null,null,null,null,null,18,null,null,null,null,null,34,null,null,null,null,null,38,null,null,null,null,null,42,null,null,null,null,null,44,null,null,null,null,null,35,null,null,null,null,null,42,null,null,null,null,null,1]
[null,null,null,null,1,null,null,null,null,null,0,null,null,null,null,null,18,null,null,null,null,null,34,null,null,null,null,null,38,null,null,null,null,null,42,null,null,null,null,null,44,null,null,null,null,null,35,null,null,null,null,null,42,null,null,null,null,null,1]
[null,null,null,null,1,null,null,null,null,null,0,null,null,null,null,null,18,null,null,null,null,null,34,null,null,null,null,null,38,null,null,null,null,null,42,null,null,null,null,null,44,null,null,null,null,null,35,null,null,null,null,null,42,null,null,null,null,null,1]
[null,null,null,null,1,null,null,null,null,null,0,null,null,null,null,null,18,null,null,null,null,null,34,null,null,null,null,null,38,null,null,null,null,null,42,null,null,null,null,null,44,null,null,null,null,null,35,null,null,null,null,null,42,null,null,null,null,null,1]
[null,null,null,null,1,null,null,null,null,null,0,null,null,null,null,null,18,null,null,null,null,null,34,null,null,null,null,null,38,null,null,null,null,null,42,null,null,null,null,null,44,null,null,null,null,null,35,null,null,null,null,null,42,null,null,null,null,null,1]
[null,null,null,null,1,null,null,null,null,null,0,null,null,null,null,null,18,null,null,null,null,null,34,null,null,null,null,null,38,null,null,null,null,null,42,null,null,null,null,null,44,null,null,null,null,null,35,null,null,null,null,null,42,null,null,null,null,null,1]
[null,null,null,null,1,null,null,null,null,null,0,null,null,null,null,null,18,null,null,null,null,null,34,null,null,null,null,null,38,null,null,null,null,null,42,null,null,null,null,null,44,null,null,null,null,null,35,null,null,null,null,null,42,null,null,null,null,null,1]
[null,null,null,null,1,null,null,null,null,null,0,null,null,null,null,null,18,null,null,null,null,null,34,null,null,null,null,null,38,null,null,null,null,null,42,null,null,null,null,null,44,null,null,null,null,null,35,null,null,null,null,null,42,null,null,null,null,null,1]
[null,null,null,null,1,null,null,null,null,null,0,null,null,null,null,null,18,null,null,null,null,null,34,null,null,null,null,null,38,null,null,null,null,null,42,null,null,null,null,null,44,null,null,null,null,null,35,null,null,null,null,null,42,null,null,null,null,null,1]
[null,null,null,null,1,null,null,null,null,null,0,null,null,null,null,null,18,null,null,null,null,null,34,null,null,null,null,null,38,null,null,null,null,null,42,null,null,null,null,null,44,null,null,null,null,null,35,null,null,null,null,null,42,null,null,null,null,null,1]
[null,null,null,null,1,null,null,null,null,null,0,null,null,null,null,null,18,null,null,null,null,null,34,null,null,null,null,null,38,null,null,null,null,null,42,null,null,null,null,null,44,null,null,null,null,null,35,null,null,null,null,null,42,null,null,null,null,null,1]
[null,null,null,null,1,null,null,null,null,null,0,null,null,null,null,null,18,null,null,null,null,null,34,null,null,null,null,null,38,null,null,null,null,null,42,null,null,null,null,null,44,null,null,null,null,null,35,null,null,null,null,null,42,null,null,null,null,null,1]
[null,null,null,null,1,null,null,null,null,null,0,null,null,null,null,null,18,null,null,null,null,null,34,null,null,null,null,null,38,null,null,null,null,null,42,null,null,null,null,null,44,null,null,null,null,null,35,null,null,null,null,null,42,null,null,null,null,null,1]
[null,null,null,null,1,null,null,null,null,null,0,null,null,null,null,null,18,null,null,null,null,null,34,null,null,null,null,null,38,null,null,null,null,null,42,null,null,null,null,null,44,null,null,null,null,null,35,null,null,null,null,null,42,null,null,null,null,null,1]
[null,null,null,null,1,null,null,null,null,null,0,null,null,null,null,null,18,null,null,null,null,null,34,null,null,null,null,null,38,null,null,null,null,null,42,null,null,null,null,null,44,null,null,null,null,null,35,null,null,null,null,null,42,null,null,null,null,null,1]
[null,null,null,null,1,null,null,null,null,null,0,null,null,null,null,null,18,null,null,null,null,null,34,null,null,null,null,null,38,null,null,null,null,null,42,null,null,null,null,null,44,null,null,null,null,null,35,null,null,null,null,null,42,null,null,null,null,null,1]
[null,null,null,null,1,null,null,null,null,null,0,null,null,null,null,null,18,null,null,null,null,null,34,null,null,null,null,null,38,null,null,null,null,null,42,null,null,null,null,null,44,null,null,null,null,null,35,null,null,null,null,null,42,null,null,null,null,null,1]
[null,null,null,null,1,null,null,null,null,null,0,null,null,null,null,null,18,null,null,null,null,null,34,null,null,null,null,null,38,null,null,null,null,null,42,null,null,null,null,null,44,null,null,null,null,null,35,null,null,null,null,null,42,null,null,null,null,null,1]
[null,null,null,null,1,null,null,null,null,null,0,null,null,null,null,null,18,null,null,null,null,null,34,null,null,null,null,null,38,null,null,null,null,null,42,null,null,null,null,null,44,null,null,null,null,null,35,null,null,null,null,null,42,null,null,null,null,null,1]
[null,null,null,null,1,null,null,null,null,null,0,null,null,null,null,null,18,null,null,null,null,null,34,null,null,null,null,null,38,null,null,null,null,null,42,null,null,null,null,null,44,null,null,null,null,null,35,null,null,null,null,null,42,null,null,null,null,null,1]
[null,null,null,null,1,null,null,null,null,null,0,null,null,null,null,null,18,null,null,null,null,null,34,null,null,null,null,null,38,null,null,null,null,null,42,null,null,null,null,null,44,null,null,null,null,null,35,null,null,null,null,null,42,null,null,null,null,null,1]
[null,null,null,null,1,null,null,null,null,null,0,null,null,null,null,null,18,null,null,null,null,null,34,null,null,null,null,null,38,null,null,null,null,null,42,null,null,null,null,null,44,null,null,null,null,null,35,null,null,null,null,null,42,null,null,null,null,null,1]
[null,null,null,null,1,null,null,null,null,null,0,null,null,null,null,null,18,null,null,null,null,null,34,null,null,null,null,null,38,null,null,null,null,null,42,null,null,null,null,null,44,null,null,null,null,null,35,null,null,null,null,null,42,null,null,null,null,null,1]
[null,null,null,null,1,null,null,null,null,null,0,null,null,null,null,null,18,null,null,null,null,null,34,null,null,null,null,null,38,null,null,null,null,null,42,null,null,null,null,null,44,null,null,null,null,null,35,null,null,null,null,null,42,null,null,null,null,null,1]
[null,null,null,null,1,null,null,null,null,null,0,null,null,null,null,null,18,null,null,null,null,null,34,null,null,null,null,null,38,null,null,null,null,null,42,null,null,null,null,null,44,null,null,null,null,null,35,null,null,null,null,null,42,null,null,null,null,null,1]
[null,null,null,null,1,null,null,null,null,null,0,null,null,null,null,null,18,null,null,null,null,null,34,null,null,null,null,null,38,null,null,null,null,null,42,null,null,null,null,null,44,null,null,null,null,null,35,null,null,null,null,null,42,null,null,null,null,null,1]
[null,null,null,null,1,null,null,null,null,null,0,null,null,null,null,null,18,null,null,null,null,null,34,null,null,null,null,null,38,null,null,null,null,null,42,null,null,null,null,null,44,null,null,null,null,null,35,null,null,null,null,null,42,null,null,null,null,null,1]
[null,null,null,null,1,null,null,null,null,null,0,null,null,null,null,null,18,null,null,null,null,null,34,null,null,null,null,null,38,null,null,null,null,null,42,null,null,null,null,null,44,null,null,null,null,null,35,null,null,null,null,null,42,null,null,null,null,null,1]
[null,null,null,null,1,null,null,null,null,null,0,null,null,null,null,null,18,null,null,null,null,null,34,null,null,null,null,null,38,null,null,null,null,null,42,null,null,null,null,null,44,null,null,null,null,null,35,null,null,null,null,null,42,null,null,null,null,null,1]
[null,null,null,null,1,null,null,null,null,null,0,null,null,null,null,null,18,null,null,null,null,null,34,null,null,null,null,null,38,null,null,null,null,null,42,null,null,null,null,null,44,null,null,null,null,null,35,null,null,null,null,null,42,null,null,null,null,null,1]
[null,null,null,null,1,null,null,null,null,null,0,null,null,null,null,null,18,null,null,null,null,null,34,null,null,null,null,null,38,null,null,null,null,null,42,null,null,null,null,null,44,null,null,null,null,null,35,null,null,null,null,null,42,null,null,null,null,null,1]
[null,null,null,null,1,null,null,null,null,null,0,null,null,null,null,null,18,null,null,null,null,null,34,null,null,null,null,null,38,null,null,null,null,null,42,null,null,null,null,null,44,null,null,null,null,null,35,null,null,null,null,null,42,null,null,null,null,null,1]
[null,null,null,null,1,null,null,null,null,null,0,null,null,null,null,null,18,null,null,null,null,null,34,null,null,null,null,null,38,null,null,null,null,null,42,null,null,null,null,null,44,null,null,null,null,null,35,null,null,null,null,null,42,null,null,null,null,null,1]
[null,null,null,null,1,null,null,null,null,null,0,null,null,null,null,null,18,null,null,null,null,null,34,null,null,null,null,null,38,null,null,null,null,null,42,null,null,null,null,null,44,null,null,null,null,null,35,null,null,null,null,null,42,null,null,null,null,null,1]
[null,null,null,null,1,null,null,null,null,null,0,null,null,null,null,null,18,null,null,null,null,null,34,null,null,null,null,null,38,null,null,null,null,null,42,null,null,null,null,null,44,null,null,null,null,null,35,null,null,null,null,null,42,null,null,null,null,null,1]
[null,null,null,null,1,null,null,null,null,null,0,null,null,null,null,null,18,null,null,null,null,null,34,null,null,null,null,null,38,null,null,null,null,null,42,null,null,null,null,null,44,null,null,null,null,null,35,null,null,null,null,null,42,null,null,null,null,null,1]
[null,null,null,null,{"$f":"COUNT(1/FREQUENCY((D$7:D$206>D136)*D$7:D$206,D$7:D$206))","v":1},null,null,null,null,null,{"$f":"COUNT(1/FREQUENCY((J$7:J$206>J136)*J$7:J$206,J$7:J$206))","v":0},null,null,null,null,null,{"$f":"COUNT(1/FREQUENCY((P$7:P$206>P136)*P$7:P$206,P$7:P$206))","v":18},null,null,null,null,null,{"$f":"COUNT(1/FREQUENCY((V$7:V$206>V136)*V$7:V$206,V$7:V$206))","v":34},null,null,null,null,null,{"$f":"COUNT(1/FREQUENCY((AB$7:AB$206>AB136)*AB$7:AB$206,AB$7:AB$206))","v":38},null,null,null,null,null,{"$f":"COUNT(1/FREQUENCY((AH$7:AH$206>AH136)*AH$7:AH$206,AH$7:AH$206))","v":42},null,null,null,null,null,{"$f":"COUNT(1/FREQUENCY((AN$7:AN$206>AN136)*AN$7:AN$206,AN$7:AN$206))","v":44},null,null,null,null,null,{"$f":"COUNT(1/FREQUENCY((AT$7:AT$206>AT136)*AT$7:AT$206,AT$7:AT$206))","v":35},null,null,null,null,null,{"$f":"COUNT(1/FREQUENCY((AZ$7:AZ$206>AZ136)*AZ$7:AZ$206,AZ$7:AZ$206))","v":42},null,null,null,null,null,{"$f":"COUNT(1/FREQUENCY((BF$7:BF$206>BF136)*BF$7:BF$206,BF$7:BF$206))","v":1}]
[null,null,null,null,1,null,null,null,null,null,0,null,null,null,null,null,18,null,null,null,null,null,34,null,null,null,null,null,38,null,null,null,null,null,42,null,null,null,null,null,44,null,null,null,null,null,35,null,null,null,null,null,42,null,null,null,null,null,1]
[null,null,null,null,1,null,null,null,null,null,0,null,null,null,null,null,18,null,null,null,null,null,34,null,null,null,null,null,38,null,null,null,null,null,42,null,null,null,null,null,44,null,null,null,null,null,35,null,null,null,null,null,42,null,null,null,null,null,1]
[null,null,null,null,1,null,null,null,null,null,0,null,null,null,null,null,18,null,null,null,null,null,34,null,null,null,null,null,38,null,null,null,null,null,42,null,null,null,null,null,44,null,null,null,null,null,35,null,null,null,null,null,42,null,null,null,null,null,1]
[null,null,null,null,1,null,null,null,null,null,0,null,null,null,null,null,18,null,null,null,null,null,34,null,null,null,null,null,38,null,null,null,null,null,42,null,null,null,null,null,44,null,null,null,null,null,35,null,null,null,null,null,42,null,null,null,null,null,1]
[null,null,null,null,1,null,null,null,null,null,0,null,null,null,null,null,18,null,null,null,null,null,34,null,null,null,null,null,38,null,null,null,null,null,42,null,null,null,null,null,44,null,null,null,null,null,35,null,null,null,null,null,42,null,null,null,null,null,1]
[null,null,null,null,1,null,null,null,null,null,0,null,null,null,null,null,18,null,null,null,null,null,34,null,null,null,null,null,38,null,null,null,null,null,42,null,null,null,null,null,44,null,null,null,null,null,35,null,null,null,null,null,42,null,null,null,null,null,1]
[null,null,null,null,1,null,null,null,null,null,0,null,null,null,null,null,18,null,null,null,null,null,34,null,null,null,null,null,38,null,null,null,null,null,42,null,null,null,null,null,44,null,null,null,null,null,35,null,null,null,null,null,42,null,null,null,null,null,1]
[null,null,null,null,1,null,null,null,null,null,0,null,null,null,null,null,18,null,null,null,null,null,34,null,null,null,null,null,38,null,null,null,null,null,42,null,null,null,null,null,44,null,null,null,null,null,35,null,null,null,null,null,42,null,null,null,null,null,1]
[null,null,null,null,1,null,null,null,null,null,0,null,null,null,null,null,18,null,null,null,null,null,34,null,null,null,null,null,38,null,null,null,null,null,42,null,null,null,null,null,44,null,null,null,null,null,35,null,null,null,null,null,42,null,null,null,null,null,1]
[null,null,null,null,1,null,null,null,null,null,0,null,null,null,null,null,18,null,null,null,null,null,34,null,null,null,null,null,38,null,null,null,null,null,42,null,null,null,null,null,44,null,null,null,null,null,35,null,null,null,null,null,42,null,null,null,null,null,1]
[null,null,null,null,1,null,null,null,null,null,0,null,null,null,null,null,18,null,null,null,null,null,34,null,null,null,null,null,38,null,null,null,null,null,42,null,null,null,null,null,44,null,null,null,null,null,35,null,null,null,null,null,42,null,null,null,null,null,1]
[null,null,null,null,1,null,null,null,null,null,0,null,null,null,null,null,18,null,null,null,null,null,34,null,null,null,null,null,38,null,null,null,null,null,42,null,null,null,null,null,44,null,null,null,null,null,35,null,null,null,null,null,42,null,null,null,null,null,1]
[null,null,null,null,1,null,null,null,null,null,0,null,null,null,null,null,18,null,null,null,null,null,34,null,null,null,null,null,38,null,null,null,null,null,42,null,null,null,null,null,44,null,null,null,null,null,35,null,null,null,null,null,42,null,null,null,null,null,1]
[null,null,null,null,1,null,null,null,null,null,0,null,null,null,null,null,18,null,null,null,null,null,34,null,null,null,null,null,38,null,null,null,null,null,42,null,null,null,null,null,44,null,null,null,null,null,35,null,null,null,null,null,42,null,null,null,null,null,1]
[null,null,null,null,1,null,null,null,null,null,0,null,null,null,null,null,18,null,null,null,null,null,34,null,null,null,null,null,38,null,null,null,null,null,42,null,null,null,null,null,44,null,null,null,null,null,35,null,null,null,null,null,42,null,null,null,null,null,1]
[null,null,null,null,1,null,null,null,null,null,0,null,null,null,null,null,18,null,null,null,null,null,34,null,null,null,null,null,38,null,null,null,null,null,42,null,null,null,null,null,44,null,null,null,null,null,35,null,null,null,null,null,42,null,null,null,null,null,1]
[null,null,null,null,1,null,null,null,null,null,0,null,null,null,null,null,18,null,null,null,null,null,34,null,null,null,null,null,38,null,null,null,null,null,42,null,null,null,null,null,44,null,null,null,null,null,35,null,null,null,null,null,42,null,null,null,null,null,1]
[null,null,null,null,1,null,null,null,null,null,0,null,null,null,null,null,18,null,null,null,null,null,34,null,null,null,null,null,38,null,null,null,null,null,42,null,null,null,null,null,44,null,null,null,null,null,35,null,null,null,null,null,42,null,null,null,null,null,1]
[null,null,null,null,1,null,null,null,null,null,0,null,null,null,null,null,18,null,null,null,null,null,34,null,null,null,null,null,38,null,null,null,null,null,42,null,null,null,null,null,44,null,null,null,null,null,35,null,null,null,null,null,42,null,null,null,null,null,1]
[null,null,null,null,1,null,null,null,null,null,0,null,null,null,null,null,18,null,null,null,null,null,34,null,null,null,null,null,38,null,null,null,null,null,42,null,null,null,null,null,44,null,null,null,null,null,35,null,null,null,null,null,42,null,null,null,null,null,1]
[null,null,null,null,1,null,null,null,null,null,0,null,null,null,null,null,18,null,null,null,null,null,34,null,null,null,null,null,38,null,null,null,null,null,42,null,null,null,null,null,44,null,null,null,null,null,35,null,null,null,null,null,42,null,null,null,null,null,1]
[null,null,null,null,1,null,null,null,null,null,0,null,null,null,null,null,18,null,null,null,null,null,34,null,null,null,null,null,38,null,null,null,null,null,42,null,null,null,null,null,44,null,null,null,null,null,35,null,null,null,null,null,42,null,null,null,null,null,1]
[null,null,null,null,1,null,null,null,null,null,0,null,null,null,null,null,18,null,null,null,null,null,34,null,null,null,null,null,38,null,null,null,null,null,42,null,null,null,null,null,44,null,null,null,null,null,35,null,null,null,null,null,42,null,null,null,null,null,1]
[null,null,null,null,1,null,null,null,null,null,0,null,null,null,null,null,18,null,null,null,null,null,34,null,null,null,null,null,38,null,null,null,null,null,42,null,null,null,null,null,44,null,null,null,null,null,35,null,null,null,null,null,42,null,null,null,null,null,1]
[null,null,null,null,1,null,null,null,null,null,0,null,null,null,null,null,18,null,null,null,null,null,34,null,null,null,null,null,38,null,null,null,null,null,42,null,null,null,null,null,44,null,null,null,null,null,35,null,null,null,null,null,42,null,null,null,null,null,1]
[null,null,null,null,1,null,null,null,null,null,0,null,null,null,null,null,18,null,null,null,null,null,34,null,null,null,null,null,38,null,null,null,null,null,42,null,null,null,null,null,44,null,null,null,null,null,35,null,null,null,null,null,42,null,null,null,null,null,1]
[null,null,null,null,1,null,null,null,null,null,0,null,null,null,null,null,18,null,null,null,null,null,34,null,null,null,null,null,38,null,null,null,null,null,42,null,null,null,null,null,44,null,null,null,null,null,35,null,null,null,null,null,42,null,null,null,null,null,1]
[null,null,null,null,1,null,null,null,null,null,0,null,null,null,null,null,18,null,null,null,null,null,34,null,null,null,null,null,38,null,null,null,null,null,42,null,null,null,null,null,44,null,null,null,null,null,35,null,null,null,null,null,42,null,null,null,null,null,1]
[null,null,null,null,1,null,null,null,null,null,0,null,null,null,null,null,18,null,null,null,null,null,34,null,null,null,null,null,38,null,null,null,null,null,42,null,null,null,null,null,44,null,null,null,null,null,35,null,null,null,null,null,42,null,null,null,null,null,1]
[null,null,null,null,1,null,null,null,null,null,0,null,null,null,null,null,18,null,null,null,null,null,34,null,null,null,null,null,38,null,null,null,null,null,42,null,null,null,null,null,44,null,null,null,null,null,35,null,null,null,null,null,42,null,null,null,null,null,1]
[null,null,null,null,1,null,null,null,null,null,0,null,null,null,null,null,18,null,null,null,null,null,34,null,null,null,null,null,38,null,null,null,null,null,42,null,null,null,null,null,44,null,null,null,null,null,35,null,null,null,null,null,42,null,null,null,null,null,1]
[null,null,null,null,1,null,null,null,null,null,0,null,null,null,null,null,18,null,null,null,null,null,34,null,null,null,null,null,38,null,null,null,null,null,42,null,null,null,null,null,44,null,null,null,null,null,35,null,null,null,null,null,42,null,null,null,null,null,1]
[null,null,null,null,1,null,null,null,null,null,0,null,null,null,null,null,18,null,null,null,null,null,34,null,null,null,null,null,38,null,null,null,null,null,42,null,null,null,null,null,44,null,null,null,null,null,35,null,null,null,null,null,42,null,null,null,null,null,1]
[null,null,null,null,1,null,null,null,null,null,0,null,null,null,null,null,18,null,null,null,null,null,34,null,null,null,null,null,38,null,null,null,null,null,42,null,null,null,null,null,44,null,null,null,null,null,35,null,null,null,null,null,42,null,null,null,null,null,1]
[null,null,null,null,1,null,null,null,null,null,0,null,null,null,null,null,18,null,null,null,null,null,34,null,null,null,null,null,38,null,null,null,null,null,42,null,null,null,null,null,44,null,null,null,null,null,35,null,null,null,null,null,42,null,null,null,null,null,1]
[null,null,null,null,1,null,null,null,null,null,0,null,null,null,null,null,18,null,null,null,null,null,34,null,null,null,null,null,38,null,null,null,null,null,42,null,null,null,null,null,44,null,null,null,null,null,35,null,null,null,null,null,42,null,null,null,null,null,1]
[null,null,null,null,1,null,null,null,null,null,0,null,null,null,null,null,18,null,null,null,null,null,34,null,null,null,null,null,38,null,null,null,null,null,42,null,null,null,null,null,44,null,null,null,null,null,35,null,null,null,null,null,42,null,null,null,null,null,1]
[null,null,null,null,1,null,null,null,null,null,0,null,null,null,null,null,18,null,null,null,null,null,34,null,null,null,null,null,38,null,null,null,null,null,42,null,null,null,null,null,44,null,null,null,null,null,35,null,null,null,null,null,42,null,null,null,null,null,1]
[null,null,null,null,1,null,null,null,null,null,0,null,null,null,null,null,18,null,null,null,null,null,34,null,null,null,null,null,38,null,null,null,null,null,42,null,null,null,null,null,44,null,null,null,null,null,35,null,null,null,null,null,42,null,null,null,null,null,1]
[null,null,null,null,1,null,null,null,null,null,0,null,null,null,null,null,18,null,null,null,null,null,34,null,null,null,null,null,38,null,null,null,null,null,42,null,null,null,null,null,44,null,null,null,null,null,35,null,null,null,null,null,42,null,null,null,null,null,1]
[null,null,null,null,1,null,null,null,null,null,0,null,null,null,null,null,18,null,null,null,null,null,34,null,null,null,null,null,38,null,null,null,null,null,42,null,null,null,null,null,44,null,null,null,null,null,35,null,null,null,null,null,42,null,null,null,null,null,1]
[null,null,null,null,1,null,null,null,null,null,0,null,null,null,null,null,18,null,null,null,null,null,34,null,null,null,null,null,38,null,null,null,null,null,42,null,null,null,null,null,44,null,null,null,null,null,35,null,null,null,null,null,42,null,null,null,null,null,1]
[null,null,null,null,1,null,null,null,null,null,0,null,null,null,null,null,18,null,null,null,null,null,34,null,null,null,null,null,38,null,null,null,null,null,42,null,null,null,null,null,44,null,null,null,null,null,35,null,null,null,null,null,42,null,null,null,null,null,1]
[null,null,null,null,1,null,null,null,null,null,0,null,null,null,null,null,18,null,null,null,null,null,34,null,null,null,null,null,38,null,null,null,null,null,42,null,null,null,null,null,44,null,null,null,null,null,35,null,null,null,null,null,42,null,null,null,null,null,1]
[null,null,null,null,1,null,null,null,null,null,0,null,null,null,null,null,18,null,null,null,null,null,34,null,null,null,null,null,38,null,null,null,null,null,42,null,null,null,null,null,44,null,null,null,null,null,35,null,null,null,null,null,42,null,null,null,null,null,1]
[null,null,null,null,1,null,null,null,null,null,0,null,null,null,null,null,18,null,null,null,null,null,34,null,null,null,null,null,38,null,null,null,null,null,42,null,null,null,null,null,44,null,null,null,null,null,35,null,null,null,null,null,42,null,null,null,null,null,1]
[null,null,null,null,1,null,null,null,null,null,0,null,null,null,null,null,18,null,null,null,null,null,34,null,null,null,null,null,38,null,null,null,null,null,42,null,null,null,null,null,44,null,null,null,null,null,35,null,null,null,null,null,42,null,null,null,null,null,1]
[null,null,null,null,1,null,null,null,null,null,0,null,null,null,null,null,18,null,null,null,null,null,34,null,null,null,null,null,38,null,null,null,null,null,42,null,null,null,null,null,44,null,null,null,null,null,35,null,null,null,null,null,42,null,null,null,null,null,1]
[null,null,null,null,1,null,null,null,null,null,0,null,null,null,null,null,18,null,null,null,null,null,34,null,null,null,null,null,38,null,null,null,null,null,42,null,null,null,null,null,44,null,null,null,null,null,35,null,null,null,null,null,42,null,null,null,null,null,1]
[null,null,null,null,1,null,null,null,null,null,0,null,null,null,null,null,18,null,null,null,null,null,34,null,null,null,null,null,38,null,null,null,null,null,42,null,null,null,null,null,44,null,null,null,null,null,35,null,null,null,null,null,42,null,null,null,null,null,1]
[null,null,null,null,1,null,null,null,null,null,0,null,null,null,null,null,18,null,null,null,null,null,34,null,null,null,null,null,38,null,null,null,null,null,42,null,null,null,null,null,44,null,null,null,null,null,35,null,null,null,null,null,42,null,null,null,null,null,1]
[null,null,null,null,1,null,null,null,null,null,0,null,null,null,null,null,18,null,null,null,null,null,34,null,null,null,null,null,38,null,null,null,null,null,42,null,null,null,null,null,44,null,null,null,null,null,35,null,null,null,null,null,42,null,null,null,null,null,1]
[null,null,null,null,1,null,null,null,null,null,0,null,null,null,null,null,18,null,null,null,null,null,34,null,null,null,null,null,38,null,null,null,null,null,42,null,null,null,null,null,44,null,null,null,null,null,35,null,null,null,null,null,42,null,null,null,null,null,1]
[null,null,null,null,1,null,null,null,null,null,0,null,null,null,null,null,18,null,null,null,null,null,34,null,null,null,null,null,38,null,null,null,null,null,42,null,null,null,null,null,44,null,null,null,null,null,35,null,null,null,null,null,42,null,null,null,null,null,1]
[null,null,null,null,1,null,null,null,null,null,0,null,null,null,null,null,18,null,null,null,null,null,34,null,null,null,null,null,38,null,null,null,null,null,42,null,null,null,null,null,44,null,null,null,null,null,35,null,null,null,null,null,42,null,null,null,null,null,1]
[null,null,null,null,1,null,null,null,null,null,0,null,null,null,null,null,18,null,null,null,null,null,34,null,null,null,null,null,38,null,null,null,null,null,42,null,null,null,null,null,44,null,null,null,null,null,35,null,null,null,null,null,42,null,null,null,null,null,1]
[null,null,null,null,1,null,null,null,null,null,0,null,null,null,null,null,18,null,null,null,null,null,34,null,null,null,null,null,38,null,null,null,null,null,42,null,null,null,null,null,44,null,null,null,null,null,35,null,null,null,null,null,42,null,null,null,null,null,1]
[null,null,null,null,1,null,null,null,null,null,0,null,null,null,null,null,18,null,null,null,null,null,34,null,null,null,null,null,38,null,null,null,null,null,42,null,null,null,null,null,44,null,null,null,null,null,35,null,null,null,null,null,42,null,null,null,null,null,1]
[null,null,null,null,1,null,null,null,null,null,0,null,null,null,null,null,18,null,null,null,null,null,34,null,null,null,null,null,38,null,null,null,null,null,42,null,null,null,null,null,44,null,null,null,null,null,35,null,null,null,null,null,42,null,null,null,null,null,1]
[null,null,null,null,1,null,null,null,null,null,0,null,null,null,null,null,18,null,null,null,null,null,34,null,null,null,null,null,38,null,null,null,null,null,42,null,null,null,null,null,44,null,null,null,null,null,35,null,null,null,null,null,42,null,null,null,null,null,1]
[null,null,null,null,1,null,null,null,null,null,0,null,null,null,null,null,18,null,null,null,null,null,34,null,null,null,null,null,38,null,null,null,null,null,42,null,null,null,null,null,44,null,null,null,null,null,35,null,null,null,null,null,42,null,null,null,null,null,1]
[null,null,null,null,1,null,null,null,null,null,0,null,null,null,null,null,18,null,null,null,null,null,34,null,null,null,null,null,38,null,null,null,null,null,42,null,null,null,null,null,44,null,null,null,null,null,35,null,null,null,null,null,42,null,null,null,null,null,1]
[null,null,null,null,1,null,null,null,null,null,0,null,null,null,null,null,18,null,null,null,null,null,34,null,null,null,null,null,38,null,null,null,null,null,42,null,null,null,null,null,44,null,null,null,null,null,35,null,null,null,null,null,42,null,null,null,null,null,1]
[null,null,null,null,{"$f":"COUNT(1/FREQUENCY((D$7:D$206>D200)*D$7:D$206,D$7:D$206))","v":1},null,null,null,null,null,{"$f":"COUNT(1/FREQUENCY((J$7:J$206>J200)*J$7:J$206,J$7:J$206))","v":0},null,null,null,null,null,{"$f":"COUNT(1/FREQUENCY((P$7:P$206>P200)*P$7:P$206,P$7:P$206))","v":18},null,null,null,null,null,{"$f":"COUNT(1/FREQUENCY((V$7:V$206>V200)*V$7:V$206,V$7:V$206))","v":34},null,null,null,null,null,{"$f":"COUNT(1/FREQUENCY((AB$7:AB$206>AB200)*AB$7:AB$206,AB$7:AB$206))","v":38},null,null,null,null,null,{"$f":"COUNT(1/FREQUENCY((AH$7:AH$206>AH200)*AH$7:AH$206,AH$7:AH$206))","v":42},null,null,null,null,null,{"$f":"COUNT(1/FREQUENCY((AN$7:AN$206>AN200)*AN$7:AN$206,AN$7:AN$206))","v":44},null,null,null,null,null,{"$f":"COUNT(1/FREQUENCY((AT$7:AT$206>AT200)*AT$7:AT$206,AT$7:AT$206))","v":35},null,null,null,null,null,{"$f":"COUNT(1/FREQUENCY((AZ$7:AZ$206>AZ200)*AZ$7:AZ$206,AZ$7:AZ$206))","v":42},null,null,null,null,null,{"$f":"COUNT(1/FREQUENCY((BF$7:BF$206>BF200)*BF$7:BF$206,BF$7:BF$206))","v":1}]
[null,null,null,null,1,null,null,null,null,null,0,null,null,null,null,null,18,null,null,null,null,null,34,null,null,null,null,null,38,null,null,null,null,null,42,null,null,null,null,null,44,null,null,null,null,null,35,null,null,null,null,null,42,null,null,null,null,null,1]
[null,null,null,null,1,null,null,null,null,null,0,null,null,null,null,null,18,null,null,null,null,null,34,null,null,null,null,null,38,null,null,null,null,null,42,null,null,null,null,null,44,null,null,null,null,null,35,null,null,null,null,null,42,null,null,null,null,null,1]
[null,null,null,null,1,null,null,null,null,null,0,null,null,null,null,null,18,null,null,null,null,null,34,null,null,null,null,null,38,null,null,null,null,null,42,null,null,null,null,null,44,null,null,null,null,null,35,null,null,null,null,null,42,null,null,null,null,null,1]
[null,null,null,null,1,null,null,null,null,null,0,null,null,null,null,null,18,null,null,null,null,null,34,null,null,null,null,null,38,null,null,null,null,null,42,null,null,null,null,null,44,null,null,null,null,null,35,null,null,null,null,null,42,null,null,null,null,null,1]
[null,null,null,null,1,null,null,null,null,null,0,null,null,null,null,null,18,null,null,null,null,null,34,null,null,null,null,null,38,null,null,null,null,null,42,null,null,null,null,null,44,null,null,null,null,null,35,null,null,null,null,null,42,null,null,null,null,null,1]
[null,null,null,null,1,null,null,null,null,null,0,null,null,null,null,null,18,null,null,null,null,null,34,null,null,null,null,null,38,null,null,null,null,null,42,null,null,null,null,null,44,null,null,null,null,null,35,null,null,null,null,null,42,null,null,null,null,null,1]

{"sheet":"Лист1","index":61,"n_rows":29,"n_cols":13,"rows_kept":29,"cut":false,"hidden":true,"merged":[]}
["ФИО учителя","Горнышкова"]
["Класс","Предмет",5,4,3,2,"н/а","успеваемость","Качество знаний","Степень обученности","Средний балл","Качество успеваемости","Кол-во учащихся"]
[null,null,null,null,null,null,null,null,null,null,null,null,{"$f":"C3+D3+E3+F3+G3","v":0}]
[null,null,null,null,null,null,null,null,null,null,null,null,0]
[null,null,null,null,null,null,null,null,null,null,null,null,0]
[null,null,null,null,null,null,null,null,null,null,null,null,0]
[null,null,null,null,null,null,null,null,null,null,null,null,0]
[null,null,null,null,null,null,null,null,null,null,null,null,0]
[null,null,null,null,null,null,null,null,null,null,null,null,0]
[null,null,null,null,null,null,null,null,null,null,null,null,0]
[null,null,null,null,null,null,null,null,null,null,null,null,0]
[null,null,null,null,null,null,null,null,null,null,null,null,0]
[null,null,null,null,null,null,null,null,null,null,null,null,0]
[null,null,null,null,null,null,null,null,null,null,null,null,0]
[null,null,null,null,null,null,null,null,null,null,null,null,0]
[null,null,null,null,null,null,null,null,null,null,null,null,0]
[null,null,null,null,null,null,null,null,null,null,null,null,0]
[null,null,null,null,null,null,null,null,null,null,null,null,0]
[null,null,null,null,null,null,null,null,null,null,null,null,0]
[null,null,null,null,null,null,null,null,null,null,null,null,0]
[null,null,null,null,null,null,null,null,null,null,null,null,0]
[null,null,null,null,null,null,null,null,null,null,null,null,0]
[null,null,null,null,null,null,null,null,null,null,null,null,0]
[]
[]
[]
[]
[]
[null,null,null,null,null,null,null,null,null,null,"Горнышкова"]

{"sheet":"выполнение программного материа","index":62,"n_rows":67,"n_cols":30,"rows_kept":67,"cut":false,"hidden":false,"merged":[[51,23,51,29],[52,2,52,8],[52,9,52,15],[52,16,52,22],[52,23,52,29],[51,0,53,0],[51,1,53,1],[51,2,51,8],[51,9,51,15],[51,16,51,22],[1,23,1,29],[2,2,2,8],[2,9,2,15],[2,16,2,22],[2,23,2,29],[1,0,3,0],[1,1,3,1],[1,2,1,8],[1,9,1,15],[1,16,1,22],[36,7,37,7],[36,8,37,8],[36,9,37,9],[34,10,35,10],[32,6,33,6],[32,7,33,7],[32,8,33,8],[32,9,33,9],[32,10,33,10],[34,7,35,7],[34,8,35,8],[34,9,35,9],[36,6,37,6],[34,6,35,6],[39,9,40,9],[39,2,40,2],[39,3,40,3],[39,4,40,4],[39,5,40,5],[39,6,40,6],[39,7,40,7],[39,8,40,8],[42,7,43,7],[42,8,43,8],[42,9,43,9],[42,2,43,2],[42,3,43,3],[42,4,43,4],[42,5,43,5],[42,6,43,6],[32,4,33,4],[32,5,33,5],[36,4,37,4],[36,5,37,5],[34,4,35,4],[34,5,35,5],[24,2,26,2],[24,3,26,3],[32,1,33,1],[34,1,35,1],[34,2,35,2],[34,3,35,3],[32,2,33,2],[32,3,33,3],[24,10,26,10],[27,0,31,0],[29,2,30,2],[29,3,30,3],[29,4,30,4],[29,5,30,5],[29,6,30,6],[29,7,30,7],[29,8,30,8],[29,9,30,9],[24,4,26,4],[24,5,26,5],[24,6,26,6],[24,7,26,7],[24,8,26,8],[24,9,26,9],[38,0,40,0],[44,0,44,1],[36,0,37,0],[36,2,37,2],[36,3,37,3]]}
[]
["№№","Предмет ","1 класс",null,null,null,null,null,null,"2 класс",null,null,null,null,null,null,"3 класс",null,null,null,null,null,null,"4 класс"]
[null,null,"33- недели ",null,null,null,null,null,null,"35-недель ",null,null,null,null,null,null,"35-недель ",null,null,null,null,null,null,"35-недель "]
[null,null,null,"1ч","2ч","1полугодие","3ч","4ч","Год ",null,"1ч","2ч","1полугодие","3ч","4ч","Год ",null,"1ч","2ч","1полугодие","3ч","4ч","Год ",null,"1ч","2ч","1пол","3ч","4ч","Год "]
["1.       ","Русский язык",2,18,14,32,18,16,66,4,36,32,68,40,32,140,3,27,24,51,30,24,105,"3+4","16/27",24,51,40,32,105]
["2.       ","Литература ",2,18,14,32,18,16,66,3,27,24,51,30,24,105,3,27,24,51,30,24,105,3,27,24,51,40,32,105]
["3.       ","Родной язык",3,27,21,48,27,24,99,3,27,24,51,30,24,105,3,27,24,51,30,24,105,3,27,24,51,40,32,105]
["4.       ","Кабардинская литература",2,18,14,32,18,16,66,2,18,16,34,20,16,70,3,27,24,51,30,24,105,2,18,16,34,20,16,70]
["5.       ","Английский язык ","-",null,null,null,null,null,null,2,18,16,34,20,16,70,2,18,16,34,20,16,70,2,18,16,34,20,16,70]
["6.       ","Математика ",4,36,28,64,28,32,140,4,36,32,68,40,32,140,4,36,32,68,40,32,140,4,36,32,68,40,32,140]
["7.       ","Окружающий мир ",2,18,14,32,18,16,66,2,18,16,34,20,16,70,2,18,16,34,20,16,70,2,18,16,34,20,16,70]
["8.       ","ОРКСЭ",null,null,null,null,null,null,null,null,null,null,null,null,null,null,null,null,null,null,null,null,null,1,9,8,17,10,8,35]
["9.       ","Музыка ",1,9,8,17,9,8,33,1,9,8,17,10,8,35,1,9,8,17,10,8,35,1,9,8,17,10,8,35]
["10.   ","ИЗО",1,9,8,17,9,8,33,1,9,8,17,10,8,35,1,9,8,17,10,8,35,1,9,8,17,10,8,35]
["11.   ","Технология ",1,9,8,17,9,8,33,1,9,8,17,10,8,35,1,9,8,17,10,8,35,1,9,8,17,10,8,35]
["12.   ","Физическая культура",3,27,21,48,27,24,99,3,27,24,51,30,24,105,3,27,24,51,30,24,105,3,27,24,51,30,24,105]
["Итого ",null,21,9,8,17,9,8,33,26,9,8,17,10,8,35,26,9,8,17,10,8,35,null,9,8,17,10,8,35]
[]
[]
[]
[]
[]
[]
[]
["Предметные","Учебные",1,"ст",2,"ст",3,"ст",4,"ст","Оформление (запись) учебных предметов (дисциплин) в классном журнале"]
["области","предметы"]
[null,"Классы (титульный лист)"]
["Филология","Русский язык",4,6,5,8,5,8,5,8,"русский язык"]
[null,"Литературное чтение",2,3,"4*",6,3,5,3,5,"литературное чтение"]
[null,"Адыгабзэ ( Кабардино - черкесский язык (родной))",3,2,3,5,3,5,3,5,"адыгабзэ ( Кабардино - черкесский язык (родной))"]
[null,"Анэдэлъхубзэ (Литературное чтение на кабардино – черкесском языке)",null,null,null,null,null,null,null,null,"анэдэлъхубзэ (Литературное чтение на кабардино – черкесском языке)"]
[null,"Иностранный язык (Английский язык)",0,"-",2,3,2,3,2,3,"иностранный язык (английский)"]
["Математика","Математика ",4,6,4,6,"5*",8,4,6,"математика "]
["и информатика"]
["Обществознание","Окружающий мир ",2,3,2,3,2,3,2,3,"окружающий мир "]
["и естествознание"]
["Основы религиозных культур светской этики","Основы религиозных культур светской этики",0,null,0,null,0,null,1,2,"основы религиозных культур светской этики"]
[null,"(ОРКСЭ)",null,null,null,null,null,null,null,null,"(ОРКСЭ)"]
["Искусство","Музыка",1,2,1,2,1,2,1,2,"музыка"]
[null,"Изобразительное",1,2,1,2,1,2,1,2,"изобразительное"]
[null,"искусство",null,null,null,null,null,null,null,null,"искусство"]
["Технология","Технология ",1,2,1,2,1,2,1,2,"технология "]
["Физическая","Физическая",3,5,3,5,3,5,3,5,"физическая"]
["культура","культура ",null,null,null,null,null,null,null,null,"культура "]
["Часть, формируемая участниками образовательного процесса ",null,null,null,null,null,null,null,null,null,"классный час"]
[]
[null,"2020- 2021 учебный год"]
[]
[]
[]
[]
["№№","Предмет ","1 класс",null,null,null,null,null,null,"2 класс",null,null,null,null,null,null,"3 класс",null,null,null,null,null,null,"4 класс"]
[null,null,"33- недели ",null,null,null,null,null,null,"35-недель ",null,null,null,null,null,null,"35-недель ",null,null,null,null,null,null,"35-недель "]
[null,null,null,"1ч","2ч","1полугодие","3ч","4ч","Год ",null,"1ч","2ч","1полугодие","3ч","4ч","Год ",null,"1ч","2ч","1полугодие","3ч","4ч","Год ",null,"1ч","2ч","1пол","3ч","4ч","Год "]
["1.       ","Русский язык",2,18,14,32,18,16,66,4,36,32,68,40,32,140,3,27,24,51,30,24,105,"3+4","16/27",24,51,40,32,105]
["2.       ","Литература ",2,18,14,32,18,16,66,3,27,24,51,30,24,105,3,27,24,51,30,24,105,3,27,24,51,40,32,105]
["3.       ","Родной язык",3,27,21,48,27,24,99,3,27,24,51,30,24,105,3,27,24,51,30,24,105,3,27,24,51,40,32,105]
["4.       ","Кабардинская литература",2,18,14,32,18,16,66,2,18,16,34,20,16,70,3,27,24,51,30,24,105,2,18,16,34,20,16,70]
["5.       ","Английский язык ","-",null,null,null,null,null,null,2,18,16,34,20,16,70,2,18,16,34,20,16,70,2,18,16,34,20,16,70]
["6.       ","Математика ",4,36,28,64,28,32,140,4,36,32,68,40,32,140,4,36,32,68,40,32,140,4,36,32,68,40,32,140]
["7.       ","Окружающий мир ",2,18,14,32,18,16,66,2,18,16,34,20,16,70,2,18,16,34,20,16,70,2,18,16,34,20,16,70]
["8.       ","ОРКСЭ",null,null,null,null,null,null,null,null,null,null,null,null,null,null,null,null,null,null,null,null,null,1,9,8,17,10,8,35]
["9.       ","Музыка ",1,9,8,17,9,8,33,1,9,8,17,10,8,35,1,9,8,17,10,8,35,1,9,8,17,10,8,35]
["10.   ","ИЗО",1,9,8,17,9,8,33,1,9,8,17,10,8,35,1,9,8,17,10,8,35,1,9,8,17,10,8,35]
["11.   ","Технология ",1,9,8,17,9,8,33,1,9,8,17,10,8,35,1,9,8,17,10,8,35,1,9,8,17,10,8,35]
["12.   ","Физическая культура",3,27,21,48,27,24,99,3,27,24,51,30,24,105,3,27,24,51,30,24,105,3,27,24,51,30,24,105]
["Итого ",null,21,9,8,17,9,8,33,26,9,8,17,10,8,35,26,9,8,17,10,8,35,null,9,8,17,10,8,35]

{"sheet":"ЧИСЛИННОСТЬ (АХМЕД НАГОЕВ)","index":63,"n_rows":80,"n_cols":11,"rows_kept":80,"cut":false,"hidden":false,"merged":[[23,7,24,7],[31,2,31,6],[31,7,32,7],[32,1,33,1],[23,1,24,1],[23,2,24,2],[23,3,24,3],[23,4,24,4],[23,5,24,5],[14,7,15,7],[16,1,18,1],[16,2,18,2],[16,3,18,3],[16,4,18,4],[16,5,18,5],[16,7,18,7],[14,1,15,1],[14,2,15,2],[14,3,15,3],[14,4,15,4],[14,5,15,5],[5,7,6,7],[10,1,11,1],[10,2,11,2],[10,3,11,3],[10,4,11,4],[10,5,11,5],[10,7,11,7],[5,1,6,1],[5,2,6,2],[5,3,6,3],[5,4,6,4],[5,5,5,6],[73,2,73,6],[73,7,74,7],[74,1,75,1],[64,7,65,7],[64,1,65,1],[64,2,65,2],[64,3,65,3],[64,4,65,4],[64,5,64,6]]}
[]
[]
[]
[]
[]
[null,"класс","Всего ","Мальчиков ","Девочек ","Проживание ",null,"Классный руководитель "]
[null,null,null,null,null,"Г.о Баксан","Иногородние (указать откуда)"]
[null,"1а ",22,9,13,22,"-","Льмесова Л.Х."]
[null,"1б ",26,13,13,26,"-  ","Хашкулова М.М."]
[null,"1 ка ",21,17,4,20,"Псычех-1","Ажахова А.И."]
[null,"1 Кб",20,17,3,13,"Баксаненок-3; Куба -2; ","Ахобекова Р.А."]
[null,null,null,null,null,null,"Нальчик -2 "]
[null,"1в ",21,9,12,21,0,"Сонова И.К."]
[null,"2а",25,23,2,22,"Баксаненок -2,Дугулубгей -1","Бирмамитова А.Х."]
[null,"2б",25,14,11,17,"Исламей – 1","Куржиева А.Х."]
[null,null,null,null,null,null,"Дугулубгей – 1 Баксаненок -6"]
[null,"2в",21,18,3,12,"Дугублугей- 7 ","Додохова Ж.Х."]
[null,null,null,null,null,null,"Исламей -1"]
[null,null,null,null,null,null,"Баксаненок -1"]
[null,"2 Ф",17,10,7,16,"Дугулубгей-1","Гетаова А.М."]
[null,"2е ",28,16,12,28,"-","Ташилова Н.З."]
[null,"3б ",24,14,10,24,"-","Хаваяшхова Р.Т."]
[null,"3в",23,12,11,23,"-","Тутова Е.Б"]
[null,"3к ",26,20,6,21,"Баксаненок-4","Кумыкова Л.А."]
[null,null,null,null,null,null,"Псычех -1"]
[null,"4а",25,14,11,25,"-","Эльмесова Л.Х."]
[null,"4б ",19,10,9,19,"- ","Карданова И.М."]
[null,"4в ",19,14,5,19,"-","Дышекова И.А."]
[]
[]
[]
[null,"Г.о. Баксан","Иногородние",null,null,null,null,"Всего"]
[null,351,"Нальчик","Баксаненок","Дугулубгей","Исламей","Псычех"]
[null,null,2,16,10,2,2,383]
[]
[]
[]
[]
[null,null,null,null,null,"Баксан ",351]
[null,null,null,null,null,"иногородние ",32]
[null,null,null,null,null,"всего",383]
[]
[]
[]
[]
[]
[]
[]
[]
[]
[]
[]
[]
[]
[]
[]
[]
[]
[]
[]
[]
[]
[]
[]
[null,"класс","Всего ","Мальчиков ","Девочек ","Проживание ",null,"Классный руководитель "]
[null,null,null,null,null,"Г.о Баксан","Иногородние (указать откуда)",null,null,"Баксан ",22]
[null,null,31,27,4,22,9,"Аргашокова Л.З.",null,"иногородние ",9]
[null,null,29,9,20,29,0,"Карданова И.М",null,"всего",31]
[null,null,30,15,15,30,0,"Дышекова И.А."]
[null,null,7,3,4,7,0,"Куржиева К.З."]
[null,null,{"$f":"SUM(C67:C70)","v":97},{"$f":"SUM(D67:D70)","v":54},{"$f":"SUM(E67:E70)","v":43},{"$f":"SUM(F67:F70)","v":88},{"$f":"SUM(G67:G70)","v":9},4]
[]
[]
[null,"Г.о. Баксан","Иногородние",null,null,null,null,"Всего"]
[null,22,"Нальчик","Баксаненок","Дугулубгей","Исламей","Псычех"]
[null,null,1,4,2,2,0,9]
[null,29,0,0,0,0,0,0]
[null,30,0,0,0,0,0,0]
[null,7,0,0,0,0,0,0]
[null,{"$f":"SUM(B76:B79)","v":66},1,4,2,2,0,9]

{"sheet":"1А","index":64,"n_rows":65,"n_cols":23,"rows_kept":65,"cut":false,"hidden":false,"merged":[[76,0,76,1],[76,6,76,7],[76,10,76,11],[77,0,77,1],[77,6,77,7],[77,10,77,11],[74,0,74,1],[74,6,74,7],[74,10,74,11],[75,0,75,1],[75,6,75,7],[75,10,75,11],[72,0,72,1],[72,6,72,7],[72,10,72,11],[73,0,73,1],[73,6,73,7],[73,10,73,11],[70,0,70,1],[70,6,70,7],[70,10,70,11],[71,0,71,1],[71,6,71,7],[71,10,71,11],[68,0,68,1],[68,6,68,7],[68,10,68,11],[69,0,69,1],[69,6,69,7],[69,10,69,11],[66,0,66,1],[66,6,66,7],[66,10,66,11],[67,0,67,1],[67,6,67,7],[67,10,67,11],[64,0,64,1],[64,6,64,7],[64,10,64,11],[65,0,65,1],[65,6,65,7],[65,10,65,11],[62,0,62,3],[62,4,62,7],[62,8,62,11],[62,12,62,14],[63,0,63,3],[63,4,63,7],[63,8,63,11],[63,12,63,14],[61,0,61,3],[61,4,61,7],[61,8,61,11],[61,12,61,14],[47,0,47,2],[48,0,48,2],[49,0,49,2],[50,0,50,2],[51,0,51,2],[52,0,52,2],[53,0,53,2],[60,0,60,3],[60,4,60,7],[60,8,60,11],[60,12,60,14],[46,0,46,2],[21,0,23,0],[21,1,23,1],[24,1,26,1],[27,1,29,1],[30,0,32,0],[30,1,32,1],[33,0,38,0],[33,1,35,1],[39,0,41,0],[39,1,41,1],[45,0,45,2],[8,1,8,2],[9,0,14,0],[9,1,11,1],[12,1,14,1],[15,0,20,0],[15,1,17,1],[18,1,20,1],[6,1,6,2],[6,3,6,22],[7,1,7,2],[7,3,7,7],[7,8,7,12],[7,13,7,17],[7,18,7,22]]}
[]
[]
[null,null,null,null,null,null,"1 КА "]
[]
["Уровень обученности обучающихся  1А класса в разрезе  по годам  и чевертям обучения  на конец 3 четверти 2018-2019 учебного года , классный  руководитель: Эльмесова Л.Х."]
["                                                                                                                                                                                                                                                           Ф.И."]
["Предметные","Учебные"]
["области","предметы",null,"____Класс ____ год",null,null,null,null,"_____Класс ____ год",null,null,null,null,"_______Класс ____ год",null,null,null,null,"_____Класс ____ год"]
[null,"Классы",null,1,2,3,4,"г",1,2,3,4,"г",1,2,3,4,"г",1,2,3,4,"г"]
["Русский язык и литературное чтение","Русский язык","Успеваемость "]
[null,null,"Качество "]
[null,null,"Средний бал"]
[null,"Литературное чтение","Успеваемость "]
[null,null,"Качество "]
[null,null,"Средний бал"]
["Родной язык и литературное чтение на родном языке","Кабардинский язык","Успеваемость "]
[null,null,"Качество "]
[null,null,"Средний бал"]
[null,"Литературное чтение на кабардинском  языке","Успеваемость "]
[null,null,"Качество "]
[null,null,"Средний бал"]
["Иностранный язык","Английский язык","Успеваемость "]
[null,null,"Качество "]
[null,null,"Средний бал"]
["Математика","Математика ","Успеваемость "]
["и информатика",null,"Качество "]
[null,null,"Средний бал"]
["Обществознание","Окружающий мир ","Успеваемость "]
["и естествознание",null,"Качество "]
[null,null,"Средний бал"]
["Основы религиозных культур светской этики"," (ОРКСЭ)","Успеваемость "]
[null,null,"Качество "]
[null,null,"Средний бал"]
["Искусство","Музыка","Успеваемость "]
[null,null,"Качество "]
[null,null,"Средний бал"]
[null,"Изобразительное","Успеваемость "]
[null,"искусство","Качество "]
[null,null,"Средний бал"]
["Технология","Технология ","Успеваемость "]
[null,null,"Качество "]
[null,null,"Средний бал"]
["Физическая","Физическая","Успеваемость "]
["культура","культура ","Качество "]
[null,null,"Средний бал"]
["Итого"]
["Внеурочная деятельность (кружки, секции) "]
["Спортивно-оздоровительное"]
["Военно-патриотическое "]
["Художественно - эстетическое"]
["Духовно-нравственное"]
["Обще-интеллектуальное "]
["Научно - познавательное"]
["Итого:"]
[]
[]
[]
[]
[]
[]
["Первый год обучения   __________год ",null,null,null,"Второй год обучения  ___________год",null,null,null,"Трети год обучения   __________год",null,null,null,"Четвертый год обучения _________год"]
["На начало _____     на конец _____",null,null,null,"На начало _____     на конец ______",null,null,null,"На начало _____     на конец ______",null,null,null,"На начало _____     на конец ______"]
[]
["ф.И. ученика",null,null,null,"ф.И. ученика",null,null,null,"ф.И. ученика",null,null,null,"ф.И. ученика"]
["Отличники  ",null,"Не успевают ","Предмет ","Отличники ","Не успевают ","Предмет",null,"Отличники ","Не успевают ","Предмет",null,"Отличники ","Не успевают ","Предмет"]

{"sheet":"1Б","index":65,"n_rows":64,"n_cols":27,"rows_kept":64,"cut":false,"hidden":false,"merged":[[3,1,3,2],[3,3,3,22],[4,1,4,2],[4,3,4,7],[4,8,4,12],[4,13,4,17],[4,18,4,22],[5,1,5,2],[6,0,11,0],[6,1,8,1],[9,1,11,1],[12,0,17,0],[12,1,14,1],[15,1,17,1],[18,0,20,0],[18,1,20,1],[21,1,23,1],[24,1,26,1],[27,0,29,0],[27,1,29,1],[30,0,35,0],[30,1,32,1],[36,0,38,0],[36,1,38,1],[42,0,42,2],[43,0,43,2],[44,0,44,2],[45,0,45,2],[46,0,46,2],[47,0,47,2],[48,0,48,2],[49,0,49,2],[50,0,50,2],[57,0,57,3],[57,4,57,7],[57,8,57,11],[57,12,57,14],[58,0,58,3],[58,4,58,7],[58,8,58,11],[58,12,58,14],[59,0,59,3],[59,4,59,7],[59,8,59,11],[59,12,59,14],[60,0,60,3],[60,4,60,7],[60,8,60,11],[60,12,60,14],[61,0,61,1],[61,6,61,7],[61,10,61,11],[62,0,62,1],[62,6,62,7],[62,10,62,11],[63,0,63,1],[63,6,63,7],[63,10,63,11],[64,0,64,1],[64,6,64,7],[64,10,64,11],[65,0,65,1],[65,6,65,7],[65,10,65,11],[66,0,66,1],[66,6,66,7],[66,10,66,11],[67,0,67,1],[67,6,67,7],[67,10,67,11],[68,0,68,1],[68,6,68,7],[68,10,68,11],[69,0,69,1],[69,6,69,7],[69,10,69,11],[70,0,70,1],[70,6,70,7],[70,10,70,11],[71,0,71,1],[71,6,71,7],[71,10,71,11],[72,0,72,1],[72,6,72,7],[72,10,72,11],[73,0,73,1],[73,6,73,7],[73,10,73,11],[74,0,74,1],[74,6,74,7],[74,10,74,11]]}
[null,null,null,null,null,"1 КБ"]
["Уровень обученности обучающихся  1 Б класса в разрезе  по годам  и чевертям обучения  на конец 3 четверти 2018-2019 учебного года , классный  руководитель: Уметова М.М."]
["                                                                                                                                                                                                                                                           Ф.И."]
["Предметные","Учебные"]
["области","предметы",null,"2018-2019 "]
[null,"Классы",null,"2чет",null,null,null,"3 чет ",1,2,3,4,"г",1,2,3,4,"г",1,2,3,4,"г",1,2,3,4]
["Русский язык и литературное чтение","Русский язык","Успеваемость ",85,null,null,null,88]
[null,null,"Качество ",48,null,null,null,46]
[null,null,"Средний бал",3,null,null,null,3]
[null,"Литературное чтение","Успеваемость ",96,null,null,null,92]
[null,null,"Качество ",58,null,null,null,54]
[null,null,"Средний бал",4,null,null,null,4]
["Родной язык и литературное чтение на родном языке","Кабардинский язык","Успеваемость ",85,null,null,null,85]
[null,null,"Качество ",42,null,null,null,46]
[null,null,"Средний бал",3,null,null,null,3]
[null,"Литературное чтение на кабардинском  языке","Успеваемость ",96,null,null,null,96]
[null,null,"Качество ",54,null,null,null,50]
[null,null,"Средний бал",4,null,null,null,3]
["Иностранный язык","Английский язык","Успеваемость ",0,null,null,null,0]
[null,null,"Качество ",0,null,null,null,0]
[null,null,"Средний бал",0,null,null,null,0]
["Математика","Математика ","Успеваемость ",88,null,null,null,88]
["и информатика",null,"Качество ",46,null,null,null,44]
[null,null,"Средний бал",3,null,null,null,3]
["Обществознание","Окружающий мир ","Успеваемость ",92,null,null,null,92]
["и естествознание",null,"Качество ",69,null,null,null,62]
[null,null,"Средний бал",4,null,null,null,4]
["Основы религиозных культур светской этики"," (ОРКСЭ)","Успеваемость ",0,null,null,null,0]
[null,null,"Качество ",0,null,null,null,0]
[null,null,"Средний бал",0,null,null,null,0]
["Искусство","Музыка","Успеваемость ",100,null,null,null,100]
[null,null,"Качество ",100,null,null,null,100]
[null,null,"Средний бал",5,null,null,null,5]
[null,"Изобразительное","Успеваемость ",100,null,null,null,100]
[null,"искусство","Качество ",100,null,null,null,100]
[null,null,"Средний бал",5,null,null,null,5]
["Технология","Технология ","Успеваемость ",100,null,null,null,100]
[null,null,"Качество ",100,null,null,null,100]
[null,null,"Средний бал",5,null,null,null,5]
["Физическая","Физическая","Успеваемость ",100,null,null,null,100]
["культура","культура ","Качество ",100,null,null,null,100]
[null,null,"Средний бал",5,null,null,null,5]
["Итого"]
["Внеурочная деятельность (кружки, секции) "]
["Спортивно-оздоровительное"]
["Военно-патриотическое "]
["Художественно - эстетическое"]
["Духовно-нравственное"]
["Обще-интеллектуальное "]
["Научно - познавательное"]
["Итого:"]
[]
[]
[]
[]
[]
[]
["Первый год обучения, 3 четверть ",null,null,null,"Второй год обучения  ___________год",null,null,null,"Трети год обучения   __________год",null,null,null,"Четвертый год обучения _________год"]
[null,null,null,null,"На начало _____     на конец ______",null,null,null,"На начало _____     на конец ______",null,null,null,"На начало _____     на конец ______"]
[]
["ф.И. ученика",null,null,null,"ф.И. ученика",null,null,null,"ф.И. ученика",null,null,null,"ф.И. ученика"]
["Отличники  ",null,"Не успевают ","Предмет ","Отличники ","Не успевают ","Предмет",null,"Отличники ","Не успевают ","Предмет",null,"Отличники ","Не успевают ","Предмет"]
["Гучакова Сара",null,"Тутова Милана ","математика (1)"]
["Дугужева Айдана "]

{"sheet":"1В","index":66,"n_rows":67,"n_cols":23,"rows_kept":67,"cut":false,"hidden":false,"merged":[[75,0,75,1],[75,6,75,7],[75,10,75,11],[76,0,76,1],[76,6,76,7],[76,10,76,11],[73,0,73,1],[73,6,73,7],[73,10,73,11],[74,0,74,1],[74,6,74,7],[74,10,74,11],[71,0,71,1],[71,6,71,7],[71,10,71,11],[72,0,72,1],[72,6,72,7],[72,10,72,11],[69,0,69,1],[69,6,69,7],[69,10,69,11],[70,0,70,1],[70,6,70,7],[70,10,70,11],[67,0,67,1],[67,6,67,7],[67,10,67,11],[68,0,68,1],[68,6,68,7],[68,10,68,11],[65,0,65,1],[65,6,65,7],[65,10,65,11],[66,0,66,1],[66,6,66,7],[66,10,66,11],[63,0,63,1],[63,6,63,7],[63,10,63,11],[64,0,64,1],[64,6,64,7],[64,10,64,11],[61,0,61,3],[61,4,61,7],[61,8,61,11],[61,12,61,14],[62,0,62,3],[62,4,62,7],[62,8,62,11],[62,12,62,14],[60,0,60,3],[60,4,60,7],[60,8,60,11],[60,12,60,14],[46,0,46,2],[47,0,47,2],[48,0,48,2],[49,0,49,2],[50,0,50,2],[51,0,51,2],[52,0,52,2],[59,0,59,3],[59,4,59,7],[59,8,59,11],[59,12,59,14],[45,0,45,2],[20,0,22,0],[20,1,22,1],[23,1,25,1],[26,1,28,1],[29,0,31,0],[29,1,31,1],[32,0,37,0],[32,1,34,1],[38,0,40,0],[38,1,40,1],[44,0,44,2],[7,1,7,2],[8,0,13,0],[8,1,10,1],[11,1,13,1],[14,0,19,0],[14,1,16,1],[17,1,19,1],[5,1,5,2],[5,3,5,22],[6,1,6,2],[6,3,6,7],[6,8,6,12],[6,13,6,17],[6,18,6,22]]}
[]
[null,null,null,null,null,null,"1А"]
[]
["Уровень обученности обучающихся  1 В класса в разрезе  по годам  и чевертям обучения  на конец 3 четверти 2018-2019 учебного года , классный  руководитель: Сонова И.К."]
["                                                                                                                                                                                                                                                           Ф.И."]
["Предметные","Учебные"]
["области","предметы",null,"2018-2019"]
[null,"Классы",null,"2 четверть ",2,3,4,"3 четверть ",1,2,3,4,"г",1,2,3,4,"г",1,2,3,4,"г"]
["Русский язык и литературное чтение","Русский язык","Успеваемость ",89,null,null,null,86]
[null,null,"Качество ",42,null,null,null,44]
[null,null,"Средний бал",3,null,null,null,3]
[null,"Литературное чтение","Успеваемость ",94,null,null,null,94]
[null,null,"Качество ",54,null,null,null,55]
[null,null,"Средний бал",3,null,null,null,3]
["Родной язык и литературное чтение на родном языке","Кабардинский язык","Успеваемость ",89,null,null,null,88]
[null,null,"Качество ",40,null,null,null,41]
[null,null,"Средний бал",3,null,null,null,3]
[null,"Литературное чтение на кабардинском  языке","Успеваемость ",94,null,null,null,94]
[null,null,"Качество ",58,null,null,null,58]
[null,null,"Средний бал",3,null,null,null,3]
["Иностранный язык","Английский язык","Успеваемость ",0,null,null,null,0]
[null,null,"Качество ",0,null,null,null,0]
[null,null,"Средний бал",0,null,null,null,0]
["Математика","Математика ","Успеваемость ",94,null,null,null,81]
["и информатика",null,"Качество ",46,null,null,null,43]
[null,null,"Средний бал",3,null,null,null,3]
["Обществознание","Окружающий мир ","Успеваемость ",94,null,null,null,94]
["и естествознание",null,"Качество ",50,null,null,null,50]
[null,null,"Средний бал",4,null,null,null,4]
["Основы религиозных культур светской этики"," (ОРКСЭ)","Успеваемость ",0,null,null,null,0]
[null,null,"Качество ",0,null,null,null,0]
[null,null,"Средний бал",0,null,null,null,0]
["Искусство","Музыка","Успеваемость ",100,null,null,null,100]
[null,null,"Качество ",100,null,null,null,100]
[null,null,"Средний бал",5,null,null,null,5]
[null,"Изобразительное","Успеваемость ",100,null,null,null,100]
[null,"искусство","Качество ",100,null,null,null,100]
[null,null,"Средний бал",5,null,null,null,5]
["Технология","Технология ","Успеваемость ",100,null,null,null,100]
[null,null,"Качество ",100,null,null,null,100]
[null,null,"Средний бал",5,null,null,null,5]
["Физическая","Физическая","Успеваемость ",100,null,null,null,100]
["культура","культура ","Качество ",100,null,null,null,100]
[null,null,"Средний бал",5,null,null,null,5]
["Итого"]
["Внеурочная деятельность (кружки, секции) "]
["Спортивно-оздоровительное"]
["Военно-патриотическое "]
["Художественно - эстетическое"]
["Духовно-нравственное"]
["Обще-интеллектуальное "]
["Научно - познавательное"]
["Итого:"]
[]
[]
[]
[]
[]
[]
["Первый год обучения, 3 четверть ",null,null,null,"Второй год обучения  ___________год",null,null,null,"Трети год обучения   __________год",null,null,null,"Четвертый год обучения _________год"]
[null,null,null,null,"На начало _____     на конец ______",null,null,null,"На начало _____     на конец ______",null,null,null,"На начало _____     на конец ______"]
[]
["ф.И. ученика",null,null,null,"ф.И. ученика",null,null,null,"ф.И. ученика",null,null,null,"ф.И. ученика"]
["Отличники  ",null,"Не успевают ","Предмет ","Отличники ","Не успевают ","Предмет",null,"Отличники ","Не успевают ","Предмет",null,"Отличники ","Не успевают ","Предмет"]
["Паунежева Н",null,"Кумыков Идар ","русский яз; л/ч; каб.яз, каб.лит; математика (5)"]
["Дышукова В"]
["Шогенов А"]

{"sheet":"1Ка","index":67,"n_rows":65,"n_cols":23,"rows_kept":65,"cut":false,"hidden":false,"merged":[[4,1,4,2],[4,3,4,22],[5,1,5,2],[5,3,5,7],[5,8,5,12],[5,13,5,17],[5,18,5,22],[6,1,6,2],[7,0,12,0],[7,1,9,1],[10,1,12,1],[13,0,18,0],[13,1,15,1],[16,1,18,1],[19,0,21,0],[19,1,21,1],[22,1,24,1],[25,1,27,1],[28,0,30,0],[28,1,30,1],[31,0,36,0],[31,1,33,1],[37,0,39,0],[37,1,39,1],[43,0,43,2],[44,0,44,2],[45,0,45,2],[46,0,46,2],[47,0,47,2],[48,0,48,2],[49,0,49,2],[50,0,50,2],[51,0,51,2],[58,0,58,3],[58,4,58,7],[58,8,58,11],[58,12,58,14],[59,0,59,3],[59,4,59,7],[59,8,59,11],[59,12,59,14],[60,0,60,3],[60,4,60,7],[60,8,60,11],[60,12,60,14],[61,0,61,3],[61,4,61,7],[61,8,61,11],[61,12,61,14],[62,0,62,1],[62,6,62,7],[62,10,62,11],[63,0,63,1],[63,6,63,7],[63,10,63,11],[64,0,64,1],[64,6,64,7],[64,10,64,11],[65,0,65,1],[65,6,65,7],[65,10,65,11],[66,0,66,1],[66,6,66,7],[66,10,66,11],[67,0,67,1],[67,6,67,7],[67,10,67,11],[68,0,68,1],[68,6,68,7],[68,10,68,11],[69,0,69,1],[69,6,69,7],[69,10,69,11],[70,0,70,1],[70,6,70,7],[70,10,70,11],[71,0,71,1],[71,6,71,7],[71,10,71,11],[72,0,72,1],[72,6,72,7],[72,10,72,11],[73,0,73,1],[73,6,73,7],[73,10,73,11],[74,0,74,1],[74,6,74,7],[74,10,74,11],[75,0,75,1],[75,6,75,7],[75,10,75,11]]}
[]
[null,null,null,null,null,null,null,null,"1Б"]
["Уровень обученности обучающихся  1Ка  класса в разрезе  по годам  и чевертям обучения  на конец 3 четверти 2018-2019 учебного года , классный  руководитель: Ажахова А.И.."]
["                                                                                                                                                                                                                                                           Ф.И."]
["Предметные","Учебные"]
["области","предметы",null,"2018-2019"]
[null,"Классы",null,"2 четверть ",2,3,4,"3 четверть ",1,2,3,4,"г",1,2,3,4,"г",1,2,3,4,"г"]
["Русский язык и литературное чтение","Русский язык","Успеваемость ",54,null,null,null,90]
[null,null,"Качество ",30,null,null,null,29]
[null,null,"Средний бал",2,null,null,null,3]
[null,"Литературное чтение","Успеваемость ",70,null,null,null,90]
[null,null,"Качество ",28,null,null,null,29]
[null,null,"Средний бал",2,null,null,null,3]
["Родной язык и литературное чтение на родном языке","Кабардинский язык","Успеваемость ",54,null,null,null,90]
[null,null,"Качество ",30,null,null,null,29]
[null,null,"Средний бал",2,null,null,null,3]
[null,"Литературное чтение на кабардинском  языке","Успеваемость ",70,null,null,null,90]
[null,null,"Качество ",28,null,null,null,29]
[null,null,"Средний бал",2,null,null,null,3]
["Иностранный язык","Английский язык","Успеваемость ",0,null,null,null,0]
[null,null,"Качество ",0,null,null,null,0]
[null,null,"Средний бал",0,null,null,null,0]
["Математика","Математика ","Успеваемость ",54,null,null,null,90]
["и информатика",null,"Качество ",30,null,null,null,29]
[null,null,"Средний бал",2,null,null,null,3]
["Обществознание","Окружающий мир ","Успеваемость ",54,null,null,null,90]
["и естествознание",null,"Качество ",30,null,null,null,29]
[null,null,"Средний бал",2,null,null,null,3]
["Основы религиозных культур светской этики"," (ОРКСЭ)","Успеваемость ",0,null,null,null,0]
[null,null,"Качество ",0,null,null,null,0]
[null,null,"Средний бал",0,null,null,null,0]
["Искусство","Музыка","Успеваемость ",100,null,null,null,100]
[null,null,"Качество ",100,null,null,null,100]
[null,null,"Средний бал",5,null,null,null,5]
[null,"Изобразительное","Успеваемость ",100,null,null,null,100]
[null,"искусство","Качество ",100,null,null,null,100]
[null,null,"Средний бал",5,null,null,null,5]
["Технология","Технология ","Успеваемость ",100,null,null,null,100]
[null,null,"Качество ",100,null,null,null,100]
[null,null,"Средний бал",5,null,null,null,5]
["Физическая","Физическая","Успеваемость ",100,null,null,null,100]
["культура","культура ","Качество ",100,null,null,null,100]
[null,null,"Средний бал",5,null,null,null,5]
["Итого"]
["Внеурочная деятельность (кружки, секции) "]
["Спортивно-оздоровительное"]
["Военно-патриотическое "]
["Художественно - эстетическое"]
["Духовно-нравственное"]
["Обще-интеллектуальное "]
["Научно - познавательное"]
["Итого:"]
[]
[]
[]
[]
[]
[]
["Первый год обучения , 3 четверть ",null,null,null,"Второй год обучения  ___________год",null,null,null,"Трети год обучения   __________год",null,null,null,"Четвертый год обучения _________год"]
[null,null,null,null,"На начало _____     на конец ______",null,null,null,"На начало _____     на конец ______",null,null,null,"На начало _____     на конец ______"]
[]
["ф.И. ученика",null,null,null,"ф.И. ученика",null,null,null,"ф.И. ученика",null,null,null,"ф.И. ученика"]
["Отличники  ",null,"Не успевают ","Предмет ","Отличники ","Не успевают ","Предмет",null,"Отличники ","Не успевают ","Предмет",null,"Отличники ","Не успевают ","Предмет"]
[null,null,"Боготов Самир","русский зык; матем (2)"]
[null,null,"Даткулов Адам ","русский зык; матем (2)"]

{"sheet":"1КБ","index":68,"n_rows":62,"n_cols":23,"rows_kept":62,"cut":false,"hidden":false,"merged":[[73,0,73,1],[73,6,73,7],[73,10,73,11],[74,0,74,1],[74,6,74,7],[74,10,74,11],[71,0,71,1],[71,6,71,7],[71,10,71,11],[72,0,72,1],[72,6,72,7],[72,10,72,11],[69,0,69,1],[69,6,69,7],[69,10,69,11],[70,0,70,1],[70,6,70,7],[70,10,70,11],[67,0,67,1],[67,6,67,7],[67,10,67,11],[68,0,68,1],[68,6,68,7],[68,10,68,11],[65,0,65,1],[65,6,65,7],[65,10,65,11],[66,0,66,1],[66,6,66,7],[66,10,66,11],[63,0,63,1],[63,6,63,7],[63,10,63,11],[64,0,64,1],[64,6,64,7],[64,10,64,11],[61,0,61,1],[61,6,61,7],[61,10,61,11],[62,0,62,1],[62,6,62,7],[62,10,62,11],[59,0,59,3],[59,4,59,7],[59,8,59,11],[59,12,59,14],[60,0,60,3],[60,4,60,7],[60,8,60,11],[60,12,60,14],[58,0,58,3],[58,4,58,7],[58,8,58,11],[58,12,58,14],[44,0,44,2],[45,0,45,2],[46,0,46,2],[47,0,47,2],[48,0,48,2],[49,0,49,2],[50,0,50,2],[57,0,57,3],[57,4,57,7],[57,8,57,11],[57,12,57,14],[43,0,43,2],[18,0,20,0],[18,1,20,1],[21,1,23,1],[24,1,26,1],[27,0,29,0],[27,1,29,1],[30,0,35,0],[30,1,32,1],[36,0,38,0],[36,1,38,1],[42,0,42,2],[5,1,5,2],[6,0,11,0],[6,1,8,1],[9,1,11,1],[12,0,17,0],[12,1,14,1],[15,1,17,1],[3,1,3,2],[3,3,3,22],[4,1,4,2],[4,3,4,7],[4,8,4,12],[4,13,4,17],[4,18,4,22]]}
[null,null,null,null,null,null,null,null,null,"1В"]
["Уровень обученности обучающихся  1КБ  класса в разрезе  по годам  и чевертям обучения  на конец 3 четверти 2018-2019 учебного года , классный  руководитель: Ахобекова Р.а."]
["                                                                                                                                                                                                                                                           Ф.И."]
["Предметные","Учебные"]
["области","предметы",null,"2018-2019"]
[null,"Классы",null,"2 четверть ",2,3,4,"3 четверть ",1,2,3,4,"г",1,2,3,4,"г",1,2,3,4,"г"]
["Русский язык и литературное чтение","Русский язык","Успеваемость ",84]
[null,null,"Качество ",37]
[null,null,"Средний бал",3]
[null,"Литературное чтение","Успеваемость ",95]
[null,null,"Качество ",47]
[null,null,"Средний бал",3]
["Родной язык и литературное чтение на родном языке","Кабардинский язык","Успеваемость ",84]
[null,null,"Качество ",37]
[null,null,"Средний бал",3]
[null,"Литературное чтение на кабардинском  языке","Успеваемость ",89]
[null,null,"Качество ",42]
[null,null,"Средний бал",3]
["Иностранный язык","Английский язык","Успеваемость ",0]
[null,null,"Качество ",0]
[null,null,"Средний бал",0]
["Математика","Математика ","Успеваемость ",79]
["и информатика",null,"Качество ",37]
[null,null,"Средний бал",3]
["Обществознание","Окружающий мир ","Успеваемость ",85]
["и естествознание",null,"Качество ",47]
[null,null,"Средний бал",3]
["Основы религиозных культур светской этики"," (ОРКСЭ)","Успеваемость ",0]
[null,null,"Качество ",0]
[null,null,"Средний бал",0]
["Искусство","Музыка","Успеваемость ",100]
[null,null,"Качество ",100]
[null,null,"Средний бал",5]
[null,"Изобразительное","Успеваемость ",100]
[null,"искусство","Качество ",100]
[null,null,"Средний бал",5]
["Технология","Технология ","Успеваемость ",100]
[null,null,"Качество ",100]
[null,null,"Средний бал",5]
["Физическая","Физическая","Успеваемость ",100]
["культура","культура ","Качество ",100]
[null,null,"Средний бал",5]
["Итого"]
["Внеурочная деятельность (кружки, секции) "]
["Спортивно-оздоровительное"]
["Военно-патриотическое "]
["Художественно - эстетическое"]
["Духовно-нравственное"]
["Обще-интеллектуальное "]
["Научно - познавательное"]
["Итого:"]
[]
[]
[]
[]
[]
[]
["Первый год обучения   __________год ",null,null,null,"Второй год обучения  ___________год",null,null,null,"Трети год обучения   __________год",null,null,null,"Четвертый год обучения _________год"]
["На начало _____     на конец _____",null,null,null,"На начало _____     на конец ______",null,null,null,"На начало _____     на конец ______",null,null,null,"На начало _____     на конец ______"]
[]
["ф.И. ученика",null,null,null,"ф.И. ученика",null,null,null,"ф.И. ученика",null,null,null,"ф.И. ученика"]
["Отличники  ",null,"Не успевают ","Предмет ","Отличники ","Не успевают ","Предмет",null,"Отличники ","Не успевают ","Предмет",null,"Отличники ","Не успевают ","Предмет"]

{"sheet":"2 Ка","index":69,"n_rows":63,"n_cols":23,"rows_kept":63,"cut":false,"hidden":false,"merged":[[3,1,3,2],[3,3,3,22],[4,1,4,2],[4,3,4,7],[4,8,4,12],[4,13,4,17],[4,18,4,22],[5,1,5,2],[6,0,11,0],[6,1,8,1],[9,1,11,1],[12,0,17,0],[12,1,14,1],[15,1,17,1],[18,0,20,0],[18,1,20,1],[21,1,23,1],[24,1,26,1],[27,0,29,0],[27,1,29,1],[30,0,35,0],[30,1,32,1],[36,0,38,0],[36,1,38,1],[42,0,42,2],[43,0,43,2],[44,0,44,2],[45,0,45,2],[46,0,46,2],[47,0,47,2],[48,0,48,2],[49,0,49,2],[50,0,50,2],[57,0,57,3],[57,4,57,7],[57,8,57,11],[57,12,57,14],[58,0,58,3],[58,4,58,7],[58,8,58,11],[58,12,58,14],[59,0,59,3],[59,4,59,7],[59,8,59,11],[59,12,59,14],[60,0,60,3],[60,4,60,7],[60,8,60,11],[60,12,60,14],[61,0,61,1],[61,6,61,7],[61,10,61,11],[62,0,62,1],[62,6,62,7],[62,10,62,11],[63,0,63,1],[63,6,63,7],[63,10,63,11],[64,0,64,1],[64,6,64,7],[64,10,64,11],[65,0,65,1],[65,6,65,7],[65,10,65,11],[66,0,66,1],[66,6,66,7],[66,10,66,11],[67,0,67,1],[67,6,67,7],[67,10,67,11],[68,0,68,1],[68,6,68,7],[68,10,68,11],[69,0,69,1],[69,6,69,7],[69,10,69,11],[70,0,70,1],[70,6,70,7],[70,10,70,11],[71,0,71,1],[71,6,71,7],[71,10,71,11],[72,0,72,1],[72,6,72,7],[72,10,72,11],[73,0,73,1],[73,6,73,7],[73,10,73,11],[74,0,74,1],[74,6,74,7],[74,10,74,11]]}
[null,null,null,null,null,null,null,"2 Ка"]
["Уровень обученности обучающихся 2 КА  класса на конец первого полугодия НОО ФГОС 2018-2019 года  по четвертям классный  руководитель Бирмамитова А.Х."]
["                                                                                                                                                                                                                                                           Ф.И."]
["Предметные","Учебные"]
["области","предметы",null,"1Класс 2017-2018 год",null,null,null,null,"2 Класс 2018-2019 год"]
[null,"Классы",null,1,2,3,4,"г",1,2,3,4,"г",1,2,3,4,"г",1,2,3,4,"г"]
["Русский язык и литературное чтение","Русский язык","Успеваемость ",null,null,null,null,null,100,100,95]
[null,null,"Качество ",null,null,null,null,null,69,61,45]
[null,null,"Средний бал",null,null,null,null,null,4,4,4]
[null,"Литературное чтение","Успеваемость ",null,null,null,null,null,100,100,95]
[null,null,"Качество ",null,null,null,null,null,92,96,92]
[null,null,"Средний бал",null,null,null,null,null,4,4,4]
["Родной язык и литературное чтение на родном языке","Кабардинский язык","Успеваемость ",null,null,null,null,null,100,100,95]
[null,null,"Качество ",null,null,null,null,null,77,80,72]
[null,null,"Средний бал",null,null,null,null,null,4,4,4]
[null,"Литературное чтение на кабардинском  языке","Успеваемость ",null,null,null,null,null,100,100,95]
[null,null,"Качество ",null,null,null,null,null,88,92,88]
[null,null,"Средний бал",null,null,null,null,null,4,4,4]
["Иностранный язык","Английский язык","Успеваемость ",null,null,null,null,null,100,100,95]
[null,null,"Качество ",null,null,null,null,null,88,76,51]
[null,null,"Средний бал",null,null,null,null,null,4,4,3]
["Математика","Математика ","Успеваемость ",null,null,null,null,null,100,100,95]
["и информатика",null,"Качество ",null,null,null,null,null,84,69,32]
[null,null,"Средний бал",null,null,null,null,null,4,4,2]
["Обществознание","Окружающий мир ","Успеваемость ",null,null,null,null,null,100,10,84]
["и естествознание",null,"Качество ",null,null,null,null,null,87,84,42]
[null,null,"Средний бал",null,null,null,null,null,4,4,3]
["Основы религиозных культур светской этики"," (ОРКСЭ)","Успеваемость ",null,null,null,null,null,0,0,0]
[null,null,"Качество ",null,null,null,null,null,0,0,0]
[null,null,"Средний бал",null,null,null,null,null,0,0,0]
["Искусство","Музыка","Успеваемость ",null,null,null,null,null,100,100,100]
[null,null,"Качество ",null,null,null,null,null,100,100,100]
[null,null,"Средний бал",null,null,null,null,null,4,4,4]
[null,"Изобразительное","Успеваемость ",null,null,null,null,null,100,100,100]
[null,"искусство","Качество ",null,null,null,null,null,100,100,100]
[null,null,"Средний бал",null,null,null,null,null,4,4,4]
["Технология","Технология ","Успеваемость ",null,null,null,null,null,100,100,100]
[null,null,"Качество ",null,null,null,null,null,100,100,100]
[null,null,"Средний бал",null,null,null,null,null,4,4,4]
["Физическая","Физическая","Успеваемость ",null,null,null,null,null,100,100,100]
["культура","культура ","Качество ",null,null,null,null,null,100,100,100]
[null,null,"Средний бал",null,null,null,null,null,4,4,4]
["Итого"]
["Внеурочная деятельность (кружки, секции) "]
["Спортивно-оздоровительное"]
["Военно-патриотическое "]
["Художественно - эстетическое"]
["Духовно-нравственное"]
["Обще-интеллектуальное "]
["Научно - познавательное"]
["Итого:"]
[]
[]
[]
[]
[]
[]
["Первый год обучения   __________год ",null,null,null,"Второй год обучения  2018-2019год, 3 четверть ",null,null,null,"Трети год обучения   __________год",null,null,null,"Четвертый год обучения _________год"]
["На начало _____     на конец _____",null,null,null,"На начало 26     на конец ______",null,null,null,"На начало _____     на конец ______",null,null,null,"На начало _____     на конец ______"]
[]
["ф.И. ученика",null,null,null,"ф.И. ученика",null,null,null,"ф.И. ученика",null,null,null,"ф.И. ученика"]
["Отличники  ",null,"Не успевают ","Предмет ","Отличники ","Не успевают ","Предмет",null,"Отличники ","Не успевают ","Предмет",null,"Отличники ","Не успевают ","Предмет"]
[null,null,null,null,null,"Гергов Инал ","русский яз, каб. Яз.. Матем, ин.яз. Окр.мир (5) "]

{"sheet":"2 КБ","index":70,"n_rows":64,"n_cols":23,"rows_kept":64,"cut":false,"hidden":false,"merged":[[75,0,75,1],[75,6,75,7],[75,10,75,11],[76,0,76,1],[76,6,76,7],[76,10,76,11],[73,0,73,1],[73,6,73,7],[73,10,73,11],[74,0,74,1],[74,6,74,7],[74,10,74,11],[71,0,71,1],[71,6,71,7],[71,10,71,11],[72,0,72,1],[72,6,72,7],[72,10,72,11],[69,0,69,1],[69,6,69,7],[69,10,69,11],[70,0,70,1],[70,6,70,7],[70,10,70,11],[67,0,67,1],[67,6,67,7],[67,10,67,11],[68,0,68,1],[68,6,68,7],[68,10,68,11],[65,0,65,1],[65,6,65,7],[65,10,65,11],[66,0,66,1],[66,6,66,7],[66,10,66,11],[63,0,63,1],[63,6,63,7],[63,10,63,11],[64,0,64,1],[64,6,64,7],[64,10,64,11],[61,0,61,3],[61,4,61,7],[61,8,61,11],[61,12,61,14],[62,0,62,3],[62,4,62,7],[62,8,62,11],[62,12,62,14],[60,0,60,3],[60,4,60,7],[60,8,60,11],[60,12,60,14],[46,0,46,2],[47,0,47,2],[48,0,48,2],[49,0,49,2],[50,0,50,2],[51,0,51,2],[52,0,52,2],[59,0,59,3],[59,4,59,7],[59,8,59,11],[59,12,59,14],[45,0,45,2],[20,0,22,0],[20,1,22,1],[23,1,25,1],[26,1,28,1],[29,0,31,0],[29,1,31,1],[32,0,37,0],[32,1,34,1],[38,0,40,0],[38,1,40,1],[44,0,44,2],[7,1,7,2],[8,0,13,0],[8,1,10,1],[11,1,13,1],[14,0,19,0],[14,1,16,1],[17,1,19,1],[5,1,5,2],[5,3,5,22],[6,1,6,2],[6,3,6,7],[6,8,6,12],[6,13,6,17],[6,18,6,22]]}
[null,null,null,null,null,null,null,null,"2Кб"]
[]
[]
["Уровень обученности обучающихся 2 КБ  класса на конец первого полугодия НОО ФГОС 2018-2019 года  по четвертям классный  руководитель: Куржиева А.Х."]
["                                                                                                                                                                                                                                                           Ф.И."]
["Предметные","Учебные"]
["области","предметы",null,"2017-2018",null,null,null,null,"2018-2019"]
[null,"Классы",null,1,2,3,4,"г",1,2,3,4,"г",1,2,3,4,"г",1,2,3,4,"г"]
["Русский язык и литературное чтение","Русский язык","Успеваемость ",null,null,null,null,96,null,100,100]
[null,null,"Качество ",null,null,null,null,84,null,80,60]
[null,null,"Средний бал",null,null,null,null,4,null,4,4]
[null,"Литературное чтение","Успеваемость ",null,null,null,null,96,null,100,100]
[null,null,"Качество ",null,null,null,null,84,null,80,100]
[null,null,"Средний бал",null,null,null,null,4,null,4,4]
["Родной язык и литературное чтение на родном языке","Кабардинский язык","Успеваемость ",null,null,null,null,null,null,100,100]
[null,null,"Качество ",null,null,null,null,null,null,60,76]
[null,null,"Средний бал",null,null,null,null,null,null,4,4]
[null,"Литературное чтение на кабардинском  языке","Успеваемость ",null,null,null,null,null,null,100,100]
[null,null,"Качество ",null,null,null,null,null,null,96,100]
[null,null,"Средний бал",null,null,null,null,null,null,4,5]
["Иностранный язык","Английский язык","Успеваемость ",null,null,null,null,null,null,100,100]
[null,null,"Качество ",null,null,null,null,null,null,80,76]
[null,null,"Средний бал",null,null,null,null,null,null,4,4]
["Математика","Математика ","Успеваемость ",null,null,null,null,96,null,84,100]
["и информатика",null,"Качество ",null,null,null,null,84,null,76,76]
[null,null,"Средний бал",null,null,null,null,null,null,3,4]
["Обществознание","Окружающий мир ","Успеваемость ",null,null,null,null,100,null,100,100]
["и естествознание",null,"Качество ",null,null,null,null,100,null,96,100]
[null,null,"Средний бал",null,null,null,null,5,null,4,5]
["Основы религиозных культур светской этики"," (ОРКСЭ)","Успеваемость ",null,null,null,null,0,0,0,0]
[null,null,"Качество ",null,null,null,null,0,0,0,0]
[null,null,"Средний бал",null,null,null,null,0,0,0,0]
["Искусство","Музыка","Успеваемость ",null,null,null,null,100,null,100,100]
[null,null,"Качество ",null,null,null,null,100,null,96,100]
[null,null,"Средний бал",null,null,null,null,5,null,4,5]
[null,"Изобразительное","Успеваемость ",null,null,null,null,100,null,100,100]
[null,"искусство","Качество ",null,null,null,null,100,null,100,100]
[null,null,"Средний бал",null,null,null,null,5,null,5,5]
["Технология","Технология ","Успеваемость ",null,null,null,null,100,null,100,100]
[null,null,"Качество ",null,null,null,null,100,null,100,100]
[null,null,"Средний бал",null,null,null,null,5,null,5,5]
["Физическая","Физическая","Успеваемость ",null,null,null,null,100,null,100,100]
["культура","культура ","Качество ",null,null,null,null,100,null,100,100]
[null,null,"Средний бал",null,null,null,null,5,null,5,5]
["Итого"]
["Внеурочная деятельность (кружки, секции) "]
["Спортивно-оздоровительное"]
["Военно-патриотическое "]
["Художественно - эстетическое"]
["Духовно-нравственное"]
["Обще-интеллектуальное "]
["Научно - познавательное"]
["Итого:"]
[]
[]
[]
[]
[]
[]
["Первый год обучения   __________год ",null,null,null,"Второй год обучения  ___________год",null,null,null,"Трети год обучения   __________год",null,null,null,"Четвертый год обучения _________год"]
["На начало _____     на конец _____",null,null,null,"На начало _____     на конец ______",null,null,null,"На начало _____     на конец ______",null,null,null,"На начало _____     на конец ______"]
[]
["ф.И. ученика",null,null,null,"ф.И. ученика",null,null,null,"ф.И. ученика",null,null,null,"ф.И. ученика"]
["Отличники  ",null,"Не успевают ","Предмет ","Отличники ","Не успевают ","Предмет",null,"Отличники ","Не успевают ","Предмет",null,"Отличники ","Не успевают ","Предмет"]

{"sheet":"2 КВ","index":71,"n_rows":1816,"n_cols":23,"rows_kept":1816,"cut":false,"hidden":false,"merged":[[1827,0,1827,1],[1827,6,1827,7],[1827,10,1827,11],[1828,0,1828,1],[1828,6,1828,7],[1828,10,1828,11],[1825,0,1825,1],[1825,6,1825,7],[1825,10,1825,11],[1826,0,1826,1],[1826,6,1826,7],[1826,10,1826,11],[1823,0,1823,1],[1823,6,1823,7],[1823,10,1823,11],[1824,0,1824,1],[1824,6,1824,7],[1824,10,1824,11],[1821,0,1821,1],[1821,6,1821,7],[1821,10,1821,11],[1822,0,1822,1],[1822,6,1822,7],[1822,10,1822,11],[1819,0,1819,1],[1819,6,1819,7],[1819,10,1819,11],[1820,0,1820,1],[1820,6,1820,7],[1820,10,1820,11],[1817,0,1817,1],[1817,6,1817,7],[1817,10,1817,11],[1818,0,1818,1],[1818,6,1818,7],[1818,10,1818,11],[1815,0,1815,1],[1815,6,1815,7],[1815,10,1815,11],[1816,0,1816,1],[1816,6,1816,7],[1816,10,1816,11],[1813,0,1813,3],[1813,4,1813,7],[1813,8,1813,11],[1813,12,1813,14],[1814,0,1814,3],[1814,4,1814,7],[1814,8,1814,11],[1814,12,1814,14],[1804,0,1804,2],[1811,0,1811,3],[1811,4,1811,7],[1811,8,1811,11],[1811,12,1811,14],[1812,0,1812,3],[1812,4,1812,7],[1812,8,1812,11],[1812,12,1812,14],[1798,0,1798,2],[1799,0,1799,2],[1800,0,1800,2],[1801,0,1801,2],[1802,0,1802,2],[1803,0,1803,2],[1784,0,1789,0],[1784,1,1786,1],[1790,0,1792,0],[1790,1,1792,1],[1796,0,1796,2],[1797,0,1797,2],[1772,0,1774,0],[1772,1,1774,1],[1775,1,1777,1],[1778,1,1780,1],[1781,0,1783,0],[1781,1,1783,1],[1759,1,1759,2],[1760,0,1765,0],[1760,1,1762,1],[1763,1,1765,1],[1766,0,1771,0],[1766,1,1768,1],[1769,1,1771,1],[1757,1,1757,2],[1757,3,1757,22],[1758,1,1758,2],[1758,3,1758,7],[1758,8,1758,12],[1758,13,1758,17],[1758,18,1758,22],[1752,0,1752,1],[1752,6,1752,7],[1752,10,1752,11],[1753,0,1753,1],[1753,6,1753,7],[1753,10,1753,11],[1750,0,1750,1],[1750,6,1750,7],[1750,10,1750,11],[1751,0,1751,1],[1751,6,1751,7],[1751,10,1751,11],[1748,0,1748,1],[1748,6,1748,7],[1748,10,1748,11],[1749,0,1749,1],[1749,6,1749,7],[1749,10,1749,11],[1746,0,1746,1],[1746,6,1746,7],[1746,10,1746,11],[1747,0,1747,1],[1747,6,1747,7],[1747,10,1747,11],[1744,0,1744,1],[1744,6,1744,7],[1744,10,1744,11],[1745,0,1745,1],[1745,6,1745,7],[1745,10,1745,11],[1742,0,1742,1],[1742,6,1742,7],[1742,10,1742,11],[1743,0,1743,1],[1743,6,1743,7],[1743,10,1743,11],[1740,0,1740,1],[1740,6,1740,7],[1740,10,1740,11],[1741,0,1741,1],[1741,6,1741,7],[1741,10,1741,11],[1738,0,1738,3],[1738,4,1738,7],[1738,8,1738,11],[1738,12,1738,14],[1739,0,1739,3],[1739,4,1739,7],[1739,8,1739,11],[1739,12,1739,14],[1729,0,1729,2],[1736,0,1736,3],[1736,4,1736,7],[1736,8,1736,11],[1736,12,1736,14],[1737,0,1737,3],[1737,4,1737,7],[1737,8,1737,11],[1737,12,1737,14],[1723,0,1723,2],[1724,0,1724,2],[1725,0,1725,2],[1726,0,1726,2],[1727,0,1727,2],[1728,0,1728,2],[1709,0,1714,0],[1709,1,1711,1],[1715,0,1717,0],[1715,1,1717,1],[1721,0,1721,2],[1722,0,1722,2],[1697,0,1699,0],[1697,1,1699,1],[1700,1,1702,1],[1703,1,1705,1],[1706,0,1708,0],[1706,1,1708,1],[1684,1,1684,2],[1685,0,1690,0],[1685,1,1687,1],[1688,1,1690,1],[1691,0,1696,0],[1691,1,1693,1],[1694,1,1696,1],[1677,0,1677,1],[1677,6,1677,7],[1677,10,1677,11],[1682,1,1682,2],[1682,3,1682,22],[1683,1,1683,2],[1683,3,1683,7],[1683,8,1683,12],[1683,13,1683,17],[1683,18,1683,22],[1675,0,1675,1],[1675,6,1675,7],[1675,10,1675,11],[1676,0,1676,1],[1676,6,1676,7],[1676,10,1676,11],[1673,0,1673,1],[1673,6,1673,7],[1673,10,1673,11],[1674,0,1674,1],[1674,6,1674,7],[1674,10,1674,11],[1671,0,1671,1],[1671,6,1671,7],[1671,10,1671,11],[1672,0,1672,1],[1672,6,1672,7],[1672,10,1672,11],[1669,0,1669,1],[1669,6,1669,7],[1669,10,1669,11],[1670,0,1670,1],[1670,6,1670,7],[1670,10,1670,11],[1667,0,1667,1],[1667,6,1667,7],[1667,8,1667,9],[1667,10,1667,11],[1668,0,1668,1],[1668,6,1668,7],[1668,10,1668,11],[1665,12,1665,13],[1666,0,1666,1],[1666,6,1666,7],[1666,8,1666,9],[1666,10,1666,11],[1666,12,1666,13],[1664,0,1664,1],[1664,6,1664,7],[1664,10,1664,11],[1665,0,1665,1],[1665,6,1665,7],[1665,8,1665,9],[1665,10,1665,11],[1662,0,1662,3],[1662,4,1662,7],[1662,8,1662,11],[1662,12,1662,14],[1663,0,1663,3],[1663,4,1663,7],[1663,8,1663,11],[1663,12,1663,14],[1653,0,1653,2],[1660,0,1660,3],[1660,4,1660,7],[1660,8,1660,11],[1660,12,1660,14],[1661,0,1661,3],[1661,4,1661,7],[1661,8,1661,11],[1661,12,1661,14],[1647,0,1647,2],[1648,0,1648,2],[1649,0,1649,2],[1650,0,1650,2],[1651,0,1651,2],[1652,0,1652,2],[1633,0,1638,0],[1633,1,1635,1],[1639,0,1641,0],[1639,1,1641,1],[1645,0,1645,2],[1646,0,1646,2],[1621,0,1623,0],[1621,1,1623,1],[1624,1,1626,1],[1627,1,1629,1],[1630,0,1632,0],[1630,1,1632,1],[1608,1,1608,2],[1609,0,1614,0],[1609,1,1611,1],[1612,1,1614,1],[1615,0,1620,0],[1615,1,1617,1],[1618,1,1620,1],[1594,0,1594,1],[1594,6,1594,7],[1594,10,1594,11],[1606,1,1606,2],[1606,3,1606,22],[1607,1,1607,2],[1607,3,1607,7],[1607,8,1607,12],[1607,13,1607,17],[1607,18,1607,22],[1592,0,1592,1],[1592,6,1592,7],[1592,10,1592,11],[1593,0,1593,1],[1593,6,1593,7],[1593,10,1593,11],[1590,0,1590,1],[1590,6,1590,7],[1590,10,1590,11],[1591,0,1591,1],[1591,6,1591,7],[1591,10,1591,11],[1588,0,1588,1],[1588,6,1588,7],[1588,10,1588,11],[1589,0,1589,1],[1589,6,1589,7],[1589,10,1589,11],[1586,0,1586,1],[1586,6,1586,7],[1586,10,1586,11],[1587,0,1587,1],[1587,6,1587,7],[1587,10,1587,11],[1584,0,1584,1],[1584,6,1584,7],[1584,8,1584,9],[1584,10,1584,11],[1585,0,1585,1],[1585,6,1585,7],[1585,10,1585,11],[1582,12,1582,13],[1583,0,1583,1],[1583,6,1583,7],[1583,8,1583,9],[1583,10,1583,11],[1583,12,1583,13],[1581,0,1581,1],[1581,6,1581,7],[1581,10,1581,11],[1582,0,1582,1],[1582,6,1582,7],[1582,8,1582,9],[1582,10,1582,11],[1579,0,1579,3],[1579,4,1579,7],[1579,8,1579,11],[1579,12,1579,14],[1580,0,1580,3],[1580,4,1580,7],[1580,8,1580,11],[1580,12,1580,14],[1570,0,1570,2],[1577,0,1577,3],[1577,4,1577,7],[1577,8,1577,11],[1577,12,1577,14],[1578,0,1578,3],[1578,4,1578,7],[1578,8,1578,11],[1578,12,1578,14],[1564,0,1564,2],[1565,0,1565,2],[1566,0,1566,2],[1567,0,1567,2],[1568,0,1568,2],[1569,0,1569,2],[1550,0,1555,0],[1550,1,1552,1],[1556,0,1558,0],[1556,1,1558,1],[1562,0,1562,2],[1563,0,1563,2],[1538,0,1540,0],[1538,1,1540,1],[1541,1,1543,1],[1544,1,1546,1],[1547,0,1549,0],[1547,1,1549,1],[1525,1,1525,2],[1526,0,1531,0],[1526,1,1528,1],[1529,1,1531,1],[1532,0,1537,0],[1532,1,1534,1],[1535,1,1537,1],[1523,1,1523,2],[1523,3,1523,22],[1524,1,1524,2],[1524,3,1524,7],[1524,8,1524,12],[1524,13,1524,17],[1524,18,1524,22],[1516,0,1516,1],[1516,6,1516,7],[1516,10,1516,11],[1517,0,1517,1],[1517,6,1517,7],[1517,10,1517,11],[1514,0,1514,1],[1514,6,1514,7],[1514,10,1514,11],[1515,0,1515,1],[1515,6,1515,7],[1515,10,1515,11],[1512,0,1512,1],[1512,6,1512,7],[1512,10,1512,11],[1513,0,1513,1],[1513,6,1513,7],[1513,10,1513,11],[1510,0,1510,1],[1510,6,1510,7],[1510,10,1510,11],[1511,0,1511,1],[1511,6,1511,7],[1511,10,1511,11],[1508,0,1508,1],[1508,6,1508,7],[1508,10,1508,11],[1509,0,1509,1],[1509,6,1509,7],[1509,10,1509,11],[1506,0,1506,1],[1506,6,1506,7],[1506,10,1506,11],[1507,0,1507,1],[1507,6,1507,7],[1507,10,1507,11],[1504,0,1504,1],[1504,6,1504,7],[1504,10,1504,11],[1505,0,1505,1],[1505,6,1505,7],[1505,10,1505,11],[1502,0,1502,3],[1502,4,1502,7],[1502,8,1502,11],[1502,12,1502,14],[1503,0,1503,3],[1503,4,1503,7],[1503,8,1503,11],[1503,12,1503,14],[1493,0,1493,2],[1500,0,1500,3],[1500,4,1500,7],[1500,8,1500,11],[1500,12,1500,14],[1501,0,1501,3],[1501,4,1501,7],[1501,8,1501,11],[1501,12,1501,14],[1487,0,1487,2],[1488,0,1488,2],[1489,0,1489,2],[1490,0,1490,2],[1491,0,1491,2],[1492,0,1492,2],[1473,0,1478,0],[1473,1,1475,1],[1479,0,1481,0],[1479,1,1481,1],[1485,0,1485,2],[1486,0,1486,2],[1461,0,1463,0],[1461,1,1463,1],[1464,1,1466,1],[1467,1,1469,1],[1470,0,1472,0],[1470,1,1472,1],[1448,1,1448,2],[1449,0,1454,0],[1449,1,1451,1],[1452,1,1454,1],[1455,0,1460,0],[1455,1,1457,1],[1458,1,1460,1],[1434,0,1434,1],[1434,6,1434,7],[1434,10,1434,11],[1446,1,1446,2],[1446,3,1446,22],[1447,1,1447,2],[1447,3,1447,7],[1447,8,1447,12],[1447,13,1447,17],[1447,18,1447,22],[1432,0,1432,1],[1432,6,1432,7],[1432,10,1432,11],[1433,0,1433,1],[1433,6,1433,7],[1433,10,1433,11],[1430,0,1430,1],[1430,6,1430,7],[1430,10,1430,11],[1431,0,1431,1],[1431,6,1431,7],[1431,10,1431,11],[1428,0,1428,1],[1428,6,1428,7],[1428,10,1428,11],[1429,0,1429,1],[1429,6,1429,7],[1429,10,1429,11],[1426,0,1426,1],[1426,6,1426,7],[1426,10,1426,11],[1427,0,1427,1],[1427,6,1427,7],[1427,10,1427,11],[1424,0,1424,1],[1424,6,1424,7],[1424,10,1424,11],[1425,0,1425,1],[1425,6,1425,7],[1425,10,1425,11],[1422,0,1422,1],[1422,6,1422,7],[1422,10,1422,11],[1423,0,1423,1],[1423,6,1423,7],[1423,10,1423,11],[1420,0,1420,3],[1420,4,1420,7],[1420,8,1420,11],[1420,12,1420,14],[1421,0,1421,1],[1421,6,1421,7],[1421,10,1421,11],[1411,0,1411,2],[1418,0,1418,3],[1418,4,1418,7],[1418,8,1418,11],[1418,12,1418,14],[1419,0,1419,3],[1419,4,1419,7],[1419,8,1419,11],[1419,12,1419,14],[1405,0,1405,2],[1406,0,1406,2],[1407,0,1407,2],[1408,0,1408,2],[1409,0,1409,2],[1410,0,1410,2],[1391,0,1396,0],[1391,1,1393,1],[1397,0,1399,0],[1397,1,1399,1],[1403,0,1403,2],[1404,0,1404,2],[1379,0,1381,0],[1379,1,1381,1],[1382,1,1384,1],[1385,1,1387,1],[1388,0,1390,0],[1388,1,1390,1],[1366,1,1366,2],[1367,0,1372,0],[1367,1,1369,1],[1370,1,1372,1],[1373,0,1378,0],[1373,1,1375,1],[1376,1,1378,1],[1364,1,1364,2],[1364,3,1364,22],[1365,1,1365,2],[1365,3,1365,7],[1365,8,1365,12],[1365,13,1365,17],[1365,18,1365,22],[1356,0,1356,1],[1356,6,1356,7],[1356,10,1356,11],[1357,0,1357,1],[1357,6,1357,7],[1357,10,1357,11],[1354,0,1354,1],[1354,6,1354,7],[1354,10,1354,11],[1355,0,1355,1],[1355,6,1355,7],[1355,10,1355,11],[1352,0,1352,1],[1352,6,1352,7],[1352,10,1352,11],[1353,0,1353,1],[1353,6,1353,7],[1353,10,1353,11],[1348,10,1348,11],[1349,10,1349,11],[1350,0,1350,1],[1350,6,1350,7],[1350,10,1350,11],[1351,0,1351,1],[1351,6,1351,7],[1351,10,1351,11],[1344,0,1344,1],[1344,6,1344,7],[1344,10,1344,11],[1345,10,1345,11],[1346,10,1346,11],[1347,10,1347,11],[1342,0,1342,3],[1342,4,1342,7],[1342,8,1342,11],[1342,12,1342,14],[1343,0,1343,3],[1343,4,1343,7],[1343,8,1343,11],[1343,12,1343,14],[1333,0,1333,2],[1340,0,1340,3],[1340,4,1340,7],[1340,8,1340,11],[1340,12,1340,14],[1341,0,1341,3],[1341,4,1341,7],[1341,8,1341,11],[1341,12,1341,14],[1327,0,1327,2],[1328,0,1328,2],[1329,0,1329,2],[1330,0,1330,2],[1331,0,1331,2],[1332,0,1332,2],[1313,0,1318,0],[1313,1,1315,1],[1319,0,1321,0],[1319,1,1321,1],[1325,0,1325,2],[1326,0,1326,2],[1301,0,1303,0],[1301,1,1303,1],[1304,1,1306,1],[1307,1,1309,1],[1310,0,1312,0],[1310,1,1312,1],[1288,1,1288,2],[1289,0,1294,0],[1289,1,1291,1],[1292,1,1294,1],[1295,0,1300,0],[1295,1,1297,1],[1298,1,1300,1],[1286,1,1286,2],[1286,3,1286,22],[1287,1,1287,2],[1287,3,1287,7],[1287,8,1287,12],[1287,13,1287,17],[1287,18,1287,22],[1274,0,1274,1],[1274,6,1274,7],[1274,10,1274,11],[1275,0,1275,1],[1275,6,1275,7],[1275,10,1275,11],[1272,0,1272,1],[1272,6,1272,7],[1272,10,1272,11],[1273,0,1273,1],[1273,6,1273,7],[1273,10,1273,11],[1270,0,1270,1],[1270,6,1270,7],[1270,10,1270,11],[1271,0,1271,1],[1271,6,1271,7],[1271,10,1271,11],[1268,0,1268,1],[1268,6,1268,7],[1268,10,1268,11],[1269,0,1269,1],[1269,6,1269,7],[1269,10,1269,11],[1266,0,1266,1],[1266,6,1266,7],[1266,10,1266,11],[1267,0,1267,1],[1267,6,1267,7],[1267,10,1267,11],[1264,0,1264,1],[1264,6,1264,7],[1264,10,1264,11],[1265,0,1265,1],[1265,6,1265,7],[1265,10,1265,11],[1262,0,1262,1],[1262,6,1262,7],[1262,10,1262,11],[1263,0,1263,1],[1263,6,1263,7],[1263,10,1263,11],[1260,0,1260,3],[1260,4,1260,7],[1260,8,1260,11],[1260,12,1260,14],[1261,0,1261,3],[1261,4,1261,7],[1261,8,1261,11],[1261,12,1261,14],[1251,0,1251,2],[1258,0,1258,3],[1258,4,1258,7],[1258,8,1258,11],[1258,12,1258,14],[1259,0,1259,3],[1259,4,1259,7],[1259,8,1259,11],[1259,12,1259,14],[1245,0,1245,2],[1246,0,1246,2],[1247,0,1247,2],[1248,0,1248,2],[1249,0,1249,2],[1250,0,1250,2],[1231,0,1236,0],[1231,1,1233,1],[1237,0,1239,0],[1237,1,1239,1],[1243,0,1243,2],[1244,0,1244,2],[1219,0,1221,0],[1219,1,1221,1],[1222,1,1224,1],[1225,1,1227,1],[1228,0,1230,0],[1228,1,1230,1],[1206,1,1206,2],[1207,0,1212,0],[1207,1,1209,1],[1210,1,1212,1],[1213,0,1218,0],[1213,1,1215,1],[1216,1,1218,1],[1204,1,1204,2],[1204,3,1204,22],[1205,1,1205,2],[1205,3,1205,7],[1205,8,1205,12],[1205,13,1205,17],[1205,18,1205,22],[1197,0,1197,1],[1197,6,1197,7],[1197,10,1197,11],[1198,0,1198,1],[1198,6,1198,7],[1198,10,1198,11],[1195,0,1195,1],[1195,6,1195,7],[1195,10,1195,11],[1196,0,1196,1],[1196,6,1196,7],[1196,10,1196,11],[1193,0,1193,1],[1193,6,1193,7],[1193,10,1193,11],[1194,0,1194,1],[1194,6,1194,7],[1194,10,1194,11],[1191,0,1191,1],[1191,6,1191,7],[1191,10,1191,11],[1192,0,1192,1],[1192,6,1192,7],[1192,10,1192,11],[1189,0,1189,1],[1189,6,1189,7],[1189,10,1189,11],[1190,0,1190,1],[1190,6,1190,7],[1190,10,1190,11],[1187,0,1187,1],[1187,6,1187,7],[1187,10,1187,11],[1188,0,1188,1],[1188,6,1188,7],[1188,10,1188,11],[1185,0,1185,1],[1185,6,1185,7],[1185,10,1185,11],[1186,0,1186,1],[1186,6,1186,7],[1186,10,1186,11],[1183,0,1183,3],[1183,4,1183,7],[1183,8,1183,11],[1183,12,1183,14],[1184,0,1184,3],[1184,4,1184,7],[1184,8,1184,11],[1184,12,1184,14],[1174,0,1174,2],[1181,0,1181,3],[1181,4,1181,7],[1181,8,1181,11],[1181,12,1181,14],[1182,0,1182,3],[1182,4,1182,7],[1182,8,1182,11],[1182,12,1182,14],[1168,0,1168,2],[1169,0,1169,2],[1170,0,1170,2],[1171,0,1171,2],[1172,0,1172,2],[1173,0,1173,2],[1154,0,1159,0],[1154,1,1156,1],[1160,0,1162,0],[1160,1,1162,1],[1166,0,1166,2],[1167,0,1167,2],[1142,0,1144,0],[1142,1,1144,1],[1145,1,1147,1],[1148,1,1150,1],[1151,0,1153,0],[1151,1,1153,1],[1129,1,1129,2],[1130,0,1135,0],[1130,1,1132,1],[1133,1,1135,1],[1136,0,1141,0],[1136,1,1138,1],[1139,1,1141,1],[1127,1,1127,2],[1127,3,1127,22],[1128,1,1128,2],[1128,3,1128,7],[1128,8,1128,12],[1128,13,1128,17],[1128,18,1128,22],[1120,0,1120,1],[1120,6,1120,7],[1120,10,1120,11],[1121,0,1121,1],[1121,6,1121,7],[1121,10,1121,11],[1118,0,1118,1],[1118,6,1118,7],[1118,10,1118,11],[1119,0,1119,1],[1119,6,1119,7],[1119,10,1119,11],[1116,0,1116,1],[1116,6,1116,7],[1116,10,1116,11],[1117,0,1117,1],[1117,6,1117,7],[1117,10,1117,11],[1114,0,1114,1],[1114,6,1114,7],[1114,10,1114,11],[1115,0,1115,1],[1115,6,1115,7],[1115,10,1115,11],[1112,0,1112,1],[1112,6,1112,7],[1112,10,1112,11],[1113,0,1113,1],[1113,6,1113,7],[1113,10,1113,11],[1110,0,1110,1],[1110,6,1110,7],[1110,10,1110,11],[1111,0,1111,1],[1111,6,1111,7],[1111,10,1111,11],[1108,0,1108,1],[1108,6,1108,7],[1108,10,1108,11],[1109,0,1109,1],[1109,6,1109,7],[1109,10,1109,11],[1106,0,1106,3],[1106,4,1106,7],[1106,8,1106,11],[1106,12,1106,14],[1107,0,1107,3],[1107,4,1107,7],[1107,8,1107,11],[1107,12,1107,14],[1097,0,1097,2],[1104,0,1104,3],[1104,4,1104,7],[1104,8,1104,11],[1104,12,1104,14],[1105,0,1105,3],[1105,4,1105,7],[1105,8,1105,11],[1105,12,1105,14],[1091,0,1091,2],[1092,0,1092,2],[1093,0,1093,2],[1094,0,1094,2],[1095,0,1095,2],[1096,0,1096,2],[1077,0,1082,0],[1077,1,1079,1],[1083,0,1085,0],[1083,1,1085,1],[1089,0,1089,2],[1090,0,1090,2],[1065,0,1067,0],[1065,1,1067,1],[1068,1,1070,1],[1071,1,1073,1],[1074,0,1076,0],[1074,1,1076,1],[1052,1,1052,2],[1053,0,1058,0],[1053,1,1055,1],[1056,1,1058,1],[1059,0,1064,0],[1059,1,1061,1],[1062,1,1064,1],[1050,1,1050,2],[1050,3,1050,22],[1051,1,1051,2],[1051,3,1051,7],[1051,8,1051,12],[1051,13,1051,17],[1051,18,1051,22],[74,0,74,1],[74,6,74,7],[74,10,74,11],[75,0,75,1],[75,6,75,7],[75,10,75,11],[72,0,72,1],[72,6,72,7],[72,10,72,11],[73,0,73,1],[73,6,73,7],[73,10,73,11],[70,0,70,1],[70,6,70,7],[70,10,70,11],[71,0,71,1],[71,6,71,7],[71,10,71,11],[68,0,68,1],[68,6,68,7],[68,10,68,11],[69,0,69,1],[69,6,69,7],[69,10,69,11],[66,0,66,1],[66,6,66,7],[66,10,66,11],[67,0,67,1],[67,6,67,7],[67,10,67,11],[64,0,64,1],[64,6,64,7],[64,10,64,11],[65,0,65,1],[65,6,65,7],[65,10,65,11],[62,0,62,1],[62,6,62,7],[62,10,62,11],[63,0,63,1],[63,6,63,7],[63,10,63,11],[60,0,60,3],[60,4,60,7],[60,8,60,11],[60,12,60,14],[61,0,61,3],[61,4,61,7],[61,8,61,11],[61,12,61,14],[51,0,51,2],[58,0,58,3],[58,4,58,7],[58,8,58,11],[58,12,58,14],[59,0,59,3],[59,4,59,7],[59,8,59,11],[59,12,59,14],[45,0,45,2],[46,0,46,2],[47,0,47,2],[48,0,48,2],[49,0,49,2],[50,0,50,2],[31,0,36,0],[31,1,33,1],[37,0,39,0],[37,1,39,1],[43,0,43,2],[44,0,44,2],[22,1,24,1],[25,1,27,1],[28,0,30,0],[28,1,30,1],[6,1,6,2],[7,0,12,0],[7,1,9,1],[10,1,12,1],[13,0,18,0],[13,1,15,1],[16,1,18,1],[4,1,4,2],[4,3,4,22],[5,1,5,2],[5,3,5,7],[5,8,5,12],[5,13,5,17],[5,18,5,22],[19,0,21,0],[19,1,21,1]]}
[]
[null,null,null,null,null,null,null,null,null,null,null,null,"2КВ"]
["Уровень обученности обучающихся 2в  класса на конец первого полугодия НОО ФГОС 2018-2019 года  и по четвертям,  классный  руководитель: Додохова Ж.Х."]
["                                                                                                                                                                                                                                                           Ф.И."]
["Предметные","Учебные"]
["области","предметы",null,null,null,null,null,null,"2017-2018",null,null,null,null,"2018-2019",null,null,null,null,"_____Класс ____ год"]
[null,null,null,1,2,3,4,"г",1,2,3,4,"г",1,2,3,4,"г",1,2,3,4,"г"]
["Русский язык и литературное чтение","Русский язык","Успеваемость ",null,null,null,null,null,null,null,null,null,100,100,100,95]
[null,null,"Качество ",null,null,null,null,null,null,null,null,null,68,70,70,61]
[null,null,"Средний бал",null,null,null,null,null,null,null,null,null,4,4,4,4]
[null,"Литературное чтение","Успеваемость ",null,null,null,null,null,null,null,null,null,100,85,85,100]
[null,null,"Качество ",null,null,null,null,null,null,null,null,null,70,70,71,90]
[null,null,"Средний бал",null,null,null,null,null,null,null,null,null,4,4,4,4]
["Родной язык и литературное чтение на родном языке","Кабардинский язык","Успеваемость ",null,null,null,null,null,null,null,null,null,100,null,null,100]
[null,null,"Качество ",null,null,null,null,null,null,null,null,null,68,null,null,76]
[null,null,"Средний бал",null,null,null,null,null,null,null,null,null,4,null,null,4]
[null,"Литературное чтение на кабардинском  языке","Успеваемость ",null,null,null,null,null,null,null,null,null,100,null,null,100]
[null,null,"Качество ",null,null,null,null,null,null,null,null,null,70,null,null,90]
[null,null,"Средний бал",null,null,null,null,null,null,null,null,null,4,null,null,4]
["Иностранный язык","Английский язык","Успеваемость ",null,null,null,null,null,null,null,null,null,0,null,null,95]
[null,null,"Качество ",null,null,null,null,null,null,null,null,null,0,null,null,32]
[null,null,"Средний бал",null,null,null,null,null,null,null,null,null,0,null,null,3]
["Математика","Математика ","Успеваемость ",null,null,null,null,null,null,null,null,null,100,100,100,95]
["и информатика",null,"Качество ",null,null,null,null,null,null,null,null,null,60,57,57,57]
[null,null,"Средний бал",null,null,null,null,null,null,null,null,null,4,4,4,4]
["Обществознание","Окружающий мир ","Успеваемость ",null,null,null,null,null,null,null,null,null,100,100,100,95]
["и естествознание",null,"Качество ",null,null,null,null,null,null,null,null,null,75,70,70,70]
[null,null,"Средний бал",null,null,null,null,null,null,null,null,null,4,4,4,4]
["Основы религиозных культур светской этики"," (ОРКСЭ)","Успеваемость ",null,null,null,null,null,null,null,null,null,0,0,0,0]
[null,null,"Качество ",null,null,null,null,null,null,null,null,null,0,0,0,0]
[null,null,"Средний бал",null,null,null,null,null,null,null,null,null,0,0,0,0]
["Искусство","Музыка","Успеваемость ",null,null,null,null,null,null,null,null,null,100,100,100,100]
[null,null,"Качество ",null,null,null,null,null,null,null,null,null,90,61,61,61]
[null,null,"Средний бал",null,null,null,null,null,null,null,null,null,4,4,4,4]
[null,"Изобразительное","Успеваемость ",null,null,null,null,null,null,null,null,null,100,100,100,100]
[null,"искусство","Качество ",null,null,null,null,null,null,null,null,null,90,61,61,61]
[null,null,"Средний бал",null,null,null,null,null,null,null,null,null,4,4,4,4]
["Технология","Технология ","Успеваемость ",null,null,null,null,null,null,null,null,null,100,100,100,100]
[null,null,"Качество ",null,null,null,null,null,null,null,null,null,90,61,61,61]
[null,null,"Средний бал",null,null,null,null,null,null,null,null,null,4,4,4,4]
["Физическая","Физическая","Успеваемость ",null,null,null,null,null,null,null,null,null,100,100,100,100]
["культура","культура ","Качество ",null,null,null,null,null,null,null,null,null,90,61,61,61]
[null,null,"Средний бал",null,null,null,null,null,null,null,null,null,4,4,4,4]
["Итого"]
["Внеурочная деятельность (кружки, секции) "]
["Спортивно-оздоровительное"]
["Военно-патриотическое "]
["Художественно - эстетическое"]
["Духовно-нравственное"]
["Обще-интеллектуальное "]
["Научно - познавательное"]
["Итого:"]
[]
[]
[]
[]
[]
[]
["Первый год обучения   __________год ",null,null,null,"Второй год обучения  ___________год",null,null,null,"Трети год обучения   __________год",null,null,null,"Четвертый год обучения _________год"]
["На начало _____     на конец _____",null,null,null,"На начало _____     на конец ______",null,null,null,"На начало _____     на конец ______",null,null,null,"На начало _____     на конец ______"]
[]
["ф.И. ученика",null,null,null,"ф.И. ученика",null,null,null,"ф.И. ученика",null,null,null,"ф.И. ученика"]
["Отличники  ",null,"Не успевают ","Предмет ","Отличники ","Не успевают ","Предмет",null,"Отличники ","Не успевают ","Предмет",null,"Отличники ","Не успевают ","Предмет"]
[]
[]
[]
[]
[]
[]
[]
[]
[]
[]
[]
[]
[]
[]
[]
[]
[]
[]
[]
[]
[]
[]
[]
[]
[]
[]
[]
[]
[]
[]
[]
[]
[]
[]
[]
[]
[]
[]
[]
[]
[]
[]
[]
[]
[]
[]
[]
[]
[]
[]
[]
[]
[]
[]
[]
[]
[]
[]
[]
[]
[]
[]
[]
[]
[]
[]
[]
[]
[]
[]
[]
[]
[]
[]
[]
[]
[]
[]
[]
[]
[]
[]
[]
[]
[]
[]
[]
[]
[]
[]
[]
[]
[]
[]
[]
[]
[]
[]
[]
[]
[]
[]
[]
[]
[]
[]
[]
[]
[]
[]
[]
[]
[]
[]
[]
[]
[]
[]
[]
[]
[]
[]
[]
[]
[]
[]
[]
[]
[]
[]
[]
[]
[]
[]
[]
[]
[]
[]
[]
[]
[]
[]
[]
[]
[]
[]
[]
[]
[]
[]
[]
[]
[]
[]
[]
[]
[]
[]
[]
[]
[]
[]
[]
[]
[]
[]
[]
[]
[]
[]
[]
[]
[]
[]
[]
[]
[]
[]
[]
[]
[]
[]
[]
[]
[]
[]
[]
[]
[]
[]
[]
[]
[]
[]
[]
[]
[]
[]
[]
[]
[]
[]
[]
[]
[]
[]
[]
[]
[]
[]
[]
[]
[]
[]
[]
[]
[]
[]
[]
[]
[]
[]
[]
[]
[]
[]
[]
[]
[]
[]
[]
[]
[]
[]
[]
[]
[]
[]
[]
[]
[]
[]
[]
[]
[]
[]
[]
[]
[]
[]
[]
[]
[]
[]
[]
[]
[]
[]
[]
[]
[]
[]
[]
[]
[]
[]
[]
[]
[]
[]
[]
[]
[]
[]
[]
[]
[]
[]
[]
[]
[]
[]
[]
[]
[]
[]
[]
[]
[]
[]
[]
[]
[]
[]
[]
[]
[]
[]
[]
[]
[]
[]
[]
[]
[]
[]
[]
[]
[]
[]
[]
[]
[]
[]
[]
[]
[]
[]
[]
[]
[]
[]
[]
[]
[]
[]
[]
[]
[]
[]
[]
[]
[]
[]
[]
[]
[]
[]
[]
[]
[]
[]
[]
[]
[]
[]
[]
[]
[]
[]
[]
[]
[]
[]
[]
[]
[]
[]
[]
[]
[]
[]
[]
[]
[]
[]
[]
[]
[]
[]
[]
[]
[]
[]
[]
[]
[]
[]
[]
[]
[]
[]
[]
[]
[]
[]
[]
[]
[]
[]
[]
[]
[]
[]
[]
[]
[]
[]
[]
[]
[]
[]
[]
[]
[]
[]
[]
[]
[]
[]
[]
[]
[]
[]
[]
[]
[]
[]
[]
[]
[]
[]
[]
[]
[]
[]
[]
[]
[]
[]
[]
[]
[]
[]
[]
[]
[]
[]
[]
[]
[]
[]
[]
[]
[]
[]
[]
[]
[]
[]
[]
[]
[]
[]
[]
[]
[]
[]
[]
[]
[]
[]
[]
[]
[]
[]
[]
[]
[]
[]
[]
[]
[]
[]
[]
[]
[]
[]
[]
[]
[]
[]
[]
[]
[]
[]
[]
[]
[]
[]
[]
[]
[]
[]
[]
[]
[]
[]
[]
[]
[]
[]
[]
[]
[]
[]
[]
[]
[]
[]
[]
[]
[]
[]
[]
[]
[]
[]
[]
[]
[]
[]
[]
[]
[]
[]
[]
[]
[]
[]
[]
[]
[]
[]
[]
[]
[]
[]
[]
[]
[]
[]
[]
[]
[]
[]
[]
[]
[]
[]
[]
[]
[]
[]
[]
[]
[]
[]
[]
[]
[]
[]
[]
[]
[]
[]
[]
[]
[]
[]
[]
[]
[]
[]
[]
[]
[]
[]
[]
[]
[]
[]
[]
[]
[]
[]
[]
[]
[]
[]
[]
[]
[]
[]
[]
[]
[]
[]
[]
[]
[]
[]
[]
[]
[]
[]
[]
[]
[]
[]
[]
[]
[]
[]
[]
[]
[]
[]
[]
[]
[]
[]
[]
[]
[]
[]
[]
[]
[]
[]
[]
[]
[]
[]
[]
[]
[]
[]
[]
[]
[]
[]
[]
[]
[]
[]
[]
[]
[]
[]
[]
[]
[]
[]
[]
[]
[]
[]
[]
[]
[]
[]
[]
[]
[]
[]
[]
[]
[]
[]
[]
[]
[]
[]
[]
[]
[]
[]
[]
[]
[]
[]
[]
[]
[]
[]
[]
[]
[]
[]
[]
[]
[]
[]
[]
[]
[]
[]
[]
[]
[]
[]
[]
[]
[]
[]
[]
[]
[]
[]
[]
[]
[]
[]
[]
[]
[]
[]
[]
[]
[]
[]
[]
[]
[]
[]
[]
[]
[]
[]
[]
[]
[]
[]
[]
[]
[]
[]
[]
[]
[]
[]
[]
[]
[]
[]
[]
[]
[]
[]
[]
[]
[]
[]
[]
[]
[]
[]
[]
[]
[]
[]
[]
[]
[]
[]
[]
[]
[]
[]
[]
[]
[]
[]
[]
[]
[]
[]
[]
[]
[]
[]
[]
[]
[]
[]
[]
[]
[]
[]
[]
[]
[]
[]
[]
[]
[]
[]
[]
[]
[]
[]
[]
[]
[]
[]
[]
[]
[]
[]
[]
[]
[]
[]
[]
[]
[]
[]
[]
[]
[]
[]
[]
[]
[]
[]
[]
[]
[]
[]
[]
[]
[]
[]
[]
[]
[]
[]
[]
[]
[]
[]
[]
[]
[]
[]
[]
[]
[]
[]
[]
[]
[]
[]
[]
[]
[]
[]
[]
[]
[]
[]
[]
[]
[]
[]
[]
[]
[]
[]
[]
[]
[]
[]
[]
[]
[]
[]
[]
[]
[]
[]
[]
[]
[]
[]
[]
[]
[]
[]
[]
[]
[]
[]
[]
[]
[]
[]
[]
[]
[]
[]
[]
[]
[]
[]
[]
[]
[]
[]
[]
[]
[]
[]
[]
[]
[]
[]
[]
[]
[]
[]
[]
[]
[]
[]
[]
[]
[]
[]
[]
[]
[]
[]
[]
[]
[]
[]
[]
[]
[]
[]
[]
[]
[]
[]
[]
[]
[]
[]
[]
[]
[]
[]
[]
[]
[]
[]
[]
[]
[]
[]
[]
[]
[]
[]
[]
[]
[]
[]
[]
[]
[]
[]
[]
[]
[]
[]
[]
[]
[]
[]
[]
[]
[]
["Уровень обученности обучающихся  2 Е класса на конец первого полугодия НОО ФГОС 2018-2019 года  в разрезе по четвертям ,  классный  руководитель: Ташилова Н.З"]
["                                                                                                                                                                                                                                                           Ф.И."]
["Предметные","Учебные"]
["области","предметы",null,"2017-2018 ",null,null,null,null,"2018-2019",null,null,null,null,"2019-2020",null,null,null,null,"_____Класс ____ год"]
[null,"Классы",null,1,2,3,4,"г",1,2,3,4,"г",1,2,3,4,"г",1,2,3,4,"г"]
["Русский язык и литературное чтение","Русский язык","Успеваемость ",null,null,null,null,100,80,81,100]
[null,null,"Качество ",null,null,null,null,52,60,60,42]
[null,null,"Средний бал",null,null,null,null,3,4,4,3]
[null,"Литературное чтение","Успеваемость ",null,null,null,null,100,100,100,100]
[null,null,"Качество ",null,null,null,null,75,74,60,47]
[null,null,"Средний бал",null,null,null,null,4,4,4,4]
["Родной язык и литературное чтение на родном языке","Кабардинский язык","Успеваемость ",null,null,null,null,100]
[null,null,"Качество ",null,null,null,null,53]
[null,null,"Средний бал",null,null,null,null,4]
[null,"Литературное чтение на кабардинском  языке","Успеваемость ",null,null,null,null,100]
[null,null,"Качество ",null,null,null,null,71]
[null,null,"Средний бал",null,null,null,null,4]
["Иностранный язык","Английский язык","Успеваемость ",null,null,null,null,0]
[null,null,"Качество ",null,null,null,null,0]
[null,null,"Средний бал",null,null,null,null,0]
["Математика","Математика ","Успеваемость ",null,null,null,null,100,98,84,100]
["и информатика",null,"Качество ",null,null,null,null,50,48,60,40]
[null,null,"Средний бал",null,null,null,null,4,3,3,3]
["Обществознание","Окружающий мир ","Успеваемость ",null,null,null,null,100,100,100,100]
["и естествознание",null,"Качество ",null,null,null,null,70,62,70,49]
[null,null,"Средний бал",null,null,null,null,4,4,4,3]
["Основы религиозных культур светской этики"," (ОРКСЭ)","Успеваемость ",null,null,null,null,0,0,0,0]
[null,null,"Качество ",null,null,null,null,0,0,0,0]
[null,null,"Средний бал",null,null,null,null,0,0,0,0]
["Искусство","Музыка","Успеваемость ",null,null,null,null,100,100,100,100]
[null,null,"Качество ",null,null,null,null,100,100,100,100]
[null,null,"Средний бал",null,null,null,null,4,5,5,5]
[null,"Изобразительное","Успеваемость ",null,null,null,null,100,100,100,100]
[null,"искусство","Качество ",null,null,null,null,100,100,100,100]
[null,null,"Средний бал",null,null,null,null,4,5,5,5]
["Технология","Технология ","Успеваемость ",null,null,null,null,100,100,100,100]
[null,null,"Качество ",null,null,null,null,100,100,100,100]
[null,null,"Средний бал",null,null,null,null,4,5,5,5]
["Физическая","Физическая","Успеваемость ",null,null,null,null,100,100,100,100]
["культура","культура ","Качество ",null,null,null,null,100,100,100,100]
[null,null,"Средний бал",null,null,null,null,4,5,5,5]
["Итого"]
["Внеурочная деятельность (кружки, секции) "]
["Спортивно-оздоровительное"]
["Военно-патриотическое "]
["Художественно - эстетическое"]
["Духовно-нравственное"]
["Обще-интеллектуальное "]
["Научно - познавательное"]
["Итого:"]
[]
[]
[]
[]
[]
[]
["Первый год обучения   __________год ",null,null,null,"Второй год обучения  ___________год",null,null,null,"Трети год обучения   __________год",null,null,null,"Четвертый год обучения _________год"]
["На начало _____     на конец _____",null,null,null,"На начало _____     на конец ______",null,null,null,"На начало _____     на конец ______",null,null,null,"На начало _____     на конец ______"]
[]
["ф.И. ученика",null,null,null,"ф.И. ученика",null,null,null,"ф.И. ученика",null,null,null,"ф.И. ученика"]
["Отличники  ",null,"Не успевают ","Предмет ","Отличники ","Не успевают ","Предмет",null,"Отличники ","Не успевают ","Предмет",null,"Отличники ","Не успевают ","Предмет"]
[]
[]
[]
[]
[]
[]
[]
[]
[]
[]
[]
[]
[]
[]
[]
[null,null,null,null,null,null,null,null,null,null,"2Ф"]
["Уровень обученности обучающихся 2Ф, класса на конец первого полугодия НОО ФГОС 2018-2019 года в разрезе по четвертям,  классный  руководитель :Гетаова А.М."]
["                                                                                                                                                                                                                                                           Ф.И."]
["Предметные","Учебные"]
["области","предметы",null,"____Класс ____ год",null,null,null,null,"2017-2018",null,null,null,null,"2018-2019",null,null,null,null,"_____Класс ____ год"]
[null,"Классы",null,1,2,3,4,"г",1,2,3,4,"г",1,2,3,4,"г",1,2,3,4,"г"]
["Русский язык и литературное чтение","Русский язык","Успеваемость ",null,null,null,null,null,null,null,null,null,null,88,70,100]
[null,null,"Качество ",null,null,null,null,null,null,null,null,null,null,77,64,64]
[null,null,"Средний бал",null,null,null,null,null,null,null,null,null,null,4,3,4]
[null,"Литературное чтение","Успеваемость ",null,null,null,null,null,null,null,null,null,null,100,100,100]
[null,null,"Качество ",null,null,null,null,null,null,null,null,null,null,77,80,70]
[null,null,"Средний бал",null,null,null,null,null,null,null,null,null,null,4,4,4]
["Родной язык и литературное чтение на родном языке","Кабардинский язык","Успеваемость ",null,null,null,null,null,null,null,null,null,null,null,null,100]
[null,null,"Качество ",null,null,null,null,null,null,null,null,null,null,null,null,65]
[null,null,"Средний бал",null,null,null,null,null,null,null,null,null,null,null,null,4]
[null,"Литературное чтение на кабардинском  языке","Успеваемость ",null,null,null,null,null,null,null,null,null,null,null,null,100]
[null,null,"Качество ",null,null,null,null,null,null,null,null,null,null,null,null,77]
[null,null,"Средний бал",null,null,null,null,null,null,null,null,null,null,null,null,4]
["Иностранный язык","Английский язык","Успеваемость ",null,null,null,null,null,null,null,null,null,null,null,null,92]
[null,null,"Качество ",null,null,null,null,null,null,null,null,null,null,null,null,32]
[null,null,"Средний бал",null,null,null,null,null,null,null,null,null,null,null,null,3]
["Математика","Математика ","Успеваемость ",null,null,null,null,null,null,null,null,null,null,100,100,100]
["и информатика",null,"Качество ",null,null,null,null,null,null,null,null,null,null,78,77,50]
[null,null,"Средний бал",null,null,null,null,null,null,null,null,null,null,4,4,3]
["Обществознание","Окружающий мир ","Успеваемость ",null,null,null,null,null,null,null,null,null,null,100,100,100]
["и естествознание",null,"Качество ",null,null,null,null,null,null,null,null,null,null,77,76,64]
[null,null,"Средний бал",null,null,null,null,null,null,null,null,null,null,4,4,3]
["Основы религиозных культур светской этики"," (ОРКСЭ)","Успеваемость ",null,null,null,null,null,null,null,null,null,null,0,0,0]
[null,null,"Качество ",null,null,null,null,null,null,null,null,null,null,0,0,0]
[null,null,"Средний бал",null,null,null,null,null,null,null,null,null,null,0,0,0]
["Искусство","Музыка","Успеваемость ",null,null,null,null,null,null,null,null,null,null,100,100,100]
[null,null,"Качество ",null,null,null,null,null,null,null,null,null,null,75,75,75]
[null,null,"Средний бал",null,null,null,null,null,null,null,null,null,null,4,4,4]
[null,"Изобразительное","Успеваемость ",null,null,null,null,null,null,null,null,null,null,100,100,100]
[null,"искусство","Качество ",null,null,null,null,null,null,null,null,null,null,75,75,75]
[null,null,"Средний бал",null,null,null,null,null,null,null,null,null,null,4,4,4]
["Технология","Технология ","Успеваемость ",null,null,null,null,null,null,null,null,null,null,100,100,100]
[null,null,"Качество ",null,null,null,null,null,null,null,null,null,null,75,75,75]
[null,null,"Средний бал",null,null,null,null,null,null,null,null,null,null,4,4,4]
["Физическая","Физическая","Успеваемость ",null,null,null,null,null,null,null,null,null,null,100,100,100]
["культура","культура ","Качество ",null,null,null,null,null,null,null,null,null,null,75,75,75]
[null,null,"Средний бал",null,null,null,null,null,null,null,null,null,null,4,4,4]
["Итого"]
["Внеурочная деятельность (кружки, секции) "]
["Спортивно-оздоровительное"]
["Военно-патриотическое "]
["Художественно - эстетическое"]
["Духовно-нравственное"]
["Обще-интеллектуальное "]
["Научно - познавательное"]
["Итого:"]
[]
[]
[]
[]
[]
[]
["Первый год обучения   __________год ",null,null,null,"Второй год обучения  ___________год",null,null,null,"Трети год обучения  2018-2019год, 3 четверть ",null,null,null,"Четвертый год обучения _________год"]
["На начало _____     на конец _____",null,null,null,"На начало _____     на конец ______",null,null,null,"На начало _____     на конец ______",null,null,null,"На начало _____     на конец ______"]
[]
["ф.И. ученика",null,null,null,"ф.И. ученика",null,null,null,"ф.И. ученика",null,null,null,"ф.И. ученика"]
["Отличники  ",null,"Не успевают ","Предмет ","Отличники ","Не успевают ","Предмет",null,"Отличники ","Не успевают ","Предмет",null,"Отличники ","Не успевают ","Предмет"]
[null,null,null,null,null,null,null,null,"Алоковва ","Ташуева Алина "]
[null,null,null,null,null,null,null,null,"Гуков ","Карданов Саладин "]
[null,null,null,null,null,null,null,null,"Хамурзова ","Латоков Темирлан "]
[null,null,null,null,null,null,null,null,"Шаова ","Дикинов Андемир "]
[null,null,null,null,null,null,null,null,null,"Ташуева Лена "]
[]
[]
[]
[]
[]
[]
[]
[]
[]
[null,null,null,null,null,null,null,null,null,"3А"]
[]
["Уровень обученности обучающихся 3А класса на конец первого полугодия НОО ФГОС 2018-2019 года  и в разрезе по четвертям .,  классный  руководитель Куржиева К.З"]
["                                                                                                                                                                                                                                                           Ф.И."]
["Предметные","Учебные"]
["области","предметы",null,"2016-2017 ",null,null,null,null,"2017-2018 ",null,null,null,null,"208-2019",null,null,null,null,"_____Класс ____ год"]
[null,"Классы",null,1,2,3,4,"г",1,2,3,4,"г",1,2,3,4,"г",1,2,3,4,"г"]
["Русский язык и литературное чтение","Русский язык","Успеваемость ",null,null,null,null,null,null,null,null,null,100,96,84,91]
[null,null,"Качество ",null,null,null,null,null,null,null,null,null,62,68,60,60]
[null,null,"Средний бал",null,null,null,null,null,null,null,null,null,3,4,4,3]
[null,"Литературное чтение","Успеваемость ",null,null,null,null,null,null,null,null,null,100,100,100,100]
[null,null,"Качество ",null,null,null,null,null,null,null,null,null,80,78,92,82]
[null,null,"Средний бал",null,null,null,null,null,null,null,null,null,4,4,4,4]
["Родной язык и литературное чтение на родном языке","Кабардинский язык","Успеваемость ",null,null,null,null,null,null,null,null,null,100,100,100,91]
[null,null,"Качество ",null,null,null,null,null,null,null,null,null,53,52,55,60]
[null,null,"Средний бал",null,null,null,null,null,null,null,null,null,3,3,3,3]
[null,"Литературное чтение на кабардинском  языке","Успеваемость ",null,null,null,null,null,null,null,null,null,100,100,100,100]
[null,null,"Качество ",null,null,null,null,null,null,null,null,null,60,80,75,78]
[null,null,"Средний бал",null,null,null,null,null,null,null,null,null,4,4,4,4]
["Иностранный язык","Английский язык","Успеваемость ",null,null,null,null,null,null,null,null,null,100,100,100,100]
[null,null,"Качество ",null,null,null,null,null,null,null,null,null,50,60,50,52]
[null,null,"Средний бал",null,null,null,null,null,null,null,null,null,4,4,3,3]
["Математика","Математика ","Успеваемость ",null,null,null,null,null,null,null,null,null,100,92,92,95]
["и информатика",null,"Качество ",null,null,null,null,null,null,null,null,null,65,76,74,78]
[null,null,"Средний бал",null,null,null,null,null,null,null,null,null,4,4,4,3]
["Обществознание","Окружающий мир ","Успеваемость ",null,null,null,null,null,null,null,null,null,100,100,100,100]
["и естествознание",null,"Качество ",null,null,null,null,null,null,null,null,null,90,80,70,86]
[null,null,"Средний бал",null,null,null,null,null,null,null,null,null,4,4,4,4]
["Основы религиозных культур светской этики"," (ОРКСЭ)","Успеваемость ",null,null,null,null,null,null,null,null,null,0,0,0,0]
[null,null,"Качество ",null,null,null,null,null,null,null,null,null,0,0,0,0]
[null,null,"Средний бал",null,null,null,null,null,null,null,null,null,0,0,0,0]
["Искусство","Музыка","Успеваемость ",null,null,null,null,null,null,null,null,null,100,100,100,100]
[null,null,"Качество ",null,null,null,null,null,null,null,null,null,90,90,92,95]
[null,null,"Средний бал",null,null,null,null,null,null,null,null,null,4,4,4,4]
[null,"Изобразительное","Успеваемость ",null,null,null,null,null,null,null,null,null,100,100,100,100]
[null,"искусство","Качество ",null,null,null,null,null,null,null,null,null,90,90,92,95]
[null,null,"Средний бал",null,null,null,null,null,null,null,null,null,4,4,4,4]
["Технология","Технология ","Успеваемость ",null,null,null,null,null,null,null,null,null,100,100,100,100]
[null,null,"Качество ",null,null,null,null,null,null,null,null,null,90,90,92,95]
[null,null,"Средний бал",null,null,null,null,null,null,null,null,null,4,4,4,4]
["Физическая","Физическая","Успеваемость ",null,null,null,null,null,null,null,null,null,100,100,100,100]
["культура","культура ","Качество ",null,null,null,null,null,null,null,null,null,90,90,92,95]
[null,null,"Средний бал",null,null,null,null,null,null,null,null,null,4,4,4,4]
["Итого"]
["Внеурочная деятельность (кружки, секции) "]
["Спортивно-оздоровительное"]
["Военно-патриотическое "]
["Художественно - эстетическое"]
["Духовно-нравственное"]
["Обще-интеллектуальное "]
["Научно - познавательное"]
["Итого:"]
[]
[]
[]
[]
[]
[]
["Первый год обучения   __________год ",null,null,null,"Второй год обучения  ___________год",null,null,null,"Трети год обучения. 3 четверть ",null,null,null,"Четвертый год обучения _________год"]
["На начало _____     на конец _____",null,null,null,"На начало _____     на конец ______",null,null,null,"На начало _____     на конец ______",null,null,null,"На начало _____     на конец ______"]
[]
["ф.И. ученика",null,null,null,"ф.И. ученика",null,null,null,"ф.И. ученика",null,null,null,"ф.И. ученика"]
["Отличники  ",null,"Не успевают ","Предмет ","Отличники ","Не успевают ","Предмет",null,"Отличники ","Не успевают ","Предмет",null,"Отличники ","Не успевают ","Предмет"]
[null,null,"Гучаков "]
[null,null,"Мамбетов "]
[null,null,"Тлегурова "]
[null,null,"Тутова "]
[]
[]
[]
[]
[]
[]
[]
[]
[]
[]
[]
[]
[]
[]
[null,null,null,null,null,null,null,null,"3Б"]
[]
[]
["Уровень обученности обучающихся 3Б класса НОО ФГОС  по годам обучения  в разрезе ,  классный  руководитель : Хаваяшхова Р.Т. "]
["                                                                                                                                                                                                                                                           Ф.И."]
["Предметные","Учебные"]
["области","предметы",null,"2016-2017",null,null,null,null,"2017-2018",null,null,null,null,"2018-2019",null,null,null,null,"_____Класс ____ год"]
[null,"Классы",null,1,2,3,4,"г",1,2,3,4,"г",1,2,3,4,"г",1,2,3,4,"г"]
["Русский язык и литературное чтение","Русский язык","Успеваемость ",null,null,null,null,95,null,null,null,null,100,100,100,91]
[null,null,"Качество ",null,null,null,null,55,null,null,null,null,60,42,45,45]
[null,null,"Средний бал",null,null,null,null,3,null,null,null,null,4,4,4,3]
[null,"Литературное чтение","Успеваемость ",null,null,null,null,90,null,null,null,null,100,100,95,100]
[null,null,"Качество ",null,null,null,null,60,null,null,null,null,60,42,42,42]
[null,null,"Средний бал",null,null,null,null,3,null,null,null,null,4,4,3,4]
["Родной язык и литературное чтение на родном языке","Кабардинский язык","Успеваемость ",null,null,null,null,90,null,null,null,null,100,100,100,95]
[null,null,"Качество ",null,null,null,null,55,null,null,null,null,60,42,42,42]
[null,null,"Средний бал",null,null,null,null,3,null,null,null,null,4,4,4,3]
[null,"Литературное чтение на кабардинском  языке","Успеваемость ",null,null,null,null,90,null,null,null,null,100,100,100,95]
[null,null,"Качество ",null,null,null,null,60,null,null,null,null,60,42,42,42]
[null,null,"Средний бал",null,null,null,null,4,null,null,null,null,4,4,4,3]
["Иностранный язык","Английский язык","Успеваемость ",null,null,null,null,0,null,null,null,null,100,100,100,80]
[null,null,"Качество ",null,null,null,null,0,null,null,null,null,60,65,70,30]
[null,null,"Средний бал",null,null,null,null,0,null,null,null,null,4,4,4,3]
["Математика","Математика ","Успеваемость ",null,null,null,null,90,null,null,null,null,100,100,90,91]
["и информатика",null,"Качество ",null,null,null,null,55,null,null,null,null,60,60,60,46]
[null,null,"Средний бал",null,null,null,null,3,null,null,null,null,4,4,4,3]
["Обществознание","Окружающий мир ","Успеваемость ",null,null,null,null,90,null,null,null,null,100,100,100,100]
["и естествознание",null,"Качество ",null,null,null,null,60,null,null,null,null,60,65,70,46]
[null,null,"Средний бал",null,null,null,null,4,null,null,null,null,4,4,4,3]
["Основы религиозных культур светской этики"," (ОРКСЭ)","Успеваемость ",null,null,null,null,0,null,null,null,null,0,0,0,0]
[null,null,"Качество ",null,null,null,null,0,null,null,null,null,0,0,0,0]
[null,null,"Средний бал",null,null,null,null,0,null,null,null,null,0,0,0,0]
["Искусство","Музыка","Успеваемость ",null,null,null,null,100,null,null,null,null,100,100,100,100]
[null,null,"Качество ",null,null,null,null,100,null,null,null,null,100,100,100,100]
[null,null,"Средний бал",null,null,null,null,5,null,null,null,null,5,5,5,5]
[null,"Изобразительное","Успеваемость ",null,null,null,null,100,null,null,null,null,100,100,100,100]
[null,"искусство","Качество ",null,null,null,null,100,null,null,null,null,100,100,100,100]
[null,null,"Средний бал",null,null,null,null,5,null,null,null,null,5,5,5,5]
["Технология","Технология ","Успеваемость ",null,null,null,null,100,null,null,null,null,100,100,100,100]
[null,null,"Качество ",null,null,null,null,100,null,null,null,null,100,100,100,100]
[null,null,"Средний бал",null,null,null,null,5,null,null,null,null,5,5,5,5]
["Физическая","Физическая","Успеваемость ",null,null,null,null,100,null,null,null,null,100,100,100,100]
["культура","культура ","Качество ",null,null,null,null,100,null,null,null,null,100,100,100,100]
[null,null,"Средний бал",null,null,null,null,5,null,null,null,null,5,5,5,5]
["Итого"]
["Внеурочная деятельность (кружки, секции) "]
["Спортивно-оздоровительное"]
["Военно-патриотическое "]
["Художественно - эстетическое"]
["Духовно-нравственное"]
["Обще-интеллектуальное "]
["Научно - познавательное"]
["Итого:"]
[]
[]
[]
[]
[]
[]
["Первый год обучения  ",null,null,null,"Второй год обучения  ",null,null,null,"Трети год обучения ",null,null,null,"Четвертый год обучения"]
["На начало 26 на конец 26",null,null,null,"На начало 26     на конец 26",null,null,null,"На начало 24   на конец ",null,null,null,"На начало     на конец "]
[]
["ф.И. ученика",null,null,null,"ф.И. ученика",null,null,null,"ф.И. ученика",null,null,null,"ф.И. ученика"]
["Отличники  ",null,"Не успевают ","Предмет ","Отличники ","Не успевают ","Предмет",null,"Отличники ","Не успевают на конец 3 четверти ","Предмет",null,"Отличники ","Не успевают ","Предмет"]
["Ажахов Ясин","Ажахов Ясин",null,null,null,null,"Ажахов Ясин","Ажахов Ясин","Ажахов Ясин","Ташуева Бэлла ","русский яз; матем (2) "]
["Бекова Ильяна ","Бекова Ильяна ",null,null,null,null,"Бекова Ильяна ","Бекова Ильяна ","Бекова Ильяна ","Кунижев Адам","русский яз;английский яз (2) "]
["Дышекова Алина ","Дышекова Алина ",null,null,null,null,"Дышекова Алина ","Дышекова Алина "," ","Дышекова Алина"," каб.яз-4; математика-4; (2)"]
["Кештов Адам ","Кештов Адам ",null,null,null,null,"Кештов Адам ","Кештов Адам ","Кештов Адам "]
["Эштреков Темирлан ","Эштреков Темирлан ",null,null,null,null,"Эштреков Темирлан ","Эштреков Темирлан ","Эштреков Темирлан "]
[]
[]
[]
[]
[]
[]
[]
[]
[]
[]
[null,null,null,null,null,null,null,null,null,"3В"]
[]
["Уровень обученности обучающихся 3В класса НОО ФГОС  по годам обучения  в разрезе ,  классный  руководитель :Тутова Е.Б."]
["                                                                                                                                                                                                                                                           Ф.И."]
["Предметные","Учебные"]
["области","предметы",null,"1 Класс 2016-2017 год",null,null,null,null,"2 Класс 2017-2018 год",null,null,null,null,"3 Класс 2018-2019 год",null,null,null,null,"_____Класс ____ год"]
[null,"Классы",null,1,2,3,4,"г",1,2,3,4,"г",1,2,3,4,"г",1,2,3,4,"г"]
["Русский язык и литературное чтение","Русский язык","Успеваемость ",null,null,null,null,90,null,null,null,null,100,100,100,91]
[null,null,"Качество ",null,null,null,null,45,null,null,null,null,53,54,54,35]
[null,null,"Средний бал",null,null,null,null,3,null,null,null,null,3,3,3,3]
[null,"Литературное чтение","Успеваемость ",null,null,null,null,100,null,null,null,null,100,100,100,100]
[null,null,"Качество ",null,null,null,null,52,null,null,null,null,70,72,75,74]
[null,null,"Средний бал",null,null,null,null,3,null,null,null,null,4,4,4,4]
["Родной язык и литературное чтение на родном языке","Кабардинский язык","Успеваемость ",null,null,null,null,90,null,null,null,null,100,100,100,100]
[null,null,"Качество ",null,null,null,null,45,null,null,null,null,50,45,52,46]
[null,null,"Средний бал",null,null,null,null,3,null,null,null,null,3,3,3,3]
[null,"Литературное чтение на кабардинском  языке","Успеваемость ",null,null,null,null,100,null,null,null,null,100,100,100,100]
[null,null,"Качество ",null,null,null,null,55,null,null,null,null,65,65,73,85]
[null,null,"Средний бал",null,null,null,null,4,null,null,null,null,3,4,4,4]
["Иностранный язык","Английский язык","Успеваемость ",null,null,null,null,null,null,null,null,null,100,100,100,100]
[null,null,"Качество ",null,null,null,null,null,null,null,null,null,43,77,64,42]
[null,null,"Средний бал",null,null,null,null,null,null,null,null,null,4,4,4,3]
["Математика","Математика ","Успеваемость ",null,null,null,null,90,null,null,null,null,100,100,100,91]
["и информатика",null,"Качество ",null,null,null,null,48,null,null,null,null,54,54,57,35]
[null,null,"Средний бал",null,null,null,null,3,null,null,null,null,3,3,4,3]
["Обществознание","Окружающий мир ","Успеваемость ",null,null,null,null,100,null,null,null,null,100,100,100,100]
["и естествознание",null,"Качество ",null,null,null,null,35,null,null,null,null,70,63,65,59]
[null,null,"Средний бал",null,null,null,null,3,null,null,null,null,4,4,4,4]
["Основы религиозных культур светской этики"," (ОРКСЭ)","Успеваемость "]
[null,null,"Качество "]
[null,null,"Средний бал"]
["Искусство","Музыка","Успеваемость ",null,null,null,null,100,null,null,null,null,100,100,100,100]
[null,null,"Качество ",null,null,null,null,100,null,null,null,null,100,100,100,100]
[null,null,"Средний бал",null,null,null,null,5,null,null,null,null,5,5,5,5]
[null,"Изобразительное","Успеваемость ",null,null,null,null,100,null,null,null,null,100,100,100,100]
[null,"искусство","Качество ",null,null,null,null,100,null,null,null,null,100,100,100,100]
[null,null,"Средний бал",null,null,null,null,5,null,null,null,null,5,5,5,5]
["Технология","Технология ","Успеваемость ",null,null,null,null,100,null,null,null,null,100,100,100,100]
[null,null,"Качество ",null,null,null,null,100,null,null,null,null,100,100,100,100]
[null,null,"Средний бал",null,null,null,null,5,null,null,null,null,5,5,5,5]
["Физическая","Физическая","Успеваемость ",null,null,null,null,100,null,null,null,null,100,100,100,100]
["культура","культура ","Качество ",null,null,null,null,100,null,null,null,null,100,100,100,100]
[null,null,"Средний бал",null,null,null,null,5,null,null,null,null,5,5,5,5]
["Итого"]
["Внеурочная деятельность (кружки, секции) "]
["Спортивно-оздоровительное"]
["Военно-патриотическое "]
["Художественно - эстетическое"]
["Духовно-нравственное"]
["Обще-интеллектуальное "]
["Научно - познавательное"]
["Итого:"]
[]
[]
[]
[]
[]
[]
["Первый год обучения   ______2016-2017____год ",null,null,null,"Второй год обучения  _____2017-2018_____год",null,null,null,"Трети год обучения   2018-2019_год",null,null,null,"Четвертый год обучения _________год"]
["На начало ____19_     на конец _19____",null,null,null,"На начало _19____     на конец _21_____",null,null,null,"На начало 22    на конец ______",null,null,null,"На начало _____     на конец ______"]
["ф.И. ученика",null,null,null,"ф.И. ученика",null,null,null,"ф.И. ученика",null,null,null,"ф.И. ученика"]
["Отличники  ",null,"Не успевают ","Предмет ","Отличники ","Не успевают ","Предмет",null,"Отличники ","Не успевают ","Предмет",null,"Отличники ","Не успевают ","Предмет"]
[null,null,"Ташуев Рустамм ","по всем ","Гендугова Элана ","Ташуев Рустамм ","руския язык, математика  (2)",null,"Гендугова Элана ","Ташуев Рустамм ","руския язык, математика  (2)"]
[null,null,"Бесланеева Азида","по всем ","Иналов Азамат ","Бесланеева Азида","руския язык, математика  (2)",null,"Иналов Азамат ","Бесланеева Азида","руския язык, математика  (2)"]
[null,null,null,null,"Дударов астемир ","Ташуев Алан ","русский язык (1)",null,"Дударов астемир ","Ташуев Алан ","русский язык (1)"]
[null,null,null,null,"Курбацкая Лариса ",null,null,null,"Курбацкая Лариса "]
[]
[]
[]
[]
[]
[]
[]
[]
[]
[]
[]
[]
[]
[]
[null,null,null,null,null,null,null,null,null,null,"3К"]
[]
[]
[]
["Уровень обученности обучающихся 3К класса НОО ФГОС  по годам обучения  в разрезе ,  классный  руководитель :Кумыкова Л.А."]
["                                                                                                                                                                                                                                                           Ф.И."]
["Предметные","Учебные"]
["области","предметы",null,"2016-2017",null,null,null,null,"2017-2018",null,null,null,null,"2018-2019",null,null,null,null,"_____Класс ____ год"]
[null,"Классы",null,1,2,3,4,"г",1,2,3,4,"г",1,2,3,4,"г",1,2,3,4,"г"]
["Русский язык и литературное чтение","Русский язык","Успеваемость ",null,null,null,null,100,null,null,null,null,100,100,100,88]
[null,null,"Качество ",null,null,null,null,51,null,null,null,null,52,47,48,35]
[null,null,"Средний бал",null,null,null,null,4,null,null,null,null,4,4,4,3]
[null,"Литературное чтение","Успеваемость ",null,null,null,null,100,null,null,null,null,100]
[null,null,"Качество ",null,null,null,null,59,null,null,null,null,59]
[null,null,"Средний бал",null,null,null,null,4,null,null,null,null,4]
["Родной язык и литературное чтение на родном языке","Кабардинский язык","Успеваемость ",null,null,null,null,100,null,null,null,null,100]
[null,null,"Качество ",null,null,null,null,47,null,null,null,null,48]
[null,null,"Средний бал",null,null,null,null,4,null,null,null,null,4]
[null,"Литературное чтение на кабардинском  языке","Успеваемость ",null,null,null,null,100,null,null,null,null,100]
[null,null,"Качество ",null,null,null,null,48,null,null,null,null,51]
[null,null,"Средний бал",null,null,null,null,4,null,null,null,null,4]
["Иностранный язык","Английский язык","Успеваемость ",null,null,null,null,100,null,null,null,null,100]
[null,null,"Качество ",null,null,null,null,41,null,null,null,null,42]
[null,null,"Средний бал",null,null,null,null,3,null,null,null,null,4]
["Математика","Математика ","Успеваемость ",null,null,null,null,100,null,null,null,null,100,97,95,88]
["и информатика",null,"Качество ",null,null,null,null,47,null,null,null,null,49,47,48,35]
[null,null,"Средний бал",null,null,null,null,4,null,null,null,null,4,3,3,3]
["Обществознание","Окружающий мир ","Успеваемость ",null,null,null,null,100,null,null,null,null,100]
["и естествознание",null,"Качество ",null,null,null,null,54,null,null,null,null,55]
[null,null,"Средний бал",null,null,null,null,4,null,null,null,null,4]
["Основы религиозных культур светской этики"," (ОРКСЭ)","Успеваемость ",null,null,null,null,0,null,null,null,null,0,0,0,0]
[null,null,"Качество ",null,null,null,null,0,null,null,null,null,0,0,0,0]
[null,null,"Средний бал",null,null,null,null,0,null,null,null,null,0,0,0,0]
["Искусство","Музыка","Успеваемость ",null,null,null,null,100,null,null,null,null,100]
[null,null,"Качество ",null,null,null,null,85,null,null,null,null,86]
[null,null,"Средний бал",null,null,null,null,4,null,null,null,null,4]
[null,"Изобразительное","Успеваемость ",null,null,null,null,100,null,null,null,null,100]
[null,"искусство","Качество ",null,null,null,null,100,null,null,null,null,100]
[null,null,"Средний бал",null,null,null,null,5,null,null,null,null,5]
["Технология","Технология ","Успеваемость ",null,null,null,null,100,null,null,null,null,100]
[null,null,"Качество ",null,null,null,null,100,null,null,null,null,100]
[null,null,"Средний бал",null,null,null,null,5,null,null,null,null,5]
["Физическая","Физическая","Успеваемость ",null,null,null,null,100,null,null,null,null,100]
["культура","культура ","Качество ",null,null,null,null,100,null,null,null,null,100]
[null,null,"Средний бал",null,null,null,null,5,null,null,null,null,5]
["Итого"]
["Внеурочная деятельность (кружки, секции) "]
["Спортивно-оздоровительное"]
["Военно-патриотическое "]
["Художественно - эстетическое"]
["Духовно-нравственное"]
["Обще-интеллектуальное "]
["Научно - познавательное"]
["Итого:"]
[]
[]
[]
[]
[]
[]
["Первый год обучения",null,null,null,"Второй год обучения  ",null,null,null,"Трети год обучения   __________год",null,null,null,"Четвертый год обучения _________год"]
[null,null,null,null,null,null,null,null,"На начало _____     на конец ______",null,null,null,"На начало _____     на конец ______"]
[]
["ф.И. ученика",null,null,null,"ф.И. ученика",null,null,null,"ф.И. ученика",null,null,null,"ф.И. ученика"]
["Отличники  ",null,"Не успевают ","Предмет ","Отличники ","Не успевают ","Предмет",null,"Отличники ","Не успевают ","Предмет",null,"Отличники ","Не успевают ","Предмет"]
["Куржиев А",null,null,null,null,null,"Канукоев ",null,null,"??????????????????"]
["Куржиев А",null,null,null,null,null,"Куржиев А"]
["Курманов Э",null,null,null,null,null,"Куржиев А"]
["Озрокова Д",null,null,null,null,null,"Курманов Э"]
["Озрокова Д",null,null,null,null,null,"Озрокова Д"]
["Иванов ",null,null,null,null,null,"Озрокова Д"]
["Гугов ",null,null,null,null,null,"Иванов "]
[null,null,null,null,null,null,"Гугов "]
[]
[]
[]
[]
[]
[]
[null,null,null,null,null,null,null,"4Б"]
[]
["Уровень обученности обучающихся 4 Б класса НОО ФГОС  по годам обучения  в разрезе ,  классный  руководитель :Карданова И.М."]
["                                                                                                                                                                                                                                                           Ф.И."]
["Предметные","Учебные"]
["области","предметы",null,"2016-2017",null,null,null,null,"2017-2018",null,null,null,null,"2018-2019",null,null,null,null,"_____Класс ____ год"]
[null,"Классы",null,1,2,3,4,"г",1,2,3,4,"г",1,2,3,4,"г",1,2,3,4,"г"]
["Русский язык и литературное чтение","Русский язык","Успеваемость ",null,null,null,null,96,null,null,null,null,92,null,92,100]
[null,null,"Качество ",null,null,null,null,41,null,null,null,null,39,null,38,31]
[null,null,"Средний бал",null,null,null,null,3,null,null,null,null,3,null,3,3]
[null,"Литературное чтение","Успеваемость ",null,null,null,null,100,null,null,null,null,100,null,100,100]
[null,null,"Качество ",null,null,null,null,50,null,null,null,null,49,null,48,42]
[null,null,"Средний бал",null,null,null,null,3,null,null,null,null,3,null,3,3]
["Родной язык и литературное чтение на родном языке","Кабардинский язык","Успеваемость ",null,null,null,null,94,null,null,null,null,89,null,88,100]
[null,null,"Качество ",null,null,null,null,40,null,null,null,null,38,null,36,33]
[null,null,"Средний бал",null,null,null,null,3,null,null,null,null,3,null,3,3]
[null,"Литературное чтение на кабардинском  языке","Успеваемость ",null,null,null,null,100,null,null,null,null,100,null,100,100]
[null,null,"Качество ",null,null,null,null,48,null,null,null,null,45,null,47,45]
[null,null,"Средний бал",null,null,null,null,3,null,null,null,null,3,null,3,3]
["Иностранный язык","Английский язык","Успеваемость ",null,null,null,null,94,null,null,null,null,92,null,90,100]
[null,null,"Качество ",null,null,null,null,42,null,null,null,null,37,null,35,33]
[null,null,"Средний бал",null,null,null,null,3,null,null,null,null,3,null,3,3]
["Математика","Математика ","Успеваемость ",null,null,null,null,92,null,null,null,null,90,null,89,100]
["и информатика",null,"Качество ",null,null,null,null,39,null,null,null,null,35,null,36,31]
[null,null,"Средний бал",null,null,null,null,3,null,null,null,null,3,null,3,3]
["Обществознание","Окружающий мир ","Успеваемость ",null,null,null,null,100,null,null,null,null,100,null,100,100]
["и естествознание",null,"Качество ",null,null,null,null,54,null,null,null,null,52,null,50,45]
[null,null,"Средний бал",null,null,null,null,4,null,null,null,null,3,null,3,3]
["Основы религиозных культур светской этики"," (ОРКСЭ)","Успеваемость ",null,null,null,null,0,null,null,null,null,0]
[null,null,"Качество ",null,null,null,null,0,null,null,null,null,0]
[null,null,"Средний бал",null,null,null,null,0,null,null,null,null,0]
["Искусство","Музыка","Успеваемость ",null,null,null,null,100,null,null,null,null,100,null,100,100]
[null,null,"Качество ",null,null,null,null,60,null,null,null,null,58,null,56,54]
[null,null,"Средний бал",null,null,null,null,4,null,null,null,null,4,null,3,3]
[null,"Изобразительное","Успеваемость ",null,null,null,null,100,null,null,null,null,100,null,100,100]
[null,"искусство","Качество ",null,null,null,null,62,null,null,null,null,62,null,60,58]
[null,null,"Средний бал",null,null,null,null,4,null,null,null,null,4,null,4,4]
["Технология","Технология ","Успеваемость ",null,null,null,null,100,null,null,null,null,100,null,100,100]
[null,null,"Качество ",null,null,null,null,60,null,null,null,null,62,null,60,58]
[null,null,"Средний бал",null,null,null,null,4,null,null,null,null,4,null,4,4]
["Физическая","Физическая","Успеваемость ",null,null,null,null,100,null,null,null,null,100,null,100,100]
["культура","культура ","Качество ",null,null,null,null,62,null,null,null,null,62,null,60,58]
[null,null,"Средний бал",null,null,null,null,4,null,null,null,null,4,null,4,4]
["Итого"]
["Внеурочная деятельность (кружки, секции) "]
["Спортивно-оздоровительное"]
["Военно-патриотическое "]
["Художественно - эстетическое"]
["Духовно-нравственное"]
["Обще-интеллектуальное "]
["Научно - познавательное"]
["Итого:"]
[]
[]
[]
[]
[]
[]
["второй год обучения   ",null,null,null,"Второй год обучения  ___________год",null,null,null,"Трети год обучения   год",null,null,null,"Четвертый год обучения. 3 четверть"]
["На начало   / на конец",null,null,null,"На начало _____     на конец ______",null,null,null,"На начало _____     на конец ______",null,null,null,"На начало _____     на конец ______"]
[]
["ф.И. ученика",null,null,null,"ф.И. ученика",null,null,null,"ф.И. ученика",null,null,null,"ф.И. ученика"]
["Отличники  ",null,"Не успевают ","Предмет ","Отличники ","Не успевают ","Предмет",null,"Отличники ","Не успевают ","Предмет",null,"Отличники ","Не успевают ","Предмет"]
["Дымова Д",null,null,null,null,null,null,null,"Дымова Д",null,null,null,"Дымова Д"]
["Кумыкова Б",null,null,null,null,null,null,null,"Кумыкова Б",null,null,null,"Кумыкова Б"]
["Мацухова Д",null,null,null,null,null,null,null,"Мацухова Д"]
[]
[]
[]
[]
[]
[]
[]
[]
[]
[]
[]
[]
[]
[]
[]
[null,null,null,null,null,null,null,null,null,"4В"]
[]
[]
[]
["Уровень обученности обучающихся 4 В класса НОО ФГОС  по годам обучения  в разрезе ,  классный  руководитель :Дышекова И.А. "]
["                                                                                                                                                                                                                                                           Ф.И."]
["Предметные","Учебные"]
["области","предметы",null,"2016-2017",null,null,null,null,"2017-2018",null,null,null,null,"2018-2019",null,null,null,null,"_____Класс ____ год"]
[null,"Классы",null,1,2,3,4,"г",1,2,3,4,"г",1,2,3,4,"г",1,2,3,4,"г"]
["Русский язык и литературное чтение","Русский язык","Успеваемость ",null,null,null,null,100,null,null,null,null,100,100,100,100]
[null,null,"Качество ",null,null,null,null,36,null,null,null,null,38,38,39,47]
[null,null,"Средний бал",null,null,null,null,3,null,null,null,null,3,3,3,3]
[null,"Литературное чтение","Успеваемость ",null,null,null,null,100,null,null,null,null,100,100,100,100]
[null,null,"Качество ",null,null,null,null,50,null,null,null,null,51,52,54,63]
[null,null,"Средний бал",null,null,null,null,3,null,null,null,null,3,4,4,4]
["Родной язык и литературное чтение на родном языке","Кабардинский язык","Успеваемость ",null,null,null,null,100,null,null,null,null,100,100,100,100]
[null,null,"Качество ",null,null,null,null,34,null,null,null,null,35,36,38,57]
[null,null,"Средний бал",null,null,null,null,3,null,null,null,null,3,3,3,3]
[null,"Литературное чтение на кабардинском  языке","Успеваемость ",null,null,null,null,100,null,null,null,null,100,100,100,100]
[null,null,"Качество ",null,null,null,null,45,null,null,null,null,48,48,50,64]
[null,null,"Средний бал",null,null,null,null,3,null,null,null,null,4,4,4,4]
["Иностранный язык","Английский язык","Успеваемость ",null,null,null,null,0]
[null,null,"Качество ",null,null,null,null,0]
[null,null,"Средний бал",null,null,null,null,0]
["Математика","Математика ","Успеваемость ",null,null,null,null,100,null,null,null,null,100,100,100,100]
["и информатика",null,"Качество ",null,null,null,null,34,null,null,null,null,34,36,38,57]
[null,null,"Средний бал",null,null,null,null,3,null,null,null,null,3,3,3,3]
["Обществознание","Окружающий мир ","Успеваемость ",null,null,null,null,100,null,null,null,null,100,100,100,100]
["и естествознание",null,"Качество ",null,null,null,null,48,null,null,null,null,48,50,50,52]
[null,null,"Средний бал",null,null,null,null,3,null,null,null,null,3,4,4,4]
["Основы религиозных культур светской этики"," (ОРКСЭ)","Успеваемость ",null,null,null,null,100,null,null,null,null,100,0,0,100]
[null,null,"Качество ",null,null,null,null,100,null,null,null,null,100,0,0,100]
[null,null,"Средний бал",null,null,null,null,5,null,null,null,null,5,0,0,5]
["Искусство","Музыка","Успеваемость ",null,null,null,null,100,null,null,null,null,100,100,100,100]
[null,null,"Качество ",null,null,null,null,100,null,null,null,null,100,100,100,100]
[null,null,"Средний бал",null,null,null,null,5,null,null,null,null,5,5,5,5]
[null,"Изобразительное","Успеваемость ",null,null,null,null,100,null,null,null,null,100,100,100,100]
[null,"искусство","Качество ",null,null,null,null,100,null,null,null,null,100,100,100,100]
[null,null,"Средний бал",null,null,null,null,5,null,null,null,null,5,5,5,5]
["Технология","Технология ","Успеваемость ",null,null,null,null,100,null,null,null,null,100,100,100,100]
[null,null,"Качество ",null,null,null,null,100,null,null,null,null,100,100,100,100]
[null,null,"Средний бал",null,null,null,null,5,null,null,null,null,5,5,5,5]
["Физическая","Физическая","Успеваемость ",null,null,null,null,100,null,null,null,null,100,100,100,100]
["культура","культура ","Качество ",null,null,null,null,100,null,null,null,null,100,100,100,100]
[null,null,"Средний бал",null,null,null,null,5,null,null,null,null,5,5,5,5]
["Итого"]
["Внеурочная деятельность (кружки, секции) "]
["Спортивно-оздоровительное"]
["Военно-патриотическое "]
["Художественно - эстетическое"]
["Духовно-нравственное"]
["Обще-интеллектуальное "]
["Научно - познавательное"]
["Итого:"]
[]
[]
[]
[]
[]
[]
["второй год обучения ",null,null,null,"Второй год обучения  ___________год",null,null,null,"Трети год обучения ",null,null,null,"Четвертый год обучения "]
["На начало _____     на конец _____",null,null,null,"На начало _____     на конец ______",null,null,null,"На начало _____     на конец ______",null,null,null,"На начало _____     на конец ______"]
[]
["ф.И. ученика",null,null,null,"ф.И. ученика",null,null,null,"ф.И. ученика",null,null,null,"ф.И. ученика"]
["Отличники  ",null,"Не успевают ","Предмет ","Отличники ","Не успевают ","Предмет",null,"Отличники ","Не успевают ","Предмет",null,"Отличники ","Не успевают ","Предмет"]
["Дышекова милана ",null,null,null,null,null,null,null,"Дышекова милана ",null,null,null,"Дышекова милана "]
["Озов астемир",null,null,null,null,null,null,null,"Озов астемир",null,null,null,"Озов астемир"]
["Абдулаев А",null,null,null,null,null,null,null,"Абдулаев А"]
["Цеев Азрет "]
[]
[]
[]
[]
[]
[]
[]
[]
[]
[]
[]
["Уровень обученности обучающихся 4 А  класса НОО ФГОС  по годам обучения  в разрезе ,  классный  руководитель : Эльмесова Л.Х."]
["                                                                                                                                                                                                                                                           Ф.И."]
["Предметные","Учебные"]
["области","предметы",null,"2016-2017",null,null,null,null,"2017-2018",null,null,null,null,"2018-2019",null,null,null,null,"_____Класс ____ год"]
[null,"Классы",null,1,2,3,4,"г",1,2,3,4,"г",1,2,3,4,"г",1,2,3,4,"г"]
["Русский язык и литературное чтение","Русский язык","Успеваемость ",null,null,null,null,85,null,null,null,null,85,100,100]
[null,null,"Качество ",null,null,null,null,43,null,null,null,null,45,45,53]
[null,null,"Средний бал",null,null,null,null,3,null,null,null,null,3,3,3]
[null,"Литературное чтение","Успеваемость ",null,null,null,null,85,null,null,null,null,85,100,100]
[null,null,"Качество ",null,null,null,null,45,null,null,null,null,45,53,53]
[null,null,"Средний бал",null,null,null,null,3,null,null,null,null,3,3,3]
["Родной язык и литературное чтение на родном языке","Кабардинский язык","Успеваемость ",null,null,null,null,82,null,null,null,null,82,100,100]
[null,null,"Качество ",null,null,null,null,41,null,null,null,null,41,42,42]
[null,null,"Средний бал",null,null,null,null,3,null,null,null,null,3,3,3]
[null,"Литературное чтение на кабардинском  языке","Успеваемость ",null,null,null,null,82,null,null,null,null,82,84,84]
[null,null,"Качество ",null,null,null,null,41,null,null,null,null,41,42,42]
[null,null,"Средний бал",null,null,null,null,41,null,null,null,null,41,42,42]
["Иностранный язык","Английский язык","Успеваемость ",null,null,null,null,0,0,0,0,0,0,0,0]
[null,null,"Качество ",null,null,null,null,0,0,0,0,0,0,0,0]
[null,null,"Средний бал",null,null,null,null,0,0,0,0,0,0,0,0]
["Математика","Математика ","Успеваемость ",null,null,null,null,86,null,null,null,null,88,88,88]
["и информатика",null,"Качество ",null,null,null,null,45,null,null,null,null,46,46,46]
[null,null,"Средний бал",null,null,null,null,3,null,null,null,null,3,3,3]
["Обществознание","Окружающий мир ","Успеваемость ",null,null,null,null,82,null,null,null,null,82,82,82]
["и естествознание",null,"Качество ",null,null,null,null,41,null,null,null,null,41,41,41]
[null,null,"Средний бал",null,null,null,null,3,null,null,null,null,3,3,3]
["Основы религиозных культур светской этики"," (ОРКСЭ)","Успеваемость ",null,null,null,null,0,0,0,0,0,0,0,0]
[null,null,"Качество ",null,null,null,null,0,0,0,0,0,0,0,0]
[null,null,"Средний бал",null,null,null,null,0,0,0,0,0,0,0,0]
["Искусство","Музыка","Успеваемость ",null,null,null,null,100,null,null,null,null,100,100,100]
[null,null,"Качество ",null,null,null,null,50,null,null,null,null,50,50,50]
[null,null,"Средний бал",null,null,null,null,3,null,null,null,null,3,3,3]
[null,"Изобразительное","Успеваемость ",null,null,null,null,100,null,null,null,null,100,100,100]
[null,"искусство","Качество ",null,null,null,null,50,null,null,null,null,50,50,50]
[null,null,"Средний бал",null,null,null,null,3,null,null,null,null,3,3,3]
["Технология","Технология ","Успеваемость ",null,null,null,null,100,null,null,null,null,100,100,100]
[null,null,"Качество ",null,null,null,null,50,null,null,null,null,50,50,50]
[null,null,"Средний бал",null,null,null,null,3,null,null,null,null,3,3,3]
["Физическая","Физическая","Успеваемость ",null,null,null,null,100,null,null,null,null,100,100,100]
["культура","культура ","Качество ",null,null,null,null,50,null,null,null,null,50,50,50]
[null,null,"Средний бал",null,null,null,null,3,null,null,null,null,3,3,3]
["Итого"]
["Внеурочная деятельность (кружки, секции) "]
["Спортивно-оздоровительное"]
["Военно-патриотическое "]
["Художественно - эстетическое"]
["Духовно-нравственное"]
["Обще-интеллектуальное "]
["Научно - познавательное"]
["Итого:"]
[]
[]
[]
[]
[]
[]
["Первый год обучения   __________год ",null,null,null,"Второй год обучения  ___________год",null,null,null,"Трети год обучения   __________год",null,null,null,"Четвертый год обучения _________год"]
["На начало _____     на конец _____",null,null,null,"На начало _____     на конец ______",null,null,null,"На начало _____     на конец ______",null,null,null,"На начало _____     на конец ______"]
[]
["ф.И. ученика",null,null,null,"ф.И. ученика",null,null,null,"ф.И. ученика",null,null,null,"ф.И. ученика"]
["Отличники  ",null,"Не успевают ","Предмет ","Отличники ","Не успевают ","Предмет",null,"Отличники ","Не успевают ","Предмет",null,"Отличники ","Не успевают ","Предмет"]
[]
[]
[]
[]
[]
[]
[]
[]
[]
[]
[]
[]
[]
[]
["Уровень обученности обучающихся ___ «___»  класса на конец первого полугодия НОО ФГОС 20___года  по годам обучения  На «___»____________ 20___г.,  классный  руководитель ____________________________________"]
["                                                                                                                                                                                                                                                           Ф.И."]
["Предметные","Учебные"]
["области","предметы",null,"____Класс ____ год",null,null,null,null,"_____Класс ____ год",null,null,null,null,"_______Класс ____ год",null,null,null,null,"_____Класс ____ год"]
[null,"Классы",null,1,2,3,4,"г",1,2,3,4,"г",1,2,3,4,"г",1,2,3,4,"г"]
["Русский язык и литературное чтение","Русский язык","Успеваемость "]
[null,null,"Качество "]
[null,null,"Средний бал"]
[null,"Литературное чтение","Успеваемость "]
[null,null,"Качество "]
[null,null,"Средний бал"]
["Родной язык и литературное чтение на родном языке","Кабардинский язык","Успеваемость "]
[null,null,"Качество "]
[null,null,"Средний бал"]
[null,"Литературное чтение на кабардинском  языке","Успеваемость "]
[null,null,"Качество "]
[null,null,"Средний бал"]
["Иностранный язык","Английский язык","Успеваемость "]
[null,null,"Качество "]
[null,null,"Средний бал"]
["Математика","Математика ","Успеваемость "]
["и информатика",null,"Качество "]
[null,null,"Средний бал"]
["Обществознание","Окружающий мир ","Успеваемость "]
["и естествознание",null,"Качество "]
[null,null,"Средний бал"]
["Основы религиозных культур светской этики"," (ОРКСЭ)","Успеваемость "]
[null,null,"Качество "]
[null,null,"Средний бал"]
["Искусство","Музыка","Успеваемость "]
[null,null,"Качество "]
[null,null,"Средний бал"]
[null,"Изобразительное","Успеваемость "]
[null,"искусство","Качество "]
[null,null,"Средний бал"]
["Технология","Технология ","Успеваемость "]
[null,null,"Качество "]
[null,null,"Средний бал"]
["Физическая","Физическая","Успеваемость "]
["культура","культура ","Качество "]
[null,null,"Средний бал"]
["Итого"]
["Внеурочная деятельность (кружки, секции) "]
["Спортивно-оздоровительное"]
["Военно-патриотическое "]
["Художественно - эстетическое"]
["Духовно-нравственное"]
["Обще-интеллектуальное "]
["Научно - познавательное"]
["Итого:"]
[]
[]
[]
[]
[]
[]
["Первый год обучения   __________год ",null,null,null,"Второй год обучения  ___________год",null,null,null,"Трети год обучения   __________год",null,null,null,"Четвертый год обучения _________год"]
["На начало _____     на конец _____",null,null,null,"На начало _____     на конец ______",null,null,null,"На начало _____     на конец ______",null,null,null,"На начало _____     на конец ______"]
[]
["ф.И. ученика",null,null,null,"ф.И. ученика",null,null,null,"ф.И. ученика",null,null,null,"ф.И. ученика"]
["Отличники  ",null,"Не успевают ","Предмет ","Отличники ","Не успевают ","Предмет",null,"Отличники ","Не успевают ","Предмет",null,"Отличники ","Не успевают ","Предмет"]

{"sheet":"2 Е","index":72,"n_rows":62,"n_cols":23,"rows_kept":62,"cut":false,"hidden":false,"merged":[[73,0,73,1],[73,6,73,7],[73,10,73,11],[74,0,74,1],[74,6,74,7],[74,10,74,11],[71,0,71,1],[71,6,71,7],[71,10,71,11],[72,0,72,1],[72,6,72,7],[72,10,72,11],[69,0,69,1],[69,6,69,7],[69,10,69,11],[70,0,70,1],[70,6,70,7],[70,10,70,11],[67,0,67,1],[67,6,67,7],[67,10,67,11],[68,0,68,1],[68,6,68,7],[68,10,68,11],[65,0,65,1],[65,6,65,7],[65,10,65,11],[66,0,66,1],[66,6,66,7],[66,10,66,11],[63,0,63,1],[63,6,63,7],[63,10,63,11],[64,0,64,1],[64,6,64,7],[64,10,64,11],[61,0,61,1],[61,6,61,7],[61,10,61,11],[62,0,62,1],[62,6,62,7],[62,10,62,11],[59,0,59,3],[59,4,59,7],[59,8,59,11],[59,12,59,14],[60,0,60,3],[60,4,60,7],[60,8,60,11],[60,12,60,14],[58,0,58,3],[58,4,58,7],[58,8,58,11],[58,12,58,14],[44,0,44,2],[45,0,45,2],[46,0,46,2],[47,0,47,2],[48,0,48,2],[49,0,49,2],[50,0,50,2],[57,0,57,3],[57,4,57,7],[57,8,57,11],[57,12,57,14],[43,0,43,2],[18,0,20,0],[18,1,20,1],[21,1,23,1],[24,1,26,1],[27,0,29,0],[27,1,29,1],[30,0,35,0],[30,1,32,1],[36,0,38,0],[36,1,38,1],[42,0,42,2],[5,1,5,2],[6,0,11,0],[6,1,8,1],[9,1,11,1],[12,0,17,0],[12,1,14,1],[15,1,17,1],[3,1,3,2],[3,3,3,22],[4,1,4,2],[4,3,4,7],[4,8,4,12],[4,13,4,17],[4,18,4,22]]}
[]
["Уровень обученности обучающихся  2 Е класса на конец первого полугодия НОО ФГОС 2018-2019 года  в разрезе по четвертям ,  классный  руководитель: Ташилова Н.З"]
["                                                                                                                                                                                                                                                           Ф.И."]
["Предметные","Учебные"]
["области","предметы",null,"2017-2018 ",null,null,null,null,"2018-2019",null,null,null,null,"2019-2020",null,null,null,null,"_____Класс ____ год"]
[null,null,null,1,2,3,4,"г",1,2,3,4,"г",1,2,3,4,"г",1,2,3,4,"г"]
["Русский язык и литературное чтение","Русский язык","Успеваемость ",null,null,null,null,100,80,81,100]
[null,null,"Качество ",null,null,null,null,52,60,60,42]
[null,null,"Средний бал",null,null,null,null,3,4,4,3]
[null,"Литературное чтение","Успеваемость ",null,null,null,null,100,100,100,100]
[null,null,"Качество ",null,null,null,null,75,74,60,47]
[null,null,"Средний бал",null,null,null,null,4,4,4,4]
["Родной язык и литературное чтение на родном языке","Кабардинский язык","Успеваемость ",null,null,null,null,100]
[null,null,"Качество ",null,null,null,null,53]
[null,null,"Средний бал",null,null,null,null,4]
[null,"Литературное чтение на кабардинском  языке","Успеваемость ",null,null,null,null,100]
[null,null,"Качество ",null,null,null,null,71]
[null,null,"Средний бал",null,null,null,null,4]
["Иностранный язык","Английский язык","Успеваемость ",null,null,null,null,0]
[null,null,"Качество ",null,null,null,null,0]
[null,null,"Средний бал",null,null,null,null,0]
["Математика","Математика ","Успеваемость ",null,null,null,null,100,98,84,100]
["и информатика",null,"Качество ",null,null,null,null,50,48,60,40]
[null,null,"Средний бал",null,null,null,null,4,3,3,3]
["Обществознание","Окружающий мир ","Успеваемость ",null,null,null,null,100,100,100,100]
["и естествознание",null,"Качество ",null,null,null,null,70,62,70,49]
[null,null,"Средний бал",null,null,null,null,4,4,4,3]
["Основы религиозных культур светской этики"," (ОРКСЭ)","Успеваемость ",null,null,null,null,0,0,0,0]
[null,null,"Качество ",null,null,null,null,0,0,0,0]
[null,null,"Средний бал",null,null,null,null,0,0,0,0]
["Искусство","Музыка","Успеваемость ",null,null,null,null,100,100,100,100]
[null,null,"Качество ",null,null,null,null,100,100,100,100]
[null,null,"Средний бал",null,null,null,null,4,5,5,5]
[null,"Изобразительное","Успеваемость ",null,null,null,null,100,100,100,100]
[null,"искусство","Качество ",null,null,null,null,100,100,100,100]
[null,null,"Средний бал",null,null,null,null,4,5,5,5]
["Технология","Технология ","Успеваемость ",null,null,null,null,100,100,100,100]
[null,null,"Качество ",null,null,null,null,100,100,100,100]
[null,null,"Средний бал",null,null,null,null,4,5,5,5]
["Физическая","Физическая","Успеваемость ",null,null,null,null,100,100,100,100]
["культура","культура ","Качество ",null,null,null,null,100,100,100,100]
[null,null,"Средний бал",null,null,null,null,4,5,5,5]
["Итого"]
["Внеурочная деятельность (кружки, секции) "]
["Спортивно-оздоровительное"]
["Военно-патриотическое "]
["Художественно - эстетическое"]
["Духовно-нравственное"]
["Обще-интеллектуальное "]
["Научно - познавательное"]
["Итого:"]
[]
[]
[]
[]
[]
[]
["Первый год обучения   __________год ",null,null,null,"Второй год обучения  ___________год",null,null,null,"Трети год обучения   __________год",null,null,null,"Четвертый год обучения _________год"]
["На начало _____     на конец _____",null,null,null,"На начало _____     на конец ______",null,null,null,"На начало _____     на конец ______",null,null,null,"На начало _____     на конец ______"]
[]
["ф.И. ученика",null,null,null,"ф.И. ученика",null,null,null,"ф.И. ученика",null,null,null,"ф.И. ученика"]
["Отличники  ",null,"Не успевают ","Предмет ","Отличники ","Не успевают ","Предмет",null,"Отличники ","Не успевают ","Предмет",null,"Отличники ","Не успевают ","Предмет"]

{"sheet":"2 Ф","index":73,"n_rows":67,"n_cols":23,"rows_kept":67,"cut":false,"hidden":false,"merged":[[3,1,3,2],[3,3,3,22],[4,1,4,2],[4,3,4,7],[4,8,4,12],[4,13,4,17],[4,18,4,22],[5,1,5,2],[6,0,11,0],[6,1,8,1],[9,1,11,1],[12,0,17,0],[12,1,14,1],[15,1,17,1],[18,0,20,0],[18,1,20,1],[21,1,23,1],[24,1,26,1],[27,0,29,0],[27,1,29,1],[30,0,35,0],[30,1,32,1],[36,0,38,0],[36,1,38,1],[42,0,42,2],[43,0,43,2],[44,0,44,2],[45,0,45,2],[46,0,46,2],[47,0,47,2],[48,0,48,2],[49,0,49,2],[50,0,50,2],[57,0,57,3],[57,4,57,7],[57,8,57,11],[57,12,57,14],[58,0,58,3],[58,4,58,7],[58,8,58,11],[58,12,58,14],[59,0,59,3],[59,4,59,7],[59,8,59,11],[59,12,59,14],[60,0,60,3],[60,4,60,7],[60,8,60,11],[60,12,60,14],[61,0,61,1],[61,6,61,7],[61,10,61,11],[62,0,62,1],[62,6,62,7],[62,10,62,11],[63,0,63,1],[63,6,63,7],[63,10,63,11],[64,0,64,1],[64,6,64,7],[64,10,64,11],[65,0,65,1],[65,6,65,7],[65,10,65,11],[66,0,66,1],[66,6,66,7],[66,10,66,11],[67,0,67,1],[67,6,67,7],[67,10,67,11],[68,0,68,1],[68,6,68,7],[68,10,68,11],[69,0,69,1],[69,6,69,7],[69,10,69,11],[70,0,70,1],[70,6,70,7],[70,10,70,11],[71,0,71,1],[71,6,71,7],[71,10,71,11],[72,0,72,1],[72,6,72,7],[72,10,72,11],[73,0,73,1],[73,6,73,7],[73,10,73,11],[74,0,74,1],[74,6,74,7],[74,10,74,11]]}
[null,null,null,null,null,null,null,null,null,null,"2Ф"]
["Уровень обученности обучающихся 2Ф, класса на конец первого полугодия НОО ФГОС 2018-2019 года в разрезе по четвертям,  классный  руководитель :Гетаова А.М."]
["                                                                                                                                                                                                                                                           Ф.И."]
["Предметные","Учебные"]
["области","предметы",null,"____Класс ____ год",null,null,null,null,"2017-2018",null,null,null,null,"2018-2019",null,null,null,null,"_____Класс ____ год"]
[null,"Классы",null,1,2,3,4,"г",1,2,3,4,"г",1,2,3,4,"г",1,2,3,4,"г"]
["Русский язык и литературное чтение","Русский язык","Успеваемость ",null,null,null,null,null,null,null,null,null,null,88,70,100]
[null,null,"Качество ",null,null,null,null,null,null,null,null,null,null,77,64,64]
[null,null,"Средний бал",null,null,null,null,null,null,null,null,null,null,4,3,4]
[null,"Литературное чтение","Успеваемость ",null,null,null,null,null,null,null,null,null,null,100,100,100]
[null,null,"Качество ",null,null,null,null,null,null,null,null,null,null,77,80,70]
[null,null,"Средний бал",null,null,null,null,null,null,null,null,null,null,4,4,4]
["Родной язык и литературное чтение на родном языке","Кабардинский язык","Успеваемость ",null,null,null,null,null,null,null,null,null,null,null,null,100]
[null,null,"Качество ",null,null,null,null,null,null,null,null,null,null,null,null,65]
[null,null,"Средний бал",null,null,null,null,null,null,null,null,null,null,null,null,4]
[null,"Литературное чтение на кабардинском  языке","Успеваемость ",null,null,null,null,null,null,null,null,null,null,null,null,100]
[null,null,"Качество ",null,null,null,null,null,null,null,null,null,null,null,null,77]
[null,null,"Средний бал",null,null,null,null,null,null,null,null,null,null,null,null,4]
["Иностранный язык","Английский язык","Успеваемость ",null,null,null,null,null,null,null,null,null,null,null,null,92]
[null,null,"Качество ",null,null,null,null,null,null,null,null,null,null,null,null,32]
[null,null,"Средний бал",null,null,null,null,null,null,null,null,null,null,null,null,3]
["Математика","Математика ","Успеваемость ",null,null,null,null,null,null,null,null,null,null,100,100,100]
["и информатика",null,"Качество ",null,null,null,null,null,null,null,null,null,null,78,77,50]
[null,null,"Средний бал",null,null,null,null,null,null,null,null,null,null,4,4,3]
["Обществознание","Окружающий мир ","Успеваемость ",null,null,null,null,null,null,null,null,null,null,100,100,100]
["и естествознание",null,"Качество ",null,null,null,null,null,null,null,null,null,null,77,76,64]
[null,null,"Средний бал",null,null,null,null,null,null,null,null,null,null,4,4,3]
["Основы религиозных культур светской этики"," (ОРКСЭ)","Успеваемость ",null,null,null,null,null,null,null,null,null,null,0,0,0]
[null,null,"Качество ",null,null,null,null,null,null,null,null,null,null,0,0,0]
[null,null,"Средний бал",null,null,null,null,null,null,null,null,null,null,0,0,0]
["Искусство","Музыка","Успеваемость ",null,null,null,null,null,null,null,null,null,null,100,100,100]
[null,null,"Качество ",null,null,null,null,null,null,null,null,null,null,75,75,75]
[null,null,"Средний бал",null,null,null,null,null,null,null,null,null,null,4,4,4]
[null,"Изобразительное","Успеваемость ",null,null,null,null,null,null,null,null,null,null,100,100,100]
[null,"искусство","Качество ",null,null,null,null,null,null,null,null,null,null,75,75,75]
[null,null,"Средний бал",null,null,null,null,null,null,null,null,null,null,4,4,4]
["Технология","Технология ","Успеваемость ",null,null,null,null,null,null,null,null,null,null,100,100,100]
[null,null,"Качество ",null,null,null,null,null,null,null,null,null,null,75,75,75]
[null,null,"Средний бал",null,null,null,null,null,null,null,null,null,null,4,4,4]
["Физическая","Физическая","Успеваемость ",null,null,null,null,null,null,null,null,null,null,100,100,100]
["культура","культура ","Качество ",null,null,null,null,null,null,null,null,null,null,75,75,75]
[null,null,"Средний бал",null,null,null,null,null,null,null,null,null,null,4,4,4]
["Итого"]
["Внеурочная деятельность (кружки, секции) "]
["Спортивно-оздоровительное"]
["Военно-патриотическое "]
["Художественно - эстетическое"]
["Духовно-нравственное"]
["Обще-интеллектуальное "]
["Научно - познавательное"]
["Итого:"]
[]
[]
[]
[]
[]
[]
["Первый год обучения   __________год ",null,null,null,"Второй год обучения  ___________год",null,null,null,"Трети год обучения  2018-2019год, 3 четверть ",null,null,null,"Четвертый год обучения _________год"]
["На начало _____     на конец _____",null,null,null,"На начало _____     на конец ______",null,null,null,"На начало _____     на конец ______",null,null,null,"На начало _____     на конец ______"]
[]
["ф.И. ученика",null,null,null,"ф.И. ученика",null,null,null,"ф.И. ученика",null,null,null,"ф.И. ученика"]
["Отличники  ",null,"Не успевают ","Предмет ","Отличники ","Не успевают ","Предмет",null,"Отличники ","Не успевают ","Предмет",null,"Отличники ","Не успевают ","Предмет"]
[null,null,null,null,null,null,null,null,"Алоковва ","Ташуева Алина "]
[null,null,null,null,null,null,null,null,"Гуков ","Карданов Саладин "]
[null,null,null,null,null,null,null,null,"Хамурзова ","Латоков Темирлан "]
[null,null,null,null,null,null,null,null,"Шаова ","Дикинов Андемир "]
[null,null,null,null,null,null,null,null,null,"Ташуева Лена "]

{"sheet":"3А ","index":74,"n_rows":67,"n_cols":23,"rows_kept":67,"cut":false,"hidden":false,"merged":[[74,0,74,1],[74,6,74,7],[74,10,74,11],[75,0,75,1],[75,6,75,7],[75,10,75,11],[72,0,72,1],[72,6,72,7],[72,10,72,11],[73,0,73,1],[73,6,73,7],[73,10,73,11],[70,0,70,1],[70,6,70,7],[70,10,70,11],[71,0,71,1],[71,6,71,7],[71,10,71,11],[68,0,68,1],[68,6,68,7],[68,10,68,11],[69,0,69,1],[69,6,69,7],[69,10,69,11],[66,0,66,1],[66,6,66,7],[66,10,66,11],[67,0,67,1],[67,6,67,7],[67,10,67,11],[64,0,64,1],[64,6,64,7],[64,10,64,11],[65,0,65,1],[65,6,65,7],[65,10,65,11],[62,0,62,1],[62,6,62,7],[62,10,62,11],[63,0,63,1],[63,6,63,7],[63,10,63,11],[60,0,60,3],[60,4,60,7],[60,8,60,11],[60,12,60,14],[61,0,61,3],[61,4,61,7],[61,8,61,11],[61,12,61,14],[59,0,59,3],[59,4,59,7],[59,8,59,11],[59,12,59,14],[45,0,45,2],[46,0,46,2],[47,0,47,2],[48,0,48,2],[49,0,49,2],[50,0,50,2],[51,0,51,2],[58,0,58,3],[58,4,58,7],[58,8,58,11],[58,12,58,14],[44,0,44,2],[19,0,21,0],[19,1,21,1],[22,1,24,1],[25,1,27,1],[28,0,30,0],[28,1,30,1],[31,0,36,0],[31,1,33,1],[37,0,39,0],[37,1,39,1],[43,0,43,2],[6,1,6,2],[7,0,12,0],[7,1,9,1],[10,1,12,1],[13,0,18,0],[13,1,15,1],[16,1,18,1],[4,1,4,2],[4,3,4,22],[5,1,5,2],[5,3,5,7],[5,8,5,12],[5,13,5,17],[5,18,5,22]]}
[null,null,null,null,null,null,null,null,null,"3А"]
[]
["Уровень обученности обучающихся 3А класса на конец первого полугодия НОО ФГОС 2018-2019 года  и в разрезе по четвертям .,  классный  руководитель Куржиева К.З"]
["                                                                                                                                                                                                                                                           Ф.И."]
["Предметные","Учебные"]
["области","предметы",null,"2016-2017 ",null,null,null,null,"2017-2018 ",null,null,null,null,"208-2019",null,null,null,null,"_____Класс ____ год"]
[null,"Классы",null,1,2,3,4,"г",1,2,3,4,"г",1,2,3,4,"г",1,2,3,4,"г"]
["Русский язык и литературное чтение","Русский язык","Успеваемость ",null,null,null,null,null,null,null,null,null,100,96,84,91]
[null,null,"Качество ",null,null,null,null,null,null,null,null,null,62,68,60,60]
[null,null,"Средний бал",null,null,null,null,null,null,null,null,null,3,4,4,3]
[null,"Литературное чтение","Успеваемость ",null,null,null,null,null,null,null,null,null,100,100,100,100]
[null,null,"Качество ",null,null,null,null,null,null,null,null,null,80,78,92,82]
[null,null,"Средний бал",null,null,null,null,null,null,null,null,null,4,4,4,4]
["Родной язык и литературное чтение на родном языке","Кабардинский язык","Успеваемость ",null,null,null,null,null,null,null,null,null,100,100,100,91]
[null,null,"Качество ",null,null,null,null,null,null,null,null,null,53,52,55,60]
[null,null,"Средний бал",null,null,null,null,null,null,null,null,null,3,3,3,3]
[null,"Литературное чтение на кабардинском  языке","Успеваемость ",null,null,null,null,null,null,null,null,null,100,100,100,100]
[null,null,"Качество ",null,null,null,null,null,null,null,null,null,60,80,75,78]
[null,null,"Средний бал",null,null,null,null,null,null,null,null,null,4,4,4,4]
["Иностранный язык","Английский язык","Успеваемость ",null,null,null,null,null,null,null,null,null,100,100,100,100]
[null,null,"Качество ",null,null,null,null,null,null,null,null,null,50,60,50,52]
[null,null,"Средний бал",null,null,null,null,null,null,null,null,null,4,4,3,3]
["Математика","Математика ","Успеваемость ",null,null,null,null,null,null,null,null,null,100,92,92,95]
["и информатика",null,"Качество ",null,null,null,null,null,null,null,null,null,65,76,74,78]
[null,null,"Средний бал",null,null,null,null,null,null,null,null,null,4,4,4,3]
["Обществознание","Окружающий мир ","Успеваемость ",null,null,null,null,null,null,null,null,null,100,100,100,100]
["и естествознание",null,"Качество ",null,null,null,null,null,null,null,null,null,90,80,70,86]
[null,null,"Средний бал",null,null,null,null,null,null,null,null,null,4,4,4,4]
["Основы религиозных культур светской этики"," (ОРКСЭ)","Успеваемость ",null,null,null,null,null,null,null,null,null,0,0,0,0]
[null,null,"Качество ",null,null,null,null,null,null,null,null,null,0,0,0,0]
[null,null,"Средний бал",null,null,null,null,null,null,null,null,null,0,0,0,0]
["Искусство","Музыка","Успеваемость ",null,null,null,null,null,null,null,null,null,100,100,100,100]
[null,null,"Качество ",null,null,null,null,null,null,null,null,null,90,90,92,95]
[null,null,"Средний бал",null,null,null,null,null,null,null,null,null,4,4,4,4]
[null,"Изобразительное","Успеваемость ",null,null,null,null,null,null,null,null,null,100,100,100,100]
[null,"искусство","Качество ",null,null,null,null,null,null,null,null,null,90,90,92,95]
[null,null,"Средний бал",null,null,null,null,null,null,null,null,null,4,4,4,4]
["Технология","Технология ","Успеваемость ",null,null,null,null,null,null,null,null,null,100,100,100,100]
[null,null,"Качество ",null,null,null,null,null,null,null,null,null,90,90,92,95]
[null,null,"Средний бал",null,null,null,null,null,null,null,null,null,4,4,4,4]
["Физическая","Физическая","Успеваемость ",null,null,null,null,null,null,null,null,null,100,100,100,100]
["культура","культура ","Качество ",null,null,null,null,null,null,null,null,null,90,90,92,95]
[null,null,"Средний бал",null,null,null,null,null,null,null,null,null,4,4,4,4]
["Итого"]
["Внеурочная деятельность (кружки, секции) "]
["Спортивно-оздоровительное"]
["Военно-патриотическое "]
["Художественно - эстетическое"]
["Духовно-нравственное"]
["Обще-интеллектуальное "]
["Научно - познавательное"]
["Итого:"]
[]
[]
[]
[]
[]
[]
["Первый год обучения   __________год ",null,null,null,"Второй год обучения  ___________год",null,null,null,"Трети год обучения. 3 четверть ",null,null,null,"Четвертый год обучения _________год"]
["На начало _____     на конец _____",null,null,null,"На начало _____     на конец ______",null,null,null,"На начало _____     на конец ______",null,null,null,"На начало _____     на конец ______"]
[]
["ф.И. ученика",null,null,null,"ф.И. ученика",null,null,null,"ф.И. ученика",null,null,null,"ф.И. ученика"]
["Отличники  ",null,null,"Предмет ","Отличники ","Не успевают ","Предмет",null,"Отличники ","Не успевают ","Предмет",null,"Отличники ","Не успевают ","Предмет"]
[null,null,null,null,null,null,null,null,null,"Гучаков "]
[null,null,null,null,null,null,null,null,null,"Мамбетов "]
[null,null,null,null,null,null,null,null,null,"Тлегурова "]
[null,null,null,null,null,null,null,null,null,"Тутова "]

{"sheet":"3 Б","index":75,"n_rows":70,"n_cols":23,"rows_kept":70,"cut":false,"hidden":false,"merged":[[6,1,6,2],[6,3,6,22],[7,1,7,2],[7,3,7,7],[7,8,7,12],[7,13,7,17],[7,18,7,22],[8,1,8,2],[9,0,14,0],[9,1,11,1],[12,1,14,1],[15,0,20,0],[15,1,17,1],[18,1,20,1],[21,0,23,0],[21,1,23,1],[24,1,26,1],[27,1,29,1],[30,0,32,0],[30,1,32,1],[33,0,38,0],[33,1,35,1],[39,0,41,0],[39,1,41,1],[45,0,45,2],[46,0,46,2],[47,0,47,2],[48,0,48,2],[49,0,49,2],[50,0,50,2],[51,0,51,2],[52,0,52,2],[53,0,53,2],[60,0,60,3],[60,4,60,7],[60,8,60,11],[60,12,60,14],[61,0,61,3],[61,4,61,7],[61,8,61,11],[61,12,61,14],[62,0,62,3],[62,4,62,7],[62,8,62,11],[62,12,62,14],[63,0,63,3],[63,4,63,7],[63,8,63,11],[63,12,63,14],[64,0,64,1],[64,6,64,7],[64,10,64,11],[65,10,65,11],[66,10,66,11],[67,10,67,11],[68,10,68,11],[69,10,69,11],[70,0,70,1],[70,6,70,7],[70,10,70,11],[71,0,71,1],[71,6,71,7],[71,10,71,11],[72,0,72,1],[72,6,72,7],[72,10,72,11],[73,0,73,1],[73,6,73,7],[73,10,73,11],[74,0,74,1],[74,6,74,7],[74,10,74,11],[77,0,77,1],[77,6,77,7],[77,10,77,11],[75,0,75,1],[75,6,75,7],[75,10,75,11],[76,0,76,1],[76,6,76,7],[76,10,76,11]]}
[]
[null,null,null,null,null,null,null,null,"3Б"]
[]
[]
["Уровень обученности обучающихся 3Б класса НОО ФГОС  по годам обучения  в разрезе ,  классный  руководитель : Хаваяшхова Р.Т. "]
["                                                                                                                                                                                                                                                           Ф.И."]
["Предметные","Учебные"]
["области","предметы",null,"2016-2017",null,null,null,null,"2017-2018",null,null,null,null,"2018-2019"]
[null,"Классы",null,1,2,3,4,"г",1,2,3,4,"г",1,2,3,4,"г",1,2,3,4,"г"]
["Русский язык и литературное чтение","Русский язык","Успеваемость ",null,null,null,null,95,null,null,null,null,100,100,100,91]
[null,null,"Качество ",null,null,null,null,55,null,null,null,null,60,42,45,45]
[null,null,"Средний бал",null,null,null,null,3,null,null,null,null,4,4,4,3]
[null,"Литературное чтение","Успеваемость ",null,null,null,null,90,null,null,null,null,100,100,95,100]
[null,null,"Качество ",null,null,null,null,60,null,null,null,null,60,42,42,42]
[null,null,"Средний бал",null,null,null,null,3,null,null,null,null,4,4,3,4]
["Родной язык и литературное чтение на родном языке","Кабардинский язык","Успеваемость ",null,null,null,null,90,null,null,null,null,100,100,100,95]
[null,null,"Качество ",null,null,null,null,55,null,null,null,null,60,42,42,42]
[null,null,"Средний бал",null,null,null,null,3,null,null,null,null,4,4,4,3]
[null,"Литературное чтение на кабардинском  языке","Успеваемость ",null,null,null,null,90,null,null,null,null,100,100,100,95]
[null,null,"Качество ",null,null,null,null,60,null,null,null,null,60,42,42,42]
[null,null,"Средний бал",null,null,null,null,4,null,null,null,null,4,4,4,3]
["Иностранный язык","Английский язык","Успеваемость ",null,null,null,null,0,null,null,null,null,100,100,100,80]
[null,null,"Качество ",null,null,null,null,0,null,null,null,null,60,65,70,30]
[null,null,"Средний бал",null,null,null,null,0,null,null,null,null,4,4,4,3]
["Математика","Математика ","Успеваемость ",null,null,null,null,90,null,null,null,null,100,100,90,91]
["и информатика",null,"Качество ",null,null,null,null,55,null,null,null,null,60,60,60,46]
[null,null,"Средний бал",null,null,null,null,3,null,null,null,null,4,4,4,3]
["Обществознание","Окружающий мир ","Успеваемость ",null,null,null,null,90,null,null,null,null,100,100,100,100]
["и естествознание",null,"Качество ",null,null,null,null,60,null,null,null,null,60,65,70,46]
[null,null,"Средний бал",null,null,null,null,4,null,null,null,null,4,4,4,3]
["Основы религиозных культур светской этики"," (ОРКСЭ)","Успеваемость ",null,null,null,null,0,null,null,null,null,0,0,0,0]
[null,null,"Качество ",null,null,null,null,0,null,null,null,null,0,0,0,0]
[null,null,"Средний бал",null,null,null,null,0,null,null,null,null,0,0,0,0]
["Искусство","Музыка","Успеваемость ",null,null,null,null,100,null,null,null,null,100,100,100,100]
[null,null,"Качество ",null,null,null,null,100,null,null,null,null,100,100,100,100]
[null,null,"Средний бал",null,null,null,null,5,null,null,null,null,5,5,5,5]
[null,"Изобразительное","Успеваемость ",null,null,null,null,100,null,null,null,null,100,100,100,100]
[null,"искусство","Качество ",null,null,null,null,100,null,null,null,null,100,100,100,100]
[null,null,"Средний бал",null,null,null,null,5,null,null,null,null,5,5,5,5]
["Технология","Технология ","Успеваемость ",null,null,null,null,100,null,null,null,null,100,100,100,100]
[null,null,"Качество ",null,null,null,null,100,null,null,null,null,100,100,100,100]
[null,null,"Средний бал",null,null,null,null,5,null,null,null,null,5,5,5,5]
["Физическая","Физическая","Успеваемость ",null,null,null,null,100,null,null,null,null,100,100,100,100]
["культура","культура ","Качество ",null,null,null,null,100,null,null,null,null,100,100,100,100]
[null,null,"Средний бал",null,null,null,null,5,null,null,null,null,5,5,5,5]
["Итого"]
["Внеурочная деятельность (кружки, секции) "]
["Спортивно-оздоровительное"]
["Военно-патриотическое "]
["Художественно - эстетическое"]
["Духовно-нравственное"]
["Обще-интеллектуальное "]
["Научно - познавательное"]
["Итого:"]
[]
[]
[]
[]
[]
[]
["Первый год обучения  ",null,null,null,"Второй год обучения  ",null,null,null,"Трети год обучения ",null,null,null,"Четвертый год обучения"]
["На начало 26 на конец 26",null,null,null,"На начало 26     на конец 26",null,null,null,"На начало 24   на конец ",null,null,null,"На начало     на конец "]
[]
["ф.И. ученика",null,null,null,"ф.И. ученика",null,null,null,"ф.И. ученика",null,null,null,"ф.И. ученика"]
["Отличники  ",null,"Не успевают ","Предмет ","Отличники ","Не успевают ","Предмет",null,"Отличники ","Не успевают на конец 3 четверти ","Предмет",null,"Отличники ","Не успевают ","Предмет"]
["Ажахов Ясин","Ажахов Ясин",null,null,null,null,"Ажахов Ясин","Ажахов Ясин","Ажахов Ясин","Ташуева Бэлла ","русский яз; матем (2) "]
["Бекова Ильяна ","Бекова Ильяна ",null,null,null,null,"Бекова Ильяна ","Бекова Ильяна ","Бекова Ильяна ","Кунижев Адам","русский яз;английский яз (2) "]
["Дышекова Алина ","Дышекова Алина ",null,null,null,null,"Дышекова Алина ","Дышекова Алина "," ","Дышекова Алина"," каб.яз-4; математика-4; (2)"]
["Кештов Адам ","Кештов Адам ",null,null,null,null,"Кештов Адам ","Кештов Адам ","Кештов Адам "]
["Эштреков Темирлан ","Эштреков Темирлан ",null,null,null,null,"Эштреков Темирлан ","Эштреков Темирлан ","Эштреков Темирлан "]

{"sheet":"3 В","index":76,"n_rows":67,"n_cols":23,"rows_kept":67,"cut":false,"hidden":false,"merged":[[75,0,75,1],[75,6,75,7],[75,10,75,11],[73,0,73,1],[73,6,73,7],[73,10,73,11],[74,0,74,1],[74,6,74,7],[74,10,74,11],[71,0,71,1],[71,6,71,7],[71,10,71,11],[72,0,72,1],[72,6,72,7],[72,10,72,11],[69,0,69,1],[69,6,69,7],[69,10,69,11],[70,0,70,1],[70,6,70,7],[70,10,70,11],[67,0,67,1],[67,6,67,7],[67,10,67,11],[68,0,68,1],[68,6,68,7],[68,10,68,11],[65,0,65,1],[65,6,65,7],[65,10,65,11],[66,0,66,1],[66,6,66,7],[66,10,66,11],[63,0,63,1],[63,6,63,7],[63,10,63,11],[64,0,64,1],[64,6,64,7],[64,10,64,11],[61,0,61,3],[61,4,61,7],[61,8,61,11],[61,12,61,14],[62,0,62,1],[62,6,62,7],[62,10,62,11],[60,0,60,3],[60,4,60,7],[60,8,60,11],[60,12,60,14],[46,0,46,2],[47,0,47,2],[48,0,48,2],[49,0,49,2],[50,0,50,2],[51,0,51,2],[52,0,52,2],[59,0,59,3],[59,4,59,7],[59,8,59,11],[59,12,59,14],[45,0,45,2],[20,0,22,0],[20,1,22,1],[23,1,25,1],[26,1,28,1],[29,0,31,0],[29,1,31,1],[32,0,37,0],[32,1,34,1],[38,0,40,0],[38,1,40,1],[44,0,44,2],[7,1,7,2],[8,0,13,0],[8,1,10,1],[11,1,13,1],[14,0,19,0],[14,1,16,1],[17,1,19,1],[5,1,5,2],[5,3,5,22],[6,1,6,2],[6,3,6,7],[6,8,6,12],[6,13,6,17],[6,18,6,22]]}
[]
[null,null,null,null,null,null,null,null,null,"3В"]
[]
["Уровень обученности обучающихся 3В класса НОО ФГОС  по годам обучения  в разрезе ,  классный  руководитель :Тутова Е.Б."]
["                                                                                                                                                                                                                                                           Ф.И."]
["Предметные","Учебные"]
["области","предметы",null,"1 Класс 2016-2017 год",null,null,null,null,"2 Класс 2017-2018 год",null,null,null,null,"3 Класс 2018-2019 год",null,null,null,null,"_____Класс ____ год"]
[null,"Классы",null,1,2,3,4,"г",1,2,3,4,"г",1,2,3,4,"г",1,2,3,4,"г"]
["Русский язык и литературное чтение","Русский язык","Успеваемость ",null,null,null,null,90,null,null,null,null,100,100,100,91]
[null,null,"Качество ",null,null,null,null,45,null,null,null,null,53,54,54,35]
[null,null,"Средний бал",null,null,null,null,3,null,null,null,null,3,3,3,3]
[null,"Литературное чтение","Успеваемость ",null,null,null,null,100,null,null,null,null,100,100,100,100]
[null,null,"Качество ",null,null,null,null,52,null,null,null,null,70,72,75,74]
[null,null,"Средний бал",null,null,null,null,3,null,null,null,null,4,4,4,4]
["Родной язык и литературное чтение на родном языке","Кабардинский язык","Успеваемость ",null,null,null,null,90,null,null,null,null,100,100,100,100]
[null,null,"Качество ",null,null,null,null,45,null,null,null,null,50,45,52,46]
[null,null,"Средний бал",null,null,null,null,3,null,null,null,null,3,3,3,3]
[null,"Литературное чтение на кабардинском  языке","Успеваемость ",null,null,null,null,100,null,null,null,null,100,100,100,100]
[null,null,"Качество ",null,null,null,null,55,null,null,null,null,65,65,73,85]
[null,null,"Средний бал",null,null,null,null,4,null,null,null,null,3,4,4,4]
["Иностранный язык","Английский язык","Успеваемость ",null,null,null,null,null,null,null,null,null,100,100,100,100]
[null,null,"Качество ",null,null,null,null,null,null,null,null,null,43,77,64,42]
[null,null,"Средний бал",null,null,null,null,null,null,null,null,null,4,4,4,3]
["Математика","Математика ","Успеваемость ",null,null,null,null,90,null,null,null,null,100,100,100,91]
["и информатика",null,"Качество ",null,null,null,null,48,null,null,null,null,54,54,57,35]
[null,null,"Средний бал",null,null,null,null,3,null,null,null,null,3,3,4,3]
["Обществознание","Окружающий мир ","Успеваемость ",null,null,null,null,100,null,null,null,null,100,100,100,100]
["и естествознание",null,"Качество ",null,null,null,null,35,null,null,null,null,70,63,65,59]
[null,null,"Средний бал",null,null,null,null,3,null,null,null,null,4,4,4,4]
["Основы религиозных культур светской этики"," (ОРКСЭ)","Успеваемость "]
[null,null,"Качество "]
[null,null,"Средний бал"]
["Искусство","Музыка","Успеваемость ",null,null,null,null,100,null,null,null,null,100,100,100,100]
[null,null,"Качество ",null,null,null,null,100,null,null,null,null,100,100,100,100]
[null,null,"Средний бал",null,null,null,null,5,null,null,null,null,5,5,5,5]
[null,"Изобразительное","Успеваемость ",null,null,null,null,100,null,null,null,null,100,100,100,100]
[null,"искусство","Качество ",null,null,null,null,100,null,null,null,null,100,100,100,100]
[null,null,"Средний бал",null,null,null,null,5,null,null,null,null,5,5,5,5]
["Технология","Технология ","Успеваемость ",null,null,null,null,100,null,null,null,null,100,100,100,100]
[null,null,"Качество ",null,null,null,null,100,null,null,null,null,100,100,100,100]
[null,null,"Средний бал",null,null,null,null,5,null,null,null,null,5,5,5,5]
["Физическая","Физическая","Успеваемость ",null,null,null,null,100,null,null,null,null,100,100,100,100]
["культура","культура ","Качество ",null,null,null,null,100,null,null,null,null,100,100,100,100]
[null,null,"Средний бал",null,null,null,null,5,null,null,null,null,5,5,5,5]
["Итого"]
["Внеурочная деятельность (кружки, секции) "]
["Спортивно-оздоровительное"]
["Военно-патриотическое "]
["Художественно - эстетическое"]
["Духовно-нравственное"]
["Обще-интеллектуальное "]
["Научно - познавательное"]
["Итого:"]
[]
[]
[]
[]
[]
[]
["Первый год обучения   ______2016-2017____год ",null,null,null,"Второй год обучения  _____2017-2018_____год",null,null,null,"Трети год обучения   2018-2019_год",null,null,null,"Четвертый год обучения _________год"]
["На начало ____19_     на конец _19____",null,null,null,"На начало _19____     на конец _21_____",null,null,null,"На начало 22    на конец ______",null,null,null,"На начало _____     на конец ______"]
["ф.И. ученика",null,null,null,"ф.И. ученика",null,null,null,"ф.И. ученика",null,null,null,"ф.И. ученика"]
["Отличники  ",null,"Не успевают ","Предмет ","Отличники ","Не успевают ","Предмет",null,"Отличники ","Не успевают ","Предмет",null,"Отличники ","Не успевают ","Предмет"]
[null,null,"Ташуев Рустамм ","по всем ","Гендугова Элана ","Ташуев Рустамм ","руския язык, математика  (2)",null,"Гендугова Элана ","Ташуев Рустамм ","руския язык, математика  (2)"]
[null,null,"Бесланеева Азида","по всем ","Иналов Азамат ","Бесланеева Азида","руския язык, математика  (2)",null,"Иналов Азамат ","Бесланеева Азида","руския язык, математика  (2)"]
[null,null,null,null,"Дударов астемир ","Ташуев Алан ","русский язык (1)",null,"Дударов астемир ","Ташуев Алан ","русский язык (1)"]
[null,null,null,null,"Курбацкая Лариса ",null,null,null,"Курбацкая Лариса "]

{"sheet":"3 К","index":77,"n_rows":74,"n_cols":23,"rows_kept":74,"cut":false,"hidden":false,"merged":[[7,1,7,2],[7,3,7,22],[8,1,8,2],[8,3,8,7],[8,8,8,12],[8,13,8,17],[8,18,8,22],[9,1,9,2],[10,0,15,0],[10,1,12,1],[13,1,15,1],[16,0,21,0],[16,1,18,1],[19,1,21,1],[22,0,24,0],[22,1,24,1],[25,1,27,1],[28,1,30,1],[31,0,33,0],[31,1,33,1],[34,0,39,0],[34,1,36,1],[40,0,42,0],[40,1,42,1],[46,0,46,2],[47,0,47,2],[48,0,48,2],[49,0,49,2],[50,0,50,2],[51,0,51,2],[52,0,52,2],[53,0,53,2],[54,0,54,2],[61,0,61,3],[61,4,61,7],[61,8,61,11],[61,12,61,14],[62,0,62,3],[62,4,62,7],[62,8,62,11],[62,12,62,14],[63,0,63,3],[63,4,63,7],[63,8,63,11],[63,12,63,14],[64,0,64,3],[64,4,64,7],[64,8,64,11],[64,12,64,14],[65,0,65,1],[65,6,65,7],[65,10,65,11],[66,0,66,1],[66,6,66,7],[66,10,66,11],[67,0,67,1],[67,6,67,7],[67,10,67,11],[68,0,68,1],[68,6,68,7],[68,10,68,11],[69,0,69,1],[69,6,69,7],[69,10,69,11],[70,0,70,1],[70,6,70,7],[70,10,70,11],[71,0,71,1],[71,6,71,7],[71,10,71,11],[72,0,72,1],[72,6,72,7],[72,10,72,11],[73,0,73,1],[73,6,73,7],[73,10,73,11],[74,0,74,1],[74,6,74,7],[74,10,74,11],[75,0,75,1],[75,6,75,7],[75,10,75,11],[76,0,76,1],[76,6,76,7],[76,10,76,11],[77,0,77,1],[77,6,77,7],[77,10,77,11],[78,0,78,1],[78,6,78,7],[78,10,78,11]]}
[]
[null,null,null,null,null,null,null,null,null,null,"3К"]
[]
[]
[]
["Уровень обученности обучающихся 3К класса НОО ФГОС  по годам обучения  в разрезе ,  классный  руководитель :Кумыкова Л.А."]
["                                                                                                                                                                                                                                                           Ф.И."]
["Предметные","Учебные"]
["области","предметы",null,"2016-2017",null,null,null,null,"2017-2018",null,null,null,null,"2018-2019",null,null,null,null,"_____Класс ____ год"]
[null,"Классы",null,1,2,3,4,"г",1,2,3,4,"г",1,2,3,4,"г",1,2,3,4,"г"]
["Русский язык и литературное чтение","Русский язык","Успеваемость ",null,null,null,null,100,null,null,null,null,100,100,100,88]
[null,null,"Качество ",null,null,null,null,51,null,null,null,null,52,47,48,35]
[null,null,"Средний бал",null,null,null,null,4,null,null,null,null,4,4,4,3]
[null,"Литературное чтение","Успеваемость ",null,null,null,null,100,null,null,null,null,100]
[null,null,"Качество ",null,null,null,null,59,null,null,null,null,59]
[null,null,"Средний бал",null,null,null,null,4,null,null,null,null,4]
["Родной язык и литературное чтение на родном языке","Кабардинский язык","Успеваемость ",null,null,null,null,100,null,null,null,null,100]
[null,null,"Качество ",null,null,null,null,47,null,null,null,null,48]
[null,null,"Средний бал",null,null,null,null,4,null,null,null,null,4]
[null,"Литературное чтение на кабардинском  языке","Успеваемость ",null,null,null,null,100,null,null,null,null,100]
[null,null,"Качество ",null,null,null,null,48,null,null,null,null,51]
[null,null,"Средний бал",null,null,null,null,4,null,null,null,null,4]
["Иностранный язык","Английский язык","Успеваемость ",null,null,null,null,100,null,null,null,null,100]
[null,null,"Качество ",null,null,null,null,41,null,null,null,null,42]
[null,null,"Средний бал",null,null,null,null,3,null,null,null,null,4]
["Математика","Математика ","Успеваемость ",null,null,null,null,100,null,null,null,null,100,97,95,88]
["и информатика",null,"Качество ",null,null,null,null,47,null,null,null,null,49,47,48,35]
[null,null,"Средний бал",null,null,null,null,4,null,null,null,null,4,3,3,3]
["Обществознание","Окружающий мир ","Успеваемость ",null,null,null,null,100,null,null,null,null,100]
["и естествознание",null,"Качество ",null,null,null,null,54,null,null,null,null,55]
[null,null,"Средний бал",null,null,null,null,4,null,null,null,null,4]
["Основы религиозных культур светской этики"," (ОРКСЭ)","Успеваемость ",null,null,null,null,0,null,null,null,null,0,0,0,0]
[null,null,"Качество ",null,null,null,null,0,null,null,null,null,0,0,0,0]
[null,null,"Средний бал",null,null,null,null,0,null,null,null,null,0,0,0,0]
["Искусство","Музыка","Успеваемость ",null,null,null,null,100,null,null,null,null,100]
[null,null,"Качество ",null,null,null,null,85,null,null,null,null,86]
[null,null,"Средний бал",null,null,null,null,4,null,null,null,null,4]
[null,"Изобразительное","Успеваемость ",null,null,null,null,100,null,null,null,null,100]
[null,"искусство","Качество ",null,null,null,null,100,null,null,null,null,100]
[null,null,"Средний бал",null,null,null,null,5,null,null,null,null,5]
["Технология","Технология ","Успеваемость ",null,null,null,null,100,null,null,null,null,100]
[null,null,"Качество ",null,null,null,null,100,null,null,null,null,100]
[null,null,"Средний бал",null,null,null,null,5,null,null,null,null,5]
["Физическая","Физическая","Успеваемость ",null,null,null,null,100,null,null,null,null,100]
["культура","культура ","Качество ",null,null,null,null,100,null,null,null,null,100]
[null,null,"Средний бал",null,null,null,null,5,null,null,null,null,5]
["Итого"]
["Внеурочная деятельность (кружки, секции) "]
["Спортивно-оздоровительное"]
["Военно-патриотическое "]
["Художественно - эстетическое"]
["Духовно-нравственное"]
["Обще-интеллектуальное "]
["Научно - познавательное"]
["Итого:"]
[]
[]
[]
[]
[]
[]
["Первый год обучения",null,null,null,"Второй год обучения  ",null,null,null,"Трети год обучения   __________год",null,null,null,"Четвертый год обучения _________год"]
[null,null,null,null,null,null,null,null,"На начало _____     на конец ______",null,null,null,"На начало _____     на конец ______"]
[]
["ф.И. ученика",null,null,null,"ф.И. ученика",null,null,null,"ф.И. ученика",null,null,null,"ф.И. ученика"]
["Отличники  ",null,"Не успевают ","Предмет ","Отличники ","Не успевают ","Предмет",null,"Отличники ","Не успевают ","Предмет",null,"Отличники ","Не успевают ","Предмет"]
["Куржиев А",null,null,null,null,null,"Канукоев ",null,null,"??????????????????"]
["Куржиев А",null,null,null,null,null,"Куржиев А"]
["Курманов Э",null,null,null,null,null,"Куржиев А"]
["Озрокова Д",null,null,null,null,null,"Курманов Э"]
["Озрокова Д",null,null,null,null,null,"Озрокова Д"]
["Иванов ",null,null,null,null,null,"Озрокова Д"]
["Гугов ",null,null,null,null,null,"Иванов "]
[null,null,null,null,null,null,"Гугов "]

{"sheet":"4А","index":78,"n_rows":217,"n_cols":23,"rows_kept":217,"cut":false,"hidden":false,"merged":[[171,0,171,1],[171,6,171,7],[171,10,171,11],[172,0,172,1],[172,6,172,7],[172,10,172,11],[169,0,169,1],[169,6,169,7],[169,10,169,11],[170,0,170,1],[170,6,170,7],[170,10,170,11],[166,6,166,7],[166,10,166,11],[167,0,167,1],[167,6,167,7],[167,10,167,11],[168,0,168,1],[168,6,168,7],[168,10,168,11],[163,6,163,7],[163,10,163,11],[164,0,164,1],[164,6,164,7],[164,10,164,11],[165,0,165,1],[165,6,165,7],[165,10,165,11],[163,0,163,1],[166,0,166,1],[161,0,161,1],[161,6,161,7],[161,10,161,11],[162,0,162,1],[162,6,162,7],[162,10,162,11],[157,0,157,3],[157,4,157,7],[157,8,157,11],[159,0,159,1],[159,6,159,7],[159,10,159,11],[160,0,160,1],[160,6,160,7],[160,10,160,11],[158,12,158,14],[155,0,155,3],[155,4,155,7],[155,8,155,11],[155,12,155,14],[156,0,156,3],[156,4,156,7],[156,8,156,11],[156,12,156,14],[158,0,158,3],[158,4,158,7],[158,8,158,11],[116,0,118,0],[116,1,118,1],[119,1,121,1],[122,1,124,1],[125,0,127,0],[125,1,127,1],[128,0,133,0],[128,1,130,1],[157,12,157,14],[134,0,136,0],[145,0,145,2],[146,0,146,2],[147,0,147,2],[148,0,148,2],[134,1,136,1],[140,0,140,2],[141,0,141,2],[142,0,142,2],[143,0,143,2],[144,0,144,2],[97,6,97,7],[97,10,97,11],[101,1,101,2],[101,3,101,22],[102,1,102,2],[102,3,102,7],[102,8,102,12],[102,13,102,17],[102,18,102,22],[95,6,95,7],[95,10,95,11],[96,0,96,1],[96,6,96,7],[96,10,96,11],[92,6,92,7],[92,10,92,11],[93,0,93,1],[93,6,93,7],[93,10,93,11],[94,0,94,1],[94,6,94,7],[94,10,94,11],[90,6,90,7],[90,10,90,11],[91,0,91,1],[91,6,91,7],[91,10,91,11],[86,6,86,7],[86,10,86,11],[87,0,87,1],[87,6,87,7],[87,10,87,11],[88,0,88,1],[88,6,88,7],[88,10,88,11],[84,6,84,7],[84,10,84,11],[85,0,85,1],[85,6,85,7],[85,10,85,11],[82,0,82,3],[82,4,82,7],[82,8,82,11],[89,6,89,7],[89,10,89,11],[82,12,82,14],[83,0,83,3],[83,4,83,7],[83,8,83,11],[83,12,83,14],[80,0,80,3],[80,4,80,7],[80,8,80,11],[80,12,80,14],[81,0,81,3],[81,4,81,7],[81,8,81,11],[81,12,81,14],[26,3,26,22],[27,1,27,2],[27,3,27,7],[27,8,27,12],[27,13,27,17],[27,18,27,22],[26,1,26,2],[28,1,28,2],[29,0,34,0],[29,1,31,1],[32,1,34,1],[35,0,40,0],[35,1,37,1],[38,1,40,1],[53,0,58,0],[53,1,55,1],[59,0,61,0],[70,0,70,2],[71,0,71,2],[72,0,72,2],[59,1,61,1],[65,0,65,2],[66,0,66,2],[67,0,67,2],[68,0,68,2],[69,0,69,2],[41,0,43,0],[41,1,43,1],[44,1,46,1],[47,1,49,1],[50,0,52,0],[50,1,52,1],[73,0,73,2],[86,0,86,1],[89,0,89,1],[92,0,92,1],[104,1,106,1],[107,1,109,1],[103,1,103,2],[104,0,109,0],[110,0,115,0],[110,1,112,1],[113,1,115,1],[84,0,84,1],[90,0,90,1],[95,0,95,1],[97,0,97,1],[214,0,214,3],[214,4,214,7],[214,8,214,11],[214,12,214,14],[215,0,215,3],[215,4,215,7],[215,8,215,11],[215,12,215,14],[216,0,216,1],[216,6,216,7],[216,10,216,11],[217,0,217,1],[217,6,217,7],[217,10,217,11],[218,0,218,1],[218,6,218,7],[218,10,218,11],[219,0,219,1],[219,6,219,7],[219,10,219,11],[220,0,220,1],[220,6,220,7],[220,10,220,11],[221,0,221,1],[221,6,221,7],[221,10,221,11],[222,0,222,1],[222,6,222,7],[222,10,222,11],[223,0,223,1],[223,6,223,7],[223,10,223,11],[224,0,224,1],[224,6,224,7],[224,10,224,11],[225,0,225,1],[225,6,225,7],[225,10,225,11],[229,0,229,1],[229,6,229,7],[229,10,229,11],[226,0,226,1],[226,6,226,7],[226,10,226,11],[227,0,227,1],[227,6,227,7],[227,10,227,11],[228,0,228,1],[228,6,228,7],[228,10,228,11]]}
[]
[]
[]
[]
[]
[]
[]
[]
[]
[]
[]
[]
[]
[]
[]
[]
[]
[]
[]
[]
[]
[]
[]
[]
["Уровень обученности обучающихся 4 А  класса НОО ФГОС  по годам обучения  в разрезе ,  классный  руководитель : Эльмесова Л.Х."]
["                                                                                                                                                                                                                                                           Ф.И."]
["Предметные","Учебные"]
["области","предметы",null,"2016-2017",null,null,null,null,"2017-2018",null,null,null,null,"2018-2019",null,null,null,null,"_____Класс ____ год"]
[null,"Классы",null,1,2,3,4,"г",1,2,3,4,"г",1,2,3,4,"г",1,2,3,4,"г"]
["Русский язык и литературное чтение","Русский язык","Успеваемость ",null,null,null,null,85,null,null,null,null,85,100,100]
[null,null,"Качество ",null,null,null,null,43,null,null,null,null,45,45,53]
[null,null,"Средний бал",null,null,null,null,3,null,null,null,null,3,3,3]
[null,"Литературное чтение","Успеваемость ",null,null,null,null,85,null,null,null,null,85,100,100]
[null,null,"Качество ",null,null,null,null,45,null,null,null,null,45,53,53]
[null,null,"Средний бал",null,null,null,null,3,null,null,null,null,3,3,3]
["Родной язык и литературное чтение на родном языке","Кабардинский язык","Успеваемость ",null,null,null,null,82,null,null,null,null,82,100,100]
[null,null,"Качество ",null,null,null,null,41,null,null,null,null,41,42,42]
[null,null,"Средний бал",null,null,null,null,3,null,null,null,null,3,3,3]
[null,"Литературное чтение на кабардинском  языке","Успеваемость ",null,null,null,null,82,null,null,null,null,82,84,84]
[null,null,"Качество ",null,null,null,null,41,null,null,null,null,41,42,42]
[null,null,"Средний бал",null,null,null,null,41,null,null,null,null,41,42,42]
["Иностранный язык","Английский язык","Успеваемость ",null,null,null,null,0,0,0,0,0,0,0,0]
[null,null,"Качество ",null,null,null,null,0,0,0,0,0,0,0,0]
[null,null,"Средний бал",null,null,null,null,0,0,0,0,0,0,0,0]
["Математика","Математика ","Успеваемость ",null,null,null,null,86,null,null,null,null,88,88,88]
["и информатика",null,"Качество ",null,null,null,null,45,null,null,null,null,46,46,46]
[null,null,"Средний бал",null,null,null,null,3,null,null,null,null,3,3,3]
["Обществознание","Окружающий мир ","Успеваемость ",null,null,null,null,82,null,null,null,null,82,82,82]
["и естествознание",null,"Качество ",null,null,null,null,41,null,null,null,null,41,41,41]
[null,null,"Средний бал",null,null,null,null,3,null,null,null,null,3,3,3]
["Основы религиозных культур светской этики"," (ОРКСЭ)","Успеваемость ",null,null,null,null,0,0,0,0,0,0,0,0]
[null,null,"Качество ",null,null,null,null,0,0,0,0,0,0,0,0]
[null,null,"Средний бал",null,null,null,null,0,0,0,0,0,0,0,0]
["Искусство","Музыка","Успеваемость ",null,null,null,null,100,null,null,null,null,100,100,100]
[null,null,"Качество ",null,null,null,null,50,null,null,null,null,50,50,50]
[null,null,"Средний бал",null,null,null,null,3,null,null,null,null,3,3,3]
[null,"Изобразительное","Успеваемость ",null,null,null,null,100,null,null,null,null,100,100,100]
[null,"искусство","Качество ",null,null,null,null,50,null,null,null,null,50,50,50]
[null,null,"Средний бал",null,null,null,null,3,null,null,null,null,3,3,3]
["Технология","Технология ","Успеваемость ",null,null,null,null,100,null,null,null,null,100,100,100]
[null,null,"Качество ",null,null,null,null,50,null,null,null,null,50,50,50]
[null,null,"Средний бал",null,null,null,null,3,null,null,null,null,3,3,3]
["Физическая","Физическая","Успеваемость ",null,null,null,null,100,null,null,null,null,100,100,100]
["культура","культура ","Качество ",null,null,null,null,50,null,null,null,null,50,50,50]
[null,null,"Средний бал",null,null,null,null,3,null,null,null,null,3,3,3]
["Итого"]
["Внеурочная деятельность (кружки, секции) "]
["Спортивно-оздоровительное"]
["Военно-патриотическое "]
["Художественно - эстетическое"]
["Духовно-нравственное"]
["Обще-интеллектуальное "]
["Научно - познавательное"]
["Итого:"]
[]
[]
[]
[]
[]
[]
["Первый год обучения   __________год ",null,null,null,"Второй год обучения  ___________год",null,null,null,"Трети год обучения   __________год",null,null,null,"Четвертый год обучения _________год"]
["На начало _____     на конец _____",null,null,null,"На начало _____     на конец ______",null,null,null,"На начало _____     на конец ______",null,null,null,"На начало _____     на конец ______"]
[]
["ф.И. ученика",null,null,null,"ф.И. ученика",null,null,null,"ф.И. ученика",null,null,null,"ф.И. ученика"]
["Отличники  ",null,"Не успевают ","Предмет ","Отличники ","Не успевают ","Предмет",null,"Отличники ","Не успевают ","Предмет",null,"Отличники ","Не успевают ","Предмет"]
[]
[]
[]
[]
[]
[]
[]
[]
[]
[]
[]
[]
[]
[]
["Уровень обученности обучающихся ___ «___»  класса на конец первого полугодия НОО ФГОС 20___года  по годам обучения  На «___»____________ 20___г.,  классный  руководитель ____________________________________"]
["                                                                                                                                                                                                                                                           Ф.И."]
["Предметные","Учебные"]
["области","предметы",null,"____Класс ____ год",null,null,null,null,"_____Класс ____ год",null,null,null,null,"_______Класс ____ год",null,null,null,null,"_____Класс ____ год"]
[null,"Классы",null,1,2,3,4,"г",1,2,3,4,"г",1,2,3,4,"г",1,2,3,4,"г"]
["Русский язык и литературное чтение","Русский язык","Успеваемость "]
[null,null,"Качество "]
[null,null,"Средний бал"]
[null,"Литературное чтение","Успеваемость "]
[null,null,"Качество "]
[null,null,"Средний бал"]
["Родной язык и литературное чтение на родном языке","Кабардинский язык","Успеваемость "]
[null,null,"Качество "]
[null,null,"Средний бал"]
[null,"Литературное чтение на кабардинском  языке","Успеваемость "]
[null,null,"Качество "]
[null,null,"Средний бал"]
["Иностранный язык","Английский язык","Успеваемость "]
[null,null,"Качество "]
[null,null,"Средний бал"]
["Математика","Математика ","Успеваемость "]
["и информатика",null,"Качество "]
[null,null,"Средний бал"]
["Обществознание","Окружающий мир ","Успеваемость "]
["и естествознание",null,"Качество "]
[null,null,"Средний бал"]
["Основы религиозных культур светской этики"," (ОРКСЭ)","Успеваемость "]
[null,null,"Качество "]
[null,null,"Средний бал"]
["Искусство","Музыка","Успеваемость "]
[null,null,"Качество "]
[null,null,"Средний бал"]
[null,"Изобразительное","Успеваемость "]
[null,"искусство","Качество "]
[null,null,"Средний бал"]
["Технология","Технология ","Успеваемость "]
[null,null,"Качество "]
[null,null,"Средний бал"]
["Физическая","Физическая","Успеваемость "]
["культура","культура ","Качество "]
[null,null,"Средний бал"]
["Итого"]
["Внеурочная деятельность (кружки, секции) "]
["Спортивно-оздоровительное"]
["Военно-патриотическое "]
["Художественно - эстетическое"]
["Духовно-нравственное"]
["Обще-интеллектуальное "]
["Научно - познавательное"]
["Итого:"]
[]
[]
[]
[]
[]
[]
["Первый год обучения   __________год ",null,null,null,"Второй год обучения  ___________год",null,null,null,"Трети год обучения   __________год",null,null,null,"Четвертый год обучения _________год"]
["На начало _____     на конец _____",null,null,null,"На начало _____     на конец ______",null,null,null,"На начало _____     на конец ______",null,null,null,"На начало _____     на конец ______"]
[]
["ф.И. ученика",null,null,null,"ф.И. ученика",null,null,null,"ф.И. ученика",null,null,null,"ф.И. ученика"]
["Отличники  ",null,"Не успевают ","Предмет ","Отличники ","Не успевают ","Предмет",null,"Отличники ","Не успевают ","Предмет",null,"Отличники ","Не успевают ","Предмет"]
[]
[]
[]
[]
[]
[]
[]
[]
[]
[]
[]
[]
[]
[]
[]
[]
[]
[]
[]
[]
[]
[]
[]
[]
[]
[]
[]
[]
[]
[]
[]
[]
[]
[]
[]
[]
[]
[]
[]
[]
[]
[]
[]
[]
[]
[]
[]
[]
[]
[]
[]
[]
[]
[]
[]
["ф.И. ученика",null,null,null,"ф.И. ученика",null,null,null,"ф.И. ученика",null,null,null,"ф.И. ученика"]
["Отличники  ",null,"Не успевают ","Предмет ","Отличники ","Не успевают ","Предмет",null,"Отличники ","Не успевают ","Предмет",null,"Отличники ","Не успевают ","Предмет"]

{"sheet":"4Б","index":79,"n_rows":66,"n_cols":23,"rows_kept":66,"cut":false,"hidden":false,"merged":[[75,0,75,1],[75,6,75,7],[75,10,75,11],[73,0,73,1],[73,6,73,7],[73,10,73,11],[74,0,74,1],[74,6,74,7],[74,10,74,11],[71,0,71,1],[71,6,71,7],[71,10,71,11],[72,0,72,1],[72,6,72,7],[72,10,72,11],[69,0,69,1],[69,6,69,7],[69,10,69,11],[70,0,70,1],[70,6,70,7],[70,10,70,11],[67,0,67,1],[67,6,67,7],[67,10,67,11],[68,0,68,1],[68,6,68,7],[68,10,68,11],[65,0,65,1],[65,6,65,7],[65,8,65,9],[65,10,65,11],[66,0,66,1],[66,6,66,7],[66,10,66,11],[63,12,63,13],[64,0,64,1],[64,6,64,7],[64,8,64,9],[64,10,64,11],[64,12,64,13],[62,0,62,1],[62,6,62,7],[62,10,62,11],[63,0,63,1],[63,6,63,7],[63,8,63,9],[63,10,63,11],[60,0,60,3],[60,4,60,7],[60,8,60,11],[60,12,60,14],[61,0,61,3],[61,4,61,7],[61,8,61,11],[61,12,61,14],[59,0,59,3],[59,4,59,7],[59,8,59,11],[59,12,59,14],[45,0,45,2],[46,0,46,2],[47,0,47,2],[48,0,48,2],[49,0,49,2],[50,0,50,2],[51,0,51,2],[58,0,58,3],[58,4,58,7],[58,8,58,11],[58,12,58,14],[44,0,44,2],[19,0,21,0],[19,1,21,1],[22,1,24,1],[25,1,27,1],[28,0,30,0],[28,1,30,1],[31,0,36,0],[31,1,33,1],[37,0,39,0],[37,1,39,1],[43,0,43,2],[6,1,6,2],[7,0,12,0],[7,1,9,1],[10,1,12,1],[13,0,18,0],[13,1,15,1],[16,1,18,1],[4,1,4,2],[4,3,4,22],[5,1,5,2],[5,3,5,7],[5,8,5,12],[5,13,5,17],[5,18,5,22]]}
[null,null,null,null,null,null,null,"4Б"]
[]
["Уровень обученности обучающихся 4 Б класса НОО ФГОС  по годам обучения  в разрезе ,  классный  руководитель :Карданова И.М."]
["                                                                                                                                                                                                                                                           Ф.И."]
["Предметные","Учебные"]
["области","предметы",null,"2016-2017",null,null,null,null,"2017-2018",null,null,null,null,"2018-2019",null,null,null,null,"_____Класс ____ год"]
[null,"Классы",null,1,2,3,4,"г",1,2,3,4,"г",1,2,3,4,"г",1,2,3,4,"г"]
["Русский язык и литературное чтение","Русский язык","Успеваемость ",null,null,null,null,96,null,null,null,null,92,null,92,100]
[null,null,"Качество ",null,null,null,null,41,null,null,null,null,39,null,38,31]
[null,null,"Средний бал",null,null,null,null,3,null,null,null,null,3,null,3,3]
[null,"Литературное чтение","Успеваемость ",null,null,null,null,100,null,null,null,null,100,null,100,100]
[null,null,"Качество ",null,null,null,null,50,null,null,null,null,49,null,48,42]
[null,null,"Средний бал",null,null,null,null,3,null,null,null,null,3,null,3,3]
["Родной язык и литературное чтение на родном языке","Кабардинский язык","Успеваемость ",null,null,null,null,94,null,null,null,null,89,null,88,100]
[null,null,"Качество ",null,null,null,null,40,null,null,null,null,38,null,36,33]
[null,null,"Средний бал",null,null,null,null,3,null,null,null,null,3,null,3,3]
[null,"Литературное чтение на кабардинском  языке","Успеваемость ",null,null,null,null,100,null,null,null,null,100,null,100,100]
[null,null,"Качество ",null,null,null,null,48,null,null,null,null,45,null,47,45]
[null,null,"Средний бал",null,null,null,null,3,null,null,null,null,3,null,3,3]
["Иностранный язык","Английский язык","Успеваемость ",null,null,null,null,94,null,null,null,null,92,null,90,100]
[null,null,"Качество ",null,null,null,null,42,null,null,null,null,37,null,35,33]
[null,null,"Средний бал",null,null,null,null,3,null,null,null,null,3,null,3,3]
["Математика","Математика ","Успеваемость ",null,null,null,null,92,null,null,null,null,90,null,89,100]
["и информатика",null,"Качество ",null,null,null,null,39,null,null,null,null,35,null,36,31]
[null,null,"Средний бал",null,null,null,null,3,null,null,null,null,3,null,3,3]
["Обществознание","Окружающий мир ","Успеваемость ",null,null,null,null,100,null,null,null,null,100,null,100,100]
["и естествознание",null,"Качество ",null,null,null,null,54,null,null,null,null,52,null,50,45]
[null,null,"Средний бал",null,null,null,null,4,null,null,null,null,3,null,3,3]
["Основы религиозных культур светской этики"," (ОРКСЭ)","Успеваемость ",null,null,null,null,0,null,null,null,null,0]
[null,null,"Качество ",null,null,null,null,0,null,null,null,null,0]
[null,null,"Средний бал",null,null,null,null,0,null,null,null,null,0]
["Искусство","Музыка","Успеваемость ",null,null,null,null,100,null,null,null,null,100,null,100,100]
[null,null,"Качество ",null,null,null,null,60,null,null,null,null,58,null,56,54]
[null,null,"Средний бал",null,null,null,null,4,null,null,null,null,4,null,3,3]
[null,"Изобразительное","Успеваемость ",null,null,null,null,100,null,null,null,null,100,null,100,100]
[null,"искусство","Качество ",null,null,null,null,62,null,null,null,null,62,null,60,58]
[null,null,"Средний бал",null,null,null,null,4,null,null,null,null,4,null,4,4]
["Технология","Технология ","Успеваемость ",null,null,null,null,100,null,null,null,null,100,null,100,100]
[null,null,"Качество ",null,null,null,null,60,null,null,null,null,62,null,60,58]
[null,null,"Средний бал",null,null,null,null,4,null,null,null,null,4,null,4,4]
["Физическая","Физическая","Успеваемость ",null,null,null,null,100,null,null,null,null,100,null,100,100]
["культура","культура ","Качество ",null,null,null,null,62,null,null,null,null,62,null,60,58]
[null,null,"Средний бал",null,null,null,null,4,null,null,null,null,4,null,4,4]
["Итого"]
["Внеурочная деятельность (кружки, секции) "]
["Спортивно-оздоровительное"]
["Военно-патриотическое "]
["Художественно - эстетическое"]
["Духовно-нравственное"]
["Обще-интеллектуальное "]
["Научно - познавательное"]
["Итого:"]
[]
[]
[]
[]
[]
[]
["второй год обучения   ",null,null,null,"Второй год обучения  ___________год",null,null,null,"Трети год обучения   год",null,null,null,"Четвертый год обучения. 3 четверть"]
["На начало   / на конец",null,null,null,"На начало _____     на конец ______",null,null,null,"На начало _____     на конец ______",null,null,null,"На начало _____     на конец ______"]
[]
["ф.И. ученика",null,null,null,"ф.И. ученика",null,null,null,"ф.И. ученика",null,null,null,"ф.И. ученика"]
["Отличники  ",null,"Не успевают ","Предмет ","Отличники ","Не успевают ","Предмет",null,"Отличники ","Не успевают ","Предмет",null,"Отличники ","Не успевают ","Предмет"]
["Дымова Д",null,null,null,null,null,null,null,"Дымова Д",null,null,null,"Дымова Д"]
["Кумыкова Б",null,null,null,null,null,null,null,"Кумыкова Б",null,null,null,"Кумыкова Б"]
["Мацухова Д",null,null,null,null,null,null,null,"Мацухова Д"]

{"sheet":"4В","index":80,"n_rows":70,"n_cols":23,"rows_kept":70,"cut":false,"hidden":false,"merged":[[78,0,78,1],[78,6,78,7],[78,10,78,11],[76,0,76,1],[76,6,76,7],[76,10,76,11],[77,0,77,1],[77,6,77,7],[77,10,77,11],[74,0,74,1],[74,6,74,7],[74,10,74,11],[75,0,75,1],[75,6,75,7],[75,10,75,11],[72,0,72,1],[72,6,72,7],[72,10,72,11],[73,0,73,1],[73,6,73,7],[73,10,73,11],[70,0,70,1],[70,6,70,7],[70,10,70,11],[71,0,71,1],[71,6,71,7],[71,10,71,11],[68,0,68,1],[68,6,68,7],[68,8,68,9],[68,10,68,11],[69,0,69,1],[69,6,69,7],[69,10,69,11],[66,12,66,13],[67,0,67,1],[67,6,67,7],[67,8,67,9],[67,10,67,11],[67,12,67,13],[65,0,65,1],[65,6,65,7],[65,10,65,11],[66,0,66,1],[66,6,66,7],[66,8,66,9],[66,10,66,11],[63,0,63,3],[63,4,63,7],[63,8,63,11],[63,12,63,14],[64,0,64,3],[64,4,64,7],[64,8,64,11],[64,12,64,14],[62,0,62,3],[62,4,62,7],[62,8,62,11],[62,12,62,14],[48,0,48,2],[49,0,49,2],[50,0,50,2],[51,0,51,2],[52,0,52,2],[53,0,53,2],[54,0,54,2],[61,0,61,3],[61,4,61,7],[61,8,61,11],[61,12,61,14],[47,0,47,2],[22,0,24,0],[22,1,24,1],[25,1,27,1],[28,1,30,1],[31,0,33,0],[31,1,33,1],[34,0,39,0],[34,1,36,1],[40,0,42,0],[40,1,42,1],[46,0,46,2],[9,1,9,2],[10,0,15,0],[10,1,12,1],[13,1,15,1],[16,0,21,0],[16,1,18,1],[19,1,21,1],[7,1,7,2],[7,3,7,22],[8,1,8,2],[8,3,8,7],[8,8,8,12],[8,13,8,17],[8,18,8,22]]}
[]
[null,null,null,null,null,null,null,null,null,"4В"]
[]
[]
[]
["Уровень обученности обучающихся 4 В класса НОО ФГОС  по годам обучения  в разрезе ,  классный  руководитель :Дышекова И.А. "]
["                                                                                                                                                                                                                                                           Ф.И."]
["Предметные","Учебные"]
["области","предметы",null,"2016-2017",null,null,null,null,"2017-2018",null,null,null,null,"2018-2019"]
[null,"Классы",null,1,2,3,4,"г",1,2,3,4,"г",1,2,3,4,"г",1,2,3,4,"г"]
["Русский язык и литературное чтение","Русский язык","Успеваемость ",null,null,null,null,100,null,null,null,null,100,100,100,100]
[null,null,"Качество ",null,null,null,null,36,null,null,null,null,38,38,39,47]
[null,null,"Средний бал",null,null,null,null,3,null,null,null,null,3,3,3,3]
[null,"Литературное чтение","Успеваемость ",null,null,null,null,100,null,null,null,null,100,100,100,100]
[null,null,"Качество ",null,null,null,null,50,null,null,null,null,51,52,54,63]
[null,null,"Средний бал",null,null,null,null,3,null,null,null,null,3,4,4,4]
["Родной язык и литературное чтение на родном языке","Кабардинский язык","Успеваемость ",null,null,null,null,100,null,null,null,null,100,100,100,100]
[null,null,"Качество ",null,null,null,null,34,null,null,null,null,35,36,38,57]
[null,null,"Средний бал",null,null,null,null,3,null,null,null,null,3,3,3,3]
[null,"Литературное чтение на кабардинском  языке","Успеваемость ",null,null,null,null,100,null,null,null,null,100,100,100,100]
[null,null,"Качество ",null,null,null,null,45,null,null,null,null,48,48,50,64]
[null,null,"Средний бал",null,null,null,null,3,null,null,null,null,4,4,4,4]
["Иностранный язык","Английский язык","Успеваемость ",null,null,null,null,0]
[null,null,"Качество ",null,null,null,null,0]
[null,null,"Средний бал",null,null,null,null,0]
["Математика","Математика ","Успеваемость ",null,null,null,null,100,null,null,null,null,100,100,100,100]
["и информатика",null,"Качество ",null,null,null,null,34,null,null,null,null,34,36,38,57]
[null,null,"Средний бал",null,null,null,null,3,null,null,null,null,3,3,3,3]
["Обществознание","Окружающий мир ","Успеваемость ",null,null,null,null,100,null,null,null,null,100,100,100,100]
["и естествознание",null,"Качество ",null,null,null,null,48,null,null,null,null,48,50,50,52]
[null,null,"Средний бал",null,null,null,null,3,null,null,null,null,3,4,4,4]
["Основы религиозных культур светской этики"," (ОРКСЭ)","Успеваемость ",null,null,null,null,100,null,null,null,null,100,0,0,100]
[null,null,"Качество ",null,null,null,null,100,null,null,null,null,100,0,0,100]
[null,null,"Средний бал",null,null,null,null,5,null,null,null,null,5,0,0,5]
["Искусство","Музыка","Успеваемость ",null,null,null,null,100,null,null,null,null,100,100,100,100]
[null,null,"Качество ",null,null,null,null,100,null,null,null,null,100,100,100,100]
[null,null,"Средний бал",null,null,null,null,5,null,null,null,null,5,5,5,5]
[null,"Изобразительное","Успеваемость ",null,null,null,null,100,null,null,null,null,100,100,100,100]
[null,"искусство","Качество ",null,null,null,null,100,null,null,null,null,100,100,100,100]
[null,null,"Средний бал",null,null,null,null,5,null,null,null,null,5,5,5,5]
["Технология","Технология ","Успеваемость ",null,null,null,null,100,null,null,null,null,100,100,100,100]
[null,null,"Качество ",null,null,null,null,100,null,null,null,null,100,100,100,100]
[null,null,"Средний бал",null,null,null,null,5,null,null,null,null,5,5,5,5]
["Физическая","Физическая","Успеваемость ",null,null,null,null,100,null,null,null,null,100,100,100,100]
["культура","культура ","Качество ",null,null,null,null,100,null,null,null,null,100,100,100,100]
[null,null,"Средний бал",null,null,null,null,5,null,null,null,null,5,5,5,5]
["Итого"]
["Внеурочная деятельность (кружки, секции) "]
["Спортивно-оздоровительное"]
["Военно-патриотическое "]
["Художественно - эстетическое"]
["Духовно-нравственное"]
["Обще-интеллектуальное "]
["Научно - познавательное"]
["Итого:"]
[]
[]
[]
[]
[]
[]
["второй год обучения ",null,null,null,"Второй год обучения  ___________год",null,null,null,"Трети год обучения ",null,null,null,"Четвертый год обучения "]
["На начало _____     на конец _____",null,null,null,"На начало _____     на конец ______",null,null,null,"На начало _____     на конец ______",null,null,null,"На начало _____     на конец ______"]
[]
["ф.И. ученика",null,null,null,"ф.И. ученика",null,null,null,"ф.И. ученика",null,null,null,"ф.И. ученика"]
["Отличники  ",null,"Не успевают ","Предмет ","Отличники ","Не успевают ","Предмет",null,"Отличники ","Не успевают ","Предмет",null,"Отличники ","Не успевают ","Предмет"]
["Дышекова милана ",null,null,null,null,null,null,null,"Дышекова милана ",null,null,null,"Дышекова милана "]
["Озов астемир",null,null,null,null,null,null,null,"Озов астемир",null,null,null,"Озов астемир"]
["Абдулаев А",null,null,null,null,null,null,null,"Абдулаев А"]
["Цеев Азрет "]

{"sheet":"на начало 2019-2020","index":81,"n_rows":38,"n_cols":91,"rows_kept":38,"cut":false,"hidden":false,"merged":[[14,65,14,74],[13,65,13,85],[14,75,14,85],[14,44,14,53],[14,54,14,63],[13,44,13,63],[12,0,15,0],[12,1,15,1],[12,2,12,43],[13,2,13,22],[13,23,13,43],[14,2,14,11],[14,12,14,22],[14,23,14,32],[14,33,14,43]]}
[]
[]
[]
[]
[]
[]
[]
[]
[]
[null,null,null,null,null,null,"на начало 2019-2020 учебного года (итоговая за 2018-2019) стартовая."]
[]
[]
["Класс ","Классный руководитель ","Предмет (%)"]
[null,null,"Математика ",null,null,null,null,null,null,null,null,null,null,null,null,null,null,null,null,null,null,null,null,"Русский яз",null,null,null,null,null,null,null,null,null,null,null,null,null,null,null,null,null,null,null,null,"окружающий мир ",null,null,null,null,null,null,null,null,null,null,null,null,null,null,null,null,null,null,null,null,"кабардино черкесский язык"]
[null,null,"Усп",null,null,null,null,null,null,null,null,null,"Кач ",null,null,null,null,null,null,null,null,null,null,"Усп",null,null,null,null,null,null,null,null,null,"Кач ",null,null,null,null,null,null,null,null,null,null,"Усп",null,null,null,null,null,null,null,null,null,"Кач ",null,null,null,null,null,null,null,null,null,null,"Усп",null,null,null,null,null,null,null,null,null,"Кач "]
[null,null,"На начало года ","Д/О ","Раз-ца ","3 чет /срез","Раз-ца ","итгог за 3 четверть по Журналу","итоговая А/работа ","4 четверть/по журналу  ","итоговая /годовая ","Раз-ца ","На начало года ","Д/О ","Раз-ца ","3 чет /срез","Раз-ца ","итгог за 3 четверть по Журналу","итоговая А/работа ","4 четверть/по журналу  ","итоговая /годовая ","уровень обучености ","Раз-ца ","На начало года ","Д/О ","Раз-ца ","3 чет /срез","Раз-ца ","итгог за 3 четверть по Журналу","итоговая А/работа ","4 четверть/по журналу  ","итоговая /годовая ","Раз-ца ","На начало года ","Д/О ","Раз-ца ","3 чет /срез","Раз-ца ","итгог за 3 четверть по Журналу","итоговая А/работа ","4 четверть/по журналу  ","итоговая /годовая ","Раз-ца ","уровень обучености ","На начало года ","Д/О ","Раз-ца ","3 чет /срез","Раз-ца ","итгог за 3 четверть по Журналу","итоговая А/работа ","4 четверть/по журналу  ","итоговая /годовая ","Раз-ца ","На начало года ","Д/О ","Раз-ца ","3 чет /срез","Раз-ца ","итгог за 3 четверть по Журналу","итоговая А/работа ","4 четверть/по журналу  ","итоговая /годовая ","Раз-ца ","уровень обучения  ","На начало года ","Д/О ","Раз-ца ","3 чет /срез","Раз-ца ","итгог за 3 четверть по Журналу","итоговая А/работа ","4 четверть/по журналу  ","итоговая /годовая ","Раз-ца ","На начало года ","Д/О ","Раз-ца ","3 чет /срез","Раз-ца ","итгог за 3 четверть по Журналу","итоговая А/работа ","4 четверть/по журналу  ","итоговая /годовая ","Раз-ца ","уровень обучености "]
["1 а ","Куржиева К.З."]
["1б","Карданова И.М."]
["1в","Дышекова И.А."]
["1К","Аргашокова Л.З."]
["2а ","Эльмесова Л.Х.",0.83,0,0,0,0,0,0,0,0,0,0.76,0,0,0,0,0,0,0,0,0,0,0,0,0,0,0,0,0,0,0,0,0,0,0,0,0,0,0,0,0,0,0,0.82,0,0,0,0,0,0,0,0,0,0.47,0,0,0,0,0,0,0,0,0,0,0,0,0,0,0,0,0,0,0,0,0,0,0,0,0,0,0,0,0,0,0]
["2б","Уметова М.М.",0.85,0,0,0,0,0,0,0,0,0,0.8,0,0,0,0,0,0,0,0,0,0,0,0,0,0,0,0,0,0,0,0,0,0,0,0,0,0,0,0,0,0,0,0.84,0,0,0,0,0,0,0,0,0,0.48,0,0,0,0,0,0,0,0,0,0,0,0,0,0,0,0,0,0,0,0,0,0,0,0,0,0,0,0,0,0,0]
["2в","Сонова И.К.",0.89,0,0,0,0,0,0,0,0,0,0.47,0,0,0,0,0,0,0,0,0,0,0,0,0,0,0,0,0,0,0,0,0,0,0,0,0,0,0,0,0,0,0,0.9,0,0,0,0,0,0,0,0,0,0.47,0,0,0,0,0,0,0,0,0,0,0,0,0,0,0,0,0,0,0,0,0,0,0,0,0,0,0,0,0,0,0]
["2кА","Ажахова А.И.",0.88,0,0,0,0,0,0,0,0,0,0.55000000000000004,0,0,0,0,0,0,0,0,0,0,0,0,0,0,0,0,0,0,0,0,0,0,0,0,0,0,0,0,0,0,0,0.82,0,0,0,0,0,0,0,0,0,0.47,0,0,0,0,0,0,0,0,0,0,0,0,0,0,0,0,0,0,0,0,0,0,0,0,0,0,0,0,0,0,0]
["2кБ","Ахабекрва Р.А.",0.81,0,0,0,0,0,0,0,0,0,0.42,0,0,0,0,0,0,0,0,0,0,0,0,0,0,0,0,0,0,0,0,0,0,0,0,0,0,0,0,0,0,0,0.84,0,0,0,0,0,0,0,0,0,0.48,0,0,0,0,0,0,0,0,0,0,0,0,0,0,0,0,0,0,0,0,0,0,0,0,0,0,0,0,0,0,0]
["3а","Бирмамитова А.Х.",1,0,0,0,0,0,0,0,0,0,0.64,0,0,0,0,0,0,0,0,0,0,1,0,0,0,0,0,0,0,0,0,0.47,0,0,0,0,0,0,0,0,0,0,1,0,0,0,0,0,0,0,0,0,0.8,0,0,0,0,0,0,0,0,0,0,0.8,0,0,0,0,0,0,0,0,0,0.47,0,0,0,0,0,0,0,0,0,0]
["3б ","Куржиева А.Х.",1,0,0,0,0,0,0,0,0,0,0.92,0,0,0,0,0,0,0,0,0,0,1,0,0,0,0,0,0,0,0,0,0.52,0,0,0,0,0,0,0,0,0,0,1,0,0,0,0,0,0,0,0,0,1,0,0,0,0,0,0,0,0,0,0,0.87,0,0,0,0,0,0,0,0,0,0.52,0,0,0,0,0,0,0,0,0,0]
["3в ","Додохова Ж.Х.",1,0,0,0,0,0,0,0,0,0,0.76,0,0,0,0,0,0,0,0,0,0,1,0,0,0,0,0,0,0,0,0,0.55000000000000004,0,0,0,0,0,0,0,0,0,0,1,0,0,0,0,0,0,0,0,0,0.9,0,0,0,0,0,0,0,0,0,0,0.73,0,0,0,0,0,0,0,0,0,0.55000000000000004,0,0,0,0,0,0,0,0,0,0,null,null,null,null," "]
["3е","Ташилова Н.З.",1,0,0,0,0,0,0,0,0,0,0.46,0,0,0,0,0,0,0,0,0,0,1,0,0,0,0,0,0,0,0,0,0.6,0,0,0,0,0,0,0,0,0,0,1,0,0,0,0,0,0,0,0,0,0.79,0,0,0,0,0,0,0,0,0,0,0.61,0,0,0,0,0,0,0,0,0,0.6,0,0,0,0,0,0,0,0,0,0]
["3ф","Гетаова А.М.",1,0,0,0,0,0,0,0,0,0,0.53,0,0,0,0,0,0,0,0,0,0,1,0,0,0,0,0,0,0,0,0,0.64,0,0,0,0,0,0,0,0,0,0,1,0,0,0,0,0,0,0,0,0,0.71,0,0,0,0,0,0,0,0,0,0,0.75,0,0,0,0,0,0,0,0,0,0.64,0,0,0,0,0,0,0,0,0,0]
["4а ","Куржива К.З.",1,0,0,0,0,0,0,0,0,0,0.65,0,0,0,0,0,0,0,0,0,0,0.91,0,0,0,0,0,0,0,0,0,0.6,0,0,0,0,0,0,0,0,0,0,1,0,0,0,0,0,0,0,0,0,0.87,0,0,0,0,0,0,0,0,0,0,0.79,0,0,0,0,0,0,0,0,0,0.6,0,0,0,0,0,0,0,0,0,0]
["4б","Хаваяшхова Р.Т.",1,0,0,0,0,0,0,0,0,0,0.57999999999999996,0,0,0,0,0,0,0,0,0,0,0.91,0,0,0,0,0,0,0,0,0,0.47,0,0,0,0,0,0,0,0,0,0,1,0,0,0,0,0,0,0,0,0,0.76,0,0,0,0,0,0,0,0,0,0,0.75,0,0,0,0,0,0,0,0,0,0.47,0,0,0,0,0,0,0,0,0,0]
["4в","Тутова Е.Б.",1,0,0,0,0,0,0,0,0,0,0.55000000000000004,0,0,0,0,0,0,0,0,0,0,0.91,0,0,0,0,0,0,0,0,0,0.52,0,0,0,0,0,0,0,0,0,0,1,0,0,0,0,0,0,0,0,0,0.68,0,0,0,0,0,0,0,0,0,0,0.5,0,0,0,0,0,0,0,0,0,0.52,0,0,0,0,0,0,0,0,0,0]
["4к","Кумыкова Л.А.",1,0,0,0,0,0,0,0,0,0,0.54,0,0,0,0,0,0,0,0,0,0,0.88,0,0,0,0,0,0,0,0,0,0.48,0,0,0,0,0,0,0,0,0,0,1,0,0,0,0,0,0,0,0,0,0.57999999999999996,0,0,0,0,0,0,0,0,0,0,0.65,0,0,0,0,0,0,0,0,0,0.48,0,0,0,0,0,0,0,0,0,0]
["5а ","Эльмесова Е.Х.",1,0,0,0,0,0,0,0,0,0,0.6,0,0,0,0,0,0,0,0,0,0,1,0,0,0,0,0,0,0,0,0,0.6,0,0,0,0,0,0,0,0,0,0,1,0,0,0,0,0,0,0,0,0,0.52,0,0,0,0,0,0,0,0,0,0,0.8,0,0,0,0,0,0,0,0,0,0.6,0,0,0,0,0,0,0,0,0,0]
["5б ","Карданова И.М.",1,0,0,0,0,0,0,0,0,0,0.43,0,0,0,0,0,0,0,0,0,0,1,0,0,0,0,0,0,0,0,0,0.42,0,0,0,0,0,0,0,0,0,0,1,0,0,0,0,0,0,0,0,0,0.68,0,0,0,0,0,0,0,0,0,0,0.68,0,0,0,0,0,0,0,0,0,0.42,0,0,0,0,0,0,0,0,0,0]
["5в","Дышекова И.А. ",1,0,0,0,0,0,0,0,0,0,0.57999999999999996,0,0,0,0,0,0,0,0,0,0,1,0,0,0,0,0,0,0,0,0,0.33,0,0,0,0,0,0,0,0,0,0,1,0,0,0,0,0,0,0,0,0,0.53,0,0,0,0,0,0,0,0,0,0,0.72,0,0,0,0,0,0,0,0,0,0.33,0,0,0,0,0,0,0,0,0,0]
[12,"средняя единица по 2-4 ",{"$f":"AVERAGE(C21:C37)","v":0.95647058823529396},0,0,0,0,0,0,0,0,0,{"$f":"AVERAGE(M21:M37)","v":0.60235294117647076},0,0,0,0,0,0,0,0,0,0,{"$f":"AVERAGE(X26:X37)","v":0.96750000000000014},0,0,0,0,0,0,0,0,0,{"$f":"AVERAGE(AH26:AH37)","v":0.51666666666666672},0,0,0,0,0,0,0,0,0,0,{"$f":"AVERAGE(AS21:AS37)","v":0.95411764705882351},0,0,0,0,0,0,0,0,0,{"$f":"AVERAGE(BC21:BC37)","v":0.65823529411764703},0,0,0,0,0,0,0,0,0,0,0.86,0,0,0,0,0,0,0,0,0,{"$f":"AVERAGE(BX26:BX37)","v":0.51666666666666672},0,0,0,0,0,0,0,0,0,0]

{"sheet":"по классам отдельно ","index":82,"n_rows":95,"n_cols":86,"rows_kept":95,"cut":false,"hidden":false,"merged":[[74,65,74,85],[75,65,75,74],[75,75,75,85],[59,44,59,53],[59,54,59,63],[74,44,74,63],[75,54,75,63],[57,0,60,0],[57,1,60,1],[57,2,57,43],[58,2,58,22],[58,23,58,43],[58,44,58,63],[59,2,59,11],[59,12,59,22],[59,23,59,32],[59,33,59,43],[42,54,42,63],[23,23,23,32],[23,33,23,43],[23,44,23,53],[23,54,23,63],[41,44,41,63],[42,23,42,32],[42,33,42,43],[42,44,42,53],[4,44,4,53],[4,54,4,63],[21,0,24,0],[21,1,24,1],[21,2,21,43],[22,2,22,22],[22,23,22,43],[22,44,22,63],[23,2,23,11],[23,12,23,22],[2,0,5,0],[2,1,5,1],[2,2,2,43],[3,2,3,22],[3,23,3,43],[3,44,3,63],[4,2,4,11],[4,12,4,22],[4,23,4,32],[4,33,4,43],[73,0,76,0],[73,1,76,1],[73,2,73,43],[74,2,74,22],[74,23,74,43],[40,0,43,0],[40,1,43,1],[40,2,40,43],[41,2,41,22],[41,23,41,43],[42,2,42,11],[42,12,42,22],[75,2,75,11],[75,12,75,22],[75,23,75,32],[75,33,75,43],[75,44,75,53]]}
[null,null,null,null,null,null,null,"по 1-ым классам "]
[]
["Класс ","Классный руководитель ","Предмет (%)"]
[null,null,"Математика ",null,null,null,null,null,null,null,null,null,null,null,null,null,null,null,null,null,null,null,null,"Русский яз",null,null,null,null,null,null,null,null,null,null,null,null,null,null,null,null,null,null,null,null,"окружающий мир "]
[null,null,"Усп",null,null,null,null,null,null,null,null,null,"Кач ",null,null,null,null,null,null,null,null,null,null,"Усп",null,null,null,null,null,null,null,null,null,"Кач ",null,null,null,null,null,null,null,null,null,null,"Усп",null,null,null,null,null,null,null,null,null,"Кач "]
[null,null,"На начало года ","Д/О ","Раз-ца ","3 чет /срез","Раз-ца ","итгог за 3 четверть по Журналу","итоговая А/работа ","4 четверть/по журналу  ","итоговая /годовая ","Раз-ца ","На начало года ","Д/О ","Раз-ца ","3 чет /срез","Раз-ца ","итгог за 3 четверть по Журналу","итоговая А/работа ","4 четверть/по журналу  ","итоговая /годовая ","уровень обучености ","Раз-ца ","На начало года ","Д/О ","Раз-ца ","3 чет /срез","Раз-ца ","итгог за 3 четверть по Журналу","итоговая А/работа ","4 четверть/по журналу  ","итоговая /годовая ","Раз-ца ","На начало года ","Д/О ","Раз-ца ","3 чет /срез","Раз-ца ","итгог за 3 четверть по Журналу","итоговая А/работа ","4 четверть/по журналу  ","итоговая /годовая ","Раз-ца ","уровень обучености ","На начало года ","Д/О ","Раз-ца ","3 чет /срез","Раз-ца ","итгог за 3 четверть по Журналу","итоговая А/работа ","4 четверть/по журналу  ","итоговая /годовая ","Раз-ца ","На начало года ","Д/О ","Раз-ца ","3 чет /срез","Раз-ца ","итгог за 3 четверть по Журналу","итоговая А/работа ","4 четверть/по журналу  ","итоговая /годовая ","Раз-ца ","уровень обучения  "]
["1а ","Эльмесова Л.Х.",0,0,0,0,0,0,0,0,0.83,0,0,0,0,0,0,0,0,0,0.76,0.56999999999999995,0,0,0,0,0,0,0,0,0,0.66,0,0,0,0,0,0,0,0,0.51,0,0,0.5,0,0,0,0,0,0,0,0,0.82,0,0,0,0,0,0,0,0,0,0.47,0,0.51]
["1б","Уметова М.М.",0,0,0,0,0,0,0,0,0.85,0,0,0,0,0,0,0,0,0,0.8,0.66,0,0,0,0,0,0,0,0,0,0.7,0,0,0,0,0,0,0,0,0.55000000000000004,0,0,0.55000000000000004,0,0,0,0,0,0,0,0,0.84,0,0,0,0,0,0,0,0,0,0.48,0,0.53]
["1 в","Сонова И.К.",0,0,0,0,0,0,0,0,0.89,0,0,0,0,0,0,0,0,0,0.47,0.53,0,0,0,0,0,0,0,0,0,0.89,0,0,0,0,0,0,0,0,0.47,0,0,0.51,0,0,0,0,0,0,0,0,0.9,0,0,0,0,0,0,0,0,0,0.47,0,0.53]
["1кА","Ажахова А.И.",0,0,0,0,0,0,0,0,0.88,0,0,0,0,0,0,0,0,0,0.55000000000000004,0.55000000000000004,0,0,0,0,0,0,0,0,0,0.66,0,0,0,0,0,0,0,0,0.5,0,0,0.43,0,0,0,0,0,0,0,0,0.82,0,0,0,0,0,0,0,0,0,0.47,0,0.51]
["1кБ","Ахабекрва Р.А.",0,0,0,0,0,0,0,0,0.81,0,0,0,0,0,0,0,0,0,0.42,0.49,0,0,0,0,0,0,0,0,0,0.81,0,0,0,0,0,0,0,0,0.46,0,0,0.5,0,0,0,0,0,0,0,0,0.84,0,0,0,0,0,0,0,0,0,0.48,0,0.53]
[12,"средняя единица по 2-4 ",{"$f":"AVERAGE(#REF!)","v":{"$error":"#REF!"}},{"$f":"AVERAGE(#REF!)","v":{"$error":"#REF!"}},{"$f":"AVERAGE(#REF!)","v":{"$error":"#REF!"}},{"$f":"AVERAGE(#REF!)","v":{"$error":"#REF!"}},{"$f":"AVERAGE(#REF!)","v":{"$error":"#REF!"}},{"$f":"AVERAGE(#REF!)","v":{"$error":"#REF!"}},{"$f":"AVERAGE(I7:I11)","v":0},{"$f":"AVERAGE(J7:J11)","v":0},{"$f":"AVERAGE(K7:K11)","v":0.85199999999999998},{"$f":"AVERAGE(#REF!)","v":{"$error":"#REF!"}},{"$f":"AVERAGE(#REF!)","v":{"$error":"#REF!"}},{"$f":"AVERAGE(#REF!)","v":{"$error":"#REF!"}},{"$f":"AVERAGE(#REF!)","v":{"$error":"#REF!"}},{"$f":"AVERAGE(#REF!)","v":{"$error":"#REF!"}},{"$f":"AVERAGE(#REF!)","v":{"$error":"#REF!"}},{"$f":"AVERAGE(#REF!)","v":{"$error":"#REF!"}},{"$f":"AVERAGE(S7:S11)","v":0},{"$f":"AVERAGE(T7:T11)","v":0},{"$f":"AVERAGE(U7:U11)","v":0.6},{"$f":"AVERAGE(V7:V11)","v":0.55999999999999994},{"$f":"AVERAGE(#REF!)","v":{"$error":"#REF!"}},{"$f":"AVERAGE(#REF!)","v":{"$error":"#REF!"}},{"$f":"AVERAGE(#REF!)","v":{"$error":"#REF!"}},{"$f":"AVERAGE(#REF!)","v":{"$error":"#REF!"}},{"$f":"AVERAGE(#REF!)","v":{"$error":"#REF!"}},{"$f":"AVERAGE(#REF!)","v":{"$error":"#REF!"}},{"$f":"AVERAGE(#REF!)","v":{"$error":"#REF!"}},{"$f":"AVERAGE(AD7:AD11)","v":0},{"$f":"AVERAGE(AE7:AE11)","v":0},{"$f":"AVERAGE(AF7:AF11)","v":0.74399999999999999},{"$f":"AVERAGE(#REF!)","v":{"$error":"#REF!"}},{"$f":"AVERAGE(#REF!)","v":{"$error":"#REF!"}},{"$f":"AVERAGE(#REF!)","v":{"$error":"#REF!"}},{"$f":"AVERAGE(#REF!)","v":{"$error":"#REF!"}},{"$f":"AVERAGE(#REF!)","v":{"$error":"#REF!"}},{"$f":"AVERAGE(#REF!)","v":{"$error":"#REF!"}},{"$f":"AVERAGE(#REF!)","v":{"$error":"#REF!"}},{"$f":"AVERAGE(AN7:AN11)","v":0},{"$f":"AVERAGE(AO7:AO11)","v":0.49800000000000005},{"$f":"AVERAGE(AP7:AP11)","v":0},0,{"$f":"AVERAGE(AR7:AR11)","v":0.49800000000000005},{"$f":"AVERAGE(#REF!)","v":{"$error":"#REF!"}},{"$f":"AVERAGE(#REF!)","v":{"$error":"#REF!"}},{"$f":"AVERAGE(#REF!)","v":{"$error":"#REF!"}},{"$f":"AVERAGE(#REF!)","v":{"$error":"#REF!"}},{"$f":"AVERAGE(#REF!)","v":{"$error":"#REF!"}},{"$f":"AVERAGE(#REF!)","v":{"$error":"#REF!"}},{"$f":"AVERAGE(AY7:AY11)","v":0},{"$f":"AVERAGE(AZ7:AZ11)","v":0},{"$f":"AVERAGE(BA7:BA11)","v":0.84399999999999997},{"$f":"AVERAGE(#REF!)","v":{"$error":"#REF!"}},{"$f":"AVERAGE(#REF!)","v":{"$error":"#REF!"}},{"$f":"AVERAGE(#REF!)","v":{"$error":"#REF!"}},{"$f":"AVERAGE(#REF!)","v":{"$error":"#REF!"}},{"$f":"AVERAGE(#REF!)","v":{"$error":"#REF!"}},{"$f":"AVERAGE(#REF!)","v":{"$error":"#REF!"}},{"$f":"AVERAGE(#REF!)","v":{"$error":"#REF!"}},{"$f":"AVERAGE(BI7:BI11)","v":0},{"$f":"AVERAGE(BJ7:BJ11)","v":0},{"$f":"AVERAGE(BK7:BK11)","v":0.47400000000000003},{"$f":"AVERAGE(#REF!)","v":{"$error":"#REF!"}},{"$f":"AVERAGE(BM7:BM11)","v":0.52200000000000002}]
[]
[]
[]
[]
[]
[null,null,null,null,null,null,null,"по 2 ым классам "]
[]
[]
[]
["Класс ","Классный руководитель ","Предмет (%)"]
[null,null,"Математика ",null,null,null,null,null,null,null,null,null,null,null,null,null,null,null,null,null,null,null,null,"Русский яз",null,null,null,null,null,null,null,null,null,null,null,null,null,null,null,null,null,null,null,null,"окружающий мир "]
[null,null,"Усп",null,null,null,null,null,null,null,null,null,"Кач ",null,null,null,null,null,null,null,null,null,null,"Усп",null,null,null,null,null,null,null,null,null,"Кач ",null,null,null,null,null,null,null,null,null,null,"Усп",null,null,null,null,null,null,null,null,null,"Кач "]
[null,null,"На начало года ","Д/О ","Раз-ца ","3 чет /срез","Раз-ца ","итгог за 3 четверть по Журналу","итоговая А/работа ","4 четверть/по журналу  ","итоговая /годовая ","Раз-ца ","На начало года ","Д/О ","Раз-ца ","3 чет /срез","Раз-ца ","итгог за 3 четверть по Журналу","итоговая А/работа ","4 четверть/по журналу  ","итоговая /годовая ","уровень обучености ","Раз-ца ","На начало года ","Д/О ","Раз-ца ","3 чет /срез","Раз-ца ","итгог за 3 четверть по Журналу","итоговая А/работа ","4 четверть/по журналу  ","итоговая /годовая ","Раз-ца ","На начало года ","Д/О ","Раз-ца ","3 чет /срез","Раз-ца ","итгог за 3 четверть по Журналу","итоговая А/работа ","4 четверть/по журналу  ","итоговая /годовая ","Раз-ца ","уровень обучености ","На начало года ","Д/О ","Раз-ца ","3 чет /срез","Раз-ца ","итгог за 3 четверть по Журналу","итоговая А/работа ","4 четверть/по журналу  ","итоговая /годовая ","Раз-ца ","На начало года ","Д/О ","Раз-ца ","3 чет /срез","Раз-ца ","итгог за 3 четверть по Журналу","итоговая А/работа ","4 четверть/по журналу  ","итоговая /годовая ","Раз-ца ","уровень обучения  "]
["2а","Бирмамитова А.Х.",82,66,-16,0.85,19,1,0.8,1,1,0.15,52,43,-9,0.4,-3,0.35,0.64,0.64,0.64,0.63,-0.05,80,75,-5,0.83,-8,1,0.76,1,1,0.17,47,40,-7,0.43,3,0.35,0.44,0.6,0.6,0,0.56999999999999995,82,66,-16,0.85,19,1,0.96,1,1,0.15,52,43,-9,0.4,-3,0.35,0.8,0.8,0.8,-0.05,0.71]
["2б ","Куржиева А.Х.",68,76,-8,0.87,11,1,0.92,1,1,0.13,44,66,22,0.31,-35,0.36,0.8,0.8,0.92,0.79,0.05,76,76,0,0.95,19,1,1,1,1,0.15,52,42,-10,0.37,-4,0.36,0.56000000000000005,0.56000000000000005,0.8,0,0.71,68,76,-8,0.87,11,1,0.92,1,1,0.13,44,66,22,0.31,-35,0.36,0.8,1,1,0,0.81]
["2в ","Додохова Ж.Х.",86,52,-34,0.57999999999999996,5,1,0.76,0.9,1,0.42,73,38,-35,0.52,14,0.47,0.67,0.76,0.76,0.73,-0.09,73,60,-13,0.83,-23,1,0.86,0.9,1,0.17,55,47,-8,0.61,-4,0.47,0.62,0.76,0.76,0,0.73,86,52,-34,0.57999999999999996,5,1,0.95,1,1,0.42,73,38,-35,0.52,14,0.47,0.81,0.81,0.9,-0.09,0.75,null,null,null,null," "]
["2е","Ташилова Н.З.",84,84,0,0.82,-2,1,0.89,1,1,0.18,60,45,-15,0.45,0,0.39,0.5,0.46,0.46,0.6,-0.06,81,91,-10,0.95,4,1,0.93,1,1,0.05,60,43,-27,0.41,-2,0.39,0.64,0.68,0.68,0,0.63,84,84,0,0.82,-2,1,0.95,1,1,0.18,60,45,-15,0.45,0,0.39,0.81,0.79,0.79,-0.06,0.72]
["2ф","Гетаова А.М.",94,79,-15,0.28000000000000003,-44,1,0.82,1,1,0.72,64,29,-35,0.33,4,0.53,0.47,0.53,0.53,0.64,-0.2,70,76,6,0.7,-6,1,0.71,1,1,0.3,64,48,-16,0.47,-1,0.59,0.59,0.59,0.65,0,0.6,94,79,-15,0.28000000000000003,-44,1,0.88,1,1,0.72,64,29,-35,0.33,4,0.53,0.71,0.71,0.71,-0.2,0.73]
[12,"средняя единица по 2-4 ",{"$f":"AVERAGE(C26:C30)","v":82.8},71.400000000000006,-14.6,0.67999999999999994,-2.2000000000000002,1,0.83800000000000008,0.98000000000000009,1,0.31999999999999995,58.6,44.2,-14.4,0.40199999999999997,-4,0.41999999999999993,0.61599999999999999,0.63800000000000012,0.66200000000000014,0.67800000000000005,-6.9999999999999993E-2,76,75.599999999999994,-4.4000000000000004,0.85199999999999998,-2.8,1,0.85199999999999998,0.98000000000000009,1,0.16800000000000001,55.6,44,-13.6,0.45800000000000002,-1.6,0.43199999999999994,0.57000000000000006,0.63800000000000001,0.69800000000000006,0,{"$f":"AVERAGE(AR26:AR30)","v":0.64799999999999991},82.8,71.400000000000006,-14.6,0.67999999999999994,-2.2000000000000002,1,0.93200000000000005,1,1,0.31999999999999995,58.6,44.2,-14.4,0.40199999999999997,-4,0.41999999999999993,0.78600000000000003,0.82200000000000006,0.84000000000000008,-0.08,0.74399999999999999]
[]
[]
[]
[]
[]
[null,null,null,null,null,null,null,null,"по 3 им классам "]
[]
[]
[]
["Класс ","Классный руководитель ","Предмет (%)"]
[null,null,"Математика ",null,null,null,null,null,null,null,null,null,null,null,null,null,null,null,null,null,null,null,null,"Русский яз",null,null,null,null,null,null,null,null,null,null,null,null,null,null,null,null,null,null,null,null,"окружающий мир "]
[null,null,"Усп",null,null,null,null,null,null,null,null,null,"Кач ",null,null,null,null,null,null,null,null,null,null,"Усп",null,null,null,null,null,null,null,null,null,"Кач ",null,null,null,null,null,null,null,null,null,null,"Усп",null,null,null,null,null,null,null,null,null,"Кач "]
[null,null,"На начало года ","Д/О ","Раз-ца ","3 чет /срез","Раз-ца ","итгог за 3 четверть по Журналу","итоговая А/работа ","4 четверть/по журналу  ","итоговая /годовая ","Раз-ца ","На начало года ","Д/О ","Раз-ца ","3 чет /срез","Раз-ца ","итгог за 3 четверть по Журналу","итоговая А/работа ","4 четверть/по журналу  ","итоговая /годовая ","уровень обучености ","Раз-ца ","На начало года ","Д/О ","Раз-ца ","3 чет /срез","Раз-ца ","итгог за 3 четверть по Журналу","итоговая А/работа ","4 четверть/по журналу  ","итоговая /годовая ","Раз-ца ","На начало года ","Д/О ","Раз-ца ","3 чет /срез","Раз-ца ","итгог за 3 четверть по Журналу","итоговая А/работа ","4 четверть/по журналу  ","итоговая /годовая ","Раз-ца ","уровень обучености ","На начало года ","Д/О ","Раз-ца ","3 чет /срез","Раз-ца ","итгог за 3 четверть по Журналу","итоговая А/работа ","4 четверть/по журналу  ","итоговая /годовая ","Раз-ца ","На начало года ","Д/О ","Раз-ца ","3 чет /срез","Раз-ца ","итгог за 3 четверть по Журналу","итоговая А/работа ","4 четверть/по журналу  ","итоговая /годовая ","Раз-ца ","уровень обучения  "]
["3а ","Куржива К.З.",92,90,-2,0.84,-6,0.91,1,1,1,7.0000000000000007E-2,74,59,-15,0.53,-6,0.48,0.61,0.61,0.65,0.65,-0.05,84,81,-3,0.82,-1,0.91,0.74,1,1,0.09,60,43,-27,0.45,2,0.48,0.48,0.65,0.61,0,0.61,92,90,-2,0.84,-6,0.91,0.96,1,1,7.0000000000000007E-2,74,59,-15,0.53,-6,0.48,0.52,0.87,0.87,-0.05,0.84]
["3б","Хаваяшхова Р.Т.",80,80,0,0.88,8,0.91,0.88,1,1,0.03,45,60,{"$f":"+Q1133","v":0},0.46,1,0.46,0.42,0.57999999999999996,0.57999999999999996,0.61,0,85,85,0,0.71,-14,0.91,0.83,1,1,0.2,47,42,-5,0.42,0,0.46,0.5,0.46,0.46,0,0.64,80,80,0,0.88,8,0.91,0.96,1,1,0.03,45,60,{"$f":"+BG1133","v":0},0.46,1,0.46,0.71,0.76,0.76,0,0.75]
["3в","Тутова Е.Б.",75,74,-1,0.68,-6,0.91,0.82,1,1,0.23,45,42,-3,0.47,2,0.35,0.45,0.55000000000000004,0.55000000000000004,0.57999999999999996,-0.12,77,75,-2,0.65,-10,0.91,0.95,0.95,1,0.26,52,42,-10,0.45,3,0.35,0.64,0.55000000000000004,0.55000000000000004,0,0.59,75,74,-1,0.68,-6,0.91,0.95,1,1,0.23,45,42,-3,0.47,2,0.35,0.54,0.66,0.68,-0.12,0.64]
["3к","Кумыкова Л.А.",95,78,-17,0.5,-45,0.88,0.77,1,1,0.33,48,46,-2,0.31,-7,0.35,0.5,0.54,0.54,0.61,-0.04,100,76,-24,0.55000000000000004,-21,0.88,0.64,0.9,1,0.33,48,42,-6,0.76,28,0.35,0.48,0.5,0.6,0,0.5,95,78,-17,0.5,-45,0.88,0.89,1,1,0.33,48,46,-2,0.31,-7,0.35,0.52,0.57999999999999996,0.57999999999999996,-0.04,0.66]
[12,"средняя единица по 2-4 ",{"$f":"AVERAGE(C45:C48)","v":85.5},80.5,-5,0.72499999999999998,-12.25,0.90249999999999997,0.86749999999999994,1,1,0.16500000000000001,53,51.75,-5,0.4425,-2.5,0.41000000000000003,0.495,0.57000000000000006,0.58000000000000007,0.61249999999999993,-5.2499999999999998E-2,86.5,79.25,-7.25,0.68249999999999988,-11.5,0.90249999999999997,0.78999999999999992,0.96250000000000002,1,0.22000000000000003,51.75,42.25,-12,0.52,8.25,0.41000000000000003,0.52500000000000002,0.54,0.55500000000000005,0,{"$f":"AVERAGE(AR45:AR48)","v":0.58499999999999996},85.5,80.5,-5,0.72499999999999998,-12.25,0.90249999999999997,0.94000000000000006,1,1,0.16500000000000001,53,51.75,-5,0.4425,-2.5,0.41000000000000003,0.57250000000000001,0.71750000000000003,0.72250000000000003,-5.2499999999999998E-2,0.72250000000000003]
[]
[]
[]
[]
[]
[null,null,null,null,null,null,null,null,null,"по 4 ым класам"]
[]
[]
["Класс ","Классный руководитель ","Предмет (%)"]
[null,null,"Математика ",null,null,null,null,null,null,null,null,null,null,null,null,null,null,null,null,null,null,null,null,"Русский яз",null,null,null,null,null,null,null,null,null,null,null,null,null,null,null,null,null,null,null,null,"окружающий мир "]
[null,null,"Усп",null,null,null,null,null,null,null,null,null,"Кач ",null,null,null,null,null,null,null,null,null,null,"Усп",null,null,null,null,null,null,null,null,null,"Кач ",null,null,null,null,null,null,null,null,null,null,"Усп",null,null,null,null,null,null,null,null,null,"Кач "]
[null,null,"На начало года ","Д/О ","Раз-ца ","3 чет /срез","Раз-ца ","итгог за 3 четверть по Журналу","итоговая А/работа ","4 четверть/по журналу  ","итоговая /годовая ","Раз-ца ","На начало года ","Д/О ","Раз-ца ","3 чет /срез","Раз-ца ","итгог за 3 четверть по Журналу","итоговая А/работа ","4 четверть/по журналу  ","итоговая /годовая ","уровень обучености ","Раз-ца ","На начало года ","Д/О ","Раз-ца ","3 чет /срез","Раз-ца ","итгог за 3 четверть по Журналу","итоговая А/работа ","4 четверть/по журналу  ","итоговая /годовая ","Раз-ца ","На начало года ","Д/О ","Раз-ца ","3 чет /срез","Раз-ца ","итгог за 3 четверть по Журналу","итоговая А/работа ","4 четверть/по журналу  ","итоговая /годовая ","Раз-ца ","уровень обучености ","На начало года ","Д/О ","Раз-ца ","3 чет /срез","Раз-ца ","итгог за 3 четверть по Журналу","итоговая А/работа ","4 четверть/по журналу  ","итоговая /годовая ","Раз-ца ","На начало года ","Д/О ","Раз-ца ","3 чет /срез","Раз-ца ","итгог за 3 четверть по Журналу","итоговая А/работа ","4 четверть/по журналу  ","итоговая /годовая ","Раз-ца ","уровень обучения  "]
["4а ","Эльмесова Е.Х.",80,81,-1,0.52,-29,1,0.84,0.84,1,0.48,48,40,-8,0.32,-8,0.39,0.56000000000000005,0.56000000000000005,0.6,0.6,-7.0000000000000007E-2,80,81,-1,0.6,-19,1,0.84,0.92,1,0.4,60,39,-23,0.38,-1,0.39,0.4,0.48,0.52,0,0.55000000000000004,80,81,-1,0.52,-29,1,0.89,1,1,0.48,48,40,-8,0.32,-8,0.39,0.48,0.48,0.52,-7.0000000000000007E-2,0.54]
["4б ","Карданова И.М.",78,78,0,0.86,8,1,0.89,1,1,0.14000000000000001,43,40,-3,0.38,-2,0.36,0.37,0.42,0.43,0.53,-0.02,78,82,-3,0.88,6,1,0.89,1,1,0.12,42,42,0,0.38,-4,0.36,0.37,0.32,0.32,0,0.51,78,78,0,0.86,8,1,1,1,1,0.14000000000000001,43,40,-3,0.38,-2,0.36,0.68,0.68,0.68,-0.02,0.65]
["4в","Дышекова И.А. ",61,70,-9,0.56000000000000005,-14,1,0.79,1,1,0.44,33,30,-3,0.25,-5,0.31,0.42,0.57999999999999996,0.57999999999999996,0.57999999999999996,0.06,66,62,-4,0.59,-3,1,0.79,1,1,0.41,33,25,-8,0.4,15,0.31,0.37,0.47,0.55000000000000004,0,0.47,61,70,-9,0.56000000000000005,-14,1,1,1,1,0.44,33,30,-3,0.25,-5,0.31,0.42,0.47,0.53,0.06,0.57999999999999996]
[12,"средняя единица по 2-4 ",{"$f":"AVERAGE(C62:C64)","v":73},76.333333333333329,-3.3333333333333335,0.64666666666666661,-11.666666666666666,1,0.84,0.94666666666666666,1,0.35333333333333333,41.333333333333336,36.666666666666664,-4.666666666666667,0.31666666666666665,-5,0.35333333333333333,0.45,0.52,0.53666666666666663,0.56999999999999995,-1.0000000000000004E-2,74.666666666666671,75,-2.6666666666666665,0.69,-5.333333333333333,1,0.84,0.97333333333333327,1,0.31,45,35.333333333333336,-10.333333333333334,0.38666666666666671,3.3333333333333335,0.35333333333333333,0.38000000000000006,0.42333333333333334,0.46333333333333337,0,{"$f":"AVERAGE(AR62:AR64)","v":0.51},73,76.333333333333329,-3.3333333333333335,0.64666666666666661,-11.666666666666666,1,0.96333333333333337,1,1,0.35333333333333333,41.333333333333336,36.666666666666664,-4.666666666666667,0.31666666666666665,-5,0.35333333333333333,0.52666666666666673,0.54333333333333333,0.57666666666666677,-1.0000000000000004E-2,0.59]
[]
[]
[]
[]
[]
[null,null,null,null,null,null,null,null,null,null,null,null,null,null,null,null,null,null,null,null,null,null,null,null,null,null,null,null,null,null,null,null,null,null,null,null,null,"Мониторинг за 2018-2019 учебный год "]
[]
[]
["Класс ","Классный руководитель ","Предмет (%)"]
[null,null,"Математика ",null,null,null,null,null,null,null,null,null,null,null,null,null,null,null,null,null,null,null,null,"Русский яз",null,null,null,null,null,null,null,null,null,null,null,null,null,null,null,null,null,null,null,null,"окружающий мир ",null,null,null,null,null,null,null,null,null,null,null,null,null,null,null,null,null,null,null,null,"кабардино черкесский язык"]
[null,null,"Усп",null,null,null,null,null,null,null,null,null,"Кач ",null,null,null,null,null,null,null,null,null,null,"Усп",null,null,null,null,null,null,null,null,null,"Кач ",null,null,null,null,null,null,null,null,null,null,"Усп",null,null,null,null,null,null,null,null,null,"Кач ",null,null,null,null,null,null,null,null,null,null,"Усп",null,null,null,null,null,null,null,null,null,"Кач "]
[null,null,"На начало года ","Д/О ","Раз-ца ","3 чет /срез","Раз-ца ","итгог за 3 четверть по Журналу","итоговая А/работа ","4 четверть/по журналу  ","итоговая /годовая ","Раз-ца ","На начало года ","Д/О ","Раз-ца ","3 чет /срез","Раз-ца ","итгог за 3 четверть по Журналу","итоговая А/работа ","4 четверть/по журналу  ","итоговая /годовая ","уровень обучености ","Раз-ца ","На начало года ","Д/О ","Раз-ца ","3 чет /срез","Раз-ца ","итгог за 3 четверть по Журналу","итоговая А/работа ","4 четверть/по журналу  ","итоговая /годовая ","Раз-ца ","На начало года ","Д/О ","Раз-ца ","3 чет /срез","Раз-ца ","итгог за 3 четверть по Журналу","итоговая А/работа ","4 четверть/по журналу  ","итоговая /годовая ","Раз-ца ","уровень обучености ","На начало года ","Д/О ","Раз-ца ","3 чет /срез","Раз-ца ","итгог за 3 четверть по Журналу","итоговая А/работа ","4 четверть/по журналу  ","итоговая /годовая ","Раз-ца ","На начало года ","Д/О ","Раз-ца ","3 чет /срез","Раз-ца ","итгог за 3 четверть по Журналу","итоговая А/работа ","4 четверть/по журналу  ","итоговая /годовая ","Раз-ца ","уровень обучения  ","На начало года ","Д/О ","Раз-ца ","3 чет /срез","Раз-ца ","итгог за 3 четверть по Журналу","итоговая А/работа ","4 четверть/по журналу  ","итоговая /годовая ","Раз-ца ","На начало года ","Д/О ","Раз-ца ","3 чет /срез","Раз-ца ","итгог за 3 четверть по Журналу","итоговая А/работа ","4 четверть/по журналу  ","итоговая /годовая ","Раз-ца ","уровень обучености "]
["1а ","Эльмесова Л.Х.",0,0,0,0,0,0,0,0,0.83,0,0,0,0,0,0,0,0,0,0.76,0.56999999999999995,0,0,0,0,0,0,0,0,0,0.66,0,0,0,0,0,0,0,0,0.51,0,0,0.5,0,0,0,0,0,0,0,0,0.82,0,0,0,0,0,0,0,0,0,0.47,0,0.51,0,0,0,0,0,0,0,0,0.66,0,0,0,0,0,0,0,0,0.51,0,0,0.5]
["1б","Уметова М.М.",0,0,0,0,0,0,0,0,0.85,0,0,0,0,0,0,0,0,0,0.8,0.66,0,0,0,0,0,0,0,0,0,0.7,0,0,0,0,0,0,0,0,0.55000000000000004,0,0,0.55000000000000004,0,0,0,0,0,0,0,0,0.84,0,0,0,0,0,0,0,0,0,0.48,0,0.53,0,0,0,0,0,0,0,0,0.7,0,0,0,0,0,0,0,0,0.55000000000000004,0,0,0.55000000000000004]
["1 в","Сонова И.К.",0,0,0,0,0,0,0,0,0.89,0,0,0,0,0,0,0,0,0,0.47,0.53,0,0,0,0,0,0,0,0,0,0.89,0,0,0,0,0,0,0,0,0.47,0,0,0.51,0,0,0,0,0,0,0,0,0.9,0,0,0,0,0,0,0,0,0,0.47,0,0.53,0,0,0,0,0,0,0,0,0.89,0,0,0,0,0,0,0,0,0.47,0,0,0.51]
["1кА","Ажахова А.И.",0,0,0,0,0,0,0,0,0.88,0,0,0,0,0,0,0,0,0,0.55000000000000004,0.55000000000000004,0,0,0,0,0,0,0,0,0,0.66,0,0,0,0,0,0,0,0,0.5,0,0,0.43,0,0,0,0,0,0,0,0,0.82,0,0,0,0,0,0,0,0,0,0.47,0,0.51,0,0,0,0,0,0,0,0,0.66,0,0,0,0,0,0,0,0,0.5,0,0,0.43]
["1кБ","Ахабекрва Р.А.",0,0,0,0,0,0,0,0,0.81,0,0,0,0,0,0,0,0,0,0.42,0.49,0,0,0,0,0,0,0,0,0,0.81,0,0,0,0,0,0,0,0,0.46,0,0,0.5,0,0,0,0,0,0,0,0,0.84,0,0,0,0,0,0,0,0,0,0.48,0,0.53,0,0,0,0,0,0,0,0,0.81,0,0,0,0,0,0,0,0,0.46,0,0,0.5]
["2а","Бирмамитова А.Х.",82,66,-16,0.85,19,1,0.8,1,1,0.15,52,43,-9,0.4,-3,0.35,0.64,0.64,0.64,0.63,-0.05,80,75,-5,0.83,-8,1,0.76,1,1,0.17,47,40,-7,0.43,3,0.35,0.44,0.6,0.6,0,0.56999999999999995,82,66,-16,0.85,19,1,0.96,1,1,0.15,52,43,-9,0.4,-3,0.35,0.8,0.8,0.8,-0.05,0.71,80,75,-5,0.83,-8,1,0.76,1,1,0.17,47,40,-7,0.43,3,0.35,0.44,0.6,0.6,0,0.56999999999999995]
["2б ","Куржиева А.Х.",68,76,-8,0.87,11,1,0.92,1,1,0.13,44,66,22,0.31,-35,0.36,0.8,0.8,0.92,0.79,0.05,76,76,0,0.95,19,1,1,1,1,0.15,52,42,-10,0.37,-4,0.36,0.56000000000000005,0.56000000000000005,0.8,0,0.71,68,76,-8,0.87,11,1,0.92,1,1,0.13,44,66,22,0.31,-35,0.36,0.8,1,1,0,0.81,76,76,0,0.95,19,1,1,1,1,0.15,52,42,-10,0.37,-4,0.36,0.56000000000000005,0.56000000000000005,0.8,0,0.71]
["2в ","Додохова Ж.Х.",86,52,-34,0.57999999999999996,5,1,0.76,0.9,1,0.42,73,38,-35,0.52,14,0.47,0.67,0.76,0.76,0.73,-0.09,73,60,-13,0.83,-23,1,0.86,0.9,1,0.17,55,47,-8,0.61,-4,0.47,0.62,0.76,0.76,0,0.73,86,52,-34,0.57999999999999996,5,1,0.95,1,1,0.42,73,38,-35,0.52,14,0.47,0.81,0.81,0.9,-0.09,0.75,73,60,-13,0.83,-23,1,0.86,0.9,1,0.17,55,47,-8,0.61,-4,0.47,0.62,0.76,0.76,0,0.73]
["2е","Ташилова Н.З.",84,84,0,0.82,-2,1,0.89,1,1,0.18,60,45,-15,0.45,0,0.39,0.5,0.46,0.46,0.6,-0.06,81,91,-10,0.95,4,1,0.93,1,1,0.05,60,43,-27,0.41,-2,0.39,0.64,0.68,0.68,0,0.63,84,84,0,0.82,-2,1,0.95,1,1,0.18,60,45,-15,0.45,0,0.39,0.81,0.79,0.79,-0.06,0.72,81,91,-10,0.95,4,1,0.93,1,1,0.05,60,43,-27,0.41,-2,0.39,0.64,0.68,0.68,0,0.63]
["2ф","Гетаова А.М.",94,79,-15,0.28000000000000003,-44,1,0.82,1,1,0.72,64,29,-35,0.33,4,0.53,0.47,0.53,0.53,0.64,-0.2,70,76,6,0.7,-6,1,0.71,1,1,0.3,64,48,-16,0.47,-1,0.59,0.59,0.59,0.65,0,0.6,94,79,-15,0.28000000000000003,-44,1,0.88,1,1,0.72,64,29,-35,0.33,4,0.53,0.71,0.71,0.71,-0.2,0.73,70,76,6,0.7,-6,1,0.71,1,1,0.3,64,48,-16,0.47,-1,0.59,0.59,0.59,0.65,0,0.6]
["3а ","Куржива К.З.",92,90,-2,0.84,-6,0.91,1,1,1,7.0000000000000007E-2,74,59,-15,0.53,-6,0.48,0.61,0.61,0.65,0.65,-0.05,84,81,-3,0.82,-1,0.91,0.74,1,1,0.09,60,43,-27,0.45,2,0.48,0.48,0.65,0.61,0,0.61,92,90,-2,0.84,-6,0.91,0.96,1,1,7.0000000000000007E-2,74,59,-15,0.53,-6,0.48,0.52,0.87,0.87,-0.05,0.84,84,81,-3,0.82,-1,0.91,0.74,1,1,0.09,60,43,-27,0.45,2,0.48,0.48,0.65,0.61,0,0.61]
["3б","Хаваяшхова Р.Т.",80,80,0,0.88,8,0.91,0.88,1,1,0.03,45,60,{"$f":"+Q1193","v":0},0.46,1,0.46,0.42,0.57999999999999996,0.57999999999999996,0.61,0,85,85,0,0.71,-14,0.91,0.83,1,1,0.2,47,42,-5,0.42,0,0.46,0.5,0.46,0.46,0,0.64,80,80,0,0.88,8,0.91,0.96,1,1,0.03,45,60,{"$f":"+BG1193","v":0},0.46,1,0.46,0.71,0.76,0.76,0,0.75,85,85,0,0.71,-14,0.91,0.83,1,1,0.2,47,42,-5,0.42,0,0.46,0.5,0.46,0.46,0,0.64]
["3в","Тутова Е.Б.",75,74,-1,0.68,-6,0.91,0.82,1,1,0.23,45,42,-3,0.47,2,0.35,0.45,0.55000000000000004,0.55000000000000004,0.57999999999999996,-0.12,77,75,-2,0.65,-10,0.91,0.95,0.95,1,0.26,52,42,-10,0.45,3,0.35,0.64,0.55000000000000004,0.55000000000000004,0,0.59,75,74,-1,0.68,-6,0.91,0.95,1,1,0.23,45,42,-3,0.47,2,0.35,0.54,0.66,0.68,-0.12,0.64,77,75,-2,0.65,-10,0.91,0.95,0.95,1,0.26,52,42,-10,0.45,3,0.35,0.64,0.55000000000000004,0.55000000000000004,0,0.59]
["3к","Кумыкова Л.А.",95,78,-17,0.5,-45,0.88,0.77,1,1,0.33,48,46,-2,0.31,-7,0.35,0.5,0.54,0.54,0.61,-0.04,100,76,-24,0.55000000000000004,-21,0.88,0.64,0.9,1,0.33,48,42,-6,0.76,28,0.35,0.48,0.5,0.6,0,0.5,95,78,-17,0.5,-45,0.88,0.89,1,1,0.33,48,46,-2,0.31,-7,0.35,0.52,0.57999999999999996,0.57999999999999996,-0.04,0.66,100,76,-24,0.55000000000000004,-21,0.88,0.64,0.9,1,0.33,48,42,-6,0.76,28,0.35,0.48,0.5,0.6,0,0.5]
["4а ","Эльмесова Е.Х.",80,81,-1,0.52,-29,1,0.84,0.84,1,0.48,48,40,-8,0.32,-8,0.39,0.56000000000000005,0.56000000000000005,0.6,0.6,-7.0000000000000007E-2,80,81,-1,0.6,-19,1,0.84,0.92,1,0.4,60,39,-23,0.38,-1,0.39,0.4,0.48,0.52,0,0.55000000000000004,80,81,-1,0.52,-29,1,0.89,1,1,0.48,48,40,-8,0.32,-8,0.39,0.48,0.48,0.52,-7.0000000000000007E-2,0.54,80,81,-1,0.6,-19,1,0.84,0.92,1,0.4,60,39,-23,0.38,-1,0.39,0.4,0.48,0.52,0,0.55000000000000004]
["4б ","Карданова И.М.",78,78,0,0.86,8,1,0.89,1,1,0.14000000000000001,43,40,-3,0.38,-2,0.36,0.37,0.42,0.43,0.53,-0.02,78,82,-3,0.88,6,1,0.89,1,1,0.12,42,42,0,0.38,-4,0.36,0.37,0.32,0.32,0,0.51,78,78,0,0.86,8,1,1,1,1,0.14000000000000001,43,40,-3,0.38,-2,0.36,0.68,0.68,0.68,-0.02,0.65,78,82,-3,0.88,6,1,0.89,1,1,0.12,42,42,0,0.38,-4,0.36,0.37,0.32,0.32,0,0.51]
["4в","Дышекова И.А. ",61,70,-9,0.56000000000000005,-14,1,0.79,1,1,0.44,33,30,-3,0.25,-5,0.31,0.42,0.57999999999999996,0.57999999999999996,0.57999999999999996,0.06,66,62,-4,0.59,-3,1,0.79,1,1,0.41,33,25,-8,0.4,15,0.31,0.37,0.47,0.55000000000000004,0,0.47,61,70,-9,0.56000000000000005,-14,1,1,1,1,0.44,33,30,-3,0.25,-5,0.31,0.42,0.47,0.53,0.06,0.57999999999999996,66,62,-4,0.59,-3,1,0.79,1,1,0.41,33,25,-8,0.4,15,0.31,0.37,0.47,0.55000000000000004,0,0.47]
[12,"средняя единица по 2-4 ",{"$f":"AVERAGE(C83:C94)","v":81.25},75.666666666666671,-8.5833333333333339,0.68666666666666654,-7.916666666666667,0.96750000000000014,{"$f":"AVERAGE(I78:I94)","v":0.59882352941176464},{"$f":"AVERAGE(J78:J94)","v":0.69058823529411761},{"$f":"AVERAGE(K78:K94)","v":0.95647058823529396},0.27666666666666667,52.416666666666664,44.833333333333336,-8.8333333333333339,0.39416666666666661,-3.75,0.39999999999999997,{"$f":"AVERAGE(S78:S94)","v":0.37705882352941184},{"$f":"AVERAGE(T78:T94)","v":0.41352941176470587},{"$f":"AVERAGE(U78:U94)","v":0.60235294117647076},{"$f":"AVERAGE(V78:V94)","v":0.60882352941176454},{"$f":"AVERAGE(W83:W94)","v":-4.9166666666666671E-2},{"$f":"AVERAGE(X83:X94)","v":79.166666666666671},76.666666666666671,-4.916666666666667,0.755,-6.333333333333333,0.96750000000000014,{"$f":"AVERAGE(AD78:AD94)","v":0.5847058823529413},{"$f":"AVERAGE(AE78:AE94)","v":0.68647058823529417},{"$f":"AVERAGE(AF78:AF94)","v":0.92470588235294127},0.22083333333333335,51.666666666666664,41.25,-12.25,0.46083333333333337,2.9166666666666665,0.40499999999999997,{"$f":"AVERAGE(AN78:AN94)","v":0.35823529411764704},{"$f":"AVERAGE(AO78:AO94)","v":0.53588235294117659},{"$f":"AVERAGE(AP78:AP94)","v":0.41764705882352943},0,{"$f":"AVERAGE(AR78:AR94)","v":0.56470588235294128},{"$f":"AVERAGE(AS83:AS94)","v":81.25},75.666666666666671,-8.5833333333333339,0.68666666666666654,-7.916666666666667,0.96750000000000014,{"$f":"AVERAGE(AY78:AY94)","v":0.66529411764705881},{"$f":"AVERAGE(AZ78:AZ94)","v":0.70588235294117652},{"$f":"AVERAGE(BA78:BA94)","v":0.95411764705882351},{"$f":"AVERAGE(BB83:BB94)","v":0.27666666666666667},52.416666666666664,44.833333333333336,-8.8333333333333339,0.39416666666666661,-3.75,0.39999999999999997,{"$f":"AVERAGE(BI78:BI94)","v":0.45882352941176474},{"$f":"AVERAGE(BJ78:BJ94)","v":0.50647058823529423},{"$f":"AVERAGE(BK78:BK94)","v":0.65823529411764703},{"$f":"AVERAGE(BL83:BL94)","v":-5.3333333333333344E-2},{"$f":"AVERAGE(BM78:BM94)","v":0.64647058823529424},{"$f":"AVERAGE(BN83:BN94)","v":79.166666666666671},76.666666666666671,-4.916666666666667,0.755,-6.333333333333333,0.96750000000000014,{"$f":"AVERAGE(BT78:BT94)","v":0.5847058823529413},{"$f":"AVERAGE(BU78:BU94)","v":0.68647058823529417},{"$f":"AVERAGE(BV78:BV94)","v":0.92470588235294127},{"$f":"AVERAGE(BW83:BW94)","v":0.22083333333333335},51.666666666666664,41.25,-12.25,0.46083333333333337,2.9166666666666665,0.40499999999999997,{"$f":"AVERAGE(CD78:CD94)","v":0.35823529411764704},{"$f":"AVERAGE(CE78:CE94)","v":0.53588235294117659},{"$f":"AVERAGE(CF78:CF94)","v":0.41764705882352943},0,{"$f":"AVERAGE(CH78:CH94)","v":0.56470588235294128}]

{"sheet":"матем 20 ","index":83,"n_rows":32,"n_cols":36,"rows_kept":32,"cut":false,"hidden":false,"merged":[[6,2,6,22],[7,0,9,0],[7,1,9,1],[7,2,7,33]]}
[]
[null,null,null,null,null,null,"на начало 2019-2020 учебного года (итоговая за 2018-2019) стартовая."]
[]
[]
[]
[]
[null,null,"Математика "]
["Класс ","Классный руководитель ","Предмет (%)"]
[null,null,null,null,null,null,null,"качество ",null,null,null,null,null,null,null,null,null,null,null,null,null,null,null,null,"успеваемость "]
[null,null,"На начало года ","Д/О ","на конец 2 четверти  ","А/работа  2 четверть ","Итоговая 2 четверть ","Раз-ца 2 четверть ","А/работа  3 четверть ","Итгог за 3 четверть по Журналу","Раз-ца 3 четверть ","А/работа  4 четверть ","Итгог за 4 четверть по Журналу","Раз-ца 4 четверть ","Итоговая годовая ","Итоговая А/работа ","4 четверть/по журналу  ","Итоговая /годовая ","На начало года ","Д/О ","на конец 2 четверти  ","А/работа  2 четверть ","Итоговая 2 четверть ","Раз-ца 2 четверть ","А/работа  3 четверть ","Итгог за 3 четверть по Журналу","Раз-ца 3 четверть ","А/работа  4 четверть ","Итгог за 4 четверть по Журналу","Раз-ца 4 четверть ","Итоговая годовая ","Итоговая А/работа ","4 четверть/по журналу  ","Итоговая /годовая "]
["1 а ","Куржиева К.З."]
["1б","Карданова И.М.",null,null,null,null,null,null,null,null,null,null,null,null,null,null,null,null,null,null,null,null,null,null,null,null,null,null,null,null,null,null,null,null,null," "]
["1в","Дышекова И.А.",null,null,null,null,null,null,null,null,null,null,null,null,null,null," "]
["1К","Аргашокова Л.З."]
["2а ","Эльмесова Л.Х.",0.83,null,null,0.42,null,null,0.56000000000000005,null,null,null,null,null,null,null,null,null,null,null,null,0.72,null,null,0.85]
["2б","Уметова М.М.",0.85,null,null,0.57999999999999996,null,null,0.57999999999999996,null,null,null,null,null,null,null,null,null,null,null,null,0.81,null,null,0.83]
["2в","Сонова И.К.",0.89,null,null,0.6,null,null,0.6,null,null,null,null,null,null,null,null,null,null,null,null,0.9,null,null,0.9]
["2кА","Ажахова А.И.",0.88,null,null,0.5,null,null,0.35,null,null,null,null,null,null,null,null,null,null,null,null,0.81,null,null,0.75]
["2кБ","Ахабекрва Р.А.",0.81,null,null,0.42,null,null,null,null,null,null,null,null,null,null,null,null,null,null,null,1]
["3а","Бирмамитова А.Х.",1,null,null,0.17,null,null,"3 6%",null,null,null,null,null,null,null,null,null,null,null,null,0.35,null,null,0.77]
["3б ","Куржиева А.Х.",1,null,null,0.54,null,null,0.4,null,null,null,null,null,null,null,null,null,null,null,null,0.77,null,null,0.68]
["3в ","Додохова Ж.Х.",1,null,null,0.31,null,null,0.32,null,null,null,null,null,null,null,null,null,null,null,null,0.62,null,null,0.53]
["3е","Ташилова Н.З.",1,null,null,0.18,null,null,0.41,null,null,null,null,null,null,null,null,null,null,null,null,0.59,null,null,0.75]
["3ф","Гетаова А.М.",1]
["4а ","Куржива К.З.",1,null,null,0.16,null,null,null,null,null,null,null,null,null,null,null,null,null,null,null,0.48]
["4б","Хаваяшхова Р.Т.",1,null,null,0.41,null,null,0.38,null,null,null,null,null,null,null,null,null,null,null,null,0.73,null,null,0.73]
["4в","Тутова Е.Б.",1,null,null,0.09,null,null,0.45,null,null,null,null,null,null,null,null,null,null,null,null,0.28999999999999998,null,null,0.75]
["4к","Кумыкова Л.А.",1,null,null,0.23,null,null,0.43,null,null,null,null,null,null,null,null,null,null,null,null,0.45,null,null,0.72]
["5а ","Эльмесова Е.Х.",1]
["5б ","Карданова И.М.",1]
["5в","Дышекова И.А. ",1]
[12,"средняя единица по 2-4 ",{"$f":"AVERAGE(C15:C31)","v":0.95647058823529396}]

{"sheet":"рус 20","index":84,"n_rows":32,"n_cols":34,"rows_kept":32,"cut":false,"hidden":false,"merged":[[6,2,6,22],[7,0,9,0],[7,1,9,1],[7,2,7,33]]}
[]
[null,null,null,null,null,null,"на начало 2019-2020 учебного года (итоговая за 2018-2019) стартовая."]
[]
[]
[]
[]
[null,null,"Русский язык "]
["Класс ","Классный руководитель ","Предмет (%)"]
[null,null,null,null,null,null,null,"качество ",null,null,null,null,null,null,null,null,null,null,null,null,null,null,null,null,"успеваемость "]
[null,null,"На начало года ","Д/О ","на конец 2 четверти  ","А/работа  2 четверть ","Итоговая 2 четверть ","Раз-ца 2 четверть ","А/работа  3 четверть ","Итгог за 3 четверть по Журналу","Раз-ца 3 четверть ","А/работа  4 четверть ","Итгог за 4 четверть по Журналу","Раз-ца 4 четверть ","Итоговая годовая ","Итоговая А/работа ","4 четверть/по журналу  ","Итоговая /годовая ","На начало года ","Д/О ","на конец 2 четверти  ","А/работа  2 четверть ","Итоговая 2 четверть ","Раз-ца 2 четверть ","А/работа  3 четверть ","Итгог за 3 четверть по Журналу","Раз-ца 3 четверть ","А/работа  4 четверть ","Итгог за 4 четверть по Журналу","Раз-ца 4 четверть ","Итоговая годовая ","Итоговая А/работа ","4 четверть/по журналу  ","Итоговая /годовая "]
["1 а ","Куржиева К.З."]
["1б","Карданова И.М."]
["1в","Дышекова И.А.",null,null,null,null,null,null,null,null,null,null,null,null,null,null," "]
["1К","Аргашокова Л.З."]
["2а ","Эльмесова Л.Х.",0.83,null,null,0.9,null,null,0.56000000000000005,null,null,null,null,null,null,null,null,null,null,null,null,1,null,null,0.83]
["2б","Уметова М.М.",0.85,null,null,0.57999999999999996,null,null,0.57999999999999996,null,null,null,null,null,null,null,null,null,null,null,null,0.81,null,null,0.88]
["2в","Сонова И.К.",0.89,null,null,0.5,null,null,0.55000000000000004,null,null,null,null,null,null,null,null,null,null,null,null,0.81,null,null,0.8]
["2кА","Ажахова А.И.",0.88,null,null,0.35,null,null,0.5,null,null,null,null,null,null,null,null,null,null,null,null,0.59,null,null,0.8]
["2кБ","Ахабекрва Р.А.",0.81,null,null,0.5,null,null,null,null,null,null,null,null,null,null,null,null,null,null,null,0.74]
["3а","Бирмамитова А.Х.",1,null,null,0.6,null,null,0.45,null,null,null,null,null,null,null,null,null,null,null,null,0.9,null,null,0.81]
["3б ","Куржиева А.Х.",1,null,null,0.68,null,null,0.44,null,null,null,null,null,null,null,null,null,null,null,null,0.81,null,null,0.68]
["3в ","Додохова Ж.Х.",1,null,null,0.4,null,null,0.34,null,null,null,null,null,null,null,null,null,null,null,null,0.53,null,null,0.67]
["3е","Ташилова Н.З.",1,null,null,0.42,null,null,0.48,null,null,null,null,null,null,null,null,null,null,null,null,0.69,null,null,0.79]
["3ф","Гетаова А.М.",1,null,null,0.09,null,null,null,null,null,null,null,null,null,null,null,null,null,null,null,0.45]
["4а ","Куржива К.З.",1,null,null,0.6,null,null,null,null,null,null,null,null,null,null,null,null,null,null,null,0.72]
["4б","Хаваяшхова Р.Т.",1,null,null,0.6,null,null,0.56999999999999995,null,null,null,null,null,null,null,null,null,null,null,null,0.92,null,null,0.82]
["4в","Тутова Е.Б.",1,null,null,0.56999999999999995,null,null,0.4,null,null,null,null,null,null,null,null,null,null,null,null,0.73,null,null,0.75]
["4к","Кумыкова Л.А.",1,null,null,0.37,null,null,0.39,null,null,null,null,null,null,null,null,null,null,null,null,0.5,null,null,0.53]
["5а ","Эльмесова Е.Х.",1]
["5б ","Карданова И.М.",1]
["5в","Дышекова И.А. ",1]
[12,"средняя единица по 2-4 ",{"$f":"AVERAGE(C15:C31)","v":0.95647058823529396}]

{"sheet":"литер 20","index":85,"n_rows":32,"n_cols":34,"rows_kept":32,"cut":false,"hidden":false,"merged":[[6,2,6,22],[7,0,9,0],[7,1,9,1],[7,2,7,33]]}
[]
[null,null,null,null,null,null,"на начало 2019-2020 учебного года (итоговая за 2018-2019) стартовая."]
[]
[]
[]
[]
[null,null,"Литературное чтнение "]
["Класс ","Классный руководитель ","Предмет (%)"]
[null,null,null,null,null,null,null,"качество ",null,null,null,null,null,null,null,null,null,null,null,null,null,null,null,null,"успеваемость "]
[null,null,"На начало года ","Д/О ","на конец 2 четверти  ","А/работа  2 четверть ","Итоговая 2 четверть ","Раз-ца 2 четверть ","А/работа  3 четверть ","Итгог за 3 четверть по Журналу","Раз-ца 3 четверть ","А/работа  4 четверть ","Итгог за 4 четверть по Журналу","Раз-ца 4 четверть ","Итоговая годовая ","Итоговая А/работа ","4 четверть/по журналу  ","Итоговая /годовая ","На начало года ","Д/О ","на конец 2 четверти  ","А/работа  2 четверть ","Итоговая 2 четверть ","Раз-ца 2 четверть ","А/работа  3 четверть ","Итгог за 3 четверть по Журналу","Раз-ца 3 четверть ","А/работа  4 четверть ","Итгог за 4 четверть по Журналу","Раз-ца 4 четверть ","Итоговая годовая ","Итоговая А/работа ","4 четверть/по журналу  ","Итоговая /годовая "]
["1 а ","Куржиева К.З."]
["1б","Карданова И.М."]
["1в","Дышекова И.А.",null,null,null,null,null,null,null,null,null,null,null,null,null,null," "]
["1К","Аргашокова Л.З."]
["2а ","Эльмесова Л.Х.",0.83]
["2б","Уметова М.М.",0.85]
["2в","Сонова И.К.",0.89]
["2кА","Ажахова А.И.",0.88]
["2кБ","Ахабекрва Р.А.",0.81]
["3а","Бирмамитова А.Х.",1]
["3б ","Куржиева А.Х.",1]
["3в ","Додохова Ж.Х.",1]
["3е","Ташилова Н.З.",1]
["3ф","Гетаова А.М.",1]
["4а ","Куржива К.З.",1]
["4б","Хаваяшхова Р.Т.",1]
["4в","Тутова Е.Б.",1]
["4к","Кумыкова Л.А.",1]
["5а ","Эльмесова Е.Х.",1]
["5б ","Карданова И.М.",1]
["5в","Дышекова И.А. ",1]
[12,"средняя единица по 2-4 ",{"$f":"AVERAGE(C15:C31)","v":0.95647058823529396}]

{"sheet":"род 20","index":86,"n_rows":32,"n_cols":34,"rows_kept":32,"cut":false,"hidden":false,"merged":[[6,2,6,22],[7,0,9,0],[7,1,9,1],[7,2,7,33]]}
[]
[null,null,null,null,null,null,"на начало 2019-2020 учебного года (итоговая за 2018-2019) стартовая."]
[]
[]
[]
[]
[null,null,"родной язык "]
["Класс ","Классный руководитель ","Предмет (%)"]
[null,null,null,null,null,null,null,"качество ",null,null,null,null,null,null,null,null,null,null,null,null,null,null,null,null,"успеваемость "]
[null,null,"На начало года ","Д/О ","на конец 2 четверти  ","А/работа  2 четверть ","Итоговая 2 четверть ","Раз-ца 2 четверть ","А/работа  3 четверть ","Итгог за 3 четверть по Журналу","Раз-ца 3 четверть ","А/работа  4 четверть ","Итгог за 4 четверть по Журналу","Раз-ца 4 четверть ","Итоговая годовая ","Итоговая А/работа ","4 четверть/по журналу  ","Итоговая /годовая ","На начало года ","Д/О ","на конец 2 четверти  ","А/работа  2 четверть ","Итоговая 2 четверть ","Раз-ца 2 четверть ","А/работа  3 четверть ","Итгог за 3 четверть по Журналу","Раз-ца 3 четверть ","А/работа  4 четверть ","Итгог за 4 четверть по Журналу","Раз-ца 4 четверть ","Итоговая годовая ","Итоговая А/работа ","4 четверть/по журналу  ","Итоговая /годовая "]
["1 а ","Куржиева К.З."]
["1б","Карданова И.М."]
["1в","Дышекова И.А.",null,null,null,null,null,null,null,null,null,null,null,null,null,null," "]
["1К","Аргашокова Л.З."]
["2а ","Эльмесова Л.Х.",0.83]
["2б","Уметова М.М.",0.85]
["2в","Сонова И.К.",0.89]
["2кА","Ажахова А.И.",0.88]
["2кБ","Ахабекрва Р.А.",0.81]
["3а","Бирмамитова А.Х.",1]
["3б ","Куржиева А.Х.",1]
["3в ","Додохова Ж.Х.",1]
["3е","Ташилова Н.З.",1]
["3ф","Гетаова А.М.",1]
["4а ","Куржива К.З.",1]
["4б","Хаваяшхова Р.Т.",1]
["4в","Тутова Е.Б.",1]
["4к","Кумыкова Л.А.",1]
["5а ","Эльмесова Е.Х.",1]
["5б ","Карданова И.М.",1]
["5в","Дышекова И.А. ",1]
[12,"средняя единица по 2-4 ",{"$f":"AVERAGE(C15:C31)","v":0.95647058823529396}]

{"sheet":"окр 20","index":87,"n_rows":32,"n_cols":34,"rows_kept":32,"cut":false,"hidden":false,"merged":[[6,2,6,22],[7,0,9,0],[7,1,9,1],[7,2,7,33]]}
[]
[null,null,null,null,null,null,"на начало 2019-2020 учебного года (итоговая за 2018-2019) стартовая."]
[]
[]
[]
[]
[null,null,"Окружающи мир "]
["Класс ","Классный руководитель ","Предмет (%)"]
[null,null,null,null,null,null,null,"качество ",null,null,null,null,null,null,null,null,null,null,null,null,null,null,null,null,"успеваемость "]
[null,null,"На начало года ","Д/О ","на конец 2 четверти  ","А/работа  2 четверть ","Итоговая 2 четверть ","Раз-ца 2 четверть ","А/работа  3 четверть ","Итгог за 3 четверть по Журналу","Раз-ца 3 четверть ","А/работа  4 четверть ","Итгог за 4 четверть по Журналу","Раз-ца 4 четверть ","Итоговая годовая ","Итоговая А/работа ","4 четверть/по журналу  ","Итоговая /годовая ","На начало года ","Д/О ","на конец 2 четверти  ","А/работа  2 четверть ","Итоговая 2 четверть ","Раз-ца 2 четверть ","А/работа  3 четверть ","Итгог за 3 четверть по Журналу","Раз-ца 3 четверть ","А/работа  4 четверть ","Итгог за 4 четверть по Журналу","Раз-ца 4 четверть ","Итоговая годовая ","Итоговая А/работа ","4 четверть/по журналу  ","Итоговая /годовая "]
["1 а ","Куржиева К.З."]
["1б","Карданова И.М."]
["1в","Дышекова И.А.",null,null,null,null,null,null,null,null,null,null,null,null,null,null," "]
["1К","Аргашокова Л.З."]
["2а ","Эльмесова Л.Х.",0.83]
["2б","Уметова М.М.",0.85]
["2в","Сонова И.К.",0.89]
["2кА","Ажахова А.И.",0.88]
["2кБ","Ахабекрва Р.А.",0.81]
["3а","Бирмамитова А.Х.",1]
["3б ","Куржиева А.Х.",1]
["3в ","Додохова Ж.Х.",1]
["3е","Ташилова Н.З.",1]
["3ф","Гетаова А.М.",1]
["4а ","Куржива К.З.",1]
["4б","Хаваяшхова Р.Т.",1]
["4в","Тутова Е.Б.",1]
["4к","Кумыкова Л.А.",1]
["5а ","Эльмесова Е.Х.",1]
["5б ","Карданова И.М.",1]
["5в","Дышекова И.А. ",1]
[12,"средняя единица по 2-4 ",{"$f":"AVERAGE(C15:C31)","v":0.95647058823529396}]

{"sheet":"Лист7","index":88,"n_rows":32,"n_cols":34,"rows_kept":32,"cut":false,"hidden":false,"merged":[[6,2,6,22],[7,0,9,0],[7,1,9,1],[7,2,7,33]]}
[]
[null,null,null,null,null,null,"на начало 2019-2020 учебного года (итоговая за 2018-2019) стартовая."]
[]
[]
[]
[]
[null,null,"Итоговая за учебный год "]
["Класс ","Классный руководитель ","Предмет (%)"]
[null,null,null,null,null,null,null,"качество ",null,null,null,null,null,null,null,null,null,null,null,null,null,null,null,null,"успеваемость "]
[null,null,"На начало года ","Д/О ","на конец 2 четверти  ","А/работа  2 четверть ","Итоговая 2 четверть ","Раз-ца 2 четверть ","А/работа  3 четверть ","Итгог за 3 четверть по Журналу","Раз-ца 3 четверть ","А/работа  4 четверть ","Итгог за 4 четверть по Журналу","Раз-ца 4 четверть ","Итоговая годовая ","Итоговая А/работа ","4 четверть/по журналу  ","Итоговая /годовая ","На начало года ","Д/О ","на конец 2 четверти  ","А/работа  2 четверть ","Итоговая 2 четверть ","Раз-ца 2 четверть ","А/работа  3 четверть ","Итгог за 3 четверть по Журналу","Раз-ца 3 четверть ","А/работа  4 четверть ","Итгог за 4 четверть по Журналу","Раз-ца 4 четверть ","Итоговая годовая ","Итоговая А/работа ","4 четверть/по журналу  ","Итоговая /годовая "]
["1 а ","Куржиева К.З."]
["1б","Карданова И.М."]
["1в","Дышекова И.А.",null,null,null,null,null,null,null,null,null,null,null,null,null,null," "]
["1К","Аргашокова Л.З."]
["2а ","Эльмесова Л.Х.",0.83]
["2б","Уметова М.М.",0.85]
["2в","Сонова И.К.",0.89]
["2кА","Ажахова А.И.",0.88]
["2кБ","Ахабекрва Р.А.",0.81]
["3а","Бирмамитова А.Х.",1]
["3б ","Куржиева А.Х.",1]
["3в ","Додохова Ж.Х.",1]
["3е","Ташилова Н.З.",1]
["3ф","Гетаова А.М.",1]
["4а ","Куржива К.З.",1]
["4б","Хаваяшхова Р.Т.",1]
["4в","Тутова Е.Б.",1]
["4к","Кумыкова Л.А.",1]
["5а ","Эльмесова Е.Х.",1]
["5б ","Карданова И.М.",1]
["5в","Дышекова И.А. ",1]
[12,"средняя единица по 2-4 ",{"$f":"AVERAGE(C15:C31)","v":0.95647058823529396}]